{"text_format":"1","workbook":"xlsx","n_sheets":15,"sheets":["SolCotizacion","Anexo","ResumenCotizacion","Cotizacion","Parametros","CSV","Categorias","Consolidado","ProXCat","Cuadro Totales","Listas","minimo","Hoja1","temp","tempListas"],"not_rendered":{"charts":0,"images":1,"macros":1,"external_links":1,"defined_names":4,"comments":0,"pivot_tables":1},"unopened":[],"bounds":{"document_bytes":16777216,"sheet_cells":100000,"rows_first":2000,"rows_last":500,"rows_between":2000,"halvings":0,"cell_chars":16384,"cell_head_chars":4096},"cells_cut":0,"cells_raw":0,"read":"whole","date_system":"1900"}

{"sheet":"SolCotizacion","index":0,"n_rows":45,"n_cols":17,"rows_kept":45,"cut":false,"hidden":false,"merged":[[0,1,1,15],[3,1,3,15],[5,1,5,3],[5,4,5,8],[5,10,5,11],[5,12,5,15],[9,12,9,15],[7,1,7,3],[7,4,7,8],[7,10,7,11],[7,12,7,15],[9,1,9,3],[9,4,9,8],[9,10,9,11],[11,1,11,3],[11,4,11,8],[13,1,13,3],[13,4,13,8],[37,1,37,7],[17,1,17,3],[35,1,35,15],[15,1,15,15],[17,4,17,6],[19,1,19,15],[21,2,21,15],[26,4,26,7],[17,9,17,10],[18,8,18,11],[28,2,28,3],[28,4,28,7],[42,5,42,6],[38,2,38,6],[39,2,39,6],[36,1,36,15],[26,2,26,3],[27,2,27,3],[27,4,27,7],[29,2,29,3],[29,4,29,7],[30,2,30,3],[30,4,30,7],[31,2,31,3],[31,4,31,7],[40,2,40,6],[41,2,41,6]]}
[null,"Solicitud de Cotización\nSoftware de Fabricantes"]
[]
[null,"Versión: 30","2022-09-30"]
[null,"Información de la Entidad Compradora"]
[]
[null,"Nombre de la Entidad",null,null,"Secretaria General de la Alcaldia Mayor de Bogotá D.C. ",null,null,null,null,null,"NIT",null,899999061]
[]
[null,"Dirección de la Entidad",null,null,"Carrera 8 N. 10 - 65",null,null,null,null,null,"Correo de contacto",null,"rlondono@alcaldiabogota.gov.co"]
[]
[null,"Municipio",null,null,"Bogotá D.C.",null,null,null,null,null,"Teléfono de contacto",null,"3813000 EXT 1161"]
[]
[null,"Nombre funcionario Comprador",null,null,"Rafael Londoño Carantón"]
[]
[]
[]
[null,"Solicitud de Cotización"]
[]
[null,"Categoría",null,null,"Software Analitica S.A.S",null,null,null,"Valor TRM",4636.83,null,null,"Fecha de lanzamiento del evento de cotización","2022-10-24"]
[null,null,null,null,null,null,null,null,"Escribir hasta dos cifras decimales. Tenga en cuenta\nque el simulador aproxima al entero más cercano."]
[null,"Productos"]
[]
["*Libros, revistas, cartillas y/o catálogo Segmento 1.",{"$f":"E18","v":"Software Analitica S.A.S"}]
[]
[null,"Cantidad de filas:"]
[null,1]
[]
[null,"Item","Código Catálogo",null,"Descripción del Producto",null,null,null,"Tipo","Unidad","Zona","Asistencia","Perfil","Número de parte","Forma de Pago","cantidad"]
[{"$f":"E28&L28","v":"SGP Licencia por usuario: BPMS Ilimitados Procedimientos (Incluye soporte por el primer año) - Mínimo 20 usuariosRemoto"},1,"SGP-SW-1",null,{"$f":"IFERROR(VLOOKUP($C28&$E$18,Consolidado!$B:$U,9,0),VLOOKUP($C28&\"Canal\",Consolidado!$B:$U,9,0))","v":"SGP Licencia por usuario: BPMS Ilimitados Procedimientos (Incluye soporte por el primer año) - Mínimo 20 usuarios"},null,null,null,{"$f":"IFERROR(VLOOKUP($C28&$E$18,Consolidado!$B:$U,12,0),VLOOKUP($C28&\"Canal\",Consolidado!$B:$U,12,0))","v":"Servicio"},{"$f":"IFERROR(VLOOKUP($C28&$E$18,Consolidado!$B:$U,10,0),VLOOKUP($C28&\"Canal\",Consolidado!$B:$U,10,0))","v":"Usuario"},{"$f":"IFERROR(VLOOKUP($C28&$E$18,Consolidado!$B:$U,13,0),VLOOKUP($C28&\"Canal\",Consolidado!$B:$U,13,0))","v":"Zonas (1,2,3)"},{"$f":"IFERROR(VLOOKUP($C28&$E$18,Consolidado!$B:$U,14,0),VLOOKUP($C28&\"Canal\",Consolidado!$B:$U,14,0))","v":"Remoto"},{"$f":"IFERROR(VLOOKUP($C28&$E$18,Consolidado!$B:$U,15,0),VLOOKUP($C28&\"Canal\",Consolidado!$B:$U,15,0))","v":"N/A"},{"$f":"IFERROR(VLOOKUP($C28&$E$18,Consolidado!$B:$U,16,0),VLOOKUP($C28&\"Canal\",Consolidado!$B:$U,16,0))","v":"SGP-SW-1"},{"$f":"IFERROR(VLOOKUP($C28&$E$18,Consolidado!$B:$U,17,0),VLOOKUP($C28&\"Canal\",Consolidado!$B:$U,17,0))","v":"Único Pago"},20,{"$f":"IFERROR(VLOOKUP($C28&$E$18,Consolidado!$B:$U,5,0),VLOOKUP($C28&\"Canal\",Consolidado!$B:$U,5,0))","v":"Software Analitica S.A.S"}]
[{"$f":"E29&L29","v":"SGP Soporte anual por usuario: BPMS (Año Adicional)Remoto"},2,"SGP-SW-2",null,{"$f":"IFERROR(VLOOKUP($C29&$E$18,Consolidado!$B:$U,9,0),VLOOKUP($C29&\"Canal\",Consolidado!$B:$U,9,0))","v":"SGP Soporte anual por usuario: BPMS (Año Adicional)"},null,null,null,{"$f":"IFERROR(VLOOKUP($C29&$E$18,Consolidado!$B:$U,12,0),VLOOKUP($C29&\"Canal\",Consolidado!$B:$U,12,0))","v":"Servicio"},{"$f":"IFERROR(VLOOKUP($C29&$E$18,Consolidado!$B:$U,10,0),VLOOKUP($C29&\"Canal\",Consolidado!$B:$U,10,0))","v":"Usuario"},{"$f":"IFERROR(VLOOKUP($C29&$E$18,Consolidado!$B:$U,13,0),VLOOKUP($C29&\"Canal\",Consolidado!$B:$U,13,0))","v":"Zonas (1,2,3)"},{"$f":"IFERROR(VLOOKUP($C29&$E$18,Consolidado!$B:$U,14,0),VLOOKUP($C29&\"Canal\",Consolidado!$B:$U,14,0))","v":"Remoto"},{"$f":"IFERROR(VLOOKUP($C29&$E$18,Consolidado!$B:$U,15,0),VLOOKUP($C29&\"Canal\",Consolidado!$B:$U,15,0))","v":"N/A"},{"$f":"IFERROR(VLOOKUP($C29&$E$18,Consolidado!$B:$U,16,0),VLOOKUP($C29&\"Canal\",Consolidado!$B:$U,16,0))","v":"SGP-SW-2"},{"$f":"IFERROR(VLOOKUP($C29&$E$18,Consolidado!$B:$U,17,0),VLOOKUP($C29&\"Canal\",Consolidado!$B:$U,17,0))","v":"Anual"},20,{"$f":"IFERROR(VLOOKUP($C29&$E$18,Consolidado!$B:$U,5,0),VLOOKUP($C29&\"Canal\",Consolidado!$B:$U,5,0))","v":"Software Analitica S.A.S"}]
[{"$f":"E30&L30","v":"Capacitación para usuario técnico o administrador - hasta 10 Personas SGP (BPMS)  Remoto"},3,"SGP-SRV-13",null,{"$f":"IFERROR(VLOOKUP($C30&$E$18,Consolidado!$B:$U,9,0),VLOOKUP($C30&\"Canal\",Consolidado!$B:$U,9,0))","v":"Capacitación para usuario técnico o administrador - hasta 10 Personas SGP (BPMS)  "},null,null,null,{"$f":"IFERROR(VLOOKUP($C30&$E$18,Consolidado!$B:$U,12,0),VLOOKUP($C30&\"Canal\",Consolidado!$B:$U,12,0))","v":"Servicio"},{"$f":"IFERROR(VLOOKUP($C30&$E$18,Consolidado!$B:$U,10,0),VLOOKUP($C30&\"Canal\",Consolidado!$B:$U,10,0))","v":"Por sesión de capacitación de 4 horas para un grupo de hasta 10 personas."},{"$f":"IFERROR(VLOOKUP($C30&$E$18,Consolidado!$B:$U,13,0),VLOOKUP($C30&\"Canal\",Consolidado!$B:$U,13,0))","v":"Zona 1"},{"$f":"IFERROR(VLOOKUP($C30&$E$18,Consolidado!$B:$U,14,0),VLOOKUP($C30&\"Canal\",Consolidado!$B:$U,14,0))","v":"Remoto"},{"$f":"IFERROR(VLOOKUP($C30&$E$18,Consolidado!$B:$U,15,0),VLOOKUP($C30&\"Canal\",Consolidado!$B:$U,15,0))","v":"Capacitador"},{"$f":"IFERROR(VLOOKUP($C30&$E$18,Consolidado!$B:$U,16,0),VLOOKUP($C30&\"Canal\",Consolidado!$B:$U,16,0))","v":"SGP-SRV-13"},{"$f":"IFERROR(VLOOKUP($C30&$E$18,Consolidado!$B:$U,17,0),VLOOKUP($C30&\"Canal\",Consolidado!$B:$U,17,0))","v":"Mensual por servicios efectivamente prestados"},10,{"$f":"IFERROR(VLOOKUP($C30&$E$18,Consolidado!$B:$U,5,0),VLOOKUP($C30&\"Canal\",Consolidado!$B:$U,5,0))","v":"Software Analitica S.A.S"}]
[{"$f":"E31&L31","v":"Configuración y parametrización de los Productos  - SGP (BPMS)  Remoto"},4,"SGP-SRV-25",null,{"$f":"IFERROR(VLOOKUP($C31&$E$18,Consolidado!$B:$U,9,0),VLOOKUP($C31&\"Canal\",Consolidado!$B:$U,9,0))","v":"Configuración y parametrización de los Productos  - SGP (BPMS)  "},null,null,null,{"$f":"IFERROR(VLOOKUP($C31&$E$18,Consolidado!$B:$U,12,0),VLOOKUP($C31&\"Canal\",Consolidado!$B:$U,12,0))","v":"Servicio"},{"$f":"IFERROR(VLOOKUP($C31&$E$18,Consolidado!$B:$U,10,0),VLOOKUP($C31&\"Canal\",Consolidado!$B:$U,10,0))","v":"Hora"},{"$f":"IFERROR(VLOOKUP($C31&$E$18,Consolidado!$B:$U,13,0),VLOOKUP($C31&\"Canal\",Consolidado!$B:$U,13,0))","v":"Zona 1"},{"$f":"IFERROR(VLOOKUP($C31&$E$18,Consolidado!$B:$U,14,0),VLOOKUP($C31&\"Canal\",Consolidado!$B:$U,14,0))","v":"Remoto"},{"$f":"IFERROR(VLOOKUP($C31&$E$18,Consolidado!$B:$U,15,0),VLOOKUP($C31&\"Canal\",Consolidado!$B:$U,15,0))","v":"Profesional"},{"$f":"IFERROR(VLOOKUP($C31&$E$18,Consolidado!$B:$U,16,0),VLOOKUP($C31&\"Canal\",Consolidado!$B:$U,16,0))","v":"SGP-SRV-25"},{"$f":"IFERROR(VLOOKUP($C31&$E$18,Consolidado!$B:$U,17,0),VLOOKUP($C31&\"Canal\",Consolidado!$B:$U,17,0))","v":"Mensual por servicios efectivamente prestados"},1000,{"$f":"IFERROR(VLOOKUP($C31&$E$18,Consolidado!$B:$U,5,0),VLOOKUP($C31&\"Canal\",Consolidado!$B:$U,5,0))","v":"Software Analitica S.A.S"}]
[{"$f":"E32&L32","v":"Instalación de Licencia o Suscripción Anual, o afínes - SGP (BPMS)Remoto"},5,"SGP-SRV-31",null,{"$f":"IFERROR(VLOOKUP($C32&$E$18,Consolidado!$B:$U,9,0),VLOOKUP($C32&\"Canal\",Consolidado!$B:$U,9,0))","v":"Instalación de Licencia o Suscripción Anual, o afínes - SGP (BPMS)"},null,null,null,{"$f":"IFERROR(VLOOKUP($C32&$E$18,Consolidado!$B:$U,12,0),VLOOKUP($C32&\"Canal\",Consolidado!$B:$U,12,0))","v":"Servicio"},{"$f":"IFERROR(VLOOKUP($C32&$E$18,Consolidado!$B:$U,10,0),VLOOKUP($C32&\"Canal\",Consolidado!$B:$U,10,0))","v":"Unidad"},{"$f":"IFERROR(VLOOKUP($C32&$E$18,Consolidado!$B:$U,13,0),VLOOKUP($C32&\"Canal\",Consolidado!$B:$U,13,0))","v":"Zona 1"},{"$f":"IFERROR(VLOOKUP($C32&$E$18,Consolidado!$B:$U,14,0),VLOOKUP($C32&\"Canal\",Consolidado!$B:$U,14,0))","v":"Remoto"},{"$f":"IFERROR(VLOOKUP($C32&$E$18,Consolidado!$B:$U,15,0),VLOOKUP($C32&\"Canal\",Consolidado!$B:$U,15,0))","v":"Técnico/Tecnólogo ó Profesional"},{"$f":"IFERROR(VLOOKUP($C32&$E$18,Consolidado!$B:$U,16,0),VLOOKUP($C32&\"Canal\",Consolidado!$B:$U,16,0))","v":"SGP-SRV-31"},{"$f":"IFERROR(VLOOKUP($C32&$E$18,Consolidado!$B:$U,17,0),VLOOKUP($C32&\"Canal\",Consolidado!$B:$U,17,0))","v":"Mensual por servicios efectivamente prestados"},1,{"$f":"IFERROR(VLOOKUP($C32&$E$18,Consolidado!$B:$U,5,0),VLOOKUP($C32&\"Canal\",Consolidado!$B:$U,5,0))","v":"Software Analitica S.A.S"}]
[null,"1. Si requiere agregue o elimine fila"]
[]
[]
[null,"Gravámenes adicionales*"]
[null,"Si los hay, indique los gravámenes adicionales a los que está sujeta la Orden de Compra. Son gravámenes adicionales por ejemplo; estampillas y demás impuestos territoriales. \nLos impuestos como ICA y retención en la fuente NO son gravámenes adicionales.\n"]
[null,"Gravámenes adicionales (estampillas)"]
[null,"No","Descripción",null,null,null,null,"Porcentaje"]
[null,1,"PROADULTO MAYOR ",null,null,null,null,0.02,"","","","","","","",""]
[null,2,"PROCULTURA",null,null,null,null,5.0000000000000001E-3]
[null,3,"UNIVERSIDAD DISTRITAL FRANCISCO JOSE DE CALDAS",null,null,null,null,1.0999999999999999E-2]
[null,null,null,null,null,"Total porcentaje:",null,{"$f":"SUM(H40:H42)","v":3.6000000000000004E-2}]
[null,null,null,"Filas a agregar o eliminar Gravámenes:"]
[null,null,null,1]

{"sheet":"Anexo","index":1,"n_rows":16,"n_cols":4,"rows_kept":16,"cut":false,"hidden":false,"merged":[[0,1,0,3],[1,1,1,3],[2,1,2,3]]}
[null,"Con el objetivo de complementar el entendimiento sobre la solicitud de Productos y Servicios de Software de Fabricante, por favor diligencie la totalidad de la información que se pide a continuación."]
[]
[null,"Tenga en cuenta que esta información es de utilidad para que el Proveedor pueda cotizar de la manera más precisa posible los Productos y Servicios de Software de Fabricante solicitados, por lo cual la exactitud y completitud es muy importante."]
["No","Requerimiento adicional","Descripción ","INFORMACION SUMINISTRADA POR LA ENTIDAD COMPRADORA"]
[null,"Nombre y Nit de la Entidad Estatal a la cual se le entregará la titularidad de las licencias adquiridas.","SI","Ministerio de Ciencia Tecnologia e Innovación - Minciencias 899999296-2 "]
[1,"Lugar de entrega de los Productos y Servicios de Software de Fabricante (Especificar dirección y ciudad de entrega).","SI","Avenida Calle 26 No, 57 - 83 Torre 8 - Pisos del 2 al 6 Bogotá, Colombia"]
[2,"Datos Contacto de entrega (Especificar nombre, teléfono y correo electrónico).","SI","Erick de Jesus Guerra Aleman, 304 5446774, eguerra@minciencias,gov,co\nGabriel Mauricio Vera Guevara, 310 3148548, gmvera@minciencias,gov,co"]
[3,"Funciones a realizar el soporte en sitio.","SI","Disponibilidad: La disponibilidad de soporte y mantenimiento para los productos debe ser de lunes a viernes de 8:00 AM a 12:00 M y de 1:00 PM a 5:00 PM, En caso de requerirse en días y horarios no laborales, el contratista deberá dar el servicio solicitado,\n\nNiveles de atención y tiempos de respuesta:\nEl proveedor debe contar con un servicio que permita la atención y recepción de los requerimientos solicitados por MINCIENCIAS, Para ello debe indicar el numero telefónico de atención en Bogotá, Ante un requerimiento de soporte por parte de MINCIENCIAS, el proveedor se obliga a atender y diagnosticar este requerimiento en un tiempo de respuesta no superior a 4 horas y solucionario (dejar en estado operativo normal la herramienta de desarrollo, el SGDEA, sus herramientas, el sistema operativo y el motor de base de datos) dentro de las 4 horas siguientes a la solicitud,\n \nEl proveedor deberá prestar el servicio de soporte telefónico o a través de la Web o por correo electrónico en la administración, configuración, resolución de problemas de software para la herramienta de desarrollo, el SGDEA, sus herramientas, el sistema operativo y el motor de base de datos, de manera ilimitada durante el tiempo de garantía de todo el sistema,\n\nTodo soporte técnico que requiera apagado del equipo donde se encuentre instalada la solución implementada deberá ser coordinado previamente con persona designada por MINCIENCIAS, con el fin de no generar traumatismos en la normal prestación de los servicios de  MINCIENCIAS,\n\nLos costos en que incurra el proveedor para atender cualquier solicitud de soporte, mantenimiento correctivo o preventivo, ya sea mano de obra, traslados, e insumos necesarios para garantizar el correcto funcionamiento de la herramienta de desarrollo y la solución implementada, durante la ejecución y el periodo de soporte y garantía de estos software, correrán por cuenta del proveedor, por lo tanto, no tendrá costo adicional para MINCIENCIAS,\n\nDurante la ejecución del contrato y su periodo de garantía, el proveedor debe estar presente en los despliegues en producción, apoyar técnicamente a MINCIENCIAS en el despliegue, verificar que el despliegue sea satisfactorio, y si en pruebas funciona y no en producción dar las recomendaciones técnicas y realizar ios ajustes a que haya lugar para que en producción el despliegue funcione,\n\nDurante la ejecución del contrato y su periodo de garantía, los despliegues a producción deben realizarse a solicitud de la persona designada por MINCIENCIAS en fecha y hora acordada con el administrador del servidor, los cuales deben realizarse antes de 8 am y luego de 5:00 pm en días laborales; y en los días no laborales en hora fijada por la persona designada por MINCIENCIAS y el administrador del servidor,\n\nDurante la ejecución del contrato y su periodo de garantía, ante el evento de cualquier caída del servicio de! sistema y/o de su base de datos el proveedor debe hacerse presente en MINCIENCIAS a más tardar dentro de la hora siguiente en que se presento el evento, para dar apoyo a MINCIENCIAS en el restablecimiento del servicio, realizando el respectivo informe, En caso que la persona designada por MINCIENCIAS estime que no es necesaria la presencia del proveedor, el proveedor debe estar disponible vía telefónica o por celular para dar el soporte a MINCIENCIAS en el momento en que se le solicite, teniendo en cuenta que es un servicio web que debe estar disponible las 24 horas, Para lo cual el proveedor a la firma del contrato deberá indicar el nombre de los ingenieros para este soporte, y sus datos de contacto, incluyendo su email, en caso que también se requiera que indique por email algún tipo de soporte,"]
[4,"Área de conocimiento de las personas que prestan el servicio de soporte técnico proactivo.","SI","Ingenieros de sistemas o electrónicos"]
[5,"Área de conocimiento de las personas que prestan el servicio de soporte técnico reactivo.","SI","Ingenieros de sistemas o electrónicos"]
[6,"Mecanismo de solicitud del soporte reactivo.","SI","Herramienta web y línea de soporte telefónica y cuenta de correo"]
[7,"Especificar que información o que bases de datos se van a migrar. Aplica en el caso que la Entidad Compradora solicite el servicio de migración de información o de bases de datos.","SI","Migración de imágenes y datos del sistema ORFEO"]
[8,"Actividades del gerente de cuenta.","N/A","N/A"]
[9,"Indique número de personas que requieren de capacitación. En caso que la Entidad Compradora solicite el servicio de capacitación usuario final o usuario técnico.","SI","El proveedor deberá dictar los siguientes cursos:\n- Capacitación funcional sobre el SGDEA para que los funcionarios de MINCIENCIAS puedan manejar el sistema, en ciento veinte (120) sesiones cada una con una intensidad de cuatro (4) horas en grupos de máximo veinte (20) funcionarios\n- Capacitación técnica sobre el SGDEA, en diez (10) sesiones cada una con una intensidad de cuatro (4) horas en grupos de máximo diez (10) funcionarios\n- Capacitación funcional sobre el BPM para los funcionarios de MINCIENCIAS puedan manejar el sistema, en ocho (8) sesiones cada una con una intensidad de cuatro (4) horas en grupos de máximo veinte (20) funcionarios\n- Capacitación técnica sobre el BPM en dos (2) sesiones cada una con una intensidad de cuatro (4) horas en grupos de máximo diez (10) funcionarios\n\nPara todos los cursos de capacitación, se deberán entregar los respectivos certificados de asistencia, material de estudio. Las capacitaciones deben ser realizadas por uno o varios instructores certificados en las herramientas adquiridas, \nEl proveedor debe entregar a la  persona designada por MINCIENCIAS la documentación que registre el desarrollo de la capacitación, en la que se incluyan la agenda, los temas, los asistentes y las presentaciones de los temas en medio magnético.\nSi durante la prestación del servicio, se presenta una situación que amerite el cambio de las personas del equipo de trabajo, sustentada por alguna de las partes, el contratista se obliga a cambiar el personal, cumpliendo con los perfiles mínimos en el equipo mínimo de trabajo exigido por MINCIENCIAS El horario de instrucción será acordado para su realización en jornada diurna de 8:00 AM a 12:00 M y 2:00 PM a 5:00 PM en las instalaciones de MINCIENCIAS."]
[10,"Especificar características de configuración y descripción de las tareas a realizar. En caso que la Entidad Compradora solicite el servicio de configuración y parametrización. ","SI","El proveedor deberá realizar la instalación del SGDEA, PQRS y BPMS de sus herramientas, del sistema operativo, del motor de base de datos. Si durante el período de instalación de los mismos se presentan defectos de software, el contratista deberá proceder a cambiar el bien o los bienes defectuosos.\n\nEl proveedor deberá realizar el análisis y diseño para la implementación del SGDEA personalizado para MINCIENCIAS, partiendo de las mejores practicas del modelo DEBE SER, ajustado a las necesidades de MINCIENCIAS y a la normatividad vigente en el tema de gestión documental, teniendo en cuenta:\n\n-  Situación actual\n-  Integración con Sistemas de MINCIENCIAS y externos\n-  Ayuda en Línea\n-  Reconocimiento óptico de caracteres\n-  Diagnostico documental\n-  Inventarios documentales\n-  Tablas de Retención Documental\n-  Tablas de Valoración Documental\n-  Depuración documental\n-  Casos de uso para cada procedimiento que se establezca\n-  Documentación del análisis y desafío de sistema de información de gestión documental.\n\nEl proveedor debe definir, documentar y ejecutar un plan de pruebas para corroborar las bondades del diseño propuesto, el cual deberá ser aprobado por MINCIENCIAS para iniciar la implementación.\n\nEl proveedor debe implementar el diseño y la configuración aprobados por persona designada por MINCIENCIAS, ejecutando las políticas de seguridad necesarias que garanticen el correcto del SGDEA, PQRS y BPMS.\n\nEl proveedor debe documentar plenamente el proceso de análisis, diseño, Implementación, pruebas, configuración, instalación y puesta en producción"]
[12,"Establecer las políticas de respaldo de información.","N/A"]

{"sheet":"ResumenCotizacion","index":2,"n_rows":897627,"n_cols":22,"rows_kept":4500,"cut":true,"hidden":false,"merged":[[40,2,40,6],[41,2,41,6],[42,5,42,6],[39,2,39,6],[35,1,35,15],[36,1,36,15],[37,1,37,7],[38,2,38,6],[30,2,30,3],[30,4,30,7],[31,2,31,3],[31,4,31,7],[19,1,19,15],[27,2,27,3],[27,4,27,7],[28,2,28,3],[28,4,28,7],[29,2,29,3],[29,4,29,7],[0,1,1,15],[3,1,3,15],[5,1,5,3],[5,4,5,8],[5,10,5,11],[5,12,5,15],[7,10,7,11],[7,12,7,15],[7,1,7,3],[7,4,7,8],[9,12,9,15],[9,1,9,3],[9,4,9,8],[15,1,15,15],[26,4,26,7],[11,1,11,3],[11,4,11,8],[9,10,9,11],[13,1,13,3],[13,4,13,8],[17,4,17,6],[17,1,17,3],[21,2,21,15],[26,2,26,3],[17,9,17,10]],"bounds":{"rows_first":2000,"rows_last":500,"rows_between":2000,"halvings":0}}
[null,"Solicitud de Cotización\nSoftware de Fabricantes"]
[]
[null,{"$f":"SolCotizacion!B3","v":"Versión: 30"},{"$f":"+SolCotizacion!C3","v":"2022-09-30"}]
[null,"Información de la Entidad Compradora"]
[]
[null,"Nombre de la Entidad",null,null,"Secretaria General de la Alcaldia Mayor de Bogotá D.C. ",null,null,null,null,null,"NIT",null,899999061]
[]
[null,"Dirección de la Entidad",null,null,"Carrera 8 N. 10 - 65",null,null,null,null,null,"Correo de contacto",null,"rlondono@alcaldiabogota.gov.co"]
[]
[null,"Municipio",null,null,"Bogotá D.C.",null,null,null,null,null,"Teléfono de contacto",null,"3813000 EXT 1161"]
[]
[null,"Nombre funcionario Comprador",null,null,"Rafael Londoño Carantón"]
[]
[]
[]
[null,"Solicitud de Cotización"]
[]
[null,"Categoría",null,null,"Software Analitica S.A.S",null,null,null,"Valor TRM",{"$f":"SolCotizacion!J18","v":4636.83},null,null,"Fecha",{"$f":"SolCotizacion!N18","v":"2022-10-24"}]
[]
[null,"Productos"]
[]
["*Libros, revistas, cartillas y/o catálogo Segmento 1.",{"$f":"SolCotizacion!B22","v":"Software Analitica S.A.S"}]
[]
[null,"Cantidad de filas:"]
[null,1]
[]
[null,"Item","Código Catálogo",null,"Descripción del Producto",null,null,null,"Tipo","Unidad","Zona","Asistencia","Perfil","Número de parte","Forma de Pago","cantidad","Precio Unitario","Precio máximo unitario (cláusula 8)","Subtotal","IVA","Precio Total"]
["SGP Licencia por usuario: BPMS Ilimitados Procedimientos (Incluye soporte por el primer año) - Mínimo 20 usuariosRemoto",1,"SGP-SW-1",null,"SGP Licencia por usuario: BPMS Ilimitados Procedimientos (Incluye soporte por el primer año) - Mínimo 20 usuarios",null,null,null,"Servicio","Usuario","Zonas (1,2,3)","Remoto","N/A","SGP-SW-1","Único Pago",20,{"$f":"IFERROR(VLOOKUP(\"Analitica SAS\"&$V28&$C28,temp!$A:$Y,19,0),VLOOKUP(\"Catalogo principal\"&$V28&$C28,temp!$A:$Y,19,0))","v":1500000},{"$f":"ROUND(Q28/(1-(VLOOKUP(\"Total porcentaje:\",$F:$H,3))),2)","v":1556016.6},{"$f":"ROUND(P28*R28,2)","v":31120332},{"$f":"IFERROR(ROUND(S28*IF(VLOOKUP(\"Analitica SAS\"&$V28&$C28,Consolidado!$A:$U,21,0)=1,19%,0),2),ROUND(S28*IF(VLOOKUP(\"Catalogo principal\"&$V28&$C28,Consolidado!$A:$U,21,0)=1,19%,0),2))","v":5912863.0800000001},{"$f":"S28+T28","v":37033195.079999998},{"$f":"IFERROR(VLOOKUP($C28&$E$18,Consolidado!$B:$U,5,0),VLOOKUP($C28&\"Canal\",Consolidado!$B:$U,5,0))","v":"Software Analitica S.A.S"}]
["SGP Soporte anual por usuario: BPMS (Año Adicional)Remoto",2,"SGP-SW-2",null,"SGP Soporte anual por usuario: BPMS (Año Adicional)",null,null,null,"Servicio","Usuario","Zonas (1,2,3)","Remoto","N/A","SGP-SW-2","Anual",20,{"$f":"IFERROR(VLOOKUP(\"Analitica SAS\"&$V29&$C29,temp!$A:$Y,19,0),VLOOKUP(\"Catalogo principal\"&$V29&$C29,temp!$A:$Y,19,0))","v":300000},{"$f":"ROUND(Q29/(1-(VLOOKUP(\"Total porcentaje:\",$F:$H,3))),2)","v":311203.32},{"$f":"ROUND(P29*R29,2)","v":6224066.4000000004},{"$f":"IFERROR(ROUND(S29*IF(VLOOKUP(\"Analitica SAS\"&$V29&$C29,Consolidado!$A:$U,21,0)=1,19%,0),2),ROUND(S29*IF(VLOOKUP(\"Catalogo principal\"&$V29&$C29,Consolidado!$A:$U,21,0)=1,19%,0),2))","v":1182572.6200000001},{"$f":"S29+T29","v":7406639.0200000005},{"$f":"IFERROR(VLOOKUP($C29&$E$18,Consolidado!$B:$U,5,0),VLOOKUP($C29&\"Canal\",Consolidado!$B:$U,5,0))","v":"Software Analitica S.A.S"}]
["Capacitación para usuario técnico o administrador - hasta 10 Personas SGP (BPMS)  Remoto",3,"SGP-SRV-13",null,"Capacitación para usuario técnico o administrador - hasta 10 Personas SGP (BPMS)  ",null,null,null,"Servicio","Por sesión de capacitación de 4 horas para un grupo de hasta 10 personas.","Zona 1","Remoto","Capacitador","SGP-SRV-13","Mensual por servicios efectivamente prestados",10,{"$f":"IFERROR(VLOOKUP(\"Analitica SAS\"&$V30&$C30,temp!$A:$Y,19,0),VLOOKUP(\"Catalogo principal\"&$V30&$C30,temp!$A:$Y,19,0))","v":1376550},{"$f":"ROUND(Q30/(1-(VLOOKUP(\"Total porcentaje:\",$F:$H,3))),2)","v":1427956.43},{"$f":"ROUND(P30*R30,2)","v":14279564.300000001},{"$f":"IFERROR(ROUND(S30*IF(VLOOKUP(\"Analitica SAS\"&$V30&$C30,Consolidado!$A:$U,21,0)=1,19%,0),2),ROUND(S30*IF(VLOOKUP(\"Catalogo principal\"&$V30&$C30,Consolidado!$A:$U,21,0)=1,19%,0),2))","v":2713117.22},{"$f":"S30+T30","v":16992681.52},{"$f":"IFERROR(VLOOKUP($C30&$E$18,Consolidado!$B:$U,5,0),VLOOKUP($C30&\"Canal\",Consolidado!$B:$U,5,0))","v":"Software Analitica S.A.S"}]
["Configuración y parametrización de los Productos  - SGP (BPMS)  Remoto",4,"SGP-SRV-25",null,"Configuración y parametrización de los Productos  - SGP (BPMS)  ",null,null,null,"Servicio","Hora","Zona 1","Remoto","Profesional","SGP-SRV-25","Mensual por servicios efectivamente prestados",1000,{"$f":"IFERROR(VLOOKUP(\"Analitica SAS\"&$V31&$C31,temp!$A:$Y,19,0),VLOOKUP(\"Catalogo principal\"&$V31&$C31,temp!$A:$Y,19,0))","v":94190},{"$f":"ROUND(Q31/(1-(VLOOKUP(\"Total porcentaje:\",$F:$H,3))),2)","v":97707.47},{"$f":"ROUND(P31*R31,2)","v":97707470},{"$f":"IFERROR(ROUND(S31*IF(VLOOKUP(\"Analitica SAS\"&$V31&$C31,Consolidado!$A:$U,21,0)=1,19%,0),2),ROUND(S31*IF(VLOOKUP(\"Catalogo principal\"&$V31&$C31,Consolidado!$A:$U,21,0)=1,19%,0),2))","v":18564419.300000001},{"$f":"S31+T31","v":116271889.3},{"$f":"IFERROR(VLOOKUP($C31&$E$18,Consolidado!$B:$U,5,0),VLOOKUP($C31&\"Canal\",Consolidado!$B:$U,5,0))","v":"Software Analitica S.A.S"}]
["Instalación de Licencia o Suscripción Anual, o afínes - SGP (BPMS)Remoto",5,"SGP-SRV-31",null,"Instalación de Licencia o Suscripción Anual, o afínes - SGP (BPMS)",null,null,null,"Servicio","Unidad","Zona 1","Remoto","Técnico/Tecnólogo ó Profesional","SGP-SRV-31","Mensual por servicios efectivamente prestados",1,{"$f":"IFERROR(VLOOKUP(\"Analitica SAS\"&$V32&$C32,temp!$A:$Y,19,0),VLOOKUP(\"Catalogo principal\"&$V32&$C32,temp!$A:$Y,19,0))","v":10143000},{"$f":"ROUND(Q32/(1-(VLOOKUP(\"Total porcentaje:\",$F:$H,3))),2)","v":10521784.23},{"$f":"ROUND(P32*R32,2)","v":10521784.23},{"$f":"IFERROR(ROUND(S32*IF(VLOOKUP(\"Analitica SAS\"&$V32&$C32,Consolidado!$A:$U,21,0)=1,19%,0),2),ROUND(S32*IF(VLOOKUP(\"Catalogo principal\"&$V32&$C32,Consolidado!$A:$U,21,0)=1,19%,0),2))","v":1999139},{"$f":"S32+T32","v":12520923.23},{"$f":"IFERROR(VLOOKUP($C32&$E$18,Consolidado!$B:$U,5,0),VLOOKUP($C32&\"Canal\",Consolidado!$B:$U,5,0))","v":"Software Analitica S.A.S"}]
[null,"1. Si requiere agregue o elimine fila",null,null,null,null,null,null,null,null,null,null,null,null,null,null,null,null,null,"Valor Total",{"$f":"ROUND(SUM($U$28:$U$32),2)","v":190225328.15000001}]
[]
[]
[null,"Gravámenes adicionales*"]
[null,"Si los hay, indique los gravámenes adicionales a los que está sujeta la Orden de Compra. Son gravámenes adicionales por ejemplo; estampillas y demás impuestos territoriales. \nLos impuestos como ICA y retención en la fuente NO son gravámenes adicionales.\n"]
[null,"Gravámenes adicionales (estampillas)"]
[null,"No","Descripción",null,null,null,null,"Porcentaje"]
[null,1,"PROADULTO MAYOR ",null,null,null,null,0.02,"","","","","","","",""]
[null,2,"PROCULTURA",null,null,null,null,5.0000000000000001E-3]
[null,3,"UNIVERSIDAD DISTRITAL FRANCISCO JOSE DE CALDAS",null,null,null,null,1.0999999999999999E-2]
[null,null,null,null,null,"Total porcentaje:",null,{"$f":"SUM(H40:H42)","v":3.6000000000000004E-2}]
[null,null,null,"Filas a agregar o eliminar Gravámenes:"]
[null,null,null,1]
[]
[]
[]
[]
[]
[]
[]
[]
[]
[]
[]
[]
[]
[]
[]
[]
[]
[]
[]
[]
[]
[]
[]
[]
[]
[]
[]
[]
[]
[]
[]
[]
[]
[]
[]
[]
[]
[]
[]
[]
[]
[]
[]
[]
[]
[]
[]
[]
[]
[]
[]
[]
[]
[]
[]
[]
[]
[]
[]
[]
[]
[]
[]
[]
[]
[]
[]
[]
[]
[]
[]
[]
[]
[]
[]
[]
[]
[]
[]
[]
[]
[]
[]
[]
[]
[]
[]
[]
[]
[]
[]
[]
[]
[]
[]
[]
[]
[]
[]
[]
[]
[]
[]
[]
[]
[]
[]
[]
[]
[]
[]
[]
[]
[]
[]
[]
[]
[]
[]
[]
[]
[]
[]
[]
[]
[]
[]
[]
[]
[]
[]
[]
[]
[]
[]
[]
[]
[]
[]
[]
[]
[]
[]
[]
[]
[]
[]
[]
[]
[]
[]
[]
[]
[]
[]
[]
[]
[]
[]
[]
[]
[]
[]
[]
[]
[]
[]
[]
[]
[]
[]
[]
[]
[]
[]
[]
[]
[]
[]
[]
[]
[]
[]
[]
[]
[]
[]
[]
[]
[]
[]
[]
[]
[]
[]
[]
[]
[]
[]
[]
[]
[]
[]
[]
[]
[]
[]
[]
[]
[]
[]
[]
[]
[]
[]
[]
[]
[]
[]
[]
[]
[]
[]
[]
[]
[]
[]
[]
[]
[]
[]
[]
[]
[]
[]
[]
[]
[]
[]
[]
[]
[]
[]
[]
[]
[]
[]
[]
[]
[]
[]
[]
[]
[]
[]
[]
[]
[]
[]
[]
[]
[]
[]
[]
[]
[]
[]
[]
[]
[]
[]
[]
[]
[]
[]
[]
[]
[]
[]
[]
[]
[]
[]
[]
[]
[]
[]
[]
[]
[]
[]
[]
[]
[]
[]
[]
[]
[]
[]
[]
[]
[]
[]
[]
[]
[]
[]
[]
[]
[]
[]
[]
[]
[]
[]
[]
[]
[]
[]
[]
[]
[]
[]
[]
[]
[]
[]
[]
[]
[]
[]
[]
[]
[]
[]
[]
[]
[]
[]
[]
[]
[]
[]
[]
[]
[]
[]
[]
[]
[]
[]
[]
[]
[]
[]
[]
[]
[]
[]
[]
[]
[]
[]
[]
[]
[]
[]
[]
[]
[]
[]
[]
[]
[]
[]
[]
[]
[]
[]
[]
[]
[]
[]
[]
[]
[]
[]
[]
[]
[]
[]
[]
[]
[]
[]
[]
[]
[]
[]
[]
[]
[]
[]
[]
[]
[]
[]
[]
[]
[]
[]
[]
[]
[]
[]
[]
[]
[]
[]
[]
[]
[]
[]
[]
[]
[]
[]
[]
[]
[]
[]
[]
[]
[]
[]
[]
[]
[]
[]
[]
[]
[]
[]
[]
[]
[]
[]
[]
[]
[]
[]
[]
[]
[]
[]
[]
[]
[]
[]
[]
[]
[]
[]
[]
[]
[]
[]
[]
[]
[]
[]
[]
[]
[]
[]
[]
[]
[]
[]
[]
[]
[]
[]
[]
[]
[]
[]
[]
[]
[]
[]
[]
[]
[]
[]
[]
[]
[]
[]
[]
[]
[]
[]
[]
[]
[]
[]
[]
[]
[]
[]
[]
[]
[]
[]
[]
[]
[]
[]
[]
[]
[]
[]
[]
[]
[]
[]
[]
[]
[]
[]
[]
[]
[]
[]
[]
[]
[]
[]
[]
[]
[]
[]
[]
[]
[]
[]
[]
[]
[]
[]
[]
[]
[]
[]
[]
[]
[]
[]
[]
[]
[]
[]
[]
[]
[]
[]
[]
[]
[]
[]
[]
[]
[]
[]
[]
[]
[]
[]
[]
[]
[]
[]
[]
[]
[]
[]
[]
[]
[]
[]
[]
[]
[]
[]
[]
[]
[]
[]
[]
[]
[]
[]
[]
[]
[]
[]
[]
[]
[]
[]
[]
[]
[]
[]
[]
[]
[]
[]
[]
[]
[]
[]
[]
[]
[]
[]
[]
[]
[]
[]
[]
[]
[]
[]
[]
[]
[]
[]
[]
[]
[]
[]
[]
[]
[]
[]
[]
[]
[]
[]
[]
[]
[]
[]
[]
[]
[]
[]
[]
[]
[]
[]
[]
[]
[]
[]
[]
[]
[]
[]
[]
[]
[]
[]
[]
[]
[]
[]
[]
[]
[]
[]
[]
[]
[]
[]
[]
[]
[]
[]
[]
[]
[]
[]
[]
[]
[]
[]
[]
[]
[]
[]
[]
[]
[]
[]
[]
[]
[]
[]
[]
[]
[]
[]
[]
[]
[]
[]
[]
[]
[]
[]
[]
[]
[]
[]
[]
[]
[]
[]
[]
[]
[]
[]
[]
[]
[]
[]
[]
[]
[]
[]
[]
[]
[]
[]
[]
[]
[]
[]
[]
[]
[]
[]
[]
[]
[]
[]
[]
[]
[]
[]
[]
[]
[]
[]
[]
[]
[]
[]
[]
[]
[]
[]
[]
[]
[]
[]
[]
[]
[]
[]
[]
[]
[]
[]
[]
[]
[]
[]
[]
[]
[]
[]
[]
[]
[]
[]
[]
[]
[]
[]
[]
[]
[]
[]
[]
[]
[]
[]
[]
[]
[]
[]
[]
[]
[]
[]
[]
[]
[]
[]
[]
[]
[]
[]
[]
[]
[]
[]
[]
[]
[]
[]
[]
[]
[]
[]
[]
[]
[]
[]
[]
[]
[]
[]
[]
[]
[]
[]
[]
[]
[]
[]
[]
[]
[]
[]
[]
[]
[]
[]
[]
[]
[]
[]
[]
[]
[]
[]
[]
[]
[]
[]
[]
[]
[]
[]
[]
[]
[]
[]
[]
[]
[]
[]
[]
[]
[]
[]
[]
[]
[]
[]
[]
[]
[]
[]
[]
[]
[]
[]
[]
[]
[]
[]
[]
[]
[]
[]
[]
[]
[]
[]
[]
[]
[]
[]
[]
[]
[]
[]
[]
[]
[]
[]
[]
[]
[]
[]
[]
[]
[]
[]
[]
[]
[]
[]
[]
[]
[]
[]
[]
[]
[]
[]
[]
[]
[]
[]
[]
[]
[]
[]
[]
[]
[]
[]
[]
[]
[]
[]
[]
[]
[]
[]
[]
[]
[]
[]
[]
[]
[]
[]
[]
[]
[]
[]
[]
[]
[]
[]
[]
[]
[]
[]
[]
[]
[]
[]
[]
[]
[]
[]
[]
[]
[]
[]
[]
[]
[]
[]
[]
[]
[]
[]
[]
[]
[]
[]
[]
[]
[]
[]
[]
[]
[]
[]
[]
[]
[]
[]
[]
[]
[]
[]
[]
[]
[]
[]
[]
[]
[]
[]
[]
[]
[]
[]
[]
[]
[]
[]
[]
[]
[]
[]
[]
[]
[]
[]
[]
[]
[]
[]
[]
[]
[]
[]
[]
[]
[]
[]
[]
[]
[]
[]
[]
[]
[]
[]
[]
[]
[]
[]
[]
[]
[]
[]
[]
[]
[]
[]
[]
[]
[]
[]
[]
[]
[]
[]
[]
[]
[]
[]
[]
[]
[]
[]
[]
[]
[]
[]
[]
[]
[]
[]
[]
[]
[]
[]
[]
[]
[]
[]
[]
[]
[]
[]
[]
[]
[]
[]
[]
[]
[]
[]
[]
[]
[]
[]
[]
[]
[]
[]
[]
[]
[]
[]
[]
[]
[]
[]
[]
[]
[]
[]
[]
[]
[]
[]
[]
[]
[]
[]
[]
[]
[]
[]
[]
[]
[]
[]
[]
[]
[]
[]
[]
[]
[]
[]
[]
[]
[]
[]
[]
[]
[]
[]
[]
[]
[]
[]
[]
[]
[]
[]
[]
[]
[]
[]
[]
[]
[]
[]
[]
[]
[]
[]
[]
[]
[]
[]
[]
[]
[]
[]
[]
[]
[]
[]
[]
[]
[]
[]
[]
[]
[]
[]
[]
[]
[]
[]
[]
[]
[]
[]
[]
[]
[]
[]
[]
[]
[]
[]
[]
[]
[]
[]
[]
[]
[]
[]
[]
[]
[]
[]
[]
[]
[]
[]
[]
[]
[]
[]
[]
[]
[]
[]
[]
[]
[]
[]
[]
[]
[]
[]
[]
[]
[]
[]
[]
[]
[]
[]
[]
[]
[]
[]
[]
[]
[]
[]
[]
[]
[]
[]
[]
[]
[]
[]
[]
[]
[]
[]
[]
[]
[]
[]
[]
[]
[]
[]
[]
[]
[]
[]
[]
[]
[]
[]
[]
[]
[]
[]
[]
[]
[]
[]
[]
[]
[]
[]
[]
[]
[]
[]
[]
[]
[]
[]
[]
[]
[]
[]
[]
[]
[]
[]
[]
[]
[]
[]
[]
[]
[]
[]
[]
[]
[]
[]
[]
[]
[]
[]
[]
[]
[]
[]
[]
[]
[]
[]
[]
[]
[]
[]
[]
[]
[]
[]
[]
[]
[]
[]
[]
[]
[]
[]
[]
[]
[]
[]
[]
[]
[]
[]
[]
[]
[]
[]
[]
[]
[]
[]
[]
[]
[]
[]
[]
[]
[]
[]
[]
[]
[]
[]
[]
[]
[]
[]
[]
[]
[]
[]
[]
[]
[]
[]
[]
[]
[]
[]
[]
[]
[]
[]
[]
[]
[]
[]
[]
[]
[]
[]
[]
[]
[]
[]
[]
[]
[]
[]
[]
[]
[]
[]
[]
[]
[]
[]
[]
[]
[]
[]
[]
[]
[]
[]
[]
[]
[]
[]
[]
[]
[]
[]
[]
[]
[]
[]
[]
[]
[]
[]
[]
[]
[]
[]
[]
[]
[]
[]
[]
[]
[]
[]
[]
[]
[]
[]
[]
[]
[]
[]
[]
[]
[]
[]
[]
[]
[]
[]
[]
[]
[]
[]
[]
[]
[]
[]
[]
[]
[]
[]
[]
[]
[]
[]
[]
[]
[]
[]
[]
[]
[]
[]
[]
[]
[]
[]
[]
[]
[]
[]
[]
[]
[]
[]
[]
[]
[]
[]
[]
[]
[]
[]
[]
[]
[]
[]
[]
[]
[]
[]
[]
[]
[]
[]
[]
[]
[]
[]
[]
[]
[]
[]
[]
[]
[]
[]
[]
[]
[]
[]
[]
[]
[]
[]
[]
[]
[]
[]
[]
[]
[]
[]
[]
[]
[]
[]
[]
[]
[]
[]
[]
[]
[]
[]
[]
[]
[]
[]
[]
[]
[]
[]
[]
[]
[]
[]
[]
[]
[]
[]
[]
[]
[]
[]
[]
[]
[]
[]
[]
[]
[]
[]
[]
[]
[]
[]
[]
[]
[]
[]
[]
[]
[]
[]
[]
[]
[]
[]
[]
[]
[]
[]
[]
[]
[]
[]
[]
[]
[]
[]
[]
[]
[]
[]
[]
[]
[]
[]
[]
[]
[]
[]
[]
[]
[]
[]
[]
[]
[]
[]
[]
[]
[]
[]
[]
[]
[]
[]
[]
[]
[]
[]
[]
[]
[]
[]
[]
[]
[]
[]
[]
[]
[]
[]
[]
[]
[]
[]
[]
[]
[]
[]
[]
[]
[]
[]
[]
[]
[]
[]
[]
[]
[]
[]
[]
[]
[]
[]
[]
[]
[]
[]
[]
[]
[]
[]
[]
[]
[]
[]
[]
[]
[]
[]
[]
[]
[]
[]
[]
[]
[]
[]
[]
[]
[]
[]
[]
[]
[]
[]
[]
[]
[]
[]
[]
[]
[]
[]
[]
[]
[]
[]
[]
[]
[]
[]
[]
[]
[]
[]
[]
[]
[]
[]
[]
[]
[]
[]
[]
[]
[]
[]
[]
[]
[]
[]
[]
[]
[]
[]
[]
[]
[]
[]
[]
[]
[]
[]
[]
[]
[]
[]
[]
[]
[]
[]
[]
[]
[]
[]
[]
[]
[]
[]
[]
[]
[]
[]
[]
[]
[]
[]
[]
[]
[]
[]
[]
[]
[]
[]
[]
[]
[]
[]
[]
[]
[]
[]
[]
[]
[]
[]
[]
[]
[]
[]
[]
[]
[]
[]
[]
[]
[]
[]
[]
[]
[]
[]
[]
[]
[]
[]
[]
[]
[]
[]
[]
[]
[]
[]
[]
[]
[]
[]
[]
[]
[]
[]
[]
[]
[]
[]
[]
[]
[]
[]
[]
[]
[]
[]
[]
[]
[]
[]
[]
[]
[]
[]
[]
[]
[]
[]
[]
[]
[]
[]
[]
[]
[]
[]
[]
[]
[]
[]
[]
[]
[]
[]
[]
[]
[]
[]
[]
[]
[]
[]
[]
[]
[]
[]
[]
[]
[]
[]
[]
[]
[]
[]
[]
[]
[]
[]
[]
[]
[]
[]
[]
[]
[]
[]
[]
[]
[]
[]
[]
[]
[]
[]
[]
[]
[]
[]
[]
[]
[]
[]
[]
[]
[]
[]
[]
[]
[]
[]
[]
[]
[]
[]
[]
[]
[]
[]
[]
[]
[]
[]
[]
[]
[]
[]
[]
[]
[]
[]
[]
[]
[]
[]
[]
[]
[]
[]
[]
[]
[]
[]
[]
[]
[]
[]
[]
[]
[]
[]
[]
[]
[]
[]
[]
[]
[]
[]
[]
[]
[]
[]
[]
[]
[]
[]
[]
[]
[]
[]
[]
[]
[]
[]
[]
[]
[]
[]
[]
[]
[]
[]
[]
[]
[]
[]
[]
[]
[]
[]
[]
[]
[]
[]
[]
[]
[]
[]
[]
[]
[]
[]
[]
[]
[]
[]
[]
[]
[]
[]
[]
[]
[]
[]
[]
[]
[]
[]
[]
[]
[]
[]
[]
[]
[]
[]
[]
[]
[]
[]
[]
[]
[]
[]
[]
[]
[]
[]
[]
[]
[]
[]
[]
[]
[]
[]
[]
[]
[]
[]
[]
[]
[]
[]
[]
[]
[]
[]
[]
[]
[]
[]
[]
[]
[]
[]
[]
[]
[]
[]
[]
[]
[]
[]
[]
[]
[]
[]
[]
[]
[]
[]
[]
[]
[]
[]
[]
[]
[]
[]
[]
[]
[]
[]
[]
[]
[]
[]
[]
[]
[]
[]
[]
[]
[]
[]
[]
[]
[]
[]
[]
[]
[]
[]
[]
[]
[]
[]
[]
[]
[]
[]
[]
[]
[]
[]
[]
[]
[]
[]
[]
[]
[]
[]
[]
[]
[]
[]
[]
[]
[]
[]
[]
[]
[]
[]
[]
[]
[]
[]
[]
[]
[]
[]
[]
[]
[]
[]
[]
[]
[]
[]
[]
[]
[]
[]
[]
[]
[]
[]
[]
[]
[]
[]
[]
[]
[]
[]
[]
[]
[]
[]
[]
[]
[]
[]
[]
[]
[]
[]
[]
[]
[]
[]
[]
[]
[]
[]
[]
[]
[]
[]
[]
[]
[]
[]
[]
[]
[]
[]
[]
[]
[]
[]
[]
[]
[]
[]
[]
[]
[]
[]
[]
[]
[]
[]
[]
[]
[]
[]
[]
[]
[]
[]
[]
[]
[]
[]
[]
[]
[]
[]
[]
[]
[]
[]
[]
[]
[]
[]
[]
[]
[]
[]
[]
[]
[]
[]
[]
[]
[]
[]
[]
[]
[]
[]
[]
[]
[]
[]
[]
[]
[]
[]
[]
[]
[]
[]
[]
[]
[]
[]
[]
[]
[]
[]
[]
[]
[]
[]
[]
[]
[]
[]
[]
[]
[]
[]
[]
[]
[]
[]
[]
[]
[]
[]
[]
[]
[]
[]
[]
[]
[]
[]
[]
[]
[]
[]
[]
[]
[]
[]
[]
[]
[]
[]
[]
[]
[]
[]
[]
[]
[]
[]
[]
[]
[]
[]
[]
[]
[]
[]
[]
[]
[]
[]
[]
[]
[]
[]
[]
[]
[]
[]
[]
[]
[]
[]
[]
[]
[]
[]
[]
[]
[]
[]
[]
[]
[]
[]
[]
[]
[]
[]
[]
[]
[]
[]
[]
[]
[]
[]
[]
[]
[]
[]
[]
[]
[]
[]
[]
[]
[]
[]
[]
[]
[]
[]
[]
[]
[]
[]
[]
[]
[]
[]
[]
[]
[]
[]
[]
[]
[]
[]
[]
[]
[]
[]
[]
[]
[]
[]
[]
[]
[]
[]
[]
[]
[]
[]
[]
[]
[]
[]
[]
[]
[]
[]
[]
[]
[]
[]
[]
[]
[]
[]
[]
[]
[]
[]
[]
[]
[]
[]
[]
[]
[]
[]
[]
[]
[]
[]
[]
[]
[]
[]
[]
[]
[]
[]
[]
[]
[]
[]
[]
[]
[]
[]
[]
[]
[]
[]
[]
[]
[]
[]
[]
[]
[]
[]
[]
[]
[]
[]
[]
[]
[]
[]
[]
[]
[]
[]
[]
[]
[]
[]
[]
[]
[]
[]
[]
[]
[]
[]
[]
[]
[]
[]
[]
[]
[]
[]
[]
[]
[]
[]
[]
[]
[]
[]
[]
[]
[]
[]
[]
[]
[]
[]
[]
[]
[]
[]
[]
[]
[]
[]
[]
[]
[]
[]
[]
[]
[]
[]
[]
[]
[]
[]
[]
[]
[]
[]
[]
[]
[]
[]
[]
[]
[]
[]
[]
[]
[]
[]
[]
[]
[]
[]
[]
[]
[]
[]
[]
[]
[]
[]
[]
[]
[]
[]
[]
[]
[]
[]
[]
[]
[]
[]
[]
[]
[]
[]
[]
[]
[]
[]
[]
[]
[]
[]
[]
[]
[]
[]
[]
[]
[]
[]
[]
[]
[]
[]
[]
[]
[]
[]
[]
[]
[]
[]
[]
[]
[]
[]
[]
[]
[]
[]
[]
[]
[]
[]
[]
[]
[]
[]
[]
[]
[]
[]
[]
[]
[]
[]
[]
[]
[]
[]
[]
[]
[]
[]
[]
[]
[]
[]
[]
[]
[]
[]
[]
[]
[]
[]
[]
[]
[]
[]
[]
[]
[]
[]
[]
[]
[]
[]
[]
[]
[]
[]
[]
[]
[]
[]
[]
[]
[]
[]
[]
[]
[]
[]
[]
[]
[]
[]
[]
[]
[]
[]
[]
[]
[]
[]
[]
[]
[]
[]
[]
[]
[]
[]
[]
[]
[]
[]
[]
[]
[]
[]
[]
[]
[]
[]
[]
[]
[]
[]
[]
[]
[]
[]
[]
[]
[]
[]
[]
[]
[]
[]
[]
[]
[]
[]
[]
[]
[]
[]
[]
[]
[]
[]
[]
[]
[]
[]
[]
[]
[]
[]
[]
[]
[]
[]
[]
[]
[]
[]
[]
[]
[]
[]
[]
[]
[]
[]
[]
[]
[]
[]
[]
[]
[]
[]
[]
[]
[]
[]
[]
[]
[]
[]
[]
[]
[]
[]
[]
[]
[]
[]
[]
[]
[]
[]
[]
[]
[]
[]
[]
[]
[]
[]
[]
[]
[]
[]
[]
[]
[]
[]
[]
[]
[]
[]
[]
[]
[]
[]
[]
[]
[]
[]
[]
[]
[]
[]
[]
[]
[]
[]
[]
[]
[]
[]
[]
[]
[]
[]
[]
[]
[]
[]
[]
[]
[]
[]
[]
[]
[]
[]
[]
[]
[]
[]
[]
[]
[]
[]
[]
[]
[]
[]
[]
[]
[]
[]
[]
[]
[]
[]
[]
[]
[]
[]
[]
[]
[]
[]
[]
[]
[]
[]
[]
[]
[]
[]
[]
[]
[]
[]
[]
[]
[]
[]
[]
[]
[]
[]
[]
[]
[]
[]
[]
[]
[]
[]
[]
[]
[]
[]
[]
[]
[]
[]
[]
[]
[]
[]
[]
[]
[]
[]
[]
[]
[]
[]
[]
[]
[]
[]
[]
[]
[]
[]
[]
[]
[]
[]
[]
[]
[]
[]
[]
[]
[]
[]
[]
[]
[]
[]
[]
[]
[]
[]
[]
[]
[]
[]
[]
[]
[]
[]
[]
[]
[]
[]
[]
[]
[]
[]
[]
[]
[]
[]
[]
[]
[]
[]
[]
[]
[]
[]
[]
[]
[]
[]
[]
[]
[]
[]
[]
[]
[]
[]
[]
[]
[]
[]
[]
[]
[]
[]
[]
[]
[]
[]
[]
[]
[]
[]
[]
[]
[]
[]
[]
[]
[]
[]
[]
[]
[]
[]
[]
[]
[]
[]
[]
[]
[]
[]
[]
[]
[]
[]
[]
[]
[]
[]
[]
[]
[]
[]
[]
[]
[]
[]
[]
[]
[]
[]
[]
[]
[]
[]
[]
[]
[]
[]
[]
[]
[]
[]
[]
[]
[]
[]
[]
[]
[]
[]
[]
[]
[]
[]
[]
[]
[]
[]
[]
[]
[]
[]
[]
[]
[]
[]
[]
[]
[]
[]
[]
[]
[]
[]
[]
[]
[]
[]
[]
[]
[]
[]
[]
[]
[]
[]
[]
[]
[]
[]
[]
[]
[]
[]
[]
[]
[]
[]
[]
[]
[]
[]
[]
[]
[]
[]
[]
[]
[]
[]
[]
[]
[]
[]
[]
[]
[]
[]
[]
[]
[]
[]
[]
[]
[]
[]
[]
[]
[]
[]
[]
[]
[]
[]
[]
[]
[]
[]
[]
[]
[]
[]
[]
[]
[]
[]
[]
[]
[]
[]
[]
[]
[]
[]
[]
[]
[]
[]
[]
[]
[]
[]
[]
[]
[]
[]
[]
[]
[]
[]
[]
[]
[]
[]
[]
[]
[]
[]
[]
[]
[]
[]
[]
[]
[]
[]
[]
[]
[]
[]
[]
[]
[]
[]
[]
[]
[]
[]
[]
[]
[]
[]
[]
[]
[]
[]
[]
[]
[]
[]
[]
[]
[]
[]
[]
[]
[]
[]
[]
[]
[]
[]
[]
[]
[]
[]
[]
[]
[]
[]
[]
[]
[]
[]
[]
[]
[]
[]
[]
[]
[]
[]
[]
[]
[]
[]
[]
[]
[]
[]
[]
[]
[]
[]
[]
[]
[]
[]
[]
[]
[]
[]
[]
[]
[]
[]
[]
[]
[]
[]
[]
[]
[]
[]
[]
[]
[]
[]
[]
[]
[]
[]
[]
[]
[]
[]
[]
[]
[]
[]
[]
[]
[]
[]
[]
[]
[]
[]
[]
[]
[]
[]
[]
[]
[]
[]
[]
[]
[]
[]
[]
[]
[]
[]
[]
[]
[]
[]
[]
[]
[]
[]
[]
[]
[]
[]
[]
[]
[]
[]
[]
[]
[]
[]
[]
[]
[]
[]
[]
[]
[]
[]
[]
[]
[]
[]
[]
[]
[]
[]
[]
[]
[]
[]
[]
[]
[]
[]
[]
[]
[]
[]
[]
[]
[]
[]
[]
[]
[]
[]
[]
[]
[]
[]
[]
[]
[]
[]
[]
[]
[]
[]
[]
[]
[]
[]
[]
[]
[]
[]
[]
[]
[]
[]
[]
[]
[]
[]
[]
[]
[]
[]
[]
[]
[]
[]
[]
[]
[]
[]
[]
[]
[]
[]
[]
[]
[]
[]
[]
[]
[]
[]
[]
[]
[]
[]
[]
[]
[]
[]
[]
[]
[]
[]
[]
[]
[]
[]
[]
[]
[]
[]
[]
[]
[]
[]
[]
[]
[]
[]
[]
[]
[]
[]
[]
[]
[]
[]
[]
[]
[]
[]
[]
[]
[]
[]
[]
[]
[]
[]
[]
[]
[]
[]
[]
[]
[]
[]
[]
[]
[]
[]
[]
[]
[]
[]
[]
[]
[]
[]
[]
[]
[]
[]
[]
[]
[]
[]
[]
[]
[]
[]
[]
[]
[]
[]
[]
[]
[]
[]
[]
[]
[]
[]
[]
[]
[]
[]
[]
[]
[]
[]
[]
[]
[]
[]
[]
[]
[]
[]
[]
[]
[]
[]
[]
[]
[]
[]
[]
[]
[]
[]
[]
[]
[]
[]
[]
[]
[]
[]
[]
[]
[]
[]
[]
[]
[]
[]
[]
[]
[]
[]
[]
[]
[]
[]
[]
[]
[]
[]
[]
[]
[]
[]
[]
[]
[]
[]
[]
[]
[]
[]
[]
[]
[]
[]
[]
[]
[]
[]
[]
[]
[]
[]
[]
[]
[]
[]
[]
[]
[]
[]
[]
[]
[]
[]
[]
[]
[]
[]
[]
[]
[]
[]
[]
[]
[]
[]
[]
[]
[]
[]
[]
[]
[]
[]
[]
[]
[]
[]
[]
[]
[]
[]
[]
[]
[]
[]
[]
[]
[]
[]
[]
[]
[]
[]
[]
[]
[]
[]
[]
[]
[]
[]
[]
[]
[]
[]
[]
[]
[]
[]
[]
[]
[]
[]
[]
[]
[]
[]
[]
[]
[]
[]
[]
[]
[]
[]
[]
[]
[]
[]
[]
[]
[]
[]
[]
[]
[]
[]
[]
[]
[]
[]
[]
[]
[]
[]
[]
[]
[]
[]
[]
[]
[]
[]
[]
[]
[]
[]
[]
[]
[]
[]
[]
[]
[]
[]
[]
[]
[]
[]
[]
[]
[]
[]
[]
[]
[]
[]
[]
[]
[]
[]
[]
[]
[]
[]
[]
[]
[]
[]
[]
[]
[]
[]
[]
[]
[]
[]
[]
[]
[]
[]
[]
[]
[]
[]
[]
[]
[]
[]
[]
[]
[]
[]
[]
[]
[]
[]
[]
[]
[]
[]
[]
[]
[]
[]
[]
[]
[]
[]
[]
[]
[]
[]
[]
[]
[]
[]
[]
[]
[]
[]
[]
[]
[]
[]
[]
[]
[]
[]
[]
[]
[]
[]
[]
[]
[]
[]
[]
[]
[]
[]
[]
[]
[]
[]
[]
[]
[]
[]
[]
[]
[]
[]
[]
[]
[]
[]
[]
[]
[]
[]
[]
[]
[]
[]
[]
[]
[]
[]
[]
[]
[]
[]
[]
[]
[]
[]
[]
[]
[]
[]
[]
[]
[]
[]
[]
[]
[]
[]
[]
[]
[]
[]
[]
[]
[]
[]
[]
[]
[]
[]
[]
[]
[]
[]
[]
[]
[]
[]
[]
[]
[]
[]
[]
[]
[]
[]
[]
[]
[]
[]
[]
[]
[]
[]
[]
[]
[]
[]
[]
[]
[]
[]
[]
[]
[]
[]
[]
[]
[]
[]
[]
[]
[]
[]
[]
[]
[]
[]
[]
[]
[]
[]
[]
[]
[]
[]
[]
[]
[]
[]
[]
[]
[]
[]
[]
[]
[]
[]
[]
[]
[]
[]
[]
[]
[]
[]
[]
[]
[]
[]
[]
[]
[]
[]
[]
[]
[]
[]
[]
[]
[]
[]
[]
[]
[]
[]
[]
[]
[]
[]
[]
[]
[]
[]
[]
[]
[]
[]
[]
[]
[]
[]
[]
[]
[]
[]
[]
[]
[]
[]
[]
[]
[]
[]
[]
[]
[]
[]
[]
[]
[]
[]
[]
[]
[]
[]
[]
[]
[]
[]
[]
[]
[]
[]
[]
[]
[]
[]
[]
[]
[]
[]
[]
[]
[]
[]
[]
[]
[]
[]
[]
[]
[]
[]
[]
[]
[]
[]
[]
[]
[]
[]
[]
[]
[]
[]
[]
[]
[]
[]
[]
[]
[]
[]
[]
[]
[]
[]
[]
[]
[]
[]
[]
[]
[]
[]
[]
[]
[]
[]
[]
[]
[]
[]
[]
[]
[]
[]
[]
[]
[]
[]
[]
[]
[]
[]
[]
[]
[]
[]
[]
[]
[]
[]
[]
[]
[]
[]
[]
[]
[]
[]
[]
[]
[]
[]
[]
[]
[]
[]
[]
[]
[]
[]
[]
[]
[]
[]
[]
[]
[]
[]
[]
[]
[]
[]
[]
[]
[]
[]
[]
[]
[]
[]
[]
[]
[]
[]
[]
[]
[]
[]
[]
[]
[]
[]
[]
[]
[]
[]
[]
[]
[]
[]
[]
[]
[]
[]
[]
[]
[]
[]
[]
[]
[]
[]
[]
[]
[]
[]
[]
[]
[]
[]
[]
[]
[]
[]
[]
[]
[]
[]
[]
[]
[]
[]
[]
[]
[]
[]
[]
[]
[]
[]
[]
[]
[]
[]
[]
[]
[]
[]
[]
[]
[]
[]
[]
[]
[]
[]
[]
[]
[]
[]
[]
[]
[]
[]
[]
[]
[]
[]
[]
[]
[]
[]
[]
[]
[]
[]
[]
[]
[]
[]
[]
[]
[]
[]
[]
[]
[]
[]
[]
[]
[]
[]
[]
[]
[]
[]
[]
[]
[]
[]
[]
[]
[]
[]
[]
[]
[]
[]
[]
[]
[]
[]
[]
[]
[]
[]
[]
[]
[]
[]
[]
[]
[]
[]
[]
[]
[]
[]
[]
[]
[]
[]
[]
[]
[]
[]
[]
[]
[]
[]
[]
[]
[]
[]
[]
[]
[]
[]
[]
[]
[]
[]
[]
[]
[]
[]
[]
[]
[]
[]
[]
[]
[]
[]
[]
[]
[]
[]
[]
[]
[]
[]
[]
[]
[]
[]
[]
[]
[]
[]
[]
[]
[]
[]
[]
[]
[]
[null,null,null,null,null,null,null,null,null,null,null,null,null,null,null,null,null,null,null,null,null,{"$f":"ROUND(SUM(#REF!),2)","v":{"$error":"#REF!"}}]

{"sheet":"Cotizacion","index":3,"n_rows":45,"n_cols":25,"rows_kept":45,"cut":false,"hidden":false,"merged":[[42,5,42,6],[39,2,39,6],[40,2,40,6],[41,2,41,6],[37,1,37,7],[38,2,38,6],[30,2,30,3],[30,4,30,7],[31,2,31,3],[31,4,31,7],[35,1,35,15],[36,1,36,15],[7,4,7,8],[7,1,7,3],[7,10,7,11],[7,12,7,15],[9,10,9,11],[9,12,9,15],[9,1,9,3],[9,4,9,8],[11,1,11,3],[11,4,11,8],[13,1,13,3],[13,4,13,8],[17,1,17,3],[26,4,26,7],[26,2,26,3],[0,1,1,15],[3,1,3,15],[5,1,5,3],[5,4,5,8],[5,10,5,11],[5,12,5,15],[21,2,21,15],[15,1,15,15],[17,4,17,6],[17,9,17,10],[19,1,19,15],[29,2,29,3],[29,4,29,7],[24,13,24,15],[24,11,24,12],[27,2,27,3],[27,4,27,7],[28,2,28,3],[28,4,28,7]]}
[null,"Solicitud de Cotización\nSoftware de Fabricantes"]
[]
[null,{"$f":"SolCotizacion!B3","v":"Versión: 30"},{"$f":"SolCotizacion!C3","v":"2022-09-30"}]
[null,"Información de la Entidad Compradora"]
[]
[null,"Nombre de la Entidad",null,null,"Secretaria General de la Alcaldia Mayor de Bogotá D.C. ",null,null,null,null,null,"NIT",null,899999061]
[]
[null,"Dirección de la Entidad",null,null,"Carrera 8 N. 10 - 65",null,null,null,null,null,"Correo de contacto",null,"rlondono@alcaldiabogota.gov.co"]
[]
[null,"Municipio",null,null,"Bogotá D.C.",null,null,null,null,null,"Teléfono de contacto",null,"3813000 EXT 1161"]
[]
[null,"Nombre funcionario Comprador",null,null,"Rafael Londoño Carantón"]
[]
[]
[]
[null,"Solicitud de Cotización"]
[]
[null,"Categoría",null,null,"Software Analitica S.A.S",null,null,null,"Valor TRM",{"$f":"SolCotizacion!J18","v":4636.83},null,null,"Fecha",{"$f":"SolCotizacion!N18","v":"2022-10-24"}]
[]
[null,"Productos"]
[]
["*Libros, revistas, cartillas y/o catálogo Segmento 1.",{"$f":"SolCotizacion!B22","v":"Software Analitica S.A.S"}]
[]
[null,"Cantidad de filas:"]
[null,1,null,null,null,null,null,null,null,null,null,"Proveedor"]
[]
[null,"Item","Código Catálogo",null,"Descripción del Producto",null,null,null,"Tipo","Unidad","Zona","Asistencia","Perfil","Número de parte","Forma de Pago","cantidad","Precio Unitario","Precio máximo unitario (cláusula 8)","Descuento adicional","Precio con Descuento","Subtotal","IVA","Vr IVA","Precio Total"]
["SGP Licencia por usuario: BPMS Ilimitados Procedimientos (Incluye soporte por el primer año) - Mínimo 20 usuariosRemoto",1,"SGP-SW-1",null,"SGP Licencia por usuario: BPMS Ilimitados Procedimientos (Incluye soporte por el primer año) - Mínimo 20 usuarios",null,null,null,"Servicio","Usuario","Zonas (1,2,3)","Remoto","N/A","SGP-SW-1","Único Pago",20,{"$f":"IFERROR(VLOOKUP($N$25&$Y28&$C28,temp!$A:$Y,19,0),VLOOKUP(\"Catalogo principal\"&$Y28&$C28,temp!$A:$Y,19,0))","v":{"$error":"#N/A"}},{"$f":"ROUND(Q28/(1-(VLOOKUP(\"Total porcentaje:\",$F:$H,3))),2)","v":{"$error":"#N/A"}},null,{"$f":"ROUND(R28*(1-S28),2)","v":{"$error":"#N/A"}},{"$f":"ROUND(P28*T28,2)","v":{"$error":"#N/A"}},null,{"$f":"IF(V28=\"Si\",U28*19%,0)","v":0},{"$f":"U28+W28","v":{"$error":"#N/A"}},{"$f":"IFERROR(VLOOKUP($C28&$E$18,Consolidado!$B:$U,5,0),VLOOKUP($C28&\"Canal\",Consolidado!$B:$U,5,0))","v":"Software Analitica S.A.S"}]
["SGP Soporte anual por usuario: BPMS (Año Adicional)Remoto",2,"SGP-SW-2",null,"SGP Soporte anual por usuario: BPMS (Año Adicional)",null,null,null,"Servicio","Usuario","Zonas (1,2,3)","Remoto","N/A","SGP-SW-2","Anual",20,{"$f":"IFERROR(VLOOKUP($N$25&$Y29&$C29,temp!$A:$Y,19,0),VLOOKUP(\"Catalogo principal\"&$Y29&$C29,temp!$A:$Y,19,0))","v":{"$error":"#N/A"}},{"$f":"ROUND(Q29/(1-(VLOOKUP(\"Total porcentaje:\",$F:$H,3))),2)","v":{"$error":"#N/A"}},null,{"$f":"ROUND(R29*(1-S29),2)","v":{"$error":"#N/A"}},{"$f":"ROUND(P29*T29,2)","v":{"$error":"#N/A"}},null,{"$f":"IF(V29=\"Si\",U29*19%,0)","v":0},{"$f":"U29+W29","v":{"$error":"#N/A"}},{"$f":"IFERROR(VLOOKUP($C29&$E$18,Consolidado!$B:$U,5,0),VLOOKUP($C29&\"Canal\",Consolidado!$B:$U,5,0))","v":"Software Analitica S.A.S"}]
["Capacitación para usuario técnico o administrador - hasta 10 Personas SGP (BPMS)  Remoto",3,"SGP-SRV-13",null,"Capacitación para usuario técnico o administrador - hasta 10 Personas SGP (BPMS)  ",null,null,null,"Servicio","Por sesión de capacitación de 4 horas para un grupo de hasta 10 personas.","Zona 1","Remoto","Capacitador","SGP-SRV-13","Mensual por servicios efectivamente prestados",10,{"$f":"IFERROR(VLOOKUP($N$25&$Y30&$C30,temp!$A:$Y,19,0),VLOOKUP(\"Catalogo principal\"&$Y30&$C30,temp!$A:$Y,19,0))","v":{"$error":"#N/A"}},{"$f":"ROUND(Q30/(1-(VLOOKUP(\"Total porcentaje:\",$F:$H,3))),2)","v":{"$error":"#N/A"}},null,{"$f":"ROUND(R30*(1-S30),2)","v":{"$error":"#N/A"}},{"$f":"ROUND(P30*T30,2)","v":{"$error":"#N/A"}},null,{"$f":"IF(V30=\"Si\",U30*19%,0)","v":0},{"$f":"U30+W30","v":{"$error":"#N/A"}},{"$f":"IFERROR(VLOOKUP($C30&$E$18,Consolidado!$B:$U,5,0),VLOOKUP($C30&\"Canal\",Consolidado!$B:$U,5,0))","v":"Software Analitica S.A.S"}]
["Configuración y parametrización de los Productos  - SGP (BPMS)  Remoto",4,"SGP-SRV-25",null,"Configuración y parametrización de los Productos  - SGP (BPMS)  ",null,null,null,"Servicio","Hora","Zona 1","Remoto","Profesional","SGP-SRV-25","Mensual por servicios efectivamente prestados",1000,{"$f":"IFERROR(VLOOKUP($N$25&$Y31&$C31,temp!$A:$Y,19,0),VLOOKUP(\"Catalogo principal\"&$Y31&$C31,temp!$A:$Y,19,0))","v":{"$error":"#N/A"}},{"$f":"ROUND(Q31/(1-(VLOOKUP(\"Total porcentaje:\",$F:$H,3))),2)","v":{"$error":"#N/A"}},null,{"$f":"ROUND(R31*(1-S31),2)","v":{"$error":"#N/A"}},{"$f":"ROUND(P31*T31,2)","v":{"$error":"#N/A"}},null,{"$f":"IF(V31=\"Si\",U31*19%,0)","v":0},{"$f":"U31+W31","v":{"$error":"#N/A"}},{"$f":"IFERROR(VLOOKUP($C31&$E$18,Consolidado!$B:$U,5,0),VLOOKUP($C31&\"Canal\",Consolidado!$B:$U,5,0))","v":"Software Analitica S.A.S"}]
["Instalación de Licencia o Suscripción Anual, o afínes - SGP (BPMS)Remoto",5,"SGP-SRV-31",null,"Instalación de Licencia o Suscripción Anual, o afínes - SGP (BPMS)",null,null,null,"Servicio","Unidad","Zona 1","Remoto","Técnico/Tecnólogo ó Profesional","SGP-SRV-31","Mensual por servicios efectivamente prestados",1,{"$f":"IFERROR(VLOOKUP($N$25&$Y32&$C32,temp!$A:$Y,19,0),VLOOKUP(\"Catalogo principal\"&$Y32&$C32,temp!$A:$Y,19,0))","v":{"$error":"#N/A"}},{"$f":"ROUND(Q32/(1-(VLOOKUP(\"Total porcentaje:\",$F:$H,3))),2)","v":{"$error":"#N/A"}},null,{"$f":"ROUND(R32*(1-S32),2)","v":{"$error":"#N/A"}},{"$f":"ROUND(P32*T32,2)","v":{"$error":"#N/A"}},null,{"$f":"IF(V32=\"Si\",U32*19%,0)","v":0},{"$f":"U32+W32","v":{"$error":"#N/A"}},{"$f":"IFERROR(VLOOKUP($C32&$E$18,Consolidado!$B:$U,5,0),VLOOKUP($C32&\"Canal\",Consolidado!$B:$U,5,0))","v":"Software Analitica S.A.S"}]
[null,"1. Si requiere agregue o elimine fila",null,null,null,null,null,null,null,null,null,null,null,null,null,null,null,null,null,null,null,null,"Valor Total",{"$f":"ROUND(SUM($X$28:$X$32),2)","v":{"$error":"#N/A"}}]
[]
[]
[null,"Gravámenes adicionales*"]
[null,"Si los hay, indique los gravámenes adicionales a los que está sujeta la Orden de Compra. Son gravámenes adicionales por ejemplo; estampillas y demás impuestos territoriales. \nLos impuestos como ICA y retención en la fuente NO son gravámenes adicionales.\n"]
[null,"Gravámenes adicionales (estampillas)"]
[null,"No","Descripción",null,null,null,null,"Porcentaje"]
[null,1,"PROADULTO MAYOR ",null,null,null,null,0.02,"","","","","","","",""]
[null,2,"PROCULTURA",null,null,null,null,5.0000000000000001E-3]
[null,3,"UNIVERSIDAD DISTRITAL FRANCISCO JOSE DE CALDAS",null,null,null,null,1.0999999999999999E-2]
[null,null,null,null,null,"Total porcentaje:",null,{"$f":"SUM(H40:H42)","v":3.6000000000000004E-2}]
[null,null,null,"Filas a agregar o eliminar Gravámenes:"]
[null,null,null,1]

{"sheet":"Parametros","index":4,"n_rows":3,"n_cols":2,"rows_kept":3,"cut":false,"hidden":true,"merged":[]}
["clave","valor"]
["nomCSV","solFabricantesSoftware"]
["codAMP","wfa01"]

{"sheet":"CSV","index":5,"n_rows":3,"n_cols":7,"rows_kept":3,"cut":false,"hidden":true,"merged":[]}
["Tipo","Cantidad","CÃ³digo de unidad de medida*","Precio base","Divisa","DescripciÃ³n","MercancÃ­a"]
["item",20,"Serv","\"1487500\"","COP","wfa01--IT-SW-01-03 CapacitaciÃ³n para usuario final - hasta 10 Personas."]
["item",1,"Und","\"5652500\"","COP","wfa01--IVA"]

{"sheet":"Categorias","index":6,"n_rows":7,"n_cols":2,"rows_kept":7,"cut":false,"hidden":true,"merged":[]}
["Categoría 1","Sistema Operativo, Plataforma, Nube e Infraestructura y Desarrollo Aplicaciones (Open – CSP)"]
["Categoría 2","Productividad Administración y análisis de datos (Open - CSP)"]
["Categoría 3","Movilidad (Open - CSP)"]
["Categoría 4","Aplicaciones empresariales (Open - CSP)"]
["Categoría 5","Campus (Educativo)"]
["Categoría 6","OVS (Educativo)"]
["Categoría 7","Open - CSP (Educativo)"]

{"sheet":"Consolidado","index":7,"n_rows":4508,"n_cols":24,"rows_kept":4508,"cut":false,"hidden":true,"merged":[]}
["LLAVE","TEMP1","TEMP2","PROVEEDOR","Código matriz Colombia Compra Eficiente","categoria","PROVEEDOR2","Moneda","Parametrización de los Servicios","Nombre Producto","Unidad de Medida","Unidad TVEC","Tipo","Zona","Asistencia","Perfil","Número de parte","Forma de Pago","Precio","Activo","IVA","Moneda",null,"Familia"]
[{"$f":"D2&F2&E2","v":"Pensemos SASoftware Pensemos SACON-SVE-01"},{"$f":"E2&F2","v":"CON-SVE-01Software Pensemos SA"},null,"Pensemos SA","CON-SVE-01","Software Pensemos SA",{"$f":"D2","v":"Pensemos SA"},"COP","N/A","Capacitación para usuario final - hasta 10 Personas.  ","Por sesión de capacitación de 4 horas para un grupo de hasta 10 personas.","Und","Servicio","Zonas (1,2,3)","Remoto","Capacitador",{"$f":"+E2","v":"CON-SVE-01"},"Mensual por servicios efectivamente prestados",680000,1,1,"COP"]
["Pensemos SASoftware Pensemos SACON-SVE-02","CON-SVE-02Software Pensemos SA",null,"Pensemos SA","CON-SVE-02","Software Pensemos SA","Pensemos SA","COP","N/A","Capacitación para usuario final - hasta 10 Personas.  ","Por sesión de capacitación de 16 horas para un grupo de hasta 10 personas.","Und","Servicio","Zona 1","Sitio","Capacitador","CON-SVE-02","Mensual por servicios efectivamente prestados",4800000,1,1,"COP"]
["Pensemos SASoftware Pensemos SACON-SVE-03","CON-SVE-03Software Pensemos SA",null,"Pensemos SA","CON-SVE-03","Software Pensemos SA","Pensemos SA","COP","N/A","Capacitación para usuario final - hasta 10 Personas.  ","Por sesión de capacitación de 16 horas para un grupo de hasta 10 personas.","Und","Servicio","Zona 2","Sitio","Capacitador","CON-SVE-03","Mensual por servicios efectivamente prestados",5400000,1,1,"COP"]
["Pensemos SASoftware Pensemos SACON-SVE-04","CON-SVE-04Software Pensemos SA",null,"Pensemos SA","CON-SVE-04","Software Pensemos SA","Pensemos SA","COP","N/A","Capacitación para usuario final - hasta 10 Personas.  ","Por sesión de capacitación de 16 horas para un grupo de hasta 10 personas.","Und","Servicio","Zona 3","Sitio","Capacitador","CON-SVE-04","Mensual por servicios efectivamente prestados",5900000,1,1,"COP"]
["Pensemos SASoftware Pensemos SACON-SVE-05","CON-SVE-05Software Pensemos SA",null,"Pensemos SA","CON-SVE-05","Software Pensemos SA","Pensemos SA","COP","N/A","Capacitación para usuario final - hasta 20 Personas.  ","Por sesión de capacitación de 4 horas para un grupo de hasta 10 personas.","Und","Servicio","Zonas (1,2,3)","Remoto","Capacitador","CON-SVE-05","Mensual por servicios efectivamente prestados",780000,1,1,"COP"]
["Pensemos SASoftware Pensemos SACON-SVE-06","CON-SVE-06Software Pensemos SA",null,"Pensemos SA","CON-SVE-06","Software Pensemos SA","Pensemos SA","COP","N/A","Capacitación para usuario final - hasta 20 Personas.  ","Por sesión de capacitación de 16 horas para un grupo de hasta 10 personas.","Und","Servicio","Zona 1","Sitio","Capacitador","CON-SVE-06","Mensual por servicios efectivamente prestados",6200000,1,1,"COP"]
["Pensemos SASoftware Pensemos SACON-SVE-07","CON-SVE-07Software Pensemos SA",null,"Pensemos SA","CON-SVE-07","Software Pensemos SA","Pensemos SA","COP","N/A","Capacitación para usuario final - hasta 20 Personas.  ","Por sesión de capacitación de 16 horas para un grupo de hasta 10 personas.","Und","Servicio","Zona 2","Sitio","Capacitador","CON-SVE-07","Mensual por servicios efectivamente prestados",6800000,1,1,"COP"]
["Pensemos SASoftware Pensemos SACON-SVE-08","CON-SVE-08Software Pensemos SA",null,"Pensemos SA","CON-SVE-08","Software Pensemos SA","Pensemos SA","COP","N/A","Capacitación para usuario final - hasta 20 Personas.  ","Por sesión de capacitación de 16 horas para un grupo de hasta 10 personas.","Und","Servicio","Zona 3","Sitio","Capacitador","CON-SVE-08","Mensual por servicios efectivamente prestados",7400000,1,1,"COP"]
["Pensemos SASoftware Pensemos SACON-SVE-09","CON-SVE-09Software Pensemos SA",null,"Pensemos SA","CON-SVE-09","Software Pensemos SA","Pensemos SA","COP","N/A","Capacitación para usuario técnico o administrador - hasta 5 Personas.  ","Por sesión de capacitación de 4 horas para un grupo de hasta 5 personas.","Und","Servicio","Zonas (1,2,3)","Remoto","Capacitador","CON-SVE-09","Mensual por servicios efectivamente prestados",480000,1,1,"COP"]
["Pensemos SASoftware Pensemos SACON-SVE-10","CON-SVE-10Software Pensemos SA",null,"Pensemos SA","CON-SVE-10","Software Pensemos SA","Pensemos SA","COP","N/A","Capacitación para usuario técnico o administrador - hasta 5 Personas.  ","Por sesión de capacitación de 16 horas para un grupo de hasta 5 personas.","Und","Servicio","Zona 1","Sitio","Capacitador","CON-SVE-10","Mensual por servicios efectivamente prestados",4800000,1,1,"COP"]
["Pensemos SASoftware Pensemos SACON-SVE-11","CON-SVE-11Software Pensemos SA",null,"Pensemos SA","CON-SVE-11","Software Pensemos SA","Pensemos SA","COP","N/A","Capacitación para usuario técnico o administrador - hasta 5 Personas.  ","Por sesión de capacitación de 16 horas para un grupo de hasta 5 personas.","Und","Servicio","Zona 2","Sitio","Capacitador","CON-SVE-11","Mensual por servicios efectivamente prestados",5400000,1,1,"COP"]
["Pensemos SASoftware Pensemos SACON-SVE-12","CON-SVE-12Software Pensemos SA",null,"Pensemos SA","CON-SVE-12","Software Pensemos SA","Pensemos SA","COP","N/A","Capacitación para usuario técnico o administrador - hasta 5 Personas.  ","Por sesión de capacitación de 16 horas para un grupo de hasta 5 personas.","Und","Servicio","Zona 3","Sitio","Capacitador","CON-SVE-12","Mensual por servicios efectivamente prestados",5900000,1,1,"COP"]
["Pensemos SASoftware Pensemos SACON-SVE-13","CON-SVE-13Software Pensemos SA",null,"Pensemos SA","CON-SVE-13","Software Pensemos SA","Pensemos SA","COP","N/A","Configuración y parametrización de los Productos ","Por sesión de trabajo de 4 horas","Und","Servicio","Zona 1","Remoto","Profesional","CON-SVE-13","Mensual por servicios efectivamente prestados",760000,1,1,"COP"]
["Pensemos SASoftware Pensemos SACON-SVE-14","CON-SVE-14Software Pensemos SA",null,"Pensemos SA","CON-SVE-14","Software Pensemos SA","Pensemos SA","COP","N/A","Configuración y parametrización de los Productos ","Por sesión de trabajo de hasta 4 días","Und","Servicio","Zona 1","Sitio","Profesional","CON-SVE-14","Mensual por servicios efectivamente prestados",8600000,1,1,"COP"]
["Pensemos SASoftware Pensemos SACON-SVE-15","CON-SVE-15Software Pensemos SA",null,"Pensemos SA","CON-SVE-15","Software Pensemos SA","Pensemos SA","COP","N/A","Configuración y parametrización de los Productos ","Por sesión de trabajo de hasta 4 días","Und","Servicio","Zona 2","Sitio","Profesional","CON-SVE-15","Mensual por servicios efectivamente prestados",9200000,1,1,"COP"]
["Pensemos SASoftware Pensemos SACON-SVE-16","CON-SVE-16Software Pensemos SA",null,"Pensemos SA","CON-SVE-16","Software Pensemos SA","Pensemos SA","COP","N/A","Configuración y parametrización de los Productos ","Por sesión de trabajo de hasta 4 días","Und","Servicio","Zona 3","Sitio","Profesional","CON-SVE-16","Mensual por servicios efectivamente prestados",9800000,1,1,"COP"]
["Pensemos SASoftware Pensemos SACON-SVE-17","CON-SVE-17Software Pensemos SA",null,"Pensemos SA","CON-SVE-17","Software Pensemos SA","Pensemos SA","COP","N/A","Configuración técnica o reportes específicos para la entidad ","Hora","Und","Servicio","Zonas (1,2,3)","Remoto","Profesional","CON-SVE-17","Mensual por servicios efectivamente prestados",120000,1,1,"COP"]
["Pensemos SASoftware Pensemos SASOP-SVE-01","SOP-SVE-01Software Pensemos SA",null,"Pensemos SA","SOP-SVE-01","Software Pensemos SA","Pensemos SA","COP","N/A","Gerente de cuenta (soporte) ","Mes","Und","Servicio","Zonas (1,2,3)","Remoto","Profesional","SOP-SVE-01","Mensual por servicios efectivamente prestados",960000,1,1,"COP"]
["Pensemos SASoftware Pensemos SASOP-SVE-02","SOP-SVE-02Software Pensemos SA",null,"Pensemos SA","SOP-SVE-02","Software Pensemos SA","Pensemos SA","COP","N/A","Instalación del Servidor con la Suite Visión Empresarial","Unidad","Und","Servicio","Zonas (1,2,3)","Remoto","Profesional","SOP-SVE-02","Mensual por servicios efectivamente prestados",2300000,1,1,"COP"]
["Pensemos SASoftware Pensemos SASOP-SVE-03","SOP-SVE-03Software Pensemos SA",null,"Pensemos SA","SOP-SVE-03","Software Pensemos SA","Pensemos SA","COP","N/A","Instalación del Servidor con la Suite Visión Empresarial","Unidad","Und","Servicio","Zona 1","Sitio","Profesional","SOP-SVE-03","Mensual por servicios efectivamente prestados",4800000,1,1,"COP"]
["Pensemos SASoftware Pensemos SASOP-SVE-04","SOP-SVE-04Software Pensemos SA",null,"Pensemos SA","SOP-SVE-04","Software Pensemos SA","Pensemos SA","COP","N/A","Instalación del Servidor con la Suite Visión Empresarial","Unidad","Und","Servicio","Zona 2","Sitio","Profesional","SOP-SVE-04","Mensual por servicios efectivamente prestados",5400000,1,1,"COP"]
["Pensemos SASoftware Pensemos SASOP-SVE-05","SOP-SVE-05Software Pensemos SA",null,"Pensemos SA","SOP-SVE-05","Software Pensemos SA","Pensemos SA","COP","N/A","Instalación del Servidor con la Suite Visión Empresarial","Unidad","Und","Servicio","Zona 3","Sitio","Profesional","SOP-SVE-05","Mensual por servicios efectivamente prestados",5900000,1,1,"COP"]
["Pensemos SASoftware Pensemos SASOP-SVE-06","SOP-SVE-06Software Pensemos SA",null,"Pensemos SA","SOP-SVE-06","Software Pensemos SA","Pensemos SA","COP","N/A","Soporte técnico remoto","Por sesión de trabajo de hasta 4 horas","Und","Servicio","Zonas (1,2,3)","Remoto","Profesional","SOP-SVE-06","Mensual por servicios efectivamente prestados",780000,1,1,"COP"]
["Pensemos SASoftware Pensemos SASOP-SVE-07","SOP-SVE-07Software Pensemos SA",null,"Pensemos SA","SOP-SVE-07","Software Pensemos SA","Pensemos SA","COP","N/A","Soporte técnico en sitio ","Por sesión de trabajo de hasta 2 días","Und","Servicio","Zona 1","Sitio","Profesional","SOP-SVE-07","Mensual por servicios efectivamente prestados",6000000,1,1,"COP"]
["Pensemos SASoftware Pensemos SASOP-SVE-08","SOP-SVE-08Software Pensemos SA",null,"Pensemos SA","SOP-SVE-08","Software Pensemos SA","Pensemos SA","COP","N/A","Soporte técnico en sitio ","Por sesión de trabajo de hasta 2 días","Und","Servicio","Zona 2","Sitio","Profesional","SOP-SVE-08","Mensual por servicios efectivamente prestados",6600000,1,1,"COP"]
["Pensemos SASoftware Pensemos SASOP-SVE-09","SOP-SVE-09Software Pensemos SA",null,"Pensemos SA","SOP-SVE-09","Software Pensemos SA","Pensemos SA","COP","N/A","Soporte técnico en sitio ","Por sesión de trabajo de hasta 2 días","Und","Servicio","Zona 3","Sitio","Profesional","SOP-SVE-09","Mensual por servicios efectivamente prestados",7200000,1,1,"COP"]
["Pensemos SASoftware Pensemos SALIC-SVE-01","LIC-SVE-01Software Pensemos SA",null,"Pensemos SA","LIC-SVE-01","Software Pensemos SA","Pensemos SA","COP","N/A","Licenciamiento perpetuo SVE Gestión de la Estrategia","Licencia primeros 10 usuarios nombrados","Und","Producto","Zonas (1,2,3)","Remoto","N/A","LIC-SVE-01","Unico pago",39000000,1,1,"COP"]
["Pensemos SASoftware Pensemos SALIC-SVE-02","LIC-SVE-02Software Pensemos SA",null,"Pensemos SA","LIC-SVE-02","Software Pensemos SA","Pensemos SA","COP","N/A","Licenciamiento perpetuo SVE Gestión de la Estrategia - usuario adicional","Licencia usuario nombrado adicional","Und","Producto","Zonas (1,2,3)","Remoto","N/A","LIC-SVE-02","Unico pago",1100000,1,1,"COP"]
["Pensemos SASoftware Pensemos SALIC-SVE-03","LIC-SVE-03Software Pensemos SA",null,"Pensemos SA","LIC-SVE-03","Software Pensemos SA","Pensemos SA","COP","N/A","Licenciamiento perpetuo SVE Gestión de Calidad","Licencia primeros 10 usuarios nombrados","Und","Producto","Zonas (1,2,3)","Remoto","N/A","LIC-SVE-03","Unico pago",18000000,1,1,"COP"]
["Pensemos SASoftware Pensemos SALIC-SVE-04","LIC-SVE-04Software Pensemos SA",null,"Pensemos SA","LIC-SVE-04","Software Pensemos SA","Pensemos SA","COP","N/A","Licenciamiento perpetuo SVE Gestión de Calidad - usuario adicional","Licencia usuario nombrado adicional","Und","Producto","Zonas (1,2,3)","Remoto","N/A","LIC-SVE-04","Unico pago",600000,1,1,"COP"]
["Pensemos SASoftware Pensemos SALIC-SVE-05","LIC-SVE-05Software Pensemos SA",null,"Pensemos SA","LIC-SVE-05","Software Pensemos SA","Pensemos SA","COP","N/A","Licenciamiento perpetuo SVE MIPG","Licencia primeros 10 usuarios nombrados","Und","Producto","Zonas (1,2,3)","Remoto","N/A","LIC-SVE-05","Unico pago",31500000,1,1,"COP"]
["Pensemos SASoftware Pensemos SALIC-SVE-06","LIC-SVE-06Software Pensemos SA",null,"Pensemos SA","LIC-SVE-06","Software Pensemos SA","Pensemos SA","COP","N/A","Licenciamiento perpetuo SVE MIPG - usuario adicional","Licencia usuario nombrado adicional","Und","Producto","Zonas (1,2,3)","Remoto","N/A","LIC-SVE-06","Unico pago",1150000,1,1,"COP"]
["Pensemos SASoftware Pensemos SALIC-SVE-07","LIC-SVE-07Software Pensemos SA",null,"Pensemos SA","LIC-SVE-07","Software Pensemos SA","Pensemos SA","COP","N/A","Licenciamiento perpetuo SVE Gestión de Proyectos","Licencia primeros 10 usuarios nombrados","Und","Producto","Zonas (1,2,3)","Remoto","N/A","LIC-SVE-07","Unico pago",29000000,1,1,"COP"]
["Pensemos SASoftware Pensemos SALIC-SVE-08","LIC-SVE-08Software Pensemos SA",null,"Pensemos SA","LIC-SVE-08","Software Pensemos SA","Pensemos SA","COP","N/A","Licenciamiento perpetuo SVE Gestión de Proyectos - usuario adicional","Licencia usuario nombrado adicional","Und","Producto","Zonas (1,2,3)","Remoto","N/A","LIC-SVE-08","Unico pago",900000,1,1,"COP"]
["Pensemos SASoftware Pensemos SALIC-SVE-09","LIC-SVE-09Software Pensemos SA",null,"Pensemos SA","LIC-SVE-09","Software Pensemos SA","Pensemos SA","COP","N/A","Licenciamiento perpetuo SVE Gestión de Riesgos","Licencia primeros 10 usuarios nombrados","Und","Producto","Zonas (1,2,3)","Remoto","N/A","LIC-SVE-09","Unico pago",17500000,1,1,"COP"]
["Pensemos SASoftware Pensemos SALIC-SVE-10","LIC-SVE-10Software Pensemos SA",null,"Pensemos SA","LIC-SVE-10","Software Pensemos SA","Pensemos SA","COP","N/A","Licenciamiento perpetuo SVE Gestión de Riesgos - usuario adicional","Licencia usuario nombrado adicional","Und","Producto","Zonas (1,2,3)","Remoto","N/A","LIC-SVE-10","Unico pago",750000,1,1,"COP"]
["Pensemos SASoftware Pensemos SALIC-SVE-11","LIC-SVE-11Software Pensemos SA",null,"Pensemos SA","LIC-SVE-11","Software Pensemos SA","Pensemos SA","COP","N/A","Licenciamiento perpetuo SVE Analítico","Licencia primeros 20 usuarios nombrados","Und","Producto","Zonas (1,2,3)","Remoto","N/A","LIC-SVE-11","Unico pago",42000000,1,1,"COP"]
["Pensemos SASoftware Pensemos SALIC-SVE-12","LIC-SVE-12Software Pensemos SA",null,"Pensemos SA","LIC-SVE-12","Software Pensemos SA","Pensemos SA","COP","N/A","Licenciamiento perpetuo SVE Analítico - usuario adicional","Licencia usuario nombrado adicional","Und","Producto","Zonas (1,2,3)","Remoto","N/A","LIC-SVE-12","Unico pago",800000,1,1,"COP"]
["Pensemos SASoftware Pensemos SALIC-SVE-13","LIC-SVE-13Software Pensemos SA",null,"Pensemos SA","LIC-SVE-13","Software Pensemos SA","Pensemos SA","COP","N/A","Licenciamiento perpetuo SVE GRC","Licencia primeros 10 usuarios nombrados","Und","Producto","Zonas (1,2,3)","Remoto","N/A","LIC-SVE-13","Unico pago",47000000,1,1,"COP"]
["Pensemos SASoftware Pensemos SALIC-SVE-14","LIC-SVE-14Software Pensemos SA",null,"Pensemos SA","LIC-SVE-14","Software Pensemos SA","Pensemos SA","COP","N/A","Licenciamiento perpetuo SVE GRC - usuario adicional","Licencia usuario nombrado adicional","Und","Producto","Zonas (1,2,3)","Remoto","N/A","LIC-SVE-14","Unico pago",1700000,1,1,"COP"]
["Pensemos SASoftware Pensemos SALIC-SVE-15","LIC-SVE-15Software Pensemos SA",null,"Pensemos SA","LIC-SVE-15","Software Pensemos SA","Pensemos SA","COP","N/A","Licenciamiento perpetuo SVE módulo Indicadores - usuario adicional","Licencia usuario nombrado adicional","Und","Producto","Zonas (1,2,3)","Remoto","N/A","LIC-SVE-15","Unico pago",300000,1,1,"COP"]
["Pensemos SASoftware Pensemos SALIC-SVE-16","LIC-SVE-16Software Pensemos SA",null,"Pensemos SA","LIC-SVE-16","Software Pensemos SA","Pensemos SA","COP","N/A","Licenciamiento perpetuo SVE módulo planes - usuario adicional","Licencia usuario nombrado adicional","Und","Producto","Zonas (1,2,3)","Remoto","N/A","LIC-SVE-16","Unico pago",300000,1,1,"COP"]
["Pensemos SASoftware Pensemos SALIC-SVE-17","LIC-SVE-17Software Pensemos SA",null,"Pensemos SA","LIC-SVE-17","Software Pensemos SA","Pensemos SA","COP","N/A","Licenciamiento perpetuo SVE módulo portafolio - usuario adicional","Licencia usuario nombrado adicional","Und","Producto","Zonas (1,2,3)","Remoto","N/A","LIC-SVE-17","Unico pago",300000,1,1,"COP"]
["Pensemos SASoftware Pensemos SALIC-SVE-18","LIC-SVE-18Software Pensemos SA",null,"Pensemos SA","LIC-SVE-18","Software Pensemos SA","Pensemos SA","COP","N/A","Licenciamiento perpetuo SVE módulo alineación - usuario adicional","Licencia usuario nombrado adicional","Und","Producto","Zonas (1,2,3)","Remoto","N/A","LIC-SVE-18","Unico pago",400000,1,1,"COP"]
["Pensemos SASoftware Pensemos SALIC-SVE-19","LIC-SVE-19Software Pensemos SA",null,"Pensemos SA","LIC-SVE-19","Software Pensemos SA","Pensemos SA","COP","N/A","Licenciamiento perpetuo SVE módulo BSC - usuario adicional","Licencia usuario nombrado adicional","Und","Producto","Zonas (1,2,3)","Remoto","N/A","LIC-SVE-19","Unico pago",400000,1,1,"COP"]
["Pensemos SASoftware Pensemos SALIC-SVE-20","LIC-SVE-20Software Pensemos SA",null,"Pensemos SA","LIC-SVE-20","Software Pensemos SA","Pensemos SA","COP","N/A","Licenciamiento perpetuo SVE módulo reuniones - usuario adicional","Licencia usuario nombrado adicional","Und","Producto","Zonas (1,2,3)","Remoto","N/A","LIC-SVE-20","Unico pago",200000,1,1,"COP"]
["Pensemos SASoftware Pensemos SALIC-SVE-21","LIC-SVE-21Software Pensemos SA",null,"Pensemos SA","LIC-SVE-21","Software Pensemos SA","Pensemos SA","COP","N/A","Licenciamiento perpetuo SVE módulo eventos y decisiones - usuario adicional","Licencia usuario nombrado adicional","Und","Producto","Zonas (1,2,3)","Remoto","N/A","LIC-SVE-21","Unico pago",100000,1,1,"COP"]
["Pensemos SASoftware Pensemos SALIC-SVE-22","LIC-SVE-22Software Pensemos SA",null,"Pensemos SA","LIC-SVE-22","Software Pensemos SA","Pensemos SA","COP","N/A","Licenciamiento perpetuo SVE módulo compromisos - usuario adicional","Licencia usuario nombrado adicional","Und","Producto","Zonas (1,2,3)","Remoto","N/A","LIC-SVE-22","Unico pago",100000,1,1,"COP"]
[{"$f":"D50&F50&E50","v":"Pensemos SASoftware Pensemos SALIC-SVE-23"},{"$f":"E50&F50","v":"LIC-SVE-23Software Pensemos SA"},null,"Pensemos SA","LIC-SVE-23","Software Pensemos SA",{"$f":"D50","v":"Pensemos SA"},"COP","N/A","Licenciamiento perpetuo SVE módulo documentos - usuario adicional","Licencia usuario nombrado adicional","Und","Producto","Zonas (1,2,3)","Remoto","N/A",{"$f":"+E50","v":"LIC-SVE-23"},"Unico pago",200000,1,1,"COP"]
["Pensemos SASoftware Pensemos SALIC-SVE-24","LIC-SVE-24Software Pensemos SA",null,"Pensemos SA","LIC-SVE-24","Software Pensemos SA","Pensemos SA","COP","N/A","Licenciamiento perpetuo SVE módulo mejoras - usuario adicional","Licencia usuario nombrado adicional","Und","Producto","Zonas (1,2,3)","Remoto","N/A","LIC-SVE-24","Unico pago",300000,1,1,"COP"]
["Pensemos SASoftware Pensemos SALIC-SVE-25","LIC-SVE-25Software Pensemos SA",null,"Pensemos SA","LIC-SVE-25","Software Pensemos SA","Pensemos SA","COP","N/A","Licenciamiento perpetuo SVE módulo verificaciones - usuario adicional","Licencia usuario nombrado adicional","Und","Producto","Zonas (1,2,3)","Remoto","N/A","LIC-SVE-25","Unico pago",200000,1,1,"COP"]
["Pensemos SASoftware Pensemos SALIC-SVE-26","LIC-SVE-26Software Pensemos SA",null,"Pensemos SA","LIC-SVE-26","Software Pensemos SA","Pensemos SA","COP","N/A","Licenciamiento perpetuo SVE módulo riesgos - usuario adicional","Licencia usuario nombrado adicional","Und","Producto","Zonas (1,2,3)","Remoto","N/A","LIC-SVE-26","Unico pago",300000,1,1,"COP"]
["Pensemos SASoftware Pensemos SALIC-SVE-27","LIC-SVE-27Software Pensemos SA",null,"Pensemos SA","LIC-SVE-27","Software Pensemos SA","Pensemos SA","COP","N/A","Licenciamiento perpetuo SVE módulo SST - hasta 100 trabajadores","Licencia Servidor","Und","Producto","Zonas (1,2,3)","Remoto","N/A","LIC-SVE-27","Unico pago",10000000,1,1,"COP"]
["Pensemos SASoftware Pensemos SALIC-SVE-28","LIC-SVE-28Software Pensemos SA",null,"Pensemos SA","LIC-SVE-28","Software Pensemos SA","Pensemos SA","COP","N/A","Licenciamiento perpetuo SVE módulo SST - trabajador adicional","Licencia trabajador adicional","Und","Producto","Zonas (1,2,3)","Remoto","N/A","LIC-SVE-28","Unico pago",80000,1,1,"COP"]
["Pensemos SASoftware Pensemos SALIC-SVE-29","LIC-SVE-29Software Pensemos SA",null,"Pensemos SA","LIC-SVE-29","Software Pensemos SA","Pensemos SA","COP","N/A","Licenciamiento perpetuo SVE módulo Seguridad de la Información - hasta 100 trabajadores","Licencia Servidor","Und","Producto","Zonas (1,2,3)","Remoto","N/A","LIC-SVE-29","Unico pago",8000000,1,1,"COP"]
["Pensemos SASoftware Pensemos SALIC-SVE-30","LIC-SVE-30Software Pensemos SA",null,"Pensemos SA","LIC-SVE-30","Software Pensemos SA","Pensemos SA","COP","N/A","Licenciamiento perpetuo SVE módulo Seguridad de la Información - trabajador adicional","Licencia trabajador adicional","Und","Producto","Zonas (1,2,3)","Remoto","N/A","LIC-SVE-30","Unico pago",64000,1,1,"COP"]
["Pensemos SASoftware Pensemos SALIC-SVE-31","LIC-SVE-31Software Pensemos SA",null,"Pensemos SA","LIC-SVE-31","Software Pensemos SA","Pensemos SA","COP","N/A","Licenciamiento perpetuo SVE módulo Ambiental - hasta 100 trabajadores","Licencia Servidor","Und","Producto","Zonas (1,2,3)","Remoto","N/A","LIC-SVE-31","Unico pago",6000000,1,1,"COP"]
["Pensemos SASoftware Pensemos SALIC-SVE-32","LIC-SVE-32Software Pensemos SA",null,"Pensemos SA","LIC-SVE-32","Software Pensemos SA","Pensemos SA","COP","N/A","Licenciamiento perpetuo SVE módulo Ambiental - trabajador adicional","Licencia trabajador adicional","Und","Producto","Zonas (1,2,3)","Remoto","N/A","LIC-SVE-32","Unico pago",48000,1,1,"COP"]
["Pensemos SASoftware Pensemos SASUS-SVE-01","SUS-SVE-01Software Pensemos SA",null,"Pensemos SA","SUS-SVE-01","Software Pensemos SA","Pensemos SA","COP","N/A","Suscripción anual SaaS SVE Gestión de la Estrategia","Licencia primeros 10 usuarios nombrados","Und","Producto","Zonas (1,2,3)","Remoto","N/A","SUS-SVE-01","Unico pago",16000000,1,0,"COP"]
["Pensemos SASoftware Pensemos SASUS-SVE-02","SUS-SVE-02Software Pensemos SA",null,"Pensemos SA","SUS-SVE-02","Software Pensemos SA","Pensemos SA","COP","N/A","Suscripción anual SaaS SVE Gestión de la Estrategia - usuario adicional","Licencia usuario nombrado adicional","Und","Producto","Zonas (1,2,3)","Remoto","N/A","SUS-SVE-02","Unico pago",600000,1,0,"COP"]
["Pensemos SASoftware Pensemos SASUS-SVE-03","SUS-SVE-03Software Pensemos SA",null,"Pensemos SA","SUS-SVE-03","Software Pensemos SA","Pensemos SA","COP","N/A","Suscripción anual SaaS SVE Gestión de Calidad","Licencia primeros 10 usuarios nombrados","Und","Producto","Zonas (1,2,3)","Remoto","N/A","SUS-SVE-03","Unico pago",8300000,1,0,"COP"]
["Pensemos SASoftware Pensemos SASUS-SVE-04","SUS-SVE-04Software Pensemos SA",null,"Pensemos SA","SUS-SVE-04","Software Pensemos SA","Pensemos SA","COP","N/A","Suscripción anual SaaS SVE Gestión de Calidad - usuario adicional","Licencia usuario nombrado adicional","Und","Producto","Zonas (1,2,3)","Remoto","N/A","SUS-SVE-04","Unico pago",330000,1,0,"COP"]
["Pensemos SASoftware Pensemos SASUS-SVE-05","SUS-SVE-05Software Pensemos SA",null,"Pensemos SA","SUS-SVE-05","Software Pensemos SA","Pensemos SA","COP","N/A","Suscripción anual SaaS SVE MIPG","Licencia primeros 10 usuarios nombrados","Und","Producto","Zonas (1,2,3)","Remoto","N/A","SUS-SVE-05","Unico pago",16900000,1,0,"COP"]
["Pensemos SASoftware Pensemos SASUS-SVE-06","SUS-SVE-06Software Pensemos SA",null,"Pensemos SA","SUS-SVE-06","Software Pensemos SA","Pensemos SA","COP","N/A","Suscripción anual SaaS SVE MIPG - usuario adicional","Licencia usuario nombrado adicional","Und","Producto","Zonas (1,2,3)","Remoto","N/A","SUS-SVE-06","Unico pago",590000,1,0,"COP"]
["Pensemos SASoftware Pensemos SASUS-SVE-07","SUS-SVE-07Software Pensemos SA",null,"Pensemos SA","SUS-SVE-07","Software Pensemos SA","Pensemos SA","COP","N/A","Suscripción anual SaaS SVE Gestión de Proyectos","Licencia primeros 10 usuarios nombrados","Und","Producto","Zonas (1,2,3)","Remoto","N/A","SUS-SVE-07","Unico pago",13500000,1,0,"COP"]
["Pensemos SASoftware Pensemos SASUS-SVE-08","SUS-SVE-08Software Pensemos SA",null,"Pensemos SA","SUS-SVE-08","Software Pensemos SA","Pensemos SA","COP","N/A","Suscripción anual SaaS SVE Gestión de Proyectos - usuario adicional","Licencia usuario nombrado adicional","Und","Producto","Zonas (1,2,3)","Remoto","N/A","SUS-SVE-08","Unico pago",550000,1,0,"COP"]
["Pensemos SASoftware Pensemos SASUS-SVE-09","SUS-SVE-09Software Pensemos SA",null,"Pensemos SA","SUS-SVE-09","Software Pensemos SA","Pensemos SA","COP","N/A","Suscripción anual SaaS SVE Gestión de Riesgos","Licencia primeros 10 usuarios nombrados","Und","Producto","Zonas (1,2,3)","Remoto","N/A","SUS-SVE-09","Unico pago",8300000,1,0,"COP"]
["Pensemos SASoftware Pensemos SASUS-SVE-10","SUS-SVE-10Software Pensemos SA",null,"Pensemos SA","SUS-SVE-10","Software Pensemos SA","Pensemos SA","COP","N/A","Suscripción anual SaaS SVE Gestión de Riesgos - usuario adicional","Licencia usuario nombrado adicional","Und","Producto","Zonas (1,2,3)","Remoto","N/A","SUS-SVE-10","Unico pago",430000,1,0,"COP"]
["Pensemos SASoftware Pensemos SASUS-SVE-11","SUS-SVE-11Software Pensemos SA",null,"Pensemos SA","SUS-SVE-11","Software Pensemos SA","Pensemos SA","COP","N/A","Suscripción anual SaaS SVE Analítico","Licencia primeros 20 usuarios nombrados","Und","Producto","Zonas (1,2,3)","Remoto","N/A","SUS-SVE-11","Unico pago",19000000,1,0,"COP"]
["Pensemos SASoftware Pensemos SASUS-SVE-12","SUS-SVE-12Software Pensemos SA",null,"Pensemos SA","SUS-SVE-12","Software Pensemos SA","Pensemos SA","COP","N/A","Suscripción anual SaaS SVE Analítico - usuario adicional","Licencia usuario nombrado adicional","Und","Producto","Zonas (1,2,3)","Remoto","N/A","SUS-SVE-12","Unico pago",450000,1,0,"COP"]
["Pensemos SASoftware Pensemos SASUS-SVE-13","SUS-SVE-13Software Pensemos SA",null,"Pensemos SA","SUS-SVE-13","Software Pensemos SA","Pensemos SA","COP","N/A","Suscripción anual SaaS SVE GRC","Licencia primeros 10 usuarios nombrados","Und","Producto","Zonas (1,2,3)","Remoto","N/A","SUS-SVE-13","Unico pago",30000000,1,0,"COP"]
["Pensemos SASoftware Pensemos SASUS-SVE-14","SUS-SVE-14Software Pensemos SA",null,"Pensemos SA","SUS-SVE-14","Software Pensemos SA","Pensemos SA","COP","N/A","Suscripción anual SaaS SVE GRC - usuario adicional","Licencia usuario nombrado adicional","Und","Producto","Zonas (1,2,3)","Remoto","N/A","SUS-SVE-14","Unico pago",900000,1,0,"COP"]
["Pensemos SASoftware Pensemos SASUS-SVE-15","SUS-SVE-15Software Pensemos SA",null,"Pensemos SA","SUS-SVE-15","Software Pensemos SA","Pensemos SA","COP","N/A","Suscripción anual SaaS SVE módulo Indicadores - usuario adicional","Licencia usuario nombrado adicional","Und","Producto","Zonas (1,2,3)","Remoto","N/A","SUS-SVE-15","Unico pago",140000,1,0,"COP"]
["Pensemos SASoftware Pensemos SASUS-SVE-16","SUS-SVE-16Software Pensemos SA",null,"Pensemos SA","SUS-SVE-16","Software Pensemos SA","Pensemos SA","COP","N/A","Suscripción anual SaaS SVE módulo planes - usuario adicional","Licencia usuario nombrado adicional","Und","Producto","Zonas (1,2,3)","Remoto","N/A","SUS-SVE-16","Unico pago",140000,1,0,"COP"]
["Pensemos SASoftware Pensemos SASUS-SVE-17","SUS-SVE-17Software Pensemos SA",null,"Pensemos SA","SUS-SVE-17","Software Pensemos SA","Pensemos SA","COP","N/A","Suscripción anual SaaS SVE módulo portafolio - usuario adicional","Licencia usuario nombrado adicional","Und","Producto","Zonas (1,2,3)","Remoto","N/A","SUS-SVE-17","Unico pago",140000,1,0,"COP"]
["Pensemos SASoftware Pensemos SASUS-SVE-18","SUS-SVE-18Software Pensemos SA",null,"Pensemos SA","SUS-SVE-18","Software Pensemos SA","Pensemos SA","COP","N/A","Suscripción anual SaaS SVE módulo alineación - usuario adicional","Licencia usuario nombrado adicional","Und","Producto","Zonas (1,2,3)","Remoto","N/A","SUS-SVE-18","Unico pago",180000,1,0,"COP"]
["Pensemos SASoftware Pensemos SASUS-SVE-19","SUS-SVE-19Software Pensemos SA",null,"Pensemos SA","SUS-SVE-19","Software Pensemos SA","Pensemos SA","COP","N/A","Suscripción anual SaaS SVE módulo BSC - usuario adicional","Licencia usuario nombrado adicional","Und","Producto","Zonas (1,2,3)","Remoto","N/A","SUS-SVE-19","Unico pago",180000,1,0,"COP"]
["Pensemos SASoftware Pensemos SASUS-SVE-20","SUS-SVE-20Software Pensemos SA",null,"Pensemos SA","SUS-SVE-20","Software Pensemos SA","Pensemos SA","COP","N/A","Suscripción anual SaaS SVE módulo reuniones - usuario adicional","Licencia usuario nombrado adicional","Und","Producto","Zonas (1,2,3)","Remoto","N/A","SUS-SVE-20","Unico pago",100000,1,0,"COP"]
["Pensemos SASoftware Pensemos SASUS-SVE-21","SUS-SVE-21Software Pensemos SA",null,"Pensemos SA","SUS-SVE-21","Software Pensemos SA","Pensemos SA","COP","N/A","Suscripción anual SaaS SVE módulo eventos y decisiones - usuario adicional","Licencia usuario nombrado adicional","Und","Producto","Zonas (1,2,3)","Remoto","N/A","SUS-SVE-21","Unico pago",60000,1,0,"COP"]
["Pensemos SASoftware Pensemos SASUS-SVE-22","SUS-SVE-22Software Pensemos SA",null,"Pensemos SA","SUS-SVE-22","Software Pensemos SA","Pensemos SA","COP","N/A","Suscripción anual SaaS SVE módulo compromisos - usuario adicional","Licencia usuario nombrado adicional","Und","Producto","Zonas (1,2,3)","Remoto","N/A","SUS-SVE-22","Unico pago",60000,1,0,"COP"]
["Pensemos SASoftware Pensemos SASUS-SVE-23","SUS-SVE-23Software Pensemos SA",null,"Pensemos SA","SUS-SVE-23","Software Pensemos SA","Pensemos SA","COP","N/A","Suscripción anual SaaS SVE módulo documentos - usuario adicional","Licencia usuario nombrado adicional","Und","Producto","Zonas (1,2,3)","Remoto","N/A","SUS-SVE-23","Unico pago",100000,1,0,"COP"]
["Pensemos SASoftware Pensemos SASUS-SVE-24","SUS-SVE-24Software Pensemos SA",null,"Pensemos SA","SUS-SVE-24","Software Pensemos SA","Pensemos SA","COP","N/A","Suscripción anual SaaS SVE módulo mejoras - usuario adicional","Licencia usuario nombrado adicional","Und","Producto","Zonas (1,2,3)","Remoto","N/A","SUS-SVE-24","Unico pago",140000,1,0,"COP"]
["Pensemos SASoftware Pensemos SASUS-SVE-25","SUS-SVE-25Software Pensemos SA",null,"Pensemos SA","SUS-SVE-25","Software Pensemos SA","Pensemos SA","COP","N/A","Suscripción anual SaaS SVE módulo verificaciones - usuario adicional","Licencia usuario nombrado adicional","Und","Producto","Zonas (1,2,3)","Remoto","N/A","SUS-SVE-25","Unico pago",100000,1,0,"COP"]
["Pensemos SASoftware Pensemos SASUS-SVE-26","SUS-SVE-26Software Pensemos SA",null,"Pensemos SA","SUS-SVE-26","Software Pensemos SA","Pensemos SA","COP","N/A","Suscripción anual SaaS SVE módulo riesgos - usuario adicional","Licencia usuario nombrado adicional","Und","Producto","Zonas (1,2,3)","Remoto","N/A","SUS-SVE-26","Unico pago",140000,1,0,"COP"]
["Pensemos SASoftware Pensemos SASUS-SVE-27","SUS-SVE-27Software Pensemos SA",null,"Pensemos SA","SUS-SVE-27","Software Pensemos SA","Pensemos SA","COP","N/A","Suscripción anual SaaS SVE módulo SST - hasta 100 trabajadores","Licencia Servidor","Und","Producto","Zonas (1,2,3)","Remoto","N/A","SUS-SVE-27","Unico pago",4500000,1,1,"COP"]
["Pensemos SASoftware Pensemos SASUS-SVE-28","SUS-SVE-28Software Pensemos SA",null,"Pensemos SA","SUS-SVE-28","Software Pensemos SA","Pensemos SA","COP","N/A","Suscripción anual SaaS SVE módulo SST - trabajador adicional","Licencia trabajador adicional","Und","Producto","Zonas (1,2,3)","Remoto","N/A","SUS-SVE-28","Unico pago",40000,1,1,"COP"]
["Pensemos SASoftware Pensemos SASUS-SVE-29","SUS-SVE-29Software Pensemos SA",null,"Pensemos SA","SUS-SVE-29","Software Pensemos SA","Pensemos SA","COP","N/A","Suscripción anual SaaS SVE módulo Seguridad de la Información - hasta 100 trabajadores","Licencia Servidor","Und","Producto","Zonas (1,2,3)","Remoto","N/A","SUS-SVE-29","Unico pago",3700000,1,1,"COP"]
["Pensemos SASoftware Pensemos SASUS-SVE-30","SUS-SVE-30Software Pensemos SA",null,"Pensemos SA","SUS-SVE-30","Software Pensemos SA","Pensemos SA","COP","N/A","Suscripción anual SaaS SVE módulo Seguridad de la Información - trabajador adicional","Licencia trabajador adicional","Und","Producto","Zonas (1,2,3)","Remoto","N/A","SUS-SVE-30","Unico pago",34000,1,1,"COP"]
["Pensemos SASoftware Pensemos SASUS-SVE-31","SUS-SVE-31Software Pensemos SA",null,"Pensemos SA","SUS-SVE-31","Software Pensemos SA","Pensemos SA","COP","N/A","Suscripción anual SaaS SVE módulo Ambiental - hasta 100 trabajadores","Licencia Servidor","Und","Producto","Zonas (1,2,3)","Remoto","N/A","SUS-SVE-31","Unico pago",2900000,1,1,"COP"]
["Pensemos SASoftware Pensemos SASUS-SVE-32","SUS-SVE-32Software Pensemos SA",null,"Pensemos SA","SUS-SVE-32","Software Pensemos SA","Pensemos SA","COP","N/A","Suscripción anual SaaS SVE módulo Ambiental - trabajador adicional","Licencia trabajador adicional","Und","Producto","Zonas (1,2,3)","Remoto","N/A","SUS-SVE-32","Unico pago",26000,1,1,"COP"]
["Pensemos SASoftware Pensemos SAAYM-SVE-01","AYM-SVE-01Software Pensemos SA",null,"Pensemos SA","AYM-SVE-01","Software Pensemos SA","Pensemos SA","COP","N/A","Actualización y mantenimiento anual de SVE Gestión de la Estrategia (por 10 usuarios)","Año","Und","Servicio","Zonas (1,2,3)","Remoto","N/A","AYM-SVE-01","Unico pago",7800000,1,1,"COP"]
["Pensemos SASoftware Pensemos SAAYM-SVE-02","AYM-SVE-02Software Pensemos SA",null,"Pensemos SA","AYM-SVE-02","Software Pensemos SA","Pensemos SA","COP","N/A","Actualización y mantenimiento anual de SVE Gestión de la Estrategia (por usuario adicional)","Licencia usuario nombrado adicional","Und","Producto","Zonas (1,2,3)","Remoto","N/A","AYM-SVE-02","Unico pago",220000,1,1,"COP"]
["Pensemos SASoftware Pensemos SAAYM-SVE-03","AYM-SVE-03Software Pensemos SA",null,"Pensemos SA","AYM-SVE-03","Software Pensemos SA","Pensemos SA","COP","N/A","Actualización y mantenimiento anual de SVE Gestión de Calidad (por 10 usuarios)","Licencia primeros 10 usuarios nombrados","Und","Producto","Zonas (1,2,3)","Remoto","N/A","AYM-SVE-03","Unico pago",3600000,1,1,"COP"]
["Pensemos SASoftware Pensemos SAAYM-SVE-04","AYM-SVE-04Software Pensemos SA",null,"Pensemos SA","AYM-SVE-04","Software Pensemos SA","Pensemos SA","COP","N/A","Actualización y mantenimiento anual de SVE Gestión de Calidad (por usuario adicional)","Licencia usuario nombrado adicional","Und","Producto","Zonas (1,2,3)","Remoto","N/A","AYM-SVE-04","Unico pago",120000,1,1,"COP"]
["Pensemos SASoftware Pensemos SAAYM-SVE-05","AYM-SVE-05Software Pensemos SA",null,"Pensemos SA","AYM-SVE-05","Software Pensemos SA","Pensemos SA","COP","N/A","Actualización y mantenimiento anual de SVE MIPG (por 10 usuarios)","Licencia primeros 10 usuarios nombrados","Und","Producto","Zonas (1,2,3)","Remoto","N/A","AYM-SVE-05","Unico pago",6300000,1,1,"COP"]
["Pensemos SASoftware Pensemos SAAYM-SVE-06","AYM-SVE-06Software Pensemos SA",null,"Pensemos SA","AYM-SVE-06","Software Pensemos SA","Pensemos SA","COP","N/A","Actualización y mantenimiento anual de SVE MIPG (por usuario adicional)","Licencia usuario nombrado adicional","Und","Producto","Zonas (1,2,3)","Remoto","N/A","AYM-SVE-06","Unico pago",230000,1,1,"COP"]
["Pensemos SASoftware Pensemos SAAYM-SVE-07","AYM-SVE-07Software Pensemos SA",null,"Pensemos SA","AYM-SVE-07","Software Pensemos SA","Pensemos SA","COP","N/A","Actualización y mantenimiento anual de SVE Gestión de Proyectos (por 10 usuarios)","Licencia primeros 10 usuarios nombrados","Und","Producto","Zonas (1,2,3)","Remoto","N/A","AYM-SVE-07","Unico pago",5800000,1,1,"COP"]
["Pensemos SASoftware Pensemos SAAYM-SVE-08","AYM-SVE-08Software Pensemos SA",null,"Pensemos SA","AYM-SVE-08","Software Pensemos SA","Pensemos SA","COP","N/A","Actualización y mantenimiento anual de SVE Gestión de Proyectos (por usuario adicional)","Licencia usuario nombrado adicional","Und","Producto","Zonas (1,2,3)","Remoto","N/A","AYM-SVE-08","Unico pago",180000,1,1,"COP"]
["Pensemos SASoftware Pensemos SAAYM-SVE-09","AYM-SVE-09Software Pensemos SA",null,"Pensemos SA","AYM-SVE-09","Software Pensemos SA","Pensemos SA","COP","N/A","Actualización y mantenimiento anual de SVE Gestión de Riesgos (por 10 usuarios)","Licencia primeros 10 usuarios nombrados","Und","Producto","Zonas (1,2,3)","Remoto","N/A","AYM-SVE-09","Unico pago",3500000,1,1,"COP"]
["Pensemos SASoftware Pensemos SAAYM-SVE-10","AYM-SVE-10Software Pensemos SA",null,"Pensemos SA","AYM-SVE-10","Software Pensemos SA","Pensemos SA","COP","N/A","Actualización y mantenimiento anual de SVE Gestión de Riesgos (por usuario adicional)","Licencia usuario nombrado adicional","Und","Producto","Zonas (1,2,3)","Remoto","N/A","AYM-SVE-10","Unico pago",150000,1,1,"COP"]
["Pensemos SASoftware Pensemos SAAYM-SVE-11","AYM-SVE-11Software Pensemos SA",null,"Pensemos SA","AYM-SVE-11","Software Pensemos SA","Pensemos SA","COP","N/A","Actualización y mantenimiento anual de SVE Analítico (por 20 usuarios)","Licencia primeros 20 usuarios nombrados","Und","Producto","Zonas (1,2,3)","Remoto","N/A","AYM-SVE-11","Unico pago",8400000,1,1,"COP"]
["Pensemos SASoftware Pensemos SAAYM-SVE-12","AYM-SVE-12Software Pensemos SA",null,"Pensemos SA","AYM-SVE-12","Software Pensemos SA","Pensemos SA","COP","N/A","Actualización y mantenimiento anual de SVE Analítico (por usuario adicional)","Licencia usuario nombrado adicional","Und","Producto","Zonas (1,2,3)","Remoto","N/A","AYM-SVE-12","Unico pago",160000,1,1,"COP"]
["Pensemos SASoftware Pensemos SAAYM-SVE-13","AYM-SVE-13Software Pensemos SA",null,"Pensemos SA","AYM-SVE-13","Software Pensemos SA","Pensemos SA","COP","N/A","Actualización y mantenimiento anual de SVE GRC (por 10 usuarios)","Licencia primeros 10 usuarios nombrados","Und","Producto","Zonas (1,2,3)","Remoto","N/A","AYM-SVE-13","Unico pago",9400000,1,1,"COP"]
["Pensemos SASoftware Pensemos SAAYM-SVE-14","AYM-SVE-14Software Pensemos SA",null,"Pensemos SA","AYM-SVE-14","Software Pensemos SA","Pensemos SA","COP","N/A","Actualización y mantenimiento anual de SVE GRC (por usuario adicional)","Licencia usuario nombrado adicional","Und","Producto","Zonas (1,2,3)","Remoto","N/A","AYM-SVE-14","Unico pago",340000,1,1,"COP"]
["Pensemos SASoftware Pensemos SAAYM-SVE-15","AYM-SVE-15Software Pensemos SA",null,"Pensemos SA","AYM-SVE-15","Software Pensemos SA","Pensemos SA","COP","N/A","Actualización y mantenimiento anual de SVE módulo Indicadores (por usuario adicional)","Licencia usuario nombrado adicional","Und","Producto","Zonas (1,2,3)","Remoto","N/A","AYM-SVE-15","Unico pago",60000,1,1,"COP"]
["Pensemos SASoftware Pensemos SAAYM-SVE-16","AYM-SVE-16Software Pensemos SA",null,"Pensemos SA","AYM-SVE-16","Software Pensemos SA","Pensemos SA","COP","N/A","Actualización y mantenimiento anual de SVE módulo planes (por usuario adicional)","Licencia usuario nombrado adicional","Und","Producto","Zonas (1,2,3)","Remoto","N/A","AYM-SVE-16","Unico pago",60000,1,1,"COP"]
["Pensemos SASoftware Pensemos SAAYM-SVE-17","AYM-SVE-17Software Pensemos SA",null,"Pensemos SA","AYM-SVE-17","Software Pensemos SA","Pensemos SA","COP","N/A","Actualización y mantenimiento anual de SVE módulo portafolio (por usuario adicional)","Licencia usuario nombrado adicional","Und","Producto","Zonas (1,2,3)","Remoto","N/A","AYM-SVE-17","Unico pago",60000,1,1,"COP"]
["Pensemos SASoftware Pensemos SAAYM-SVE-18","AYM-SVE-18Software Pensemos SA",null,"Pensemos SA","AYM-SVE-18","Software Pensemos SA","Pensemos SA","COP","N/A","Actualización y mantenimiento anual de SVE módulo alineación (por usuario adicional)","Licencia usuario nombrado adicional","Und","Producto","Zonas (1,2,3)","Remoto","N/A","AYM-SVE-18","Unico pago",80000,1,1,"COP"]
["Pensemos SASoftware Pensemos SAAYM-SVE-19","AYM-SVE-19Software Pensemos SA",null,"Pensemos SA","AYM-SVE-19","Software Pensemos SA","Pensemos SA","COP","N/A","Actualización y mantenimiento anual de SVE módulo BSC (por usuario adicional)","Licencia usuario nombrado adicional","Und","Producto","Zonas (1,2,3)","Remoto","N/A","AYM-SVE-19","Unico pago",80000,1,1,"COP"]
["Pensemos SASoftware Pensemos SAAYM-SVE-20","AYM-SVE-20Software Pensemos SA",null,"Pensemos SA","AYM-SVE-20","Software Pensemos SA","Pensemos SA","COP","N/A","Actualización y mantenimiento anual de SVE módulo reuniones (por usuario adicional)","Licencia usuario nombrado adicional","Und","Producto","Zonas (1,2,3)","Remoto","N/A","AYM-SVE-20","Unico pago",40000,1,1,"COP"]
["Pensemos SASoftware Pensemos SAAYM-SVE-21","AYM-SVE-21Software Pensemos SA",null,"Pensemos SA","AYM-SVE-21","Software Pensemos SA","Pensemos SA","COP","N/A","Actualización y mantenimiento anual de SVE módulo eventos y decisiones (por usuario adicional)","Licencia usuario nombrado adicional","Und","Producto","Zonas (1,2,3)","Remoto","N/A","AYM-SVE-21","Unico pago",20000,1,1,"COP"]
["Pensemos SASoftware Pensemos SAAYM-SVE-22","AYM-SVE-22Software Pensemos SA",null,"Pensemos SA","AYM-SVE-22","Software Pensemos SA","Pensemos SA","COP","N/A","Actualización y mantenimiento anual de SVE módulo compromisos (por usuario adicional)","Licencia usuario nombrado adicional","Und","Producto","Zonas (1,2,3)","Remoto","N/A","AYM-SVE-22","Unico pago",20000,1,1,"COP"]
[{"$f":"D114&F114&E114","v":"Pensemos SASoftware Pensemos SAAYM-SVE-23"},{"$f":"E114&F114","v":"AYM-SVE-23Software Pensemos SA"},null,"Pensemos SA","AYM-SVE-23","Software Pensemos SA",{"$f":"D114","v":"Pensemos SA"},"COP","N/A","Actualización y mantenimiento anual de SVE módulo documentos (por usuario adicional)","Licencia usuario nombrado adicional","Und","Producto","Zonas (1,2,3)","Remoto","N/A",{"$f":"+E114","v":"AYM-SVE-23"},"Unico pago",40000,1,1,"COP"]
["Pensemos SASoftware Pensemos SAAYM-SVE-24","AYM-SVE-24Software Pensemos SA",null,"Pensemos SA","AYM-SVE-24","Software Pensemos SA","Pensemos SA","COP","N/A","Actualización y mantenimiento anual de SVE módulo mejoras (por usuario adicional)","Licencia usuario nombrado adicional","Und","Producto","Zonas (1,2,3)","Remoto","N/A","AYM-SVE-24","Unico pago",60000,1,1,"COP"]
["Pensemos SASoftware Pensemos SAAYM-SVE-25","AYM-SVE-25Software Pensemos SA",null,"Pensemos SA","AYM-SVE-25","Software Pensemos SA","Pensemos SA","COP","N/A","Actualización y mantenimiento anual de SVE módulo verificaciones (por usuario adicional)","Licencia usuario nombrado adicional","Und","Producto","Zonas (1,2,3)","Remoto","N/A","AYM-SVE-25","Unico pago",40000,1,1,"COP"]
["Pensemos SASoftware Pensemos SAAYM-SVE-26","AYM-SVE-26Software Pensemos SA",null,"Pensemos SA","AYM-SVE-26","Software Pensemos SA","Pensemos SA","COP","N/A","Actualización y mantenimiento anual de SVE módulo riesgos (por usuario adicional)","Licencia usuario nombrado adicional","Und","Producto","Zonas (1,2,3)","Remoto","N/A","AYM-SVE-26","Unico pago",60000,1,1,"COP"]
["Pensemos SASoftware Pensemos SAAYM-SVE-27","AYM-SVE-27Software Pensemos SA",null,"Pensemos SA","AYM-SVE-27","Software Pensemos SA","Pensemos SA","COP","N/A","Actualización y mantenimiento anual de SVE módulo SST ( hasta 100 trabajadores )","Licencia Servidor","Und","Producto","Zonas (1,2,3)","Remoto","N/A","AYM-SVE-27","Unico pago",2000000,1,1,"COP"]
["Pensemos SASoftware Pensemos SAAYM-SVE-28","AYM-SVE-28Software Pensemos SA",null,"Pensemos SA","AYM-SVE-28","Software Pensemos SA","Pensemos SA","COP","N/A","Actualización y mantenimiento anual de SVE módulo SST (por trabajador adicional)","Licencia trabajador adicional","Und","Producto","Zonas (1,2,3)","Remoto","N/A","AYM-SVE-28","Unico pago",16000,1,1,"COP"]
["Pensemos SASoftware Pensemos SAAYM-SVE-29","AYM-SVE-29Software Pensemos SA",null,"Pensemos SA","AYM-SVE-29","Software Pensemos SA","Pensemos SA","COP","N/A","Actualización y mantenimiento anual de SVE módulo Seguridad de la Información (por hasta 100 trabajadores)","Licencia Servidor","Und","Producto","Zonas (1,2,3)","Remoto","N/A","AYM-SVE-29","Unico pago",1600000,1,1,"COP"]
["Pensemos SASoftware Pensemos SAAYM-SVE-30","AYM-SVE-30Software Pensemos SA",null,"Pensemos SA","AYM-SVE-30","Software Pensemos SA","Pensemos SA","COP","N/A","Actualización y mantenimiento anual de SVE módulo Seguridad de la Información (por trabajador adicional)","Licencia trabajador adicional","Und","Producto","Zonas (1,2,3)","Remoto","N/A","AYM-SVE-30","Unico pago",12800,1,1,"COP"]
["Pensemos SASoftware Pensemos SAAYM-SVE-31","AYM-SVE-31Software Pensemos SA",null,"Pensemos SA","AYM-SVE-31","Software Pensemos SA","Pensemos SA","COP","N/A","Actualización y mantenimiento anual de SVE módulo Ambiental (por hasta 100 trabajadores)","Licencia Servidor","Und","Producto","Zonas (1,2,3)","Remoto","N/A","AYM-SVE-31","Unico pago",1200000,1,1,"COP"]
["Pensemos SASoftware Pensemos SAAYM-SVE-32","AYM-SVE-32Software Pensemos SA",null,"Pensemos SA","AYM-SVE-32","Software Pensemos SA","Pensemos SA","COP","N/A","Actualización y mantenimiento anual de SVE módulo Ambiental (por trabajador adicional)","Licencia trabajador adicional","Und","Producto","Zonas (1,2,3)","Remoto","N/A","AYM-SVE-32","Unico pago",9600,1,1,"COP"]
[{"$f":"D124&F124&E124","v":"CreangelSoftware IFINDITIF-SEARCH-02-500K"},{"$f":"E124&F124","v":"IF-SEARCH-02-500KSoftware IFINDIT"},null,"Creangel","IF-SEARCH-02-500K","Software IFINDIT",{"$f":"D124","v":"Creangel"},"COP","N/A","LICENCIA IFINDIT SEARCH HASTA:  2 FUENTES O 500K DOCS","Suscripción","Und","Producto","Zonas (1,2,3)","Remoto y/o sitio","N/A",{"$f":"+E124","v":"IF-SEARCH-02-500K"},"Suscripción anual a la entrega de la licencia",20833333.333333332,1,0,"COP"]
["CreangelSoftware IFINDITIF-SEARCH-02-1M","IF-SEARCH-02-1MSoftware IFINDIT",null,"Creangel","IF-SEARCH-02-1M","Software IFINDIT","Creangel","COP","N/A","LICENCIA IFINDIT SEARCH HASTA:  2 FUENTES O 1M DOCS","Suscripción","Und","Producto","Zonas (1,2,3)","Remoto y/o sitio","N/A","IF-SEARCH-02-1M","Suscripción anual a la entrega de la licencia",25000000,1,0,"COP"]
["CreangelSoftware IFINDITIF-SEARCH-02-2M","IF-SEARCH-02-2MSoftware IFINDIT",null,"Creangel","IF-SEARCH-02-2M","Software IFINDIT","Creangel","COP","N/A","LICENCIA IFINDIT SEARCH HASTA:  2 FUENTES O 2M DOCS","Suscripción","Und","Producto","Zonas (1,2,3)","Remoto y/o sitio","N/A","IF-SEARCH-02-2M","Suscripción anual a la entrega de la licencia",29166666.666666668,1,0,"COP"]
["CreangelSoftware IFINDITIF-SEARCH-02-5M","IF-SEARCH-02-5MSoftware IFINDIT",null,"Creangel","IF-SEARCH-02-5M","Software IFINDIT","Creangel","COP","N/A","LICENCIA IFINDIT SEARCH HASTA:  2 FUENTES O 5M DOCS","Suscripción","Und","Producto","Zonas (1,2,3)","Remoto y/o sitio","N/A","IF-SEARCH-02-5M","Suscripción anual a la entrega de la licencia",33333333.333333332,1,0,"COP"]
["CreangelSoftware IFINDITIF-SEARCH-02-10M","IF-SEARCH-02-10MSoftware IFINDIT",null,"Creangel","IF-SEARCH-02-10M","Software IFINDIT","Creangel","COP","N/A","LICENCIA IFINDIT SEARCH HASTA:  2 FUENTES O 10M DOCS","Suscripción","Und","Producto","Zonas (1,2,3)","Remoto y/o sitio","N/A","IF-SEARCH-02-10M","Suscripción anual a la entrega de la licencia",37500000,1,0,"COP"]
["CreangelSoftware IFINDITIF-SEARCH-04-500K","IF-SEARCH-04-500KSoftware IFINDIT",null,"Creangel","IF-SEARCH-04-500K","Software IFINDIT","Creangel","COP","N/A","LICENCIA IFINDIT SEARCH HASTA:  4 FUENTES O 500K DOCS","Suscripción","Und","Producto","Zonas (1,2,3)","Remoto y/o sitio","N/A","IF-SEARCH-04-500K","Suscripción anual a la entrega de la licencia",25000000,1,0,"COP"]
["CreangelSoftware IFINDITIF-SEARCH-04-1M","IF-SEARCH-04-1MSoftware IFINDIT",null,"Creangel","IF-SEARCH-04-1M","Software IFINDIT","Creangel","COP","N/A","LICENCIA IFINDIT SEARCH HASTA:  4 FUENTES O 1M DOCS","Suscripción","Und","Producto","Zonas (1,2,3)","Remoto y/o sitio","N/A","IF-SEARCH-04-1M","Suscripción anual a la entrega de la licencia",29166666.666666668,1,0,"COP"]
["CreangelSoftware IFINDITIF-SEARCH-04-2M","IF-SEARCH-04-2MSoftware IFINDIT",null,"Creangel","IF-SEARCH-04-2M","Software IFINDIT","Creangel","COP","N/A","LICENCIA IFINDIT SEARCH HASTA:  4 FUENTES O 2M DOCS","Suscripción","Und","Producto","Zonas (1,2,3)","Remoto y/o sitio","N/A","IF-SEARCH-04-2M","Suscripción anual a la entrega de la licencia",32500000,1,0,"COP"]
["CreangelSoftware IFINDITIF-SEARCH-04-5M","IF-SEARCH-04-5MSoftware IFINDIT",null,"Creangel","IF-SEARCH-04-5M","Software IFINDIT","Creangel","COP","N/A","LICENCIA IFINDIT SEARCH HASTA:  4 FUENTES O 5M DOCS","Suscripción","Und","Producto","Zonas (1,2,3)","Remoto y/o sitio","N/A","IF-SEARCH-04-5M","Suscripción anual a la entrega de la licencia",35833333.333333336,1,0,"COP"]
["CreangelSoftware IFINDITIF-SEARCH-04-10M","IF-SEARCH-04-10MSoftware IFINDIT",null,"Creangel","IF-SEARCH-04-10M","Software IFINDIT","Creangel","COP","N/A","LICENCIA IFINDIT SEARCH HASTA:  4 FUENTES O 10M DOCS","Suscripción","Und","Producto","Zonas (1,2,3)","Remoto y/o sitio","N/A","IF-SEARCH-04-10M","Suscripción anual a la entrega de la licencia",39166666.666666664,1,0,"COP"]
["CreangelSoftware IFINDITIF-SEARCH-06-500K","IF-SEARCH-06-500KSoftware IFINDIT",null,"Creangel","IF-SEARCH-06-500K","Software IFINDIT","Creangel","COP","N/A","LICENCIA IFINDIT SEARCH HASTA:  6 FUENTES O 500K DOCS","Suscripción","Und","Producto","Zonas (1,2,3)","Remoto y/o sitio","N/A","IF-SEARCH-06-500K","Suscripción anual a la entrega de la licencia",28333333.333333332,1,0,"COP"]
["CreangelSoftware IFINDITIF-SEARCH-06-1M","IF-SEARCH-06-1MSoftware IFINDIT",null,"Creangel","IF-SEARCH-06-1M","Software IFINDIT","Creangel","COP","N/A","LICENCIA IFINDIT SEARCH HASTA:  6 FUENTES O 1M DOCS","Suscripción","Und","Producto","Zonas (1,2,3)","Remoto y/o sitio","N/A","IF-SEARCH-06-1M","Suscripción anual a la entrega de la licencia",32500000,1,0,"COP"]
["CreangelSoftware IFINDITIF-SEARCH-06-2M","IF-SEARCH-06-2MSoftware IFINDIT",null,"Creangel","IF-SEARCH-06-2M","Software IFINDIT","Creangel","COP","N/A","LICENCIA IFINDIT SEARCH HASTA:  6 FUENTES O 2M DOCS","Suscripción","Und","Producto","Zonas (1,2,3)","Remoto y/o sitio","N/A","IF-SEARCH-06-2M","Suscripción anual a la entrega de la licencia",35833333.333333336,1,0,"COP"]
["CreangelSoftware IFINDITIF-SEARCH-06-5M","IF-SEARCH-06-5MSoftware IFINDIT",null,"Creangel","IF-SEARCH-06-5M","Software IFINDIT","Creangel","COP","N/A","LICENCIA IFINDIT SEARCH HASTA:  6 FUENTES O 5M DOCS","Suscripción","Und","Producto","Zonas (1,2,3)","Remoto y/o sitio","N/A","IF-SEARCH-06-5M","Suscripción anual a la entrega de la licencia",39166666.666666664,1,0,"COP"]
["CreangelSoftware IFINDITIF-SEARCH-06-10M","IF-SEARCH-06-10MSoftware IFINDIT",null,"Creangel","IF-SEARCH-06-10M","Software IFINDIT","Creangel","COP","N/A","LICENCIA IFINDIT SEARCH HASTA:  6 FUENTES O 10M DOCS","Suscripción","Und","Producto","Zonas (1,2,3)","Remoto y/o sitio","N/A","IF-SEARCH-06-10M","Suscripción anual a la entrega de la licencia",42500000,1,0,"COP"]
["CreangelSoftware IFINDITIF-SEARCH-08-1M","IF-SEARCH-08-1MSoftware IFINDIT",null,"Creangel","IF-SEARCH-08-1M","Software IFINDIT","Creangel","COP","N/A","LICENCIA IFINDIT SEARCH HASTA:  8 FUENTES O 1M DOCS","Suscripción","Und","Producto","Zonas (1,2,3)","Remoto y/o sitio","N/A","IF-SEARCH-08-1M","Suscripción anual a la entrega de la licencia",34166666.666666664,1,0,"COP"]
["CreangelSoftware IFINDITIF-SEARCH-08-2M","IF-SEARCH-08-2MSoftware IFINDIT",null,"Creangel","IF-SEARCH-08-2M","Software IFINDIT","Creangel","COP","N/A","LICENCIA IFINDIT SEARCH HASTA:  8 FUENTES O 2M DOCS","Suscripción","Und","Producto","Zonas (1,2,3)","Remoto y/o sitio","N/A","IF-SEARCH-08-2M","Suscripción anual a la entrega de la licencia",36666666.666666664,1,0,"COP"]
["CreangelSoftware IFINDITIF-SEARCH-08-5M","IF-SEARCH-08-5MSoftware IFINDIT",null,"Creangel","IF-SEARCH-08-5M","Software IFINDIT","Creangel","COP","N/A","LICENCIA IFINDIT SEARCH HASTA:  8 FUENTES O 5M DOCS","Suscripción","Und","Producto","Zonas (1,2,3)","Remoto y/o sitio","N/A","IF-SEARCH-08-5M","Suscripción anual a la entrega de la licencia",39166666.666666664,1,0,"COP"]
["CreangelSoftware IFINDITIF-SEARCH-08-10M","IF-SEARCH-08-10MSoftware IFINDIT",null,"Creangel","IF-SEARCH-08-10M","Software IFINDIT","Creangel","COP","N/A","LICENCIA IFINDIT SEARCH HASTA:  8 FUENTES O 10M DOCS","Suscripción","Und","Producto","Zonas (1,2,3)","Remoto y/o sitio","N/A","IF-SEARCH-08-10M","Suscripción anual a la entrega de la licencia",41666666.666666664,1,0,"COP"]
["CreangelSoftware IFINDITIF-SEARCH-08-20M","IF-SEARCH-08-20MSoftware IFINDIT",null,"Creangel","IF-SEARCH-08-20M","Software IFINDIT","Creangel","COP","N/A","LICENCIA IFINDIT SEARCH HASTA:  8 FUENTES O 20M DOCS","Suscripción","Und","Producto","Zonas (1,2,3)","Remoto y/o sitio","N/A","IF-SEARCH-08-20M","Suscripción anual a la entrega de la licencia",45833333.333333336,1,0,"COP"]
["CreangelSoftware IFINDITIF-SEARCH-10-2M","IF-SEARCH-10-2MSoftware IFINDIT",null,"Creangel","IF-SEARCH-10-2M","Software IFINDIT","Creangel","COP","N/A","LICENCIA IFINDIT SEARCH HASTA:  10 FUENTES O 2M DOCS","Suscripción","Und","Producto","Zonas (1,2,3)","Remoto y/o sitio","N/A","IF-SEARCH-10-2M","Suscripción anual a la entrega de la licencia",39166666.666666664,1,0,"COP"]
["CreangelSoftware IFINDITIF-SEARCH-10-5M","IF-SEARCH-10-5MSoftware IFINDIT",null,"Creangel","IF-SEARCH-10-5M","Software IFINDIT","Creangel","COP","N/A","LICENCIA IFINDIT SEARCH HASTA:  10 FUENTES O 5M DOCS","Suscripción","Und","Producto","Zonas (1,2,3)","Remoto y/o sitio","N/A","IF-SEARCH-10-5M","Suscripción anual a la entrega de la licencia",41666666.666666664,1,0,"COP"]
["CreangelSoftware IFINDITIF-SEARCH-10-10M","IF-SEARCH-10-10MSoftware IFINDIT",null,"Creangel","IF-SEARCH-10-10M","Software IFINDIT","Creangel","COP","N/A","LICENCIA IFINDIT SEARCH HASTA:  10 FUENTES O 10M DOCS","Suscripción","Und","Producto","Zonas (1,2,3)","Remoto y/o sitio","N/A","IF-SEARCH-10-10M","Suscripción anual a la entrega de la licencia",44166666.666666664,1,0,"COP"]
["CreangelSoftware IFINDITIF-SEARCH-10-20M","IF-SEARCH-10-20MSoftware IFINDIT",null,"Creangel","IF-SEARCH-10-20M","Software IFINDIT","Creangel","COP","N/A","LICENCIA IFINDIT SEARCH HASTA:  10 FUENTES O 20M DOCS","Suscripción","Und","Producto","Zonas (1,2,3)","Remoto y/o sitio","N/A","IF-SEARCH-10-20M","Suscripción anual a la entrega de la licencia",46666666.666666664,1,0,"COP"]
["CreangelSoftware IFINDITIF-SEARCH-10-50M","IF-SEARCH-10-50MSoftware IFINDIT",null,"Creangel","IF-SEARCH-10-50M","Software IFINDIT","Creangel","COP","N/A","LICENCIA IFINDIT SEARCH HASTA:  10 FUENTES O 50M DOCS","Suscripción","Und","Producto","Zonas (1,2,3)","Remoto y/o sitio","N/A","IF-SEARCH-10-50M","Suscripción anual a la entrega de la licencia",49166666.666666664,1,0,"COP"]
["CreangelSoftware IFINDITIF-INFORMATION ","IF-INFORMATION Software IFINDIT",null,"Creangel","IF-INFORMATION ","Software IFINDIT","Creangel","COP","N/A","LICENCIA IFINDIT SERVICIOS DE INFORMACION","Suscripción","Und","Producto","Zonas (1,2,3)","Remoto y/o sitio","N/A","IF-INFORMATION ","Suscripción anual a la entrega de la licencia",8000000,1,0,"COP"]
["CreangelSoftware IFINDITIF-ANALYTICS-05-12","IF-ANALYTICS-05-12Software IFINDIT",null,"Creangel","IF-ANALYTICS-05-12","Software IFINDIT","Creangel","COP","N/A","LICENCIA IFINDIT ANALYTICS HASTA:  5 FUENTES O 12 GB DATOS O 5 TABLEROS","Suscripción","Und","Producto","Zonas (1,2,3)","Remoto y/o sitio","N/A","IF-ANALYTICS-05-12","Suscripción anual a la entrega de la licencia",18750000,1,0,"COP"]
["CreangelSoftware IFINDITIF-ANALYTICS-10-12","IF-ANALYTICS-10-12Software IFINDIT",null,"Creangel","IF-ANALYTICS-10-12","Software IFINDIT","Creangel","COP","N/A","LICENCIA IFINDIT ANALYTICS HASTA:  10 FUENTES O 12 GB DATOS O 10 TABLEROS","Suscripción","Und","Producto","Zonas (1,2,3)","Remoto y/o sitio","N/A","IF-ANALYTICS-10-12","Suscripción anual a la entrega de la licencia",21500000,1,0,"COP"]
["CreangelSoftware IFINDITIF-ANALYTICS-15-12","IF-ANALYTICS-15-12Software IFINDIT",null,"Creangel","IF-ANALYTICS-15-12","Software IFINDIT","Creangel","COP","N/A","LICENCIA IFINDIT ANALYTICS HASTA:  15 FUENTES O 12 GB DATOS O 15 TABLEROS","Suscripción","Und","Producto","Zonas (1,2,3)","Remoto y/o sitio","N/A","IF-ANALYTICS-15-12","Suscripción anual a la entrega de la licencia",24333333.333333332,1,0,"COP"]
["CreangelSoftware IFINDITIF-ANALYTICS-20-12","IF-ANALYTICS-20-12Software IFINDIT",null,"Creangel","IF-ANALYTICS-20-12","Software IFINDIT","Creangel","COP","N/A","LICENCIA IFINDIT ANALYTICS HASTA:  20 FUENTES O 12 GB DATOS O 20 TABLEROS","Suscripción","Und","Producto","Zonas (1,2,3)","Remoto y/o sitio","N/A","IF-ANALYTICS-20-12","Suscripción anual a la entrega de la licencia",27250000,1,0,"COP"]
["CreangelSoftware IFINDITIF-ANALYTICS-25-12","IF-ANALYTICS-25-12Software IFINDIT",null,"Creangel","IF-ANALYTICS-25-12","Software IFINDIT","Creangel","COP","N/A","LICENCIA IFINDIT ANALYTICS HASTA:  25 FUENTES O 12 GB DATOS O 25 TABLEROS","Suscripción","Und","Producto","Zonas (1,2,3)","Remoto y/o sitio","N/A","IF-ANALYTICS-25-12","Suscripción anual a la entrega de la licencia",30083333.333333332,1,0,"COP"]
["CreangelSoftware IFINDITIF-ANALYTICS-05-24","IF-ANALYTICS-05-24Software IFINDIT",null,"Creangel","IF-ANALYTICS-05-24","Software IFINDIT","Creangel","COP","N/A","LICENCIA IFINDIT ANALYTICS HASTA:  5 FUENTES O 24 GB DATOS O 5 TABLEROS","Suscripción","Und","Producto","Zonas (1,2,3)","Remoto y/o sitio","N/A","IF-ANALYTICS-05-24","Suscripción anual a la entrega de la licencia",32750000,1,0,"COP"]
["CreangelSoftware IFINDITIF-ANALYTICS-10-24","IF-ANALYTICS-10-24Software IFINDIT",null,"Creangel","IF-ANALYTICS-10-24","Software IFINDIT","Creangel","COP","N/A","LICENCIA IFINDIT ANALYTICS HASTA:  10 FUENTES O 24 GB DATOS O 10 TABLEROS","Suscripción","Und","Producto","Zonas (1,2,3)","Remoto y/o sitio","N/A","IF-ANALYTICS-10-24","Suscripción anual a la entrega de la licencia",35250000,1,0,"COP"]
["CreangelSoftware IFINDITIF-ANALYTICS-15-24","IF-ANALYTICS-15-24Software IFINDIT",null,"Creangel","IF-ANALYTICS-15-24","Software IFINDIT","Creangel","COP","N/A","LICENCIA IFINDIT ANALYTICS HASTA:  10 FUENTES O 24 GB DATOS O 10 TABLEROS","Suscripción","Und","Producto","Zonas (1,2,3)","Remoto y/o sitio","N/A","IF-ANALYTICS-15-24","Suscripción anual a la entrega de la licencia",37500000,1,0,"COP"]
["CreangelSoftware IFINDITIF-ANALYTICS-20-24","IF-ANALYTICS-20-24Software IFINDIT",null,"Creangel","IF-ANALYTICS-20-24","Software IFINDIT","Creangel","COP","N/A","LICENCIA IFINDIT ANALYTICS HASTA:  10 FUENTES O 24 GB DATOS O 10 TABLEROS","Suscripción","Und","Producto","Zonas (1,2,3)","Remoto y/o sitio","N/A","IF-ANALYTICS-20-24","Suscripción anual a la entrega de la licencia",39333333.333333336,1,0,"COP"]
["CreangelSoftware IFINDITIF-ANALYTICS-25-24","IF-ANALYTICS-25-24Software IFINDIT",null,"Creangel","IF-ANALYTICS-25-24","Software IFINDIT","Creangel","COP","N/A","LICENCIA IFINDIT ANALYTICS HASTA:  15 FUENTES O 24 GB DATOS O 15 TABLEROS","Suscripción","Und","Producto","Zonas (1,2,3)","Remoto y/o sitio","N/A","IF-ANALYTICS-25-24","Suscripción anual a la entrega de la licencia",40666666.666666664,1,0,"COP"]
["CreangelSoftware IFINDITIF-ANALYTICS-15-30","IF-ANALYTICS-15-30Software IFINDIT",null,"Creangel","IF-ANALYTICS-15-30","Software IFINDIT","Creangel","COP","N/A","LICENCIA IFINDIT ANALYTICS HASTA:  15 FUENTES O 30 GB DATOS O 15 TABLEROS","Suscripción","Und","Producto","Zonas (1,2,3)","Remoto y/o sitio","N/A","IF-ANALYTICS-15-30","Suscripción anual a la entrega de la licencia",41583333.333333336,1,0,"COP"]
["CreangelSoftware IFINDITIF-SEARCH-PL-5M","IF-SEARCH-PL-5MSoftware IFINDIT",null,"Creangel","IF-SEARCH-PL-5M","Software IFINDIT","Creangel","COP","N/A","LICENCIA IFINDIT SEARCH HASTA:  2 FUENTES O 5M DOCS","Licencia","Und","Producto","Zonas (1,2,3)","Remoto y/o sitio","N/A","IF-SEARCH-PL-5M","UNICO PAGO",820000000,1,0,"COP"]
["CreangelSoftware IFINDITIF-SEARCH-PL-5M-MANT","IF-SEARCH-PL-5M-MANTSoftware IFINDIT",null,"Creangel","IF-SEARCH-PL-5M-MANT","Software IFINDIT","Creangel","COP","N/A","MANTENIMIENTO LICENCIA IFINDIT SEARCH HASTA:  2 FUENTES O 5M DOCS","Licencia","Und","Producto","Zonas (1,2,3)","Remoto y/o sitio","N/A","IF-SEARCH-PL-5M-MANT","Anual a la entrega de la licencia",287000000,1,1,"COP"]
["CreangelSoftware IFINDITIF-CAP-01-01","IF-CAP-01-01Software IFINDIT",null,"Creangel","IF-CAP-01-01","Software IFINDIT","Creangel","COP","N/A","Capacitación IFindIT  para usuario final - hasta 10 Personas.  ","Por sesión de capacitación de 4 horas para un grupo de hasta 10 personas.","Und","Servicio","Zona 1","Sitio","Profesional","IF-CAP-01-01","Mensual por servicios efectivamente prestados",2839600,1,1,"COP"]
["CreangelSoftware IFINDITIF-CAP-01-02","IF-CAP-01-02Software IFINDIT",null,"Creangel","IF-CAP-01-02","Software IFINDIT","Creangel","COP","N/A","Capacitación IFindIT  para usuario final - hasta 10 Personas.  ","Por sesión de capacitación de 4 horas para un grupo de hasta 10 personas.","Und","Servicio","Zona 1","Remoto","Profesional","IF-CAP-01-02","Mensual por servicios efectivamente prestados",2056240,1,1,"COP"]
["CreangelSoftware IFINDITIF-CAP-01-03","IF-CAP-01-03Software IFINDIT",null,"Creangel","IF-CAP-01-03","Software IFINDIT","Creangel","COP","N/A","Capacitación IFindIT  para usuario final - hasta 10 Personas.  ","Por sesión de capacitación de 4 horas para un grupo de hasta 10 personas.","Und","Servicio","Zona 2","Sitio","Profesional","IF-CAP-01-03","Mensual por servicios efectivamente prestados",5840000,1,1,"COP"]
["CreangelSoftware IFINDITIF-CAP-01-04","IF-CAP-01-04Software IFINDIT",null,"Creangel","IF-CAP-01-04","Software IFINDIT","Creangel","COP","N/A","Capacitación IFindIT  para usuario final - hasta 10 Personas.  ","Por sesión de capacitación de 4 horas para un grupo de hasta 10 personas.","Und","Servicio","Zona 2","Remoto","Profesional","IF-CAP-01-04","Mensual por servicios efectivamente prestados",2056240,1,1,"COP"]
["CreangelSoftware IFINDITIF-CAP-01-05","IF-CAP-01-05Software IFINDIT",null,"Creangel","IF-CAP-01-05","Software IFINDIT","Creangel","COP","N/A","Capacitación IFindIT  para usuario final - hasta 10 Personas.  ","Por sesión de capacitación de 4 horas para un grupo de hasta 10 personas.","Und","Servicio","Zona 3","Sitio","Profesional","IF-CAP-01-05","Mensual por servicios efectivamente prestados",5900000,1,1,"COP"]
["CreangelSoftware IFINDITIF-CAP-01-06","IF-CAP-01-06Software IFINDIT",null,"Creangel","IF-CAP-01-06","Software IFINDIT","Creangel","COP","N/A","Capacitación IFindIT  para usuario final - hasta 10 Personas.  ","Por sesión de capacitación de 4 horas para un grupo de hasta 10 personas.","Und","Servicio","Zona 3","Remoto","Profesional","IF-CAP-01-06","Mensual por servicios efectivamente prestados",2056240,1,1,"COP"]
["CreangelSoftware IFINDITIF-CAP-02-01","IF-CAP-02-01Software IFINDIT",null,"Creangel","IF-CAP-02-01","Software IFINDIT","Creangel","COP","N/A","Capacitación IFindIT  para usuario final - hasta 20 Personas.  ","Por sesión de capacitación de 4 horas para un grupo de hasta 20 personas.","Und","Servicio","Zona 1","Sitio","Profesional","IF-CAP-02-01","Mensual por servicios efectivamente prestados",5679200,1,1,"COP"]
["CreangelSoftware IFINDITIF-CAP-02-02","IF-CAP-02-02Software IFINDIT",null,"Creangel","IF-CAP-02-02","Software IFINDIT","Creangel","COP","N/A","Capacitación IFindIT  para usuario final - hasta 20 Personas.  ","Por sesión de capacitación de 4 horas para un grupo de hasta 20 personas.","Und","Servicio","Zona 1","Remoto","Profesional","IF-CAP-02-02","Mensual por servicios efectivamente prestados",4112480,1,1,"COP"]
["CreangelSoftware IFINDITIF-CAP-02-03","IF-CAP-02-03Software IFINDIT",null,"Creangel","IF-CAP-02-03","Software IFINDIT","Creangel","COP","N/A","Capacitación IFindIT  para usuario final - hasta 20 Personas.  ","Por sesión de capacitación de 4 horas para un grupo de hasta 20 personas.","Und","Servicio","Zona 2","Sitio","Profesional","IF-CAP-02-03","Mensual por servicios efectivamente prestados",11680000,1,1,"COP"]
["CreangelSoftware IFINDITIF-CAP-02-04","IF-CAP-02-04Software IFINDIT",null,"Creangel","IF-CAP-02-04","Software IFINDIT","Creangel","COP","N/A","Capacitación IFindIT  para usuario final - hasta 20 Personas.  ","Por sesión de capacitación de 4 horas para un grupo de hasta 20 personas.","Und","Servicio","Zona 2","Remoto","Profesional","IF-CAP-02-04","Mensual por servicios efectivamente prestados",4112480,1,1,"COP"]
["CreangelSoftware IFINDITIF-CAP-02-05","IF-CAP-02-05Software IFINDIT",null,"Creangel","IF-CAP-02-05","Software IFINDIT","Creangel","COP","N/A","Capacitación IFindIT  para usuario final - hasta 20 Personas.  ","Por sesión de capacitación de 4 horas para un grupo de hasta 20 personas.","Und","Servicio","Zona 3","Sitio","Profesional","IF-CAP-02-05","Mensual por servicios efectivamente prestados",11800000,1,1,"COP"]
["CreangelSoftware IFINDITIF-CAP-02-06","IF-CAP-02-06Software IFINDIT",null,"Creangel","IF-CAP-02-06","Software IFINDIT","Creangel","COP","N/A","Capacitación IFindIT  para usuario final - hasta 20 Personas.  ","Por sesión de capacitación de 4 horas para un grupo de hasta 20 personas.","Und","Servicio","Zona 3","Remoto","Profesional","IF-CAP-02-06","Mensual por servicios efectivamente prestados",4112480,1,1,"COP"]
["CreangelSoftware IFINDITIF-CAP-03-01","IF-CAP-03-01Software IFINDIT",null,"Creangel","IF-CAP-03-01","Software IFINDIT","Creangel","COP","N/A","Capacitación para usuario técnico o administrador - hasta 10 Personas.  ","Por sesión de capacitación de 4 horas para un grupo de hasta 10 personas.","Und","Servicio","Zona 1","Sitio","Profesional","IF-CAP-03-01","Mensual por servicios efectivamente prestados",3449360,1,1,"COP"]
["CreangelSoftware IFINDITIF-CAP-03-02","IF-CAP-03-02Software IFINDIT",null,"Creangel","IF-CAP-03-02","Software IFINDIT","Creangel","COP","N/A","Capacitación para usuario técnico o administrador - hasta 10 Personas.  ","Por sesión de capacitación de 4 horas para un grupo de hasta 10 personas.","Und","Servicio","Zona 1","Remoto","Profesional","IF-CAP-03-02","Mensual por servicios efectivamente prestados",2587440,1,1,"COP"]
["CreangelSoftware IFINDITIF-CAP-03-03","IF-CAP-03-03Software IFINDIT",null,"Creangel","IF-CAP-03-03","Software IFINDIT","Creangel","COP","N/A","Capacitación para usuario técnico o administrador - hasta 10 Personas.  ","Por sesión de capacitación de 4 horas para un grupo de hasta 10 personas.","Und","Servicio","Zona 2","Sitio","Profesional","IF-CAP-03-03","Mensual por servicios efectivamente prestados",7900000,1,1,"COP"]
["CreangelSoftware IFINDITIF-CAP-03-04","IF-CAP-03-04Software IFINDIT",null,"Creangel","IF-CAP-03-04","Software IFINDIT","Creangel","COP","N/A","Capacitación para usuario técnico o administrador - hasta 10 Personas.  ","Por sesión de capacitación de 4 horas para un grupo de hasta 10 personas.","Und","Servicio","Zona 2","Remoto","Profesional","IF-CAP-03-04","Mensual por servicios efectivamente prestados",2587440,1,1,"COP"]
["CreangelSoftware IFINDITIF-CAP-03-05","IF-CAP-03-05Software IFINDIT",null,"Creangel","IF-CAP-03-05","Software IFINDIT","Creangel","COP","N/A","Capacitación para usuario técnico o administrador - hasta 10 Personas.  ","Por sesión de capacitación de 4 horas para un grupo de hasta 10 personas.","Und","Servicio","Zona 3","Sitio","Profesional","IF-CAP-03-05","Mensual por servicios efectivamente prestados",8000000,1,1,"COP"]
["CreangelSoftware IFINDITIF-CAP-03-06","IF-CAP-03-06Software IFINDIT",null,"Creangel","IF-CAP-03-06","Software IFINDIT","Creangel","COP","N/A","Capacitación para usuario técnico o administrador - hasta 10 Personas.  ","Por sesión de capacitación de 4 horas para un grupo de hasta 10 personas.","Und","Servicio","Zona 3","Remoto","Profesional","IF-CAP-03-06","Mensual por servicios efectivamente prestados",2587440,1,1,"COP"]
[{"$f":"D181&F181&E181","v":"CreangelSoftware IFINDITIF-CAP-04-01"},{"$f":"E181&F181","v":"IF-CAP-04-01Software IFINDIT"},null,"Creangel","IF-CAP-04-01","Software IFINDIT",{"$f":"D181","v":"Creangel"},"COP","N/A","Capacitación para usuario técnico o administrador - hasta 20 Personas.  ","Por sesión de capacitación de 4 horas para un grupo de hasta 20 personas.","Und","Servicio","Zona 1","Sitio","Profesional",{"$f":"+E181","v":"IF-CAP-04-01"},"Mensual por servicios efectivamente prestados",6898720,1,1,"COP"]
["CreangelSoftware IFINDITIF-CAP-04-02","IF-CAP-04-02Software IFINDIT",null,"Creangel","IF-CAP-04-02","Software IFINDIT","Creangel","COP","N/A","Capacitación para usuario técnico o administrador - hasta 20 Personas.  ","Por sesión de capacitación de 4 horas para un grupo de hasta 20 personas.","Und","Servicio","Zona 1","Remoto","Profesional","IF-CAP-04-02","Mensual por servicios efectivamente prestados",5174880,1,1,"COP"]
["CreangelSoftware IFINDITIF-CAP-04-03","IF-CAP-04-03Software IFINDIT",null,"Creangel","IF-CAP-04-03","Software IFINDIT","Creangel","COP","N/A","Capacitación para usuario técnico o administrador - hasta 20 Personas.  ","Por sesión de capacitación de 4 horas para un grupo de hasta 20 personas.","Und","Servicio","Zona 2","Sitio","Profesional","IF-CAP-04-03","Mensual por servicios efectivamente prestados",11680000,1,1,"COP"]
["CreangelSoftware IFINDITIF-CAP-04-04","IF-CAP-04-04Software IFINDIT",null,"Creangel","IF-CAP-04-04","Software IFINDIT","Creangel","COP","N/A","Capacitación para usuario técnico o administrador - hasta 20 Personas.  ","Por sesión de capacitación de 4 horas para un grupo de hasta 20 personas.","Und","Servicio","Zona 2","Remoto","Profesional","IF-CAP-04-04","Mensual por servicios efectivamente prestados",5174880,1,1,"COP"]
["CreangelSoftware IFINDITIF-CAP-04-05","IF-CAP-04-05Software IFINDIT",null,"Creangel","IF-CAP-04-05","Software IFINDIT","Creangel","COP","N/A","Capacitación para usuario técnico o administrador - hasta 20 Personas.  ","Por sesión de capacitación de 4 horas para un grupo de hasta 20 personas.","Und","Servicio","Zona 3","Sitio","Profesional","IF-CAP-04-05","Mensual por servicios efectivamente prestados",11800000,1,1,"COP"]
["CreangelSoftware IFINDITIF-CAP-04-06","IF-CAP-04-06Software IFINDIT",null,"Creangel","IF-CAP-04-06","Software IFINDIT","Creangel","COP","N/A","Capacitación para usuario técnico o administrador - hasta 20 Personas.  ","Por sesión de capacitación de 4 horas para un grupo de hasta 20 personas.","Und","Servicio","Zona 3","Remoto","Profesional","IF-CAP-04-06","Mensual por servicios efectivamente prestados",5174880,1,1,"COP"]
["CreangelSoftware IFINDITIT-SW-05-01","IT-SW-05-01Software IFINDIT",null,"Creangel","IT-SW-05-01","Software IFINDIT","Creangel","COP","N/A","Configuración y parametrización de los Productos ","Hora","Und","Servicio","Zona 1","Sitio","Profesional","IT-SW-05-01","Mensual por servicios efectivamente prestados",480000,1,1,"COP"]
["CreangelSoftware IFINDITIT-SW-05-02","IT-SW-05-02Software IFINDIT",null,"Creangel","IT-SW-05-02","Software IFINDIT","Creangel","COP","N/A","Configuración y parametrización de los Productos ","Hora","Und","Servicio","Zona 1","Remoto","Profesional","IT-SW-05-02","Mensual por servicios efectivamente prestados",330000,1,1,"COP"]
["CreangelSoftware IFINDITIT-SW-05-03","IT-SW-05-03Software IFINDIT",null,"Creangel","IT-SW-05-03","Software IFINDIT","Creangel","COP","N/A","Configuración y parametrización de los Productos ","Hora","Und","Servicio","Zona 2","Sitio","Profesional","IT-SW-05-03","Mensual por servicios efectivamente prestados",510000,1,1,"COP"]
["CreangelSoftware IFINDITIT-SW-05-04","IT-SW-05-04Software IFINDIT",null,"Creangel","IT-SW-05-04","Software IFINDIT","Creangel","COP","N/A","Configuración y parametrización de los Productos ","Hora","Und","Servicio","Zona 2","Remoto","Profesional","IT-SW-05-04","Mensual por servicios efectivamente prestados",330000,1,1,"COP"]
["CreangelSoftware IFINDITIT-SW-05-05","IT-SW-05-05Software IFINDIT",null,"Creangel","IT-SW-05-05","Software IFINDIT","Creangel","COP","N/A","Configuración y parametrización de los Productos ","Hora","Und","Servicio","Zona 3","Sitio","Profesional","IT-SW-05-05","Mensual por servicios efectivamente prestados",541833,1,1,"COP"]
["CreangelSoftware IFINDITIT-SW-05-06","IT-SW-05-06Software IFINDIT",null,"Creangel","IT-SW-05-06","Software IFINDIT","Creangel","COP","N/A","Configuración y parametrización de los Productos ","Hora","Und","Servicio","Zona 3","Remoto","Profesional","IT-SW-05-06","Mensual por servicios efectivamente prestados",330000,1,1,"COP"]
["CreangelSoftware IFINDITIT-SW-06-01","IT-SW-06-01Software IFINDIT",null,"Creangel","IT-SW-06-01","Software IFINDIT","Creangel","COP","N/A","Gerente de cuenta (soporte) ","Mes","Und","Servicio","Zona 1","Sitio","Profesional","IT-SW-06-01","Mensual por servicios efectivamente prestados",16430000,1,1,"COP"]
["CreangelSoftware IFINDITIT-SW-06-02","IT-SW-06-02Software IFINDIT",null,"Creangel","IT-SW-06-02","Software IFINDIT","Creangel","COP","N/A","Gerente de cuenta (soporte) ","Mes","Und","Servicio","Zona 2","Sitio","Profesional","IT-SW-06-02","Mensual por servicios efectivamente prestados",17560000,1,1,"COP"]
["CreangelSoftware IFINDITIT-SW-06-03","IT-SW-06-03Software IFINDIT",null,"Creangel","IT-SW-06-03","Software IFINDIT","Creangel","COP","N/A","Gerente de cuenta (soporte) ","Mes","Und","Servicio","Zona 3","Sitio","Profesional","IT-SW-06-03","Mensual por servicios efectivamente prestados",17643000,1,1,"COP"]
["CreangelSoftware IFINDITIT-SW-07-01","IT-SW-07-01Software IFINDIT",null,"Creangel","IT-SW-07-01","Software IFINDIT","Creangel","COP","N/A","Instalación de Licencia o Suscripción Anual, o afínes ","Unidad","Und","Servicio","Zona 1","Sitio","Profesional","IT-SW-07-01","Mensual por servicios efectivamente prestados",2192400,1,1,"COP"]
["CreangelSoftware IFINDITIT-SW-07-02","IT-SW-07-02Software IFINDIT",null,"Creangel","IT-SW-07-02","Software IFINDIT","Creangel","COP","N/A","Instalación de Licencia o Suscripción Anual, o afínes ","Unidad","Und","Servicio","Zona 1","Remoto","Profesional","IT-SW-07-02","Mensual por servicios efectivamente prestados",2022100,1,1,"COP"]
["CreangelSoftware IFINDITIT-SW-07-03","IT-SW-07-03Software IFINDIT",null,"Creangel","IT-SW-07-03","Software IFINDIT","Creangel","COP","N/A","Instalación de Licencia o Suscripción Anual, o afínes ","Unidad","Und","Servicio","Zona 2","Sitio","Profesional","IT-SW-07-03","Mensual por servicios efectivamente prestados",2664000,1,1,"COP"]
["CreangelSoftware IFINDITIT-SW-07-04","IT-SW-07-04Software IFINDIT",null,"Creangel","IT-SW-07-04","Software IFINDIT","Creangel","COP","N/A","Instalación de Licencia o Suscripción Anual, o afínes ","Unidad","Und","Servicio","Zona 2","Remoto","Profesional","IT-SW-07-04","Mensual por servicios efectivamente prestados",2022100,1,1,"COP"]
["CreangelSoftware IFINDITIT-SW-07-05","IT-SW-07-05Software IFINDIT",null,"Creangel","IT-SW-07-05","Software IFINDIT","Creangel","COP","N/A","Instalación de Licencia o Suscripción Anual, o afínes ","Unidad","Und","Servicio","Zona 3","Sitio","Profesional","IT-SW-07-05","Mensual por servicios efectivamente prestados",2982000,1,1,"COP"]
["CreangelSoftware IFINDITIT-SW-07-06","IT-SW-07-06Software IFINDIT",null,"Creangel","IT-SW-07-06","Software IFINDIT","Creangel","COP","N/A","Instalación de Licencia o Suscripción Anual, o afínes ","Unidad","Und","Servicio","Zona 3","Remoto","Profesional","IT-SW-07-06","Mensual por servicios efectivamente prestados",2022100,1,1,"COP"]
["CreangelSoftware IFINDITIT-SW-08-01","IT-SW-08-01Software IFINDIT",null,"Creangel","IT-SW-08-01","Software IFINDIT","Creangel","COP","N/A","Migración de información por volumen de datos almacenados ","GB","Und","Servicio","Zona 1","Remoto","Profesional","IT-SW-08-01","Mensual por servicios efectivamente prestados",380000,1,1,"COP"]
["CreangelSoftware IFINDITIT-SW-08-02","IT-SW-08-02Software IFINDIT",null,"Creangel","IT-SW-08-02","Software IFINDIT","Creangel","COP","N/A","Migración de información por volumen de datos almacenados ","GB","Und","Servicio","Zona 1","Sitio","Profesional","IT-SW-08-02","Mensual por servicios efectivamente prestados",500000,1,1,"COP"]
["CreangelSoftware IFINDITIT-SW-08-03","IT-SW-08-03Software IFINDIT",null,"Creangel","IT-SW-08-03","Software IFINDIT","Creangel","COP","N/A","Migración de información por volumen de datos almacenados ","GB","Und","Servicio","Zona 2","Remoto","Profesional","IT-SW-08-03","Mensual por servicios efectivamente prestados",380000,1,1,"COP"]
["CreangelSoftware IFINDITIT-SW-08-04","IT-SW-08-04Software IFINDIT",null,"Creangel","IT-SW-08-04","Software IFINDIT","Creangel","COP","N/A","Migración de información por volumen de datos almacenados ","GB","Und","Servicio","Zona 2","Sitio","Profesional","IT-SW-08-04","Mensual por servicios efectivamente prestados",550000,1,1,"COP"]
["CreangelSoftware IFINDITIT-SW-08-05","IT-SW-08-05Software IFINDIT",null,"Creangel","IT-SW-08-05","Software IFINDIT","Creangel","COP","N/A","Migración de información por volumen de datos almacenados ","GB","Und","Servicio","Zona 3","Remoto","Profesional","IT-SW-08-05","Mensual por servicios efectivamente prestados",380000,1,1,"COP"]
["CreangelSoftware IFINDITIT-SW-08-06","IT-SW-08-06Software IFINDIT",null,"Creangel","IT-SW-08-06","Software IFINDIT","Creangel","COP","N/A","Migración de información por volumen de datos almacenados ","GB","Und","Servicio","Zona 3","Sitio","Profesional","IT-SW-08-06","Mensual por servicios efectivamente prestados",580000,1,1,"COP"]
["CreangelSoftware IFINDITIT-SW-09-01","IT-SW-09-01Software IFINDIT",null,"Creangel","IT-SW-09-01","Software IFINDIT","Creangel","COP","N/A","Soporte técnico en sitio ","Mes","Und","Servicio","Zona 1","Sitio","Profesional","IT-SW-09-01","Mensual por servicios efectivamente prestados",20256000,1,1,"COP"]
["CreangelSoftware IFINDITIT-SW-09-02","IT-SW-09-02Software IFINDIT",null,"Creangel","IT-SW-09-02","Software IFINDIT","Creangel","COP","N/A","Soporte técnico en sitio ","Mes","Und","Servicio","Zona 2","Sitio","Tecnico o Tecnólogo","IT-SW-09-02","Mensual por servicios efectivamente prestados",16000000,1,1,"COP"]
["CreangelSoftware IFINDITIT-SW-09-03","IT-SW-09-03Software IFINDIT",null,"Creangel","IT-SW-09-03","Software IFINDIT","Creangel","COP","N/A","Soporte técnico en sitio ","Mes","Und","Servicio","Zona 3","Sitio","Tecnico o Tecnólogo","IT-SW-09-03","Mensual por servicios efectivamente prestados",18000000,1,1,"COP"]
["CreangelSoftware IFINDITIT-SW-10-01","IT-SW-10-01Software IFINDIT",null,"Creangel","IT-SW-10-01","Software IFINDIT","Creangel","COP","N/A","Soporte técnico proactivo ","Hora","Und","Servicio","Zona 1","Sitio","Profesional","IT-SW-10-01","Mensual por servicios efectivamente prestados",350400,1,1,"COP"]
["CreangelSoftware IFINDITIT-SW-10-02","IT-SW-10-02Software IFINDIT",null,"Creangel","IT-SW-10-02","Software IFINDIT","Creangel","COP","N/A","Soporte técnico proactivo ","Hora","Und","Servicio","Zona 1","Sitio","Profesional","IT-SW-10-02","Mensual por servicios efectivamente prestados",250560,1,1,"COP"]
["CreangelSoftware IFINDITIT-SW-10-03","IT-SW-10-03Software IFINDIT",null,"Creangel","IT-SW-10-03","Software IFINDIT","Creangel","COP","N/A","Soporte técnico proactivo ","Hora","Und","Servicio","Zona 2","Remoto","Profesional","IT-SW-10-03","Mensual por servicios efectivamente prestados",250560,1,1,"COP"]
["CreangelSoftware IFINDITIT-SW-10-04","IT-SW-10-04Software IFINDIT",null,"Creangel","IT-SW-10-04","Software IFINDIT","Creangel","COP","N/A","Soporte técnico proactivo ","Hora","Und","Servicio","Zona 2","Sitio","Tecnico o Tecnólogo","IT-SW-10-04","Mensual por servicios efectivamente prestados",864000,1,1,"COP"]
["CreangelSoftware IFINDITIT-SW-10-05","IT-SW-10-05Software IFINDIT",null,"Creangel","IT-SW-10-05","Software IFINDIT","Creangel","COP","N/A","Soporte técnico proactivo ","Hora","Und","Servicio","Zona 3","Remoto","Profesional","IT-SW-10-05","Mensual por servicios efectivamente prestados",250560,1,1,"COP"]
["CreangelSoftware IFINDITIT-SW-10-06","IT-SW-10-06Software IFINDIT",null,"Creangel","IT-SW-10-06","Software IFINDIT","Creangel","COP","N/A","Soporte técnico proactivo ","Hora","Und","Servicio","Zona 3","Sitio","Tecnico o Tecnólogo","IT-SW-10-06","Mensual por servicios efectivamente prestados",864000,1,1,"COP"]
["CreangelSoftware IFINDITIT-SW-11-01","IT-SW-11-01Software IFINDIT",null,"Creangel","IT-SW-11-01","Software IFINDIT","Creangel","COP","N/A","Soporte técnico reactivo ","Hora","Und","Servicio","Zona 1","Sitio","Profesional","IT-SW-11-01","Mensual por servicios efectivamente prestados",700800,1,1,"COP"]
["CreangelSoftware IFINDITIT-SW-11-02","IT-SW-11-02Software IFINDIT",null,"Creangel","IT-SW-11-02","Software IFINDIT","Creangel","COP","N/A","Soporte técnico reactivo ","Hora","Und","Servicio","Zona 1","Remoto","Profesional","IT-SW-11-02","Mensual por servicios efectivamente prestados",501120,1,1,"COP"]
["CreangelSoftware IFINDITIT-SW-11-03","IT-SW-11-03Software IFINDIT",null,"Creangel","IT-SW-11-03","Software IFINDIT","Creangel","COP","N/A","Soporte técnico reactivo ","Hora","Und","Servicio","Zona 2","Sitio","Tecnico o Tecnólogo","IT-SW-11-03","Mensual por servicios efectivamente prestados",864000,1,1,"COP"]
["CreangelSoftware IFINDITIT-SW-11-04","IT-SW-11-04Software IFINDIT",null,"Creangel","IT-SW-11-04","Software IFINDIT","Creangel","COP","N/A","Soporte técnico reactivo ","Hora","Und","Servicio","Zona 2","Remoto","Profesional","IT-SW-11-04","Mensual por servicios efectivamente prestados",501120,1,1,"COP"]
["CreangelSoftware IFINDITIT-SW-11-05","IT-SW-11-05Software IFINDIT",null,"Creangel","IT-SW-11-05","Software IFINDIT","Creangel","COP","N/A","Soporte técnico reactivo ","Hora","Und","Servicio","Zona 3","Sitio","Tecnico o Tecnólogo","IT-SW-11-05","Mensual por servicios efectivamente prestados",864000,1,1,"COP"]
["CreangelSoftware IFINDITIT-SW-11-06","IT-SW-11-06Software IFINDIT",null,"Creangel","IT-SW-11-06","Software IFINDIT","Creangel","COP","N/A","Soporte técnico reactivo ","Hora","Und","Servicio","Zona 3","Remoto","Profesional","IT-SW-11-06","Mensual por servicios efectivamente prestados",501120,1,1,"COP"]
[{"$f":"D223&F223&E223","v":"Digital Ware SASSoftware Digital Ware SASON-KC-NM-P-01"},{"$f":"E223&F223","v":"ON-KC-NM-P-01Software Digital Ware SAS"},null,"Digital Ware SAS","ON-KC-NM-P-01","Software Digital Ware SAS",{"$f":"D223","v":"Digital Ware SAS"},"COP","N/A","LICENCIA KACTUS-HCM NOMINA ONPREMISE (Hasta 300 empleados)","Paq x 300 empleados","Prod","Servicio","Zonas (1,2,3)","Remoto y/o sitio","N/A",{"$f":"+E223","v":"ON-KC-NM-P-01"},"One Time",310830000,1,1,"COP"]
["Digital Ware SASSoftware Digital Ware SASON-KC-NM-P-02","ON-KC-NM-P-02Software Digital Ware SAS",null,"Digital Ware SAS","ON-KC-NM-P-02","Software Digital Ware SAS","Digital Ware SAS","COP","N/A","LICENCIA ADICIONAL KACTUS-HCM NOMINA ONPREMISE","Empleado","Prod","Servicio","Zonas (1,2,3)","Remoto y/o sitio","N/A","ON-KC-NM-P-02","One Time",189606.3,1,1,"COP"]
[{"$f":"D225&F225&E225","v":"Digital Ware SASSoftware Digital Ware SASON-KC-NM-P-03"},{"$f":"E225&F225","v":"ON-KC-NM-P-03Software Digital Ware SAS"},null,"Digital Ware SAS","ON-KC-NM-P-03","Software Digital Ware SAS",{"$f":"D225","v":"Digital Ware SAS"},"COP","N/A","LICENCIA NIT ADICIONAL KACTUS-HCM ONPREMISE","Nit","Prod","Servicio","Zonas (1,2,3)","Remoto y/o sitio","N/A",{"$f":"+E225","v":"ON-KC-NM-P-03"},"One Time",31083000,1,1,"COP"]
["Digital Ware SASSoftware Digital Ware SASON-KC-NM-S-01","ON-KC-NM-S-01Software Digital Ware SAS",null,"Digital Ware SAS","ON-KC-NM-S-01","Software Digital Ware SAS","Digital Ware SAS","COP","N/A","INSTALACION KACTUS-HCM ONPREMISE","(1) semana","Serv","Servicio","Zonas (1,2,3)","Remoto y/o sitio","Profesional Perfil Tecnico","ON-KC-NM-S-01","One Time",9946560,1,1,"COP"]
["Digital Ware SASSoftware Digital Ware SASON-KC-NM-S-02","ON-KC-NM-S-02Software Digital Ware SAS",null,"Digital Ware SAS","ON-KC-NM-S-02","Software Digital Ware SAS","Digital Ware SAS","COP","N/A","DERECHO ACTUALIZACION, SOPORTE Y MANTENIMIENTO ESTANDAR KACTUS-HCM ONPREMISE","Anual ","Serv","Servicio","Zonas (1,2,3)","Remoto y/o sitio","Profesional Funcional","ON-KC-NM-S-02","Pago anual Anticipado",75220860,1,1,"COP"]
["Digital Ware SASSoftware Digital Ware SASSA-KC-NM-P-01","SA-KC-NM-P-01Software Digital Ware SAS",null,"Digital Ware SAS","SA-KC-NM-P-01","Software Digital Ware SAS","Digital Ware SAS","COP","N/A","SaaS KACTUS-HCM KACTUS NOMINA (Paquete Inicial hasta 300 empleados) Incluye actualización y mantenimiento","Paq x 300 empleados","Prod","Servicio","Zonas (1,2,3)","Remoto y/o sitio","N/A","SA-KC-NM-P-01","Suscripción mensual con pago mensual vencido",4916812.55,1,0,"COP"]
["Digital Ware SASSoftware Digital Ware SASSA-KC-NM-P-02","SA-KC-NM-P-02Software Digital Ware SAS",null,"Digital Ware SAS","SA-KC-NM-P-02","Software Digital Ware SAS","Digital Ware SAS","COP","N/A","SaaS EMPLEADO ADICIONAL KACTUS-HCM NOMINA  (Entre 301 - 400 empleados)","Empleado","Prod","Servicio","Zonas (1,2,3)","Remoto y/o sitio","N/A","SA-KC-NM-P-02","Suscripción mensual con pago mensual vencido",16370.38,1,0,"COP"]
["Digital Ware SASSoftware Digital Ware SASSA-KC-NM-P-03","SA-KC-NM-P-03Software Digital Ware SAS",null,"Digital Ware SAS","SA-KC-NM-P-03","Software Digital Ware SAS","Digital Ware SAS","COP","N/A","SaaS EMPLEADO ADICIONAL KACTUS-HCM NOMINA  (entre 401-800)","Empleado","Prod","Servicio","Zonas (1,2,3)","Remoto y/o sitio","N/A","SA-KC-NM-P-03","Suscripción mensual con pago mensual vencido",15355.002,1,0,"COP"]
["Digital Ware SASSoftware Digital Ware SASSA-KC-NM-P-04","SA-KC-NM-P-04Software Digital Ware SAS",null,"Digital Ware SAS","SA-KC-NM-P-04","Software Digital Ware SAS","Digital Ware SAS","COP","N/A","SaaS EMPLEADO ADICIONAL KACTUS-HCM NOMINA  (entre 801-1300)","Empleado","Prod","Servicio","Zonas (1,2,3)","Remoto y/o sitio","N/A","SA-KC-NM-P-04","Suscripción mensual con pago mensual vencido",13334.607,1,0,"COP"]
["Digital Ware SASSoftware Digital Ware SASSA-KC-NM-P-05","SA-KC-NM-P-05Software Digital Ware SAS",null,"Digital Ware SAS","SA-KC-NM-P-05","Software Digital Ware SAS","Digital Ware SAS","COP","N/A","SaaS EMPLEADO ADICIONAL KACTUS-HCM NOMINA  (entre 1301-2300)","Empleado","Prod","Servicio","Zonas (1,2,3)","Remoto y/o sitio","N/A","SA-KC-NM-P-05","Suscripción mensual con pago mensual vencido",11852.984,1,0,"COP"]
["Digital Ware SASSoftware Digital Ware SASSA-KC-NM-P-06","SA-KC-NM-P-06Software Digital Ware SAS",null,"Digital Ware SAS","SA-KC-NM-P-06","Software Digital Ware SAS","Digital Ware SAS","COP","N/A","SaaS EMPLEADO ADICIONAL KACTUS-HCM NOMINA  (entre 2301-5300)","Empleado","Prod","Servicio","Zonas (1,2,3)","Remoto y/o sitio","N/A","SA-KC-NM-P-06","Suscripción mensual con pago mensual vencido",10464.61,1,0,"COP"]
["Digital Ware SASSoftware Digital Ware SASSA-KC-NM-P-07","SA-KC-NM-P-07Software Digital Ware SAS",null,"Digital Ware SAS","SA-KC-NM-P-07","Software Digital Ware SAS","Digital Ware SAS","COP","N/A","SaaS EMPLEADO ADICIONAL KACTUS-HCM NOMINA  (5301 ó más)","Empleado","Prod","Servicio","Zonas (1,2,3)","Remoto y/o sitio","N/A","SA-KC-NM-P-07","Suscripción mensual con pago mensual vencido",9428.51,1,0,"COP"]
["Digital Ware SASSoftware Digital Ware SASSA-KC-NM-P-08","SA-KC-NM-P-08Software Digital Ware SAS",null,"Digital Ware SAS","SA-KC-NM-P-08","Software Digital Ware SAS","Digital Ware SAS","COP","N/A","SaaS NIT ADICIONAL KACTUS-HCM","Nit","Prod","Servicio","Zonas (1,2,3)","Remoto y/o sitio","N/A","SA-KC-NM-P-08","Suscripción mensual con pago mensual vencido",714909,1,0,"COP"]
["Digital Ware SASSoftware Digital Ware SASSA-KC-NM-S-02","SA-KC-NM-S-02Software Digital Ware SAS",null,"Digital Ware SAS","SA-KC-NM-S-02","Software Digital Ware SAS","Digital Ware SAS","COP","N/A","HABILITACION SERVICIO KACTUS - HCM SaaS","(1) semana","Serv","Servicio","Zonas (1,2,3)","Remoto","Profesional Perfil Tecnico","SA-KC-NM-S-02","One Time",7977970.0000000009,1,1,"COP"]
["Digital Ware SASSoftware Digital Ware SASSA-KC-NM-S-03","SA-KC-NM-S-03Software Digital Ware SAS",null,"Digital Ware SAS","SA-KC-NM-S-03","Software Digital Ware SAS","Digital Ware SAS","COP","N/A","SOPORTE TÉCNICO KACTUS-HCM ","4 Horas","Serv","Servicio","Zonas (1,2,3)","Remoto y/o sitio","Profesional Funcional","SA-KC-NM-S-03","Mensual por servicios/productos efectivamente prestados",729414.4,1,1,"COP"]
["Digital Ware SASSoftware Digital Ware SASSA-KC-NM-S-06","SA-KC-NM-S-06Software Digital Ware SAS",null,"Digital Ware SAS","SA-KC-NM-S-06","Software Digital Ware SAS","Digital Ware SAS","COP","N/A","CAPACITACIÓN KACTUS-HCM PARA USUARIO TÉCNICO O ADMINISTRADOR - HASTA 5 PERSONAS. ","(1) Dia","Serv","Servicio","Zonas (1,2,3)","Remoto y/o sitio","Profesional Perfil Tecnico","SA-KC-NM-S-06","Mensual por servicios/productos efectivamente prestados",1360000,1,1,"COP"]
["Digital Ware SASSoftware Digital Ware SASSA-KC-NM-S-07","SA-KC-NM-S-07Software Digital Ware SAS",null,"Digital Ware SAS","SA-KC-NM-S-07","Software Digital Ware SAS","Digital Ware SAS","COP","N/A","CAPACITACIÓN KACTUS-HCM PARA USUARIO LIDER - HASTA 10 PERSONAS. ","(1) Dia","Serv","Servicio","Zonas (1,2,3)","Remoto y/o sitio","Profesional Capacitador","SA-KC-NM-S-07","Mensual por servicios/productos efectivamente prestados",1360000,1,1,"COP"]
["Digital Ware SASSoftware Digital Ware SASSA-KC-NM-S-08","SA-KC-NM-S-08Software Digital Ware SAS",null,"Digital Ware SAS","SA-KC-NM-S-08","Software Digital Ware SAS","Digital Ware SAS","COP","N/A","CAPACITACIÓN KACTUS-HCM PARA USUARIO USUARIO FINAL HASTA 20 PERSONAS. ","(1) Dia","Serv","Servicio","Zonas (1,2,3)","Remoto y/o sitio","Profesional Capacitador","SA-KC-NM-S-08","Mensual por servicios/productos efectivamente prestados",1360000,1,1,"COP"]
["Digital Ware SASSoftware Digital Ware SASSA-KC-NM-S-09","SA-KC-NM-S-09Software Digital Ware SAS",null,"Digital Ware SAS","SA-KC-NM-S-09","Software Digital Ware SAS","Digital Ware SAS","COP","N/A","CONFIGURACIÓN Y PARAMETRIZACIÓN  KACTUS-HCM ","Hora","Serv","Servicio","Zonas (1,2,3)","Remoto y/o sitio","Profesional Funcional","SA-KC-NM-S-09","One Time",190000,1,1,"COP"]
["Digital Ware SASSoftware Digital Ware SASSA-KC-NM-S-10","SA-KC-NM-S-10Software Digital Ware SAS",null,"Digital Ware SAS","SA-KC-NM-S-10","Software Digital Ware SAS","Digital Ware SAS","COP","N/A","MIGRACIÓN DE INFORMACIÓN POR VOLUMEN DE DATOS ALMACENADOS KACTUS-HCM ","Hora","Serv","Servicio","Zonas (1,2,3)","Remoto y/o sitio","Profesional Funcional","SA-KC-NM-S-10","One Time",190000,1,1,"COP"]
["Digital Ware SASSoftware Digital Ware SASON-KC-TH-P-01","ON-KC-TH-P-01Software Digital Ware SAS",null,"Digital Ware SAS","ON-KC-TH-P-01","Software Digital Ware SAS","Digital Ware SAS","COP","N/A","LICENCIA KACTUS-HCM GESTION TALENTO HUMANO ONPREMISE (Hasta 300 empleados)","Paq x 300 empleados","Prod","Servicio","Zonas (1,2,3)","Remoto y/o sitio","N/A","ON-KC-TH-P-01","One Time",310830000,1,1,"COP"]
["Digital Ware SASSoftware Digital Ware SASON-KC-TH-P-02","ON-KC-TH-P-02Software Digital Ware SAS",null,"Digital Ware SAS","ON-KC-TH-P-02","Software Digital Ware SAS","Digital Ware SAS","COP","N/A","LICENCIA ADICIONAL KACTUS-HCM GESTION TALENTO HUMANO ONPREMISE","Empleado","Prod","Servicio","Zonas (1,2,3)","Remoto y/o sitio","N/A","ON-KC-TH-P-02","One Time",189606.3,1,1,"COP"]
["Digital Ware SASSoftware Digital Ware SASON-KC-TH-P-03","ON-KC-TH-P-03Software Digital Ware SAS",null,"Digital Ware SAS","ON-KC-TH-P-03","Software Digital Ware SAS","Digital Ware SAS","COP","N/A","LICENCIA NIT ADICIONAL KACTUS-HCM GESTION TALENTO HUMANO ONPREMISE","Nit","Prod","Servicio","Zonas (1,2,3)","Remoto y/o sitio","N/A","ON-KC-TH-P-03","One Time",31083000,1,1,"COP"]
["Digital Ware SASSoftware Digital Ware SASON-KC-TH-S-01","ON-KC-TH-S-01Software Digital Ware SAS",null,"Digital Ware SAS","ON-KC-TH-S-01","Software Digital Ware SAS","Digital Ware SAS","COP","N/A","INSTALACION KACTUS-HCM GESTION TALENTO HUMANO  ONPREMISE","(1) semana","Serv","Servicio","Zonas (1,2,3)","Remoto y/o sitio","Profesional Perfil Tecnico","ON-KC-TH-S-01","One Time",9946560,1,1,"COP"]
["Digital Ware SASSoftware Digital Ware SASON-KC-TH-S-02","ON-KC-TH-S-02Software Digital Ware SAS",null,"Digital Ware SAS","ON-KC-TH-S-02","Software Digital Ware SAS","Digital Ware SAS","COP","N/A","DERECHO ACTUALIZACION, SOPORTE Y MANTENIMIENTO ESTANDAR KACTUS-HCM GESTION TALENTO HUMANO ONPREMISE ","Anual ","Serv","Servicio","Zonas (1,2,3)","Remoto y/o sitio","Profesional Funcional","ON-KC-TH-S-02","Pago anual Anticipado",75220860,1,1,"COP"]
["Digital Ware SASSoftware Digital Ware SASSA-KC-TH-P-01","SA-KC-TH-P-01Software Digital Ware SAS",null,"Digital Ware SAS","SA-KC-TH-P-01","Software Digital Ware SAS","Digital Ware SAS","COP","N/A","SaaS KACTUS-HCM KACTUS GESTION TALENTO HUMANO (Paquete Inicial hasta 300 empleados) Incluye actualización y mantenimiento","Paq x 300 empleados","Prod","Servicio","Zonas (1,2,3)","Remoto y/o sitio","N/A","SA-KC-TH-P-01","Suscripción mensual con pago mensual vencido",4916812.55,1,0,"COP"]
["Digital Ware SASSoftware Digital Ware SASSA-KC-TH-P-02","SA-KC-TH-P-02Software Digital Ware SAS",null,"Digital Ware SAS","SA-KC-TH-P-02","Software Digital Ware SAS","Digital Ware SAS","COP","N/A","SaaS EMPLEADO ADICIONAL KACTUS-HCM GESTION TALENTO HUMANO  (entre 301-400)","Empleado","Prod","Servicio","Zonas (1,2,3)","Remoto y/o sitio","N/A","SA-KC-TH-P-02","Suscripción mensual con pago mensual vencido",16370.38,1,0,"COP"]
["Digital Ware SASSoftware Digital Ware SASSA-KC-TH-P-03","SA-KC-TH-P-03Software Digital Ware SAS",null,"Digital Ware SAS","SA-KC-TH-P-03","Software Digital Ware SAS","Digital Ware SAS","COP","N/A","SaaS EMPLEADO ADICIONAL KACTUS-HCM GESTION TALENTO HUMANO(entre 401-800)","Empleado","Prod","Servicio","Zonas (1,2,3)","Remoto y/o sitio","N/A","SA-KC-TH-P-03","Suscripción mensual con pago mensual vencido",15355.002,1,0,"COP"]
["Digital Ware SASSoftware Digital Ware SASSA-KC-TH-P-04","SA-KC-TH-P-04Software Digital Ware SAS",null,"Digital Ware SAS","SA-KC-TH-P-04","Software Digital Ware SAS","Digital Ware SAS","COP","N/A","SaaS EMPLEADO ADICIONAL KACTUS-HCM GESTION TALENTO HUMANO (entre 801-1300)","Empleado","Prod","Servicio","Zonas (1,2,3)","Remoto y/o sitio","N/A","SA-KC-TH-P-04","Suscripción mensual con pago mensual vencido",13334.607,1,0,"COP"]
["Digital Ware SASSoftware Digital Ware SASSA-KC-TH-P-05","SA-KC-TH-P-05Software Digital Ware SAS",null,"Digital Ware SAS","SA-KC-TH-P-05","Software Digital Ware SAS","Digital Ware SAS","COP","N/A","SaaS EMPLEADO ADICIONAL KACTUS-HCM GESTION TALENTO HUMANO (entre 1301-2300)","Empleado","Prod","Servicio","Zonas (1,2,3)","Remoto y/o sitio","N/A","SA-KC-TH-P-05","Suscripción mensual con pago mensual vencido",11852.984,1,0,"COP"]
["Digital Ware SASSoftware Digital Ware SASSA-KC-TH-P-06","SA-KC-TH-P-06Software Digital Ware SAS",null,"Digital Ware SAS","SA-KC-TH-P-06","Software Digital Ware SAS","Digital Ware SAS","COP","N/A","SaaS EMPLEADO ADICIONAL KACTUS-HCM GESTION TALENTO HUMANO (entre 2301-5300)","Empleado","Prod","Servicio","Zonas (1,2,3)","Remoto y/o sitio","N/A","SA-KC-TH-P-06","Suscripción mensual con pago mensual vencido",10464.61,1,0,"COP"]
["Digital Ware SASSoftware Digital Ware SASSA-KC-TH-P-07","SA-KC-TH-P-07Software Digital Ware SAS",null,"Digital Ware SAS","SA-KC-TH-P-07","Software Digital Ware SAS","Digital Ware SAS","COP","N/A","SaaS EMPLEADO ADICIONAL KACTUS-HCM GESTION TALENTO HUMANO(5301 ó más)","Empleado","Prod","Servicio","Zonas (1,2,3)","Remoto y/o sitio","N/A","SA-KC-TH-P-07","Suscripción mensual con pago mensual vencido",9428.51,1,0,"COP"]
["Digital Ware SASSoftware Digital Ware SASSA-KC-TH-P-08","SA-KC-TH-P-08Software Digital Ware SAS",null,"Digital Ware SAS","SA-KC-TH-P-08","Software Digital Ware SAS","Digital Ware SAS","COP","N/A","SaaS NIT ADICIONAL KACTUS-HCM GESTION TALENTO HUMANO","Nit","Prod","Servicio","Zonas (1,2,3)","Remoto y/o sitio","N/A","SA-KC-TH-P-08","Suscripción mensual con pago mensual vencido",714909,1,0,"COP"]
["Digital Ware SASSoftware Digital Ware SASSA-KC-TH-S-02","SA-KC-TH-S-02Software Digital Ware SAS",null,"Digital Ware SAS","SA-KC-TH-S-02","Software Digital Ware SAS","Digital Ware SAS","COP","N/A","HABILITACION SERVICIO KACTUS - HCM GESTION TALENTO HUMANO SaaS","(1) semana","Serv","Servicio","Zonas (1,2,3)","Remoto","Profesional Perfil Tecnico","SA-KC-TH-S-02","One Time",7977970.0000000009,1,1,"COP"]
["Digital Ware SASSoftware Digital Ware SASSA-KC-TH-S-03","SA-KC-TH-S-03Software Digital Ware SAS",null,"Digital Ware SAS","SA-KC-TH-S-03","Software Digital Ware SAS","Digital Ware SAS","COP","N/A","SOPORTE TÉCNICO KACTUS-HCM GESTION TALENTO HUMANO ","4 Horas","Serv","Servicio","Zonas (1,2,3)","Remoto y/o sitio","Profesional Funcional","SA-KC-TH-S-03","Mensual por servicios/productos efectivamente prestados",729414.4,1,1,"COP"]
["Digital Ware SASSoftware Digital Ware SASSA-KC-TH-S-06","SA-KC-TH-S-06Software Digital Ware SAS",null,"Digital Ware SAS","SA-KC-TH-S-06","Software Digital Ware SAS","Digital Ware SAS","COP","N/A","CAPACITACIÓN KACTUS-HCM GESTION TALENTO HUMANO PARA USUARIO TÉCNICO O ADMINISTRADOR - HASTA 5 PERSONAS. ","(1) Dia","Serv","Servicio","Zonas (1,2,3)","Remoto y/o sitio","Profesional Perfil Tecnico","SA-KC-TH-S-06","Mensual por servicios/productos efectivamente prestados",1360000,1,1,"COP"]
["Digital Ware SASSoftware Digital Ware SASSA-KC-TH-S-07","SA-KC-TH-S-07Software Digital Ware SAS",null,"Digital Ware SAS","SA-KC-TH-S-07","Software Digital Ware SAS","Digital Ware SAS","COP","N/A","CAPACITACIÓN KACTUS-HCM GESTION TALENTO HUMANO PARA USUARIO LIDER - HASTA 10 PERSONAS. ","(1) Dia","Serv","Servicio","Zonas (1,2,3)","Remoto y/o sitio","Profesional Capacitador","SA-KC-TH-S-07","Mensual por servicios/productos efectivamente prestados",1360000,1,1,"COP"]
["Digital Ware SASSoftware Digital Ware SASSA-KC-TH-S-08","SA-KC-TH-S-08Software Digital Ware SAS",null,"Digital Ware SAS","SA-KC-TH-S-08","Software Digital Ware SAS","Digital Ware SAS","COP","N/A","CAPACITACIÓN KACTUS-HCM GESTION TALENTO HUMANO PARA USUARIO USUARIO FINAL HASTA 20 PERSONAS. ","(1) Dia","Serv","Servicio","Zonas (1,2,3)","Remoto y/o sitio","Profesional Capacitador","SA-KC-TH-S-08","Mensual por servicios/productos efectivamente prestados",1360000,1,1,"COP"]
["Digital Ware SASSoftware Digital Ware SASSA-KC-TH-S-09","SA-KC-TH-S-09Software Digital Ware SAS",null,"Digital Ware SAS","SA-KC-TH-S-09","Software Digital Ware SAS","Digital Ware SAS","COP","N/A","CONFIGURACIÓN Y PARAMETRIZACIÓN  KACTUS-HCM  GESTION TALENTO HUMANO ","Hora","Serv","Servicio","Zonas (1,2,3)","Remoto y/o sitio","Profesional Funcional","SA-KC-TH-S-09","One Time",190000,1,1,"COP"]
["Digital Ware SASSoftware Digital Ware SASSA-KC-TH-S-10","SA-KC-TH-S-10Software Digital Ware SAS",null,"Digital Ware SAS","SA-KC-TH-S-10","Software Digital Ware SAS","Digital Ware SAS","COP","N/A","MIGRACIÓN DE INFORMACIÓN POR VOLUMEN DE DATOS ALMACENADOS KACTUS-HCM GESTION TALENTO HUMANO ","Hora","Serv","Servicio","Zonas (1,2,3)","Remoto y/o sitio","Profesional Funcional","SA-KC-TH-S-10","One Time",190000,1,1,"COP"]
["Digital Ware SASSoftware Digital Ware SASON-SV-GA-P-01","ON-SV-GA-P-01Software Digital Ware SAS",null,"Digital Ware SAS","ON-SV-GA-P-01","Software Digital Ware SAS","Digital Ware SAS","COP","N/A","LICENCIA SEVEN-ERP ESTANDAR ONPREMISE (Generales, Inventarios, Activos Fijos, Componente Financiero, integración SIIF NACION)","Paq x 15 usuarios","Prod","Servicio","Zonas (1,2,3)","Remoto y/o sitio","N/A","ON-SV-GA-P-01","One Time",410000000,1,1,"COP"]
["Digital Ware SASSoftware Digital Ware SASON-SV-GA-P-02","ON-SV-GA-P-02Software Digital Ware SAS",null,"Digital Ware SAS","ON-SV-GA-P-02","Software Digital Ware SAS","Digital Ware SAS","COP","N/A","LICENCIA SEVEN-ERP MODULO WF- WORKFLOW - BPM  ONPREMISE","unidad","Prod","Servicio","Zonas (1,2,3)","Remoto y/o sitio","N/A","ON-SV-GA-P-02","One Time",124332000,1,1,"COP"]
["Digital Ware SASSoftware Digital Ware SASON-SV-GA-P-03","ON-SV-GA-P-03Software Digital Ware SAS",null,"Digital Ware SAS","ON-SV-GA-P-03","Software Digital Ware SAS","Digital Ware SAS","COP","N/A","LICENCIA SEVEN-ERP MODULO PRESUPUESTO GOBIERNO ONPREMISE","unidad","Prod","Servicio","Zonas (1,2,3)","Remoto y/o sitio","N/A","ON-SV-GA-P-03","One Time",124332000,1,1,"COP"]
["Digital Ware SASSoftware Digital Ware SASON-SV-GA-P-04","ON-SV-GA-P-04Software Digital Ware SAS",null,"Digital Ware SAS","ON-SV-GA-P-04","Software Digital Ware SAS","Digital Ware SAS","COP","N/A","LICENCIA SEVEN-ERP MODULO COMPRAS ONPREMISE","unidad","Prod","Servicio","Zonas (1,2,3)","Remoto y/o sitio","N/A","ON-SV-GA-P-04","One Time",70000000,1,1,"COP"]
["Digital Ware SASSoftware Digital Ware SASON-SV-GA-P-05","ON-SV-GA-P-05Software Digital Ware SAS",null,"Digital Ware SAS","ON-SV-GA-P-05","Software Digital Ware SAS","Digital Ware SAS","COP","N/A","LICENCIA SEVEN-ERP MODULO CONTRATOS ONPREMISE","unidad","Prod","Servicio","Zonas (1,2,3)","Remoto y/o sitio","N/A","ON-SV-GA-P-05","One Time",124332000,1,1,"COP"]
["Digital Ware SASSoftware Digital Ware SASON-SV-GA-P-06","ON-SV-GA-P-06Software Digital Ware SAS",null,"Digital Ware SAS","ON-SV-GA-P-06","Software Digital Ware SAS","Digital Ware SAS","COP","N/A","LICENCIA SEVEN-ERP NIT ADICIONAL ONPREMISE ","Nit","Prod","Servicio","Zonas (1,2,3)","Remoto y/o sitio","N/A","ON-SV-GA-P-06","One Time",30000000,1,1,"COP"]
["Digital Ware SASSoftware Digital Ware SASON-SV-GA-P-07","ON-SV-GA-P-07Software Digital Ware SAS",null,"Digital Ware SAS","ON-SV-GA-P-07","Software Digital Ware SAS","Digital Ware SAS","COP","N/A","LICENCIA SEVEN-ERP USUARIO ADICIONAL ONPREMISE","usuario","Prod","Servicio","Zonas (1,2,3)","Remoto y/o sitio","N/A","ON-SV-GA-P-07","One Time",5000000,1,1,"COP"]
["Digital Ware SASSoftware Digital Ware SASON-SV-GA-S-01","ON-SV-GA-S-01Software Digital Ware SAS",null,"Digital Ware SAS","ON-SV-GA-S-01","Software Digital Ware SAS","Digital Ware SAS","COP","N/A","INSTALACION SEVEN -ERP ONPREMISE","(1) semana","Serv","Servicio","Zonas (1,2,3)","Remoto y/o sitio","Profesional Perfil Tecnico","ON-SV-GA-S-01","One Time",6800000,1,1,"COP"]
["Digital Ware SASSoftware Digital Ware SASON-SV-GA-S-02","ON-SV-GA-S-02Software Digital Ware SAS",null,"Digital Ware SAS","ON-SV-GA-S-02","Software Digital Ware SAS","Digital Ware SAS","COP","N/A","DERECHO ACTUALIZACION, SOPORTE Y MANTENIMIENTO ESTANDAR SEVEN - ERP ONPREMISE","Anual ","Serv","Servicio","Zonas (1,2,3)","Remoto y/o sitio","Profesional Funcional","ON-SV-GA-S-02","Pago anual Anticipado",248456780,1,1,"COP"]
["Digital Ware SASSoftware Digital Ware SASON-SV-GA-P-08","ON-SV-GA-P-08Software Digital Ware SAS",null,"Digital Ware SAS","ON-SV-GA-P-08","Software Digital Ware SAS","Digital Ware SAS","COP","N/A","LICENCIA SEVEN-ERP ESTANDAR ONPREMISE (Contabilidad, Tesorería, Proveedores, Cartera, Compras, Inventarios, Activos Fijos) ","Paq x  30 usuarios","Prod","Servicio","Zonas (1,2,3)","Remoto y/o sitio","N/A","ON-SV-GA-P-08","One Time",715000000,1,1,"COP"]
["Digital Ware SASSoftware Digital Ware SASSA-SV-GA-P-01","SA-SV-GA-P-01Software Digital Ware SAS",null,"Digital Ware SAS","SA-SV-GA-P-01","Software Digital Ware SAS","Digital Ware SAS","COP","N/A","SaaS SEVEN-ERP ESTANDAR (Generales, Inventarios, Activos Fijos, Componente Financiero, integración SIIF NACION)  Incluye actualización y mantenimiento","Paq x 15 usuarios","Prod","Servicio","Zonas (1,2,3)","Remoto y/o sitio","N/A","SA-SV-GA-P-01","Suscripción mensual con pago mensual vencido",19167850,1,0,"COP"]
["Digital Ware SASSoftware Digital Ware SASSA-SV-GA-P-02","SA-SV-GA-P-02Software Digital Ware SAS",null,"Digital Ware SAS","SA-SV-GA-P-02","Software Digital Ware SAS","Digital Ware SAS","COP","N/A","SaaS USUARIO SEVEN-ERP MODULO WF- WORKFLOW- BPM ","Usuario","Prod","Servicio","Zonas (1,2,3)","Remoto y/o sitio","N/A","SA-SV-GA-P-02","Suscripción mensual con pago mensual vencido",5500000,1,0,"COP"]
["Digital Ware SASSoftware Digital Ware SASSA-SV-GA-P-03","SA-SV-GA-P-03Software Digital Ware SAS",null,"Digital Ware SAS","SA-SV-GA-P-03","Software Digital Ware SAS","Digital Ware SAS","COP","N/A","SaaS USUARIO SEVEN-ERP MODULO PRESUPUESTO GOBIERNO ","Usuario","Prod","Servicio","Zonas (1,2,3)","Remoto y/o sitio","N/A","SA-SV-GA-P-03","Suscripción mensual con pago mensual vencido",5500000,1,0,"COP"]
["Digital Ware SASSoftware Digital Ware SASSA-SV-GA-P-04","SA-SV-GA-P-04Software Digital Ware SAS",null,"Digital Ware SAS","SA-SV-GA-P-04","Software Digital Ware SAS","Digital Ware SAS","COP","N/A","SaaS USUARIO  SEVEN-ERP MODULO COMPRAS ","Usuario","Prod","Servicio","Zonas (1,2,3)","Remoto y/o sitio","N/A","SA-SV-GA-P-04","Suscripción mensual con pago mensual vencido",3000000,1,0,"COP"]
["Digital Ware SASSoftware Digital Ware SASSA-SV-GA-P-05","SA-SV-GA-P-05Software Digital Ware SAS",null,"Digital Ware SAS","SA-SV-GA-P-05","Software Digital Ware SAS","Digital Ware SAS","COP","N/A","SaaS USUARIO  SEVEN-ERP MODULO CONTRATOS","Usuario","Prod","Servicio","Zonas (1,2,3)","Remoto y/o sitio","N/A","SA-SV-GA-P-05","Suscripción mensual con pago mensual vencido",4973280,1,0,"COP"]
["Digital Ware SASSoftware Digital Ware SASSA-SV-GA-P-06","SA-SV-GA-P-06Software Digital Ware SAS",null,"Digital Ware SAS","SA-SV-GA-P-06","Software Digital Ware SAS","Digital Ware SAS","COP","N/A","SaaS SEVEN-ERP NIT ADICIONAL ","Nit","Prod","Servicio","Zonas (1,2,3)","Remoto y/o sitio","N/A","SA-SV-GA-P-06","Suscripción mensual con pago mensual vencido",714909,1,0,"COP"]
["Digital Ware SASSoftware Digital Ware SASSA-SV-GA-P-07","SA-SV-GA-P-07Software Digital Ware SAS",null,"Digital Ware SAS","SA-SV-GA-P-07","Software Digital Ware SAS","Digital Ware SAS","COP","N/A","SaaS SEVEN-ERP USUARIO ADICIONAL ","usuario","Prod","Servicio","Zonas (1,2,3)","Remoto y/o sitio","N/A","SA-SV-GA-P-07","Suscripción mensual con pago mensual vencido",638928.33333333337,1,0,"COP"]
["Digital Ware SASSoftware Digital Ware SASSA-SV-GA-S-01","SA-SV-GA-S-01Software Digital Ware SAS",null,"Digital Ware SAS","SA-SV-GA-S-01","Software Digital Ware SAS","Digital Ware SAS","COP","N/A","HABILITACION SEVEN-ERP SaaS ","(1) semana","Serv","Servicio","Zonas (1,2,3)","Remoto","Profesional Perfil Tecnico","SA-SV-GA-S-01","One Time",7000000,1,1,"COP"]
["Digital Ware SASSoftware Digital Ware SASSA-SV-GA-P-08","SA-SV-GA-P-08Software Digital Ware SAS",null,"Digital Ware SAS","SA-SV-GA-P-08","Software Digital Ware SAS","Digital Ware SAS","COP","N/A","SaaS LICENCIA SEVEN-ERP ESTANDAR (Contabilidad, Tesorería, Proveedores, Cartera, Compras, Inventarios, Activos Fijos) Incluye actualización y mantenimiento","Paq x 30 usuarios","Prod","Servicio","Zonas (1,2,3)","Remoto y/o sitio","N/A","SA-SV-GA-P-08","Suscripción mensual con pago mensual vencido",44000000,1,0,"COP"]
["Digital Ware SASSoftware Digital Ware SASSA-SV-GA-S-03","SA-SV-GA-S-03Software Digital Ware SAS",null,"Digital Ware SAS","SA-SV-GA-S-03","Software Digital Ware SAS","Digital Ware SAS","COP","N/A","SOPORTE TÉCNICO SEVEN-ERP","4 Horas","Serv","Servicio","Zonas (1,2,3)","Remoto y/o sitio","Profesional Funcional","SA-SV-GA-S-03","Mensual por servicios/productos efectivamente prestados",729414.4,1,1,"COP"]
["Digital Ware SASSoftware Digital Ware SASSA-SV-GA-S-06","SA-SV-GA-S-06Software Digital Ware SAS",null,"Digital Ware SAS","SA-SV-GA-S-06","Software Digital Ware SAS","Digital Ware SAS","COP","N/A","CAPACITACIÓN SEVEN-ERP PARA USUARIO TÉCNICO O ADMINISTRADOR - HASTA 5 PERSONAS. ","1 dia","Serv","Servicio","Zonas (1,2,3)","Remoto y/o sitio","Profesional Perfil Tecnico","SA-SV-GA-S-06","Mensual por servicios/productos efectivamente prestados",1440000,1,1,"COP"]
["Digital Ware SASSoftware Digital Ware SASSA-SV-GA-S-07","SA-SV-GA-S-07Software Digital Ware SAS",null,"Digital Ware SAS","SA-SV-GA-S-07","Software Digital Ware SAS","Digital Ware SAS","COP","N/A","CAPACITACIÓN SEVEN-ERP PARA USUARIO LIDER - HASTA 10 PERSONAS. ","1 dia","Serv","Servicio","Zonas (1,2,3)","Remoto y/o sitio","Profesional Capacitador","SA-SV-GA-S-07","Mensual por servicios/productos efectivamente prestados",1440000,1,1,"COP"]
["Digital Ware SASSoftware Digital Ware SASSA-SV-GA-S-08","SA-SV-GA-S-08Software Digital Ware SAS",null,"Digital Ware SAS","SA-SV-GA-S-08","Software Digital Ware SAS","Digital Ware SAS","COP","N/A","CAPACITACIÓN SEVEN-ERP PARA USUARIO USUARIO FINAL HASTA 20 PERSONAS. ","1 dia","Serv","Servicio","Zonas (1,2,3)","Remoto y/o sitio","Profesional Capacitador","SA-SV-GA-S-08","Mensual por servicios/productos efectivamente prestados",1440000,1,1,"COP"]
["Digital Ware SASSoftware Digital Ware SASSA-SV-GA-S-09","SA-SV-GA-S-09Software Digital Ware SAS",null,"Digital Ware SAS","SA-SV-GA-S-09","Software Digital Ware SAS","Digital Ware SAS","COP","N/A","CONFIGURACIÓN Y PARAMETRIZACIÓN DE SEVEN-ERP","Hora","Serv","Servicio","Zonas (1,2,3)","Remoto y/o sitio","Profesional Funcional","SA-SV-GA-S-09","One Time",200000,1,1,"COP"]
["Digital Ware SASSoftware Digital Ware SASSA-SV-GA-S-10","SA-SV-GA-S-10Software Digital Ware SAS",null,"Digital Ware SAS","SA-SV-GA-S-10","Software Digital Ware SAS","Digital Ware SAS","COP","N/A","MIGRACIÓN DE INFORMACIÓN POR VOLUMEN DE DATOS ALMACENADOS SEVEN-ERP","Hora","Serv","Servicio","Zonas (1,2,3)","Remoto y/o sitio","Profesional Funcional","SA-SV-GA-S-10","One Time",200000,1,1,"COP"]
["Digital Ware SASSoftware Digital Ware SASON-OP-SU-P-01","ON-OP-SU-P-01Software Digital Ware SAS",null,"Digital Ware SAS","ON-OP-SU-P-01","Software Digital Ware SAS","Digital Ware SAS","COP","N/A","LICENCIA OPHELIA SUITE - BPM ESTANDAR ONPREMISE (2 usuarios diseño y hasta 50 Usuarios ejecutores)","Paq x 50 usuarios","Prod","Servicio","Zonas (1,2,3)","Remoto y/o sitio","N/A","ON-OP-SU-P-01","One Time",402524850,1,1,"COP"]
[{"$f":"D289&F289&E289","v":"Digital Ware SASSoftware Digital Ware SASON-OP-SU-P-02"},{"$f":"E289&F289","v":"ON-OP-SU-P-02Software Digital Ware SAS"},null,"Digital Ware SAS","ON-OP-SU-P-02","Software Digital Ware SAS",{"$f":"D289","v":"Digital Ware SAS"},"COP","N/A","LICENCIA IMPERIUM -BI ONPREMISE (1 usuario diseño y 15 visualizadores)","usuario","Prod","Servicio","Zonas (1,2,3)","Remoto y/o sitio","N/A",{"$f":"+E289","v":"ON-OP-SU-P-02"},"One Time",22276150,1,1,"COP"]
["Digital Ware SASSoftware Digital Ware SASON-OP-SU-P-03","ON-OP-SU-P-03Software Digital Ware SAS",null,"Digital Ware SAS","ON-OP-SU-P-03","Software Digital Ware SAS","Digital Ware SAS","COP","N/A","LICENCIA SISTEMA SGDEA ONPREMISE ","Paq x 50 usuarios","Prod","Servicio","Zonas (1,2,3)","Remoto y/o sitio","N/A","ON-OP-SU-P-03","One Time",230014200,1,1,"COP"]
["Digital Ware SASSoftware Digital Ware SASON-OP-SU-P-04","ON-OP-SU-P-04Software Digital Ware SAS",null,"Digital Ware SAS","ON-OP-SU-P-04","Software Digital Ware SAS","Digital Ware SAS","COP","N/A","LICENCIA ADICIONAL OPHELIA SUITE - BPM ONPREMISE","Usuario","Prod","Servicio","Zonas (1,2,3)","Remoto y/o sitio","N/A","ON-OP-SU-P-04","One Time",632021,1,1,"COP"]
["Digital Ware SASSoftware Digital Ware SASON-OP-SU-S-01","ON-OP-SU-S-01Software Digital Ware SAS",null,"Digital Ware SAS","ON-OP-SU-S-01","Software Digital Ware SAS","Digital Ware SAS","COP","N/A","DERECHO ACTUALIZACION, SOPORTE Y MANTENIMIENTO ESTANDAR OPHELIA SUITE ONPREMISE","Anual ","Serv","Servicio","Zonas (1,2,3)","Remoto y/o sitio","Profesional Funcional","ON-OP-SU-S-01","Pago anual Anticipado",173577833,1,1,"COP"]
["Digital Ware SASSoftware Digital Ware SASSA-OP-SU-P-01","SA-OP-SU-P-01Software Digital Ware SAS",null,"Digital Ware SAS","SA-OP-SU-P-01","Software Digital Ware SAS","Digital Ware SAS","COP","N/A","SaaS OPHELIA SUITE - BPM ESTANDAR (2 usuarios diseño y hasta 50 Usuarios ejecutores)Incluye actualización y mantenimiento","Paq x 50 usuarios","Prod","Servicio","Zonas (1,2,3)","Remoto y/o sitio","N/A","SA-OP-SU-P-01","Suscripción mensual con pago mensual vencido",36263500,1,0,"COP"]
["Digital Ware SASSoftware Digital Ware SASSA-OP-SU-P-02","SA-OP-SU-P-02Software Digital Ware SAS",null,"Digital Ware SAS","SA-OP-SU-P-02","Software Digital Ware SAS","Digital Ware SAS","COP","N/A","SaaS IMPERIUM -BI (1 usuario diseño y 15 visualizadores)","usuario","Prod","Servicio","Zonas (1,2,3)","Remoto y/o sitio","N/A","SA-OP-SU-P-02","Suscripción mensual con pago mensual vencido",1295125,1,0,"COP"]
["Digital Ware SASSoftware Digital Ware SASSA-OP-SU-P-03","SA-OP-SU-P-03Software Digital Ware SAS",null,"Digital Ware SAS","SA-OP-SU-P-03","Software Digital Ware SAS","Digital Ware SAS","COP","N/A","SaaS SISTEMA SGDEA","unidad","Prod","Servicio","Zonas (1,2,3)","Remoto y/o sitio","N/A","SA-OP-SU-P-03","Suscripción mensual con pago mensual vencido",43500000,1,0,"COP"]
["Digital Ware SASSoftware Digital Ware SASSA-OP-SU-P-04","SA-OP-SU-P-04Software Digital Ware SAS",null,"Digital Ware SAS","SA-OP-SU-P-04","Software Digital Ware SAS","Digital Ware SAS","COP","N/A","SaaS USUARIO ADICIONAL OPHELIA SUITE - BPM  ","Usuario","Prod","Servicio","Zonas (1,2,3)","Remoto y/o sitio","N/A","SA-OP-SU-P-04","Suscripción mensual con pago mensual vencido",500000,1,0,"COP"]
["Digital Ware SASSoftware Digital Ware SASSA-OP-SU-S-01","SA-OP-SU-S-01Software Digital Ware SAS",null,"Digital Ware SAS","SA-OP-SU-S-01","Software Digital Ware SAS","Digital Ware SAS","COP","N/A","SOPORTE TÉCNICO OPHELIA SUITE ","4 Horas","Serv","Servicio","Zonas (1,2,3)","Remoto y/o sitio","Profesional Funcional","SA-OP-SU-S-01","Mensual por servicios/productos efectivamente prestados",720000,1,1,"COP"]
["Digital Ware SASSoftware Digital Ware SASSA-OP-SU-S-04","SA-OP-SU-S-04Software Digital Ware SAS",null,"Digital Ware SAS","SA-OP-SU-S-04","Software Digital Ware SAS","Digital Ware SAS","COP","N/A","CAPACITACIÓN OPHELIA SUITE PARA USUARIO TÉCNICO O ADMINISTRADOR - HASTA 5 PERSONAS. ","1 dia","Serv","Servicio","Zonas (1,2,3)","Remoto y/o sitio","Profesional Perfil Tecnico","SA-OP-SU-S-04","Mensual por servicios/productos efectivamente prestados",1360000,1,1,"COP"]
["Digital Ware SASSoftware Digital Ware SASSA-OP-SU-S-05","SA-OP-SU-S-05Software Digital Ware SAS",null,"Digital Ware SAS","SA-OP-SU-S-05","Software Digital Ware SAS","Digital Ware SAS","COP","N/A","CAPACITACIÓN OPHELIA SUITE PARA USUARIO FINAL - HASTA 10 PERSONAS. ","1 dia ","Serv","Servicio","Zonas (1,2,3)","Remoto y/o sitio","Profesional Capacitador","SA-OP-SU-S-05","Mensual por servicios/productos efectivamente prestados",1360000,1,1,"COP"]
["Digital Ware SASSoftware Digital Ware SASSA-OP-SU-S-06","SA-OP-SU-S-06Software Digital Ware SAS",null,"Digital Ware SAS","SA-OP-SU-S-06","Software Digital Ware SAS","Digital Ware SAS","COP","N/A","CAPACITACIÓN OPHELIA SUITE PARA USUARIO USUARIO FINAL HASTA 20 PERSONAS. ","1 dia","Serv","Servicio","Zonas (1,2,3)","Remoto y/o sitio","Profesional Capacitador","SA-OP-SU-S-06","Mensual por servicios/productos efectivamente prestados",1360000,1,1,"COP"]
["Digital Ware SASSoftware Digital Ware SASSA-OP-SU-S-07","SA-OP-SU-S-07Software Digital Ware SAS",null,"Digital Ware SAS","SA-OP-SU-S-07","Software Digital Ware SAS","Digital Ware SAS","COP","N/A","CONFIGURACIÓN Y PARAMETRIZACIÓN DE OPHELIA SUITE","Hora","Serv","Servicio","Zonas (1,2,3)","Remoto y/o sitio","Profesional Funcional","SA-OP-SU-S-07","One Time",190000,1,1,"COP"]
["Digital Ware SASSoftware Digital Ware SASSA-OP-SU-S-08","SA-OP-SU-S-08Software Digital Ware SAS",null,"Digital Ware SAS","SA-OP-SU-S-08","Software Digital Ware SAS","Digital Ware SAS","COP","N/A","MIGRACIÓN DE INFORMACIÓN POR VOLUMEN DE DATOS ALMACENADOS OPHELIA SUITE","Hora","Serv","Servicio","Zonas (1,2,3)","Remoto y/o sitio","Profesional Funcional","SA-OP-SU-S-08","One Time",190000,1,1,"COP"]
["Digital Ware SASSoftware Digital Ware SASON-OP-SU-S-04","ON-OP-SU-S-04Software Digital Ware SAS",null,"Digital Ware SAS","ON-OP-SU-S-04","Software Digital Ware SAS","Digital Ware SAS","COP","N/A","INSTALACION OPHELIA SUITE ONPREMISE","(1) semana","Serv","Servicio","Zonas (1,2,3)","Remoto y/o sitio","Profesional Perfil Tecnico","ON-OP-SU-S-04","One Time",6800000,1,1,"COP"]
["Digital Ware SASSoftware Digital Ware SASSA-OP-SU-S-09","SA-OP-SU-S-09Software Digital Ware SAS",null,"Digital Ware SAS","SA-OP-SU-S-09","Software Digital Ware SAS","Digital Ware SAS","COP","N/A","HABILITACION OPHELIA SUITE BPM SaaS","(1) semana","Serv","Servicio","Zonas (1,2,3)","Remoto","Profesional Perfil Tecnico","SA-OP-SU-S-09","One Time",6800000,1,1,"COP"]
["Digital Ware SASSoftware Digital Ware SASON-KC-NM-P-04","ON-KC-NM-P-04Software Digital Ware SAS",null,"Digital Ware SAS","ON-KC-NM-P-04","Software Digital Ware SAS","Digital Ware SAS","COP","N/A","LICENCIA KACTUS-HCM SELF SERVICE ONPREMISE (hasta 300 empleados)","Paq x 300 empleados","Prod","Servicio","Zonas (1,2,3)","Remoto y/o sitio","N/A","ON-KC-NM-P-04","One Time",15000000,1,1,"COP"]
["ServinformaciónSoftware ServinformaciónP-2001","P-2001Software Servinformación",null,"Servinformación","P-2001","Software Servinformación","Servinformación","COP","N/A","Georreferenciador: Georreferenciación malla vial SaaS","Registro","Prod","Servicio","Zonas (1,2,3)","Remoto","Usuario","P-2001","Mensual por servicios/productos efectivamente prestados","$ 65,00",1,0,"COP"]
["ServinformaciónSoftware ServinformaciónP-2002","P-2002Software Servinformación",null,"Servinformación","P-2002","Software Servinformación","Servinformación","COP","N/A","Georreferenciador: Georreferenciación Predial SaaS","Registro","Prod","Servicio","Zonas (1,2,3)","Remoto","Usuario","P-2002","Mensual por servicios/productos efectivamente prestados","$ 305,00",1,0,"COP"]
["ServinformaciónSoftware ServinformaciónP-2003","P-2003Software Servinformación",null,"Servinformación","P-2003","Software Servinformación","Servinformación","COP","N/A","Georreferenciador: Georreferenciación malla vial - ON Premise","Registro","Prod","Servicio","Zonas (1,2,3)","Sitio","N/A","P-2003","Mensual por servicios/productos efectivamente prestados","$ 65,00",1,1,"COP"]
["ServinformaciónSoftware ServinformaciónP-2004","P-2004Software Servinformación",null,"Servinformación","P-2004","Software Servinformación","Servinformación","COP","N/A","Georreferenciador: Georreferenciación Predial - ON Premise","Registro","Prod","Servicio","Zonas (1,2,3)","Sitio","N/A","P-2004","Mensual por servicios/productos efectivamente prestados","$ 305,00",1,1,"COP"]
["ServinformaciónSoftware ServinformaciónP-2005","P-2005Software Servinformación",null,"Servinformación","P-2005","Software Servinformación","Servinformación","COP","N/A","Georreferenciador: Georreferenciación Homologación SUI - ON Premise","Registro","Prod","Servicio","Zonas (1,2,3)","Sitio","N/A","P-2005","Mensual por servicios/productos efectivamente prestados","$ 1.100,00",1,1,"COP"]
["ServinformaciónSoftware ServinformaciónP-2006","P-2006Software Servinformación",null,"Servinformación","P-2006","Software Servinformación","Servinformación","COP","N/A","Georreferenciador: Georreferenciación Homologación SUI SaaS","Registro","Prod","Servicio","Zonas (1,2,3)","Remoto","Usuario","P-2006","Mensual por servicios/productos efectivamente prestados","$ 1.100,00",1,0,"COP"]
["ServinformaciónSoftware ServinformaciónP-2007","P-2007Software Servinformación",null,"Servinformación","P-2007","Software Servinformación","Servinformación","COP","N/A","Georreferenciador: Georreferenciación Inverso SaaS","Registro","Prod","Servicio","Zonas (1,2,3)","Remoto","Usuario","P-2007","Mensual por servicios/productos efectivamente prestados","$ 52,00",1,0,"COP"]
["ServinformaciónSoftware ServinformaciónP-2008","P-2008Software Servinformación",null,"Servinformación","P-2008","Software Servinformación","Servinformación","COP","N/A","Georreferenciador: Georreferenciación Inverso - On Premise","Registro","Prod","Servicio","Zonas (1,2,3)","Sitio","N/A","P-2008","Mensual por servicios/productos efectivamente prestados","$ 52,00",1,1,"COP"]
["ServinformaciónSoftware ServinformaciónP-3001","P-3001Software Servinformación",null,"Servinformación","P-3001","Software Servinformación","Servinformación","COP","N/A","SitiData Estandarización, validación, Georeferenciación Predial y código postal SaaS","Registro","Prod","Servicio","Zonas (1,2,3)","Remoto","Usuario","P-3001","Mensual por servicios/productos efectivamente prestados","$ 350,00",1,0,"COP"]
["ServinformaciónSoftware ServinformaciónP-3001-A","P-3001-ASoftware Servinformación",null,"Servinformación","P-3001-A","Software Servinformación","Servinformación","COP","N/A","SitiData Estandarización, validación, cedula en base de datos propia SaaS","Registro","Prod","Servicio","Zonas (1,2,3)","Remoto","Usuario","P-3001-A","Mensual por servicios/productos efectivamente prestados","$ 77,00",1,0,"COP"]
["ServinformaciónSoftware ServinformaciónP-3001 - B","P-3001 - BSoftware Servinformación",null,"Servinformación","P-3001 - B","Software Servinformación","Servinformación","COP","N/A","SitiData Estandarización, validación, cedula registraduria","Registro","Prod","Servicio","Zonas (1,2,3)","Remoto","Usuario","P-3001 - B","Mensual por servicios/productos efectivamente prestados","$80",1,0,"COP"]
["ServinformaciónSoftware ServinformaciónP-3001 - C","P-3001 - CSoftware Servinformación",null,"Servinformación","P-3001 - C","Software Servinformación","Servinformación","COP","N/A","SitiData correo basico ","Registro","Prod","Servicio","Zonas (1,2,3)","Remoto","Registro","P-3001 - C","Mensual por servicios/productos efectivamente prestados","$63",1,0,"COP"]
["ServinformaciónSoftware ServinformaciónP-3001 - D","P-3001 - DSoftware Servinformación",null,"Servinformación","P-3001 - D","Software Servinformación","Servinformación","COP","N/A","SitiData correo avanzado","Registro","Prod","Servicio","Zonas (1,2,3)","Remoto","Registro","P-3001 - D","Mensual por servicios/productos efectivamente prestados","$1959",1,0,"COP"]
["ServinformaciónSoftware ServinformaciónP-3001 - E","P-3001 - ESoftware Servinformación",null,"Servinformación","P-3001 - E","Software Servinformación","Servinformación","COP","N/A","SitiData Estandarización, validación, comercio","Registro","Prod","Servicio","Zonas (1,2,3)","Remoto","Usuario","P-3001 - E","Mensual por servicios/productos efectivamente prestados","$5000",1,0,"COP"]
["ServinformaciónSoftware ServinformaciónP-3002","P-3002Software Servinformación",null,"Servinformación","P-3002","Software Servinformación","Servinformación","COP","N/A","SitiData Geoinverso, estandarización, validación y código Postal SaaS","Registro","Prod","Servicio","Zonas (1,2,3)","Remoto","Usuario","P-3002","Mensual por servicios/productos efectivamente prestados","$ 65,00",1,0,"COP"]
["ServinformaciónSoftware ServinformaciónP-3003","P-3003Software Servinformación",null,"Servinformación","P-3003","Software Servinformación","Servinformación","COP","N/A","SitiData Homologación NPN - SUI Automática y Manual SaaS","Registro","Prod","Servicio","Zonas (1,2,3)","Remoto","Usuario","P-3003","Mensual por servicios/productos efectivamente prestados","$ 1.200,00",1,0,"COP"]
["ServinformaciónSoftware ServinformaciónP-6001","P-6001Software Servinformación",null,"Servinformación","P-6001","Software Servinformación","Servinformación","COP","N/A","Datarutas SaaS (Planeación, Zonificación, Seguimiento GPS y formularios personalizados)","Mensual por recurso","Prod","Servicio","Zonas (1,2,3)","Remoto","Usuario","P-6001","Mensual por servicios/productos efectivamente prestados","$ 85.000,00",1,0,"COP"]
["ServinformaciónSoftware ServinformaciónP-6002","P-6002Software Servinformación",null,"Servinformación","P-6002","Software Servinformación","Servinformación","COP","N/A","Datarutas SaaS (Planeación, Zonificación, Seguimiento GPS y formularios personalizados)","Anual por recurso","Prod","Servicio","Zonas (1,2,3)","Remoto","Usuario","P-6002","Mensual por servicios/productos efectivamente prestados","$ 918.000,00",1,0,"COP"]
["ServinformaciónSoftware ServinformaciónP-6002 - A","P-6002 - ASoftware Servinformación",null,"Servinformación","P-6002 - A","Software Servinformación","Servinformación","COP","N/A","Datarutas - formularios - Basic ","Mensual","Prod","Servicio","Zonas (1,2,3)","Remoto","Usuario","P-6002 - A","Mensual por servicios/productos efectivamente prestados","$12000",1,0,"COP"]
["ServinformaciónSoftware ServinformaciónP-6002 - B ","P-6002 - B Software Servinformación",null,"Servinformación","P-6002 - B ","Software Servinformación","Servinformación","COP","N/A","Datarutas - formularios - Estandar ","Mensual","Prod","Servicio","Zonas (1,2,3)","Remoto","Usuario","P-6002 - B ","Mensual por servicios/productos efectivamente prestados","$15000",1,0,"COP"]
["ServinformaciónSoftware ServinformaciónP-6002 - C","P-6002 - CSoftware Servinformación",null,"Servinformación","P-6002 - C","Software Servinformación","Servinformación","COP","N/A","Datarutas - formularios - Premiun ","Mensual","Prod","Servicio","Zonas (1,2,3)","Remoto","Usuario","P-6002 - C","Mensual por servicios/productos efectivamente prestados","$19000",1,0,"COP"]
["ServinformaciónSoftware ServinformaciónP-4001","P-4001Software Servinformación",null,"Servinformación","P-4001","Software Servinformación","Servinformación","COP","N/A","Geomarketing para 5 usuarios SaaS (Datalake, Censo Poblacional, Comercial, Empresarial, Ingresos, Gastos, entre otros)","Mensual","Prod","Servicio","Zonas (1,2,3)","Remoto","Usuario","P-4001","Mensual por servicios/productos efectivamente prestados","$ 29.165.142,86",1,0,"COP"]
["ServinformaciónSoftware ServinformaciónP-4002","P-4002Software Servinformación",null,"Servinformación","P-4002","Software Servinformación","Servinformación","COP","N/A","Geomarketing Para 10 usuarios SaaS (Datalake, Censo Poblacional, Comercial, Empresarial, Ingresos, Gastos, entre otros)","Mensual","Prod","Servicio","Zonas (1,2,3)","Remoto","Usuario","P-4002","Mensual por servicios/productos efectivamente prestados","$ 54.330.285,71",1,0,"COP"]
["ServinformaciónSoftware ServinformaciónP-4003","P-4003Software Servinformación",null,"Servinformación","P-4003","Software Servinformación","Servinformación","COP","N/A","Geomarketing Plus Ilimitado SaaS (Datalake, Censo Poblacional, Comercial, Empresarial, Ingresos, Gastos, entre otros)","Mensual","Prod","Servicio","Zonas (1,2,3)","Remoto","Usuario","P-4003","Mensual por servicios/productos efectivamente prestados","$ 87.495.428,57",1,0,"COP"]
["ServinformaciónSoftware ServinformaciónP-4004","P-4004Software Servinformación",null,"Servinformación","P-4004","Software Servinformación","Servinformación","COP","N/A","Geomarketing Servihuella SaaS (Censo Poblacional, Comercial, Empresarial, Ingresos, Gastos, entre otros)","Registro","Prod","Servicio","Zonas (1,2,3)","Remoto","Usuario","P-4004","Mensual por servicios/productos efectivamente prestados","$ 0,90",1,0,"COP"]
["ServinformaciónSoftware ServinformaciónP-4004-A","P-4004-ASoftware Servinformación",null,"Servinformación","P-4004-A","Software Servinformación","Servinformación","COP","N/A","Geomarketing Servihuella etiquetado de usuario unico SaaS (Intereses, Demograficosl, Geotag, entre otros)","Registro","Prod","Servicio","Zonas (1,2,3)","Remoto","Usuario","P-4004-A","Mensual por servicios/productos efectivamente prestados","$ 700,00",1,0,"COP"]
["ServinformaciónSoftware ServinformaciónP-4005","P-4005Software Servinformación",null,"Servinformación","P-4005","Software Servinformación","Servinformación","COP","N/A","Geomarketing Infocomercio SaaS (Censo Poblacional, Comercial, Empresarial, Ingresos, Gastos, entre otros)","Registro","Prod","Servicio","Zonas (1,2,3)","Remoto","Usuario","P-4005","Mensual por servicios/productos efectivamente prestados","$ 12.000,00",1,0,"COP"]
["ServinformaciónSoftware ServinformaciónP-4006","P-4006Software Servinformación",null,"Servinformación","P-4006","Software Servinformación","Servinformación","COP","N/A","Geomarketing Geoproyecciones SaaS (Censo Poblacional, Comercial, Empresarial, Ingresos, Gastos, entre otros)","Mensual","Prod","Servicio","Zona 1","Remoto","Usuario","P-4006","Mensual por servicios/productos efectivamente prestados","$ 72.000.000,00",1,0,"COP"]
["ServinformaciónSoftware ServinformaciónP-4007","P-4007Software Servinformación",null,"Servinformación","P-4007","Software Servinformación","Servinformación","COP","N/A","Geomarketing Geoproyecciones SaaS (Censo Poblacional, Comercial, Empresarial, Ingresos, Gastos, entre otros)","Mensual","Prod","Servicio","Zona 3","Remoto","Usuario","P-4007","Mensual por servicios/productos efectivamente prestados","$ 20.571.428,57",1,0,"COP"]
["ServinformaciónSoftware ServinformaciónP-4008","P-4008Software Servinformación",null,"Servinformación","P-4008","Software Servinformación","Servinformación","COP","N/A","Geomarketing Geoproyecciones SaaS (Censo Poblacional, Comercial, Empresarial, Ingresos, Gastos, entre otros)","Mensual","Prod","Servicio","Zona 2","Remoto","Usuario","P-4008","Mensual por servicios/productos efectivamente prestados","$ 72.000.000,00",1,0,"COP"]
["ServinformaciónSoftware ServinformaciónP-4009","P-4009Software Servinformación",null,"Servinformación","P-4009","Software Servinformación","Servinformación","COP","N/A","Geomarketing para 5 usuarios SaaS (Datalake, Censo Poblacional, Comercial, Empresarial, Ingresos, Gastos, entre otros)","Anual","Prod","Servicio","Zonas (1,2,3)","Remoto","Usuario","P-4009","Pago anual Anticipado","$ 204.156.000,00",1,0,"COP"]
["ServinformaciónSoftware ServinformaciónP-4010","P-4010Software Servinformación",null,"Servinformación","P-4010","Software Servinformación","Servinformación","COP","N/A","Geomarketing Para 10 usuarios SaaS (Datalake, Censo Poblacional, Comercial, Empresarial, Ingresos, Gastos, entre otros)","Anual","Prod","Servicio","Zonas (1,2,3)","Remoto","Usuario","P-4010","Pago anual Anticipado","$ 380.312.000,00",1,0,"COP"]
["ServinformaciónSoftware ServinformaciónP-4011","P-4011Software Servinformación",null,"Servinformación","P-4011","Software Servinformación","Servinformación","COP","N/A","Geomarketing Plus Ilimitado SaaS (Datalake, Censo Poblacional, Comercial, Empresarial, Ingresos, Gastos, entre otros)","Anual","Prod","Servicio","Zonas (1,2,3)","Remoto","Usuario","P-4011","Pago anual Anticipado","$ 612.468.000,00",1,0,"COP"]
["ServinformaciónSoftware ServinformaciónP-4012","P-4012Software Servinformación",null,"Servinformación","P-4012","Software Servinformación","Servinformación","COP","N/A","Geomarketing Geoproyecciones SaaS (Datalake, Censo Poblacional, Comercial, Empresarial, Ingresos, Gastos, entre otros)","Anual","Prod","Servicio","Zona 1","Remoto","Usuario","P-4012","Pago anual Anticipado","$ 504.000.000,00",1,0,"COP"]
["ServinformaciónSoftware ServinformaciónP-4013","P-4013Software Servinformación",null,"Servinformación","P-4013","Software Servinformación","Servinformación","COP","N/A","Geomarketing Geoproyecciones SaaS (Datalake, Censo Poblacional, Comercial, Empresarial, Ingresos, Gastos, entre otros)","Anual","Prod","Servicio","Zona 3","Remoto","Usuario","P-4013","Pago anual Anticipado","$ 144.000.000,00",1,0,"COP"]
["ServinformaciónSoftware ServinformaciónP-4014","P-4014Software Servinformación",null,"Servinformación","P-4014","Software Servinformación","Servinformación","COP","N/A","Geomarketing Geoproyecciones SaaS (Datalake, Censo Poblacional, Comercial, Empresarial, Ingresos, Gastos, entre otros)","Anual","Prod","Servicio","Zona 2","Remoto","Usuario","P-4014","Pago anual Anticipado","$ 504.000.000,00",1,0,"COP"]
["ServinformaciónSoftware ServinformaciónP-4014-A","P-4014-ASoftware Servinformación",null,"Servinformación","P-4014-A","Software Servinformación","Servinformación","COP","N/A","Geomarketing BI (2 desarrolladores, 10 usuarios estandar, 250 visualizadores externos, conexion DB ilimitadas, trasmision de datos ilimitados)","Anual","Prod","Servicio","Zonas (1,2,3)","Remoto","Usuario","P-4014-A","Pago anual Anticipado","$ 797.790.000,00",1,0,"COP"]
["ServinformaciónSoftware ServinformaciónP-4014-B","P-4014-BSoftware Servinformación",null,"Servinformación","P-4014-B","Software Servinformación","Servinformación","COP","N/A","Geomarketing ServiAnalitycs - Machine Learning Model XS","Anual","Prod","Servicio","Zonas (1,2,3)","Remoto","Usuario","P-4014-B","Pago anual Anticipado","$ 80.000.000,00",1,0,"COP"]
["ServinformaciónSoftware ServinformaciónP-4014-C","P-4014-CSoftware Servinformación",null,"Servinformación","P-4014-C","Software Servinformación","Servinformación","COP","N/A","Geomarketing ServiAnalitycs - Machine Learning Model S","Anual","Prod","Servicio","Zonas (1,2,3)","Remoto","Usuario","P-4014-C","Pago anual Anticipado","$ 180.000.000,00",1,0,"COP"]
["ServinformaciónSoftware ServinformaciónP-4014-D","P-4014-DSoftware Servinformación",null,"Servinformación","P-4014-D","Software Servinformación","Servinformación","COP","N/A","Geomarketing ServiAnalitycs - Machine Learning Model M","Anual","Prod","Servicio","Zonas (1,2,3)","Remoto","Usuario","P-4014-D","Pago anual Anticipado","$ 360.000.000,00",1,0,"COP"]
["ServinformaciónSoftware ServinformaciónP-4014-E","P-4014-ESoftware Servinformación",null,"Servinformación","P-4014-E","Software Servinformación","Servinformación","COP","N/A","Geomarketing ServiAnalitycs - Machine Learning Model L","Anual","Prod","Servicio","Zonas (1,2,3)","Remoto","Usuario","P-4014-E","Pago anual Anticipado","$ 720.000.000,00",1,0,"COP"]
["ServinformaciónSoftware ServinformaciónP-4014-F","P-4014-FSoftware Servinformación",null,"Servinformación","P-4014-F","Software Servinformación","Servinformación","COP","N/A","Geomarketing ServiAnalitycs - Machine Learning Model XS","Mensual","Prod","Servicio","Zonas (1,2,3)","Remoto","Usuario","P-4014-F","Mensual por servicios/productos efectivamente prestados","$ 15.000.000,00",1,0,"COP"]
["ServinformaciónSoftware ServinformaciónP-4014-G","P-4014-GSoftware Servinformación",null,"Servinformación","P-4014-G","Software Servinformación","Servinformación","COP","N/A","Geomarketing ServiAnalitycs - Machine Learning Model S","Mensual","Prod","Servicio","Zonas (1,2,3)","Remoto","Usuario","P-4014-G","Mensual por servicios/productos efectivamente prestados","$ 22.500.000,00",1,0,"COP"]
["ServinformaciónSoftware ServinformaciónP-4014-H","P-4014-HSoftware Servinformación",null,"Servinformación","P-4014-H","Software Servinformación","Servinformación","COP","N/A","Geomarketing ServiAnalitycs - Machine Learning Model M","Mensual","Prod","Servicio","Zonas (1,2,3)","Remoto","Usuario","P-4014-H","Mensual por servicios/productos efectivamente prestados","$ 45.000.000,00",1,0,"COP"]
["ServinformaciónSoftware ServinformaciónP-4014-I","P-4014-ISoftware Servinformación",null,"Servinformación","P-4014-I","Software Servinformación","Servinformación","COP","N/A","Geomarketing ServiAnalitycs - Machine Learning Model L","Mensual","Prod","Servicio","Zonas (1,2,3)","Remoto","Usuario","P-4014-I","Mensual por servicios/productos efectivamente prestados","$ 90.000.000,00",1,0,"COP"]
["ServinformaciónSoftware ServinformaciónP-9001","P-9001Software Servinformación",null,"Servinformación","P-9001","Software Servinformación","Servinformación","COP","N/A","Geovisor Web hasta 5 GB SaaS (Sistema de Información Geográfico de código abierto)","Mensual","Prod","Servicio","Zonas (1,2,3)","Remoto","Usuario","P-9001","Mensual por servicios/productos efectivamente prestados","$ 26.000.000,00",1,0,"COP"]
["ServinformaciónSoftware ServinformaciónP-9002","P-9002Software Servinformación",null,"Servinformación","P-9002","Software Servinformación","Servinformación","COP","N/A","Geovisor Web hasta 5 GB SaaS (Sistema de Información Geográfico de código abierto)","Anual","Prod","Servicio","Zonas (1,2,3)","Remoto","Usuario","P-9002","Pago anual Anticipado","$ 250.000.000,00",1,0,"COP"]
[{"$f":"D353&F353&E353","v":"ServinformaciónSoftware ServinformaciónP-9003"},{"$f":"E353&F353","v":"P-9003Software Servinformación"},null,"Servinformación","P-9003","Software Servinformación",{"$f":"D353","v":"Servinformación"},"COP","N/A","Geovisor Web 1 GB Adicional (Almacenamiento y Procesamiento)","Mensual","Prod","Servicio","Zonas (1,2,3)","Remoto","Usuario",{"$f":"+E353","v":"P-9003"},"Mensual por servicios/productos efectivamente prestados","$ 434.000,00",1,0,"COP"]
["ServinformaciónSoftware ServinformaciónP-9004","P-9004Software Servinformación",null,"Servinformación","P-9004","Software Servinformación","Servinformación","COP","N/A","Geovisor Web 1 GB Adicional","Anual","Prod","Servicio","Zonas (1,2,3)","Remoto","Usuario","P-9004","Mensual por servicios/productos efectivamente prestados","$ 3.500.000,00",1,0,"COP"]
["ServinformaciónSoftware ServinformaciónP-9005","P-9005Software Servinformación",null,"Servinformación","P-9005","Software Servinformación","Servinformación","COP","N/A","Geovisor Movil 1TB Tráfico Mensual (Almacenamiento y Procesamiento)","Mensual","Prod","Servicio","Zonas (1,2,3)","Remoto","Usuario","P-9005","Mensual por servicios/productos efectivamente prestados","$ 3.125.000,00",1,0,"COP"]
["ServinformaciónSoftware ServinformaciónP-9006","P-9006Software Servinformación",null,"Servinformación","P-9006","Software Servinformación","Servinformación","COP","N/A","Geovisor Movil 1TB Tráfico Mensual (Almacenamiento y Procesamiento)","Anual","Prod","Servicio","Zonas (1,2,3)","Remoto","Usuario","P-9006","Pago anual Anticipado","$ 25.000.000,00",1,0,"COP"]
["ServinformaciónSoftware ServinformaciónP-9007","P-9007Software Servinformación",null,"Servinformación","P-9007","Software Servinformación","Servinformación","COP","N/A","Geovisor Ciudades Inteligentes - Basic","Mensual","Prod","Servicio","Zona 3","Remoto","Usuario","P-9007","Mensual por servicios/productos efectivamente prestados",47356166.666666664,1,0,"COP"]
["ServinformaciónSoftware ServinformaciónP-9008","P-9008Software Servinformación",null,"Servinformación","P-9008","Software Servinformación","Servinformación","COP","N/A","Geovisor Ciudades Inteligentes - Basic","Anual","Prod","Servicio","Zona 3","Remoto","Usuario","P-9008","Mensual por servicios/productos efectivamente prestados",568274000,1,0,"COP"]
["ServinformaciónSoftware ServinformaciónP-9009","P-9009Software Servinformación",null,"Servinformación","P-9009","Software Servinformación","Servinformación","COP","N/A","Geovisor Ciudades Inteligentes - Estandar ","Mensual","Prod","Servicio","Zona 2","Remoto","Usuario","P-9009","Mensual por servicios/productos efectivamente prestados",62983701.666666664,1,0,"COP"]
["ServinformaciónSoftware ServinformaciónP-9010","P-9010Software Servinformación",null,"Servinformación","P-9010","Software Servinformación","Servinformación","COP","N/A","Geovisor Ciudades Inteligentes - Estandar ","Anual","Prod","Servicio","Zona 2","Remoto","Usuario","P-9010","Mensual por servicios/productos efectivamente prestados",755804420,1,0,"COP"]
["ServinformaciónSoftware ServinformaciónP-9011","P-9011Software Servinformación",null,"Servinformación","P-9011","Software Servinformación","Servinformación","COP","N/A","Geovisor Ciudades Inteligentes - Premiun ","Mensual","Prod","Servicio","Zona 1","Remoto","Usuario","P-9011","Mensual por servicios/productos efectivamente prestados",78611236.666666657,1,0,"COP"]
["ServinformaciónSoftware ServinformaciónP-9012","P-9012Software Servinformación",null,"Servinformación","P-9012","Software Servinformación","Servinformación","COP","N/A","Geovisor Ciudades Inteligentes - Premiun ","Anual","Prod","Servicio","Zona 1","Remoto","Usuario","P-9012","Mensual por servicios/productos efectivamente prestados",943334839.99999988,1,0,"COP"]
["ServinformaciónSoftware ServinformaciónP-9013","P-9013Software Servinformación",null,"Servinformación","P-9013","Software Servinformación","Servinformación","COP","N/A","Geovisor Catastro Multipropósito SaaS - S","Mensual","Prod","Servicio","Zona 3","Remoto","Usuario","P-9013","Mensual por servicios/productos efectivamente prestados","$ 34.000.000,00",1,0,"COP"]
["ServinformaciónSoftware ServinformaciónP-9014","P-9014Software Servinformación",null,"Servinformación","P-9014","Software Servinformación","Servinformación","COP","N/A","Geovisor Catastro Multipropósito SaaS - S","Anual","Prod","Servicio","Zona 3","Remoto","Usuario","P-9014","Mensual por servicios/productos efectivamente prestados","$ 324.000.000,00",1,0,"COP"]
["ServinformaciónSoftware ServinformaciónP-9015","P-9015Software Servinformación",null,"Servinformación","P-9015","Software Servinformación","Servinformación","COP","N/A","Geovisor Catastro Multipropósito SaaS  - M","Mensual","Prod","Servicio","Zona 2","Remoto","Usuario","P-9015","Mensual por servicios/productos efectivamente prestados","$ 105.000.000,00",1,0,"COP"]
["ServinformaciónSoftware ServinformaciónP-9016","P-9016Software Servinformación",null,"Servinformación","P-9016","Software Servinformación","Servinformación","COP","N/A","Geovisor Catastro Multipropósito SaaS  - M","Anual","Prod","Servicio","Zona 2","Remoto","Usuario","P-9016","Mensual por servicios/productos efectivamente prestados","$ 960.000.000,00",1,0,"COP"]
["ServinformaciónSoftware ServinformaciónP-9017","P-9017Software Servinformación",null,"Servinformación","P-9017","Software Servinformación","Servinformación","COP","N/A","Geovisor Catastro Multipropósito SaaS  - L","Mensual","Prod","Servicio","Zona 1","Remoto","Usuario","P-9017","Mensual por servicios/productos efectivamente prestados","$ 160.000.000,00",1,0,"COP"]
["ServinformaciónSoftware ServinformaciónP-9018","P-9018Software Servinformación",null,"Servinformación","P-9018","Software Servinformación","Servinformación","COP","N/A","Geovisor Catastro Multipropósito SaaS  - L","Anual","Prod","Servicio","Zona 1","Remoto","Usuario","P-9018","Mensual por servicios/productos efectivamente prestados","$ 1.550.000.000,00",1,0,"COP"]
["ServinformaciónSoftware ServinformaciónP-9019","P-9019Software Servinformación",null,"Servinformación","P-9019","Software Servinformación","Servinformación","USD","N/A","Geovisor Catastro - Imagen Spot (5 km x 5 km, resolución 0.5 m, escena de archivo mayor a 30 días)","Mensual","Prod","Servicio","Zonas (1,2,3)","Remoto","Usuario","P-9019","Mensual por servicios/productos efectivamente prestados","$1150",1,1,"USD"]
["ServinformaciónSoftware ServinformaciónP-9020","P-9020Software Servinformación",null,"Servinformación","P-9020","Software Servinformación","Servinformación","USD","N/A","Geovisor Catastro - Imagen Spot (5 km x 5 km, resolución 0.5 m, escena de archivo fresco menor a 30 días)","Mensual","Prod","Servicio","Zonas (1,2,3)","Remoto","Usuario","P-9020","Mensual por servicios/productos efectivamente prestados","$2300",1,1,"USD"]
["ServinformaciónSoftware ServinformaciónP-9021","P-9021Software Servinformación",null,"Servinformación","P-9021","Software Servinformación","Servinformación","USD","N/A","Geovisor Catastro - Imagen Spot (5 km x 5 km, resolución 0.5 m, programación de escena 7 días)","Mensual","Prod","Servicio","Zonas (1,2,3)","Remoto","Usuario","P-9021","Mensual por servicios/productos efectivamente prestados","$3450",1,1,"USD"]
["ServinformaciónSoftware ServinformaciónP-9022","P-9022Software Servinformación",null,"Servinformación","P-9022","Software Servinformación","Servinformación","USD","N/A","Geovisor Catastro - Imagen Spot (5 km x 5 km, resolución 0.5 m, programación de escena 3 días)","Mensual","Prod","Servicio","Zonas (1,2,3)","Remoto","Usuario","P-9022","Mensual por servicios/productos efectivamente prestados","$4094",1,1,"USD"]
["ServinformaciónSoftware ServinformaciónP-9023","P-9023Software Servinformación",null,"Servinformación","P-9023","Software Servinformación","Servinformación","USD","N/A","Geovisor Catastro - Imagen Spot (5 km x 5 km, resolución 0.5 m, programación de escena 1 día)","Mensual","Prod","Servicio","Zonas (1,2,3)","Remoto","Usuario","P-9023","Mensual por servicios/productos efectivamente prestados","$4750",1,1,"USD"]
["ServinformaciónSoftware ServinformaciónP-9024","P-9024Software Servinformación",null,"Servinformación","P-9024","Software Servinformación","Servinformación","USD","N/A","Geovisor Catastro - Imagen Site (5 km x 10 km, resolución 1 m, escena de archivo mayor a 30 días)","Mensual","Prod","Servicio","Zonas (1,2,3)","Remoto","Usuario","P-9024","Mensual por servicios/productos efectivamente prestados","$765",1,1,"USD"]
["ServinformaciónSoftware ServinformaciónP-9025","P-9025Software Servinformación",null,"Servinformación","P-9025","Software Servinformación","Servinformación","USD","N/A","Geovisor Catastro - Imagen Site (5 km x 10 km, resolución 1 m, escena de archivo fresco menor a 30 días)","Mensual","Prod","Servicio","Zonas (1,2,3)","Remoto","Usuario","P-9025","Mensual por servicios/productos efectivamente prestados","$1530",1,1,"USD"]
["ServinformaciónSoftware ServinformaciónP-9026","P-9026Software Servinformación",null,"Servinformación","P-9026","Software Servinformación","Servinformación","USD","N/A","Geovisor Catastro - Imagen Site (5 km x 10 km, resolución 1 m, programación de escena 7 días)","Mensual","Prod","Servicio","Zonas (1,2,3)","Remoto","Usuario","P-9026","Mensual por servicios/productos efectivamente prestados","$2300",1,1,"USD"]
["ServinformaciónSoftware ServinformaciónP-9027","P-9027Software Servinformación",null,"Servinformación","P-9027","Software Servinformación","Servinformación","USD","N/A","Geovisor Catastro - Imagen Site (5 km x 10 km, resolución 1 m, programación de escena 3 días)","Mensual","Prod","Servicio","Zonas (1,2,3)","Remoto","Usuario","P-9027","Mensual por servicios/productos efectivamente prestados","$2737",1,1,"USD"]
["ServinformaciónSoftware ServinformaciónP-9028","P-9028Software Servinformación",null,"Servinformación","P-9028","Software Servinformación","Servinformación","USD","N/A","Geovisor Catastro - Imagen Site(5 km x 10 km, resolución 1 m, programación de escena 1 día)","Mensual","Prod","Servicio","Zonas (1,2,3)","Remoto","Usuario","P-9028","Mensual por servicios/productos efectivamente prestados","$3163",1,1,"USD"]
["ServinformaciónSoftware ServinformaciónP-9029","P-9029Software Servinformación",null,"Servinformación","P-9029","Software Servinformación","Servinformación","USD","N/A","Geovisor Catastro - Imagen Strip (5 km x 20 km, resolución 1.2 m, escena de archivo mayor a 30 días)","Mensual","Prod","Servicio","Zonas (1,2,3)","Remoto","Usuario","P-9029","Mensual por servicios/productos efectivamente prestados","$385",1,1,"USD"]
["ServinformaciónSoftware ServinformaciónP-9030","P-9030Software Servinformación",null,"Servinformación","P-9030","Software Servinformación","Servinformación","USD","N/A","Geovisor Catastro - Imagen Strip (5 km x 20 km, resolución 1.2 m, escena de archivo fresco menor a 30 días)","Mensual","Prod","Servicio","Zonas (1,2,3)","Remoto","Usuario","P-9030","Mensual por servicios/productos efectivamente prestados","$771",1,1,"USD"]
["ServinformaciónSoftware ServinformaciónP-9031","P-9031Software Servinformación",null,"Servinformación","P-9031","Software Servinformación","Servinformación","USD","N/A","Geovisor Catastro - Imagen Strip (5 km x 20 km, resolución 1.2 m, programación de escena 7 días)","Mensual","Prod","Servicio","Zonas (1,2,3)","Remoto","Usuario","P-9031","Mensual por servicios/productos efectivamente prestados","$1150",1,1,"USD"]
["ServinformaciónSoftware ServinformaciónP-9032","P-9032Software Servinformación",null,"Servinformación","P-9032","Software Servinformación","Servinformación","USD","N/A","Geovisor Catastro - Imagen Strip (5 km x 20 km, resolución 1.2 m, programación de escena 3 días)","Mensual","Prod","Servicio","Zonas (1,2,3)","Remoto","Usuario","P-9032","Mensual por servicios/productos efectivamente prestados","$1369",1,1,"USD"]
["ServinformaciónSoftware ServinformaciónP-9033","P-9033Software Servinformación",null,"Servinformación","P-9033","Software Servinformación","Servinformación","USD","N/A","Geovisor Catastro - Imagen Strip (5 km x 20 km, resolución 1.2 m,, programación de escena 1 día)","Mensual","Prod","Servicio","Zonas (1,2,3)","Remoto","Usuario","P-9033","Mensual por servicios/productos efectivamente prestados","$1587",1,1,"USD"]
["ServinformaciónSoftware ServinformaciónAG-7001","AG-7001Software Servinformación",null,"Servinformación","AG-7001","Software Servinformación","Servinformación","COP","N/A","AGRODATAI - Gremios","Mensual","Prod","Servicio","Zonas (1,2,3)","Remoto","Usuario","AG-7001","Mensual por servicios/productos efectivamente prestados","$ 12.000.000",1,0,"COP"]
["ServinformaciónSoftware ServinformaciónAG-7002","AG-7002Software Servinformación",null,"Servinformación","AG-7002","Software Servinformación","Servinformación","COP","N/A","AGRODATAI - Asociaciones","Mensual","Prod","Servicio","Zonas (1,2,3)","Remoto","Usuario","AG-7002","Mensual por servicios/productos efectivamente prestados","$ 12.000.000",1,0,"COP"]
["ServinformaciónSoftware ServinformaciónAG-7003","AG-7003Software Servinformación",null,"Servinformación","AG-7003","Software Servinformación","Servinformación","COP","N/A","AGRODATAI - Comercializadores","Mensual","Prod","Servicio","Zonas (1,2,3)","Remoto","Usuario","AG-7003","Mensual por servicios/productos efectivamente prestados","$ 12.000.000",1,0,"COP"]
["ServinformaciónSoftware ServinformaciónAG-7004","AG-7004Software Servinformación",null,"Servinformación","AG-7004","Software Servinformación","Servinformación","COP","N/A","AGRODATAI - Transformadores","Mensual","Prod","Servicio","Zonas (1,2,3)","Remoto","Usuario","AG-7004","Mensual por servicios/productos efectivamente prestados","$ 12.000.000",1,0,"COP"]
["ServinformaciónSoftware ServinformaciónAG-7005","AG-7005Software Servinformación",null,"Servinformación","AG-7005","Software Servinformación","Servinformación","COP","N/A","AGRODATAI - Bancos","Mensual","Prod","Servicio","Zonas (1,2,3)","Remoto","Usuario","AG-7005","Mensual por servicios/productos efectivamente prestados","$ 15.000.000",1,0,"COP"]
["ServinformaciónSoftware ServinformaciónAG-7006","AG-7006Software Servinformación",null,"Servinformación","AG-7006","Software Servinformación","Servinformación","COP","N/A","AGRODATAI - Aseguradoras","Mensual","Prod","Servicio","Zonas (1,2,3)","Remoto","Usuario","AG-7006","Mensual por servicios/productos efectivamente prestados","$ 15.000.000",1,0,"COP"]
["ServinformaciónSoftware ServinformaciónAG-7007","AG-7007Software Servinformación",null,"Servinformación","AG-7007","Software Servinformación","Servinformación","COP","N/A","AGRODATAI - Entidas publicas orden nacional","Mensual","Prod","Servicio","Zonas (1,2,3)","Remoto","Usuario","AG-7007","Mensual por servicios/productos efectivamente prestados","$ 12.000.000",1,0,"COP"]
["ServinformaciónSoftware ServinformaciónAG-7008","AG-7008Software Servinformación",null,"Servinformación","AG-7008","Software Servinformación","Servinformación","COP","N/A","AGRODATAI - Entidades territoriales","Mensual","Prod","Servicio","Zonas (1,2,3)","Remoto","Usuario","AG-7008","Mensual por servicios/productos efectivamente prestados","$ 12.000.000",1,0,"COP"]
["ServinformaciónSoftware ServinformaciónPR-001-1","PR-001-1Software Servinformación",null,"Servinformación","PR-001-1","Software Servinformación","Servinformación","COP","N/A","Sitidoctor - SaaS","Anual","Prod","Servicio","Zona 1","Remoto","Usuario","PR-001-1","Mensual por servicios/productos efectivamente prestados","$ 180.000.000,00",1,0,"COP"]
["ServinformaciónSoftware ServinformaciónPR-001-2","PR-001-2Software Servinformación",null,"Servinformación","PR-001-2","Software Servinformación","Servinformación","COP","N/A","Sitidoctor - SaaS","Anual","Prod","Servicio","Zona 3","Remoto","Usuario","PR-001-2","Mensual por servicios/productos efectivamente prestados","$ 240.000.000,00",1,0,"COP"]
["ServinformaciónSoftware ServinformaciónPR-001-3","PR-001-3Software Servinformación",null,"Servinformación","PR-001-3","Software Servinformación","Servinformación","COP","N/A","Sitidoctor - SaaS","Anual","Prod","Servicio","Zona 2","Remoto","Usuario","PR-001-3","Mensual por servicios/productos efectivamente prestados","$ 300.000.000,00",1,0,"COP"]
["ServinformaciónSoftware ServinformaciónPR-002-1","PR-002-1Software Servinformación",null,"Servinformación","PR-002-1","Software Servinformación","Servinformación","COP","N/A","Geomarketing para 5 usuarios SaaS (Dashboard)","Anual","Prod","Servicio","Zonas (1,2,3)","Remoto","Usuario","PR-002-1","Mensual por servicios/productos efectivamente prestados","$ 204.156.000,00",1,0,"COP"]
["ServinformaciónSoftware ServinformaciónPR-002-2","PR-002-2Software Servinformación",null,"Servinformación","PR-002-2","Software Servinformación","Servinformación","COP","N/A","Geomarketing para 10 usuarios SaaS (Dashboard)","Anual","Prod","Servicio","Zonas (1,2,3)","Remoto","Usuario","PR-002-2","Mensual por servicios/productos efectivamente prestados","$ 380.312.000,00",1,0,"COP"]
["ServinformaciónSoftware ServinformaciónPR-003-1","PR-003-1Software Servinformación",null,"Servinformación","PR-003-1","Software Servinformación","Servinformación","COP","N/A","Geomarketing Geoproyecciones SaaS (Censo Poblacional, Comercial, Empresarial, Ingresos, Gastos, entre otros)","Anual","Prod","Servicio","Zona 1","Remoto","Usuario","PR-003-1","Mensual por servicios/productos efectivamente prestados","$ 504.000.000,00",1,0,"COP"]
["ServinformaciónSoftware ServinformaciónPR-003-2","PR-003-2Software Servinformación",null,"Servinformación","PR-003-2","Software Servinformación","Servinformación","COP","N/A","Geomarketing Geoproyecciones SaaS (Censo Poblacional, Comercial, Empresarial, Ingresos, Gastos, entre otros)","Anual","Prod","Servicio","Zona 3","Remoto","Usuario","PR-003-2","Mensual por servicios/productos efectivamente prestados","$ 144.000.000,00",1,0,"COP"]
["ServinformaciónSoftware ServinformaciónPR-003-3","PR-003-3Software Servinformación",null,"Servinformación","PR-003-3","Software Servinformación","Servinformación","COP","N/A","Geomarketing Geoproyecciones SaaS (Censo Poblacional, Comercial, Empresarial, Ingresos, Gastos, entre otros)","Anual","Prod","Servicio","Zona 2","Remoto","Usuario","PR-003-3","Mensual por servicios/productos efectivamente prestados","$ 504.000.000,00",1,0,"COP"]
["ServinformaciónSoftware ServinformaciónCP-001","CP-001Software Servinformación",null,"Servinformación","CP-001","Software Servinformación","Servinformación","COP","N/A","CUPONIX - Activacion tienda","Anual","Prod","Servicio","Zonas (1,2,3)","Remoto","Usuario","CP-001","Mensual por servicios/productos efectivamente prestados","$ 500.000,00",1,0,"COP"]
["ServinformaciónSoftware ServinformaciónCP-002","CP-002Software Servinformación",null,"Servinformación","CP-002","Software Servinformación","Servinformación","COP","N/A","CUPONIX - Soporte 7/24","Anual","Prod","Servicio","Zonas (1,2,3)","Remoto","Usuario","CP-002","Mensual por servicios/productos efectivamente prestados","$ 5.312.000,00",1,0,"COP"]
["ServinformaciónSoftware ServinformaciónCP-003","CP-003Software Servinformación",null,"Servinformación","CP-003","Software Servinformación","Servinformación","COP","N/A","CUPONIX - Tienda activa","Anual","Prod","Servicio","Zonas (1,2,3)","Remoto","Usuario","CP-003","Mensual por servicios/productos efectivamente prestados","$ 10.000,00",1,0,"COP"]
["ServinformaciónSoftware ServinformaciónCP-004","CP-004Software Servinformación",null,"Servinformación","CP-004","Software Servinformación","Servinformación","COP","N/A","CUPONIX - Setup Plataforma marca blanca","Anual","Prod","Servicio","Zonas (1,2,3)","Remoto","Usuario","CP-004","Mensual por servicios/productos efectivamente prestados","$ 60.000.000,00",1,0,"COP"]
["ServinformaciónSoftware ServinformaciónCP-005","CP-005Software Servinformación",null,"Servinformación","CP-005","Software Servinformación","Servinformación","COP","N/A","CUPONIX - Plataforma de Activaciones marca blanca","Anual","Prod","Servicio","Zonas (1,2,3)","Remoto","Usuario","CP-005","Mensual por servicios/productos efectivamente prestados","$ 300.000.000,00",1,0,"COP"]
["ServinformaciónSoftware ServinformaciónCP-006","CP-006Software Servinformación",null,"Servinformación","CP-006","Software Servinformación","Servinformación","COP","N/A","CUPONIX - Valor por campaña activa","Anual","Prod","Servicio","Zonas (1,2,3)","Remoto","Usuario","CP-006","Mensual por servicios/productos efectivamente prestados","$ 990.000,00",1,0,"COP"]
["ServinformaciónSoftware ServinformaciónIT-SW-01-01","IT-SW-01-01Software Servinformación",null,"Servinformación","IT-SW-01-01","Software Servinformación","Servinformación","COP","N/A","Capacitación para usuario final - hasta 10 Personas.","Por sesión de capacitación de 4 horas para un grupo de hasta 10 personas.","Serv","Servicio","Zona 1","Remoto","Capacitador","IT-SW-01-01","Mensual por servicios/productos efectivamente prestados","$ 1.571.200,00",1,1,"COP"]
["ServinformaciónSoftware ServinformaciónIT-SW-01-02","IT-SW-01-02Software Servinformación",null,"Servinformación","IT-SW-01-02","Software Servinformación","Servinformación","COP","N/A","Capacitación para usuario final - hasta 10 Personas.","Por sesión de capacitación de 4 horas para un grupo de hasta 10 personas.","Serv","Servicio","Zona 1","Sitio","Capacitador","IT-SW-01-02","Mensual por servicios/productos efectivamente prestados","$ 3.928.000,00",1,1,"COP"]
["ServinformaciónSoftware ServinformaciónIT-SW-01-03","IT-SW-01-03Software Servinformación",null,"Servinformación","IT-SW-01-03","Software Servinformación","Servinformación","COP","N/A","Capacitación para usuario final - hasta 10 Personas.","Por sesión de capacitación de 4 horas para un grupo de hasta 10 personas.","Serv","Servicio","Zona 2","Remoto","Capacitador","IT-SW-01-03","Mensual por servicios/productos efectivamente prestados","$ 1.571.200,00",1,1,"COP"]
["ServinformaciónSoftware ServinformaciónIT-SW-01-04","IT-SW-01-04Software Servinformación",null,"Servinformación","IT-SW-01-04","Software Servinformación","Servinformación","COP","N/A","Capacitación para usuario final - hasta 10 Personas.","Por sesión de capacitación de 4 horas para un grupo de hasta 10 personas.","Serv","Servicio","Zona 2","Sitio","Capacitador","IT-SW-01-04","Mensual por servicios/productos efectivamente prestados","$ 4.080.000,00",1,1,"COP"]
["ServinformaciónSoftware ServinformaciónIT-SW-01-05","IT-SW-01-05Software Servinformación",null,"Servinformación","IT-SW-01-05","Software Servinformación","Servinformación","COP","N/A","Capacitación para usuario final - hasta 10 Personas.","Por sesión de capacitación de 4 horas para un grupo de hasta 10 personas.","Serv","Servicio","Zona 3","Remoto","Capacitador","IT-SW-01-05","Mensual por servicios/productos efectivamente prestados","$ 1.571.200,00",1,1,"COP"]
["ServinformaciónSoftware ServinformaciónIT-SW-01-06","IT-SW-01-06Software Servinformación",null,"Servinformación","IT-SW-01-06","Software Servinformación","Servinformación","COP","N/A","Capacitación para usuario final - hasta 10 Personas.","Por sesión de capacitación de 4 horas para un grupo de hasta 10 personas.","Serv","Servicio","Zona 3","Sitio","Capacitador","IT-SW-01-06","Mensual por servicios/productos efectivamente prestados","$ 5.100.000,00",1,1,"COP"]
["ServinformaciónSoftware ServinformaciónIT-SW-02-01","IT-SW-02-01Software Servinformación",null,"Servinformación","IT-SW-02-01","Software Servinformación","Servinformación","COP","N/A","Capacitación para usuario final hasta 20 Personas.","Por sesión de capacitación de 4 horas para un grupo de hasta 20 personas.","Serv","Servicio","Zona 1","Remoto","Capacitador","IT-SW-02-01","Mensual por servicios/productos efectivamente prestados","$ 1.571.200,00",1,1,"COP"]
["ServinformaciónSoftware ServinformaciónIT-SW-02-02","IT-SW-02-02Software Servinformación",null,"Servinformación","IT-SW-02-02","Software Servinformación","Servinformación","COP","N/A","Capacitación para usuario final - hasta 20 Personas.","Por sesión de capacitación de 4 horas para un grupo de hasta 20 personas.","Serv","Servicio","Zona 1","Sitio","Capacitador","IT-SW-02-02","Mensual por servicios/productos efectivamente prestados","$ 4.320.800,00",1,1,"COP"]
["ServinformaciónSoftware ServinformaciónIT-SW-02-03","IT-SW-02-03Software Servinformación",null,"Servinformación","IT-SW-02-03","Software Servinformación","Servinformación","COP","N/A","Capacitación para usuario final hasta 20 Personas.","Por sesión de capacitación de 4 horas para un grupo de hasta 20 personas.","Serv","Servicio","Zona 2","Remoto","Capacitador","IT-SW-02-03","Mensual por servicios/productos efectivamente prestados","$ 1.571.200,00",1,1,"COP"]
["ServinformaciónSoftware ServinformaciónIT-SW-02-04","IT-SW-02-04Software Servinformación",null,"Servinformación","IT-SW-02-04","Software Servinformación","Servinformación","COP","N/A","Capacitación para usuario final hasta 20 Personas.","Por sesión de capacitación de 4 horas para un grupo de hasta 20 personas.","Serv","Servicio","Zona 2","Sitio","Capacitador","IT-SW-02-04","Mensual por servicios/productos efectivamente prestados","$ 4.488.000,00",1,1,"COP"]
["ServinformaciónSoftware ServinformaciónIT-SW-02-05","IT-SW-02-05Software Servinformación",null,"Servinformación","IT-SW-02-05","Software Servinformación","Servinformación","COP","N/A","Capacitación para usuario final hasta 20 Personas.","Por sesión de capacitación de 4 horas para un grupo de hasta 20 personas.","Serv","Servicio","Zona 3","Remoto","Capacitador","IT-SW-02-05","Mensual por servicios/productos efectivamente prestados","$ 1.571.200,00",1,1,"COP"]
[{"$f":"D417&F417&E417","v":"ServinformaciónSoftware ServinformaciónIT-SW-02-06"},{"$f":"E417&F417","v":"IT-SW-02-06Software Servinformación"},null,"Servinformación","IT-SW-02-06","Software Servinformación",{"$f":"D417","v":"Servinformación"},"COP","N/A","Capacitación para usuario final hasta 20 Personas.","Por sesión de capacitación de 4 horas para un grupo de hasta 20 personas.","Serv","Servicio","Zona 3","Sitio","Capacitador",{"$f":"+E417","v":"IT-SW-02-06"},"Mensual por servicios/productos efectivamente prestados","$ 5.610.000,00",1,1,"COP"]
["ServinformaciónSoftware ServinformaciónIT-SW-03-01","IT-SW-03-01Software Servinformación",null,"Servinformación","IT-SW-03-01","Software Servinformación","Servinformación","COP","N/A","Capacitación para usuario técnico o administrador - hasta 10 Personas.","Por sesión de capacitación de 4 horas para un grupo de hasta 10 personas.","Serv","Servicio","Zona 1","Remoto","Tecnico o Tecnologo","IT-SW-03-01","Mensual por servicios/productos efectivamente prestados","$ 1.571.200,00",1,1,"COP"]
["ServinformaciónSoftware ServinformaciónIT-SW-03-02","IT-SW-03-02Software Servinformación",null,"Servinformación","IT-SW-03-02","Software Servinformación","Servinformación","COP","N/A","Capacitación para usuario técnico o administrador - hasta 10 Personas.","Por sesión de capacitación de 4 horas para un grupo de hasta 10 personas.","Serv","Servicio","Zona 1","Sitio","Tecnico o Tecnologo","IT-SW-03-02","Mensual por servicios/productos efectivamente prestados","$ 4.320.800,00",1,1,"COP"]
["ServinformaciónSoftware ServinformaciónIT-SW-03-03","IT-SW-03-03Software Servinformación",null,"Servinformación","IT-SW-03-03","Software Servinformación","Servinformación","COP","N/A","Capacitación para usuario técnico o administrador - hasta 10 Personas.","Por sesión de capacitación de 4 horas para un grupo de hasta 10 personas.","Serv","Servicio","Zona 2","Remoto","Tecnico o Tecnologo","IT-SW-03-03","Mensual por servicios/productos efectivamente prestados","$ 1.571.200,00",1,1,"COP"]
["ServinformaciónSoftware ServinformaciónIT-SW-03-04","IT-SW-03-04Software Servinformación",null,"Servinformación","IT-SW-03-04","Software Servinformación","Servinformación","COP","N/A","Capacitación para usuario técnico o administrador - hasta 10 Personas.","Por sesión de capacitación de 4 horas para un grupo de hasta 10 personas.","Serv","Servicio","Zona 2","Sitio","Tecnico o Tecnologo","IT-SW-03-04","Mensual por servicios/productos efectivamente prestados","$ 4.488.000,00",1,1,"COP"]
["ServinformaciónSoftware ServinformaciónIT-SW-03-05","IT-SW-03-05Software Servinformación",null,"Servinformación","IT-SW-03-05","Software Servinformación","Servinformación","COP","N/A","Capacitación para usuario técnico o administrador - hasta 10 Personas.","Por sesión de capacitación de 4 horas para un grupo de hasta 10 personas.","Serv","Servicio","Zona 3","Remoto","Tecnico o Tecnologo","IT-SW-03-05","Mensual por servicios/productos efectivamente prestados","$ 1.571.200,00",1,1,"COP"]
["ServinformaciónSoftware ServinformaciónIT-SW-03-06","IT-SW-03-06Software Servinformación",null,"Servinformación","IT-SW-03-06","Software Servinformación","Servinformación","COP","N/A","Capacitación para usuario técnico o administrador - hasta 10 Personas.","Por sesión de capacitación de 4 horas para un grupo de hasta 10 personas.","Serv","Servicio","Zona 3","Sitio","Tecnico o Tecnologo","IT-SW-03-06","Mensual por servicios/productos efectivamente prestados","$ 5.610.000,00",1,1,"COP"]
["ServinformaciónSoftware ServinformaciónIT-SW-04-01","IT-SW-04-01Software Servinformación",null,"Servinformación","IT-SW-04-01","Software Servinformación","Servinformación","COP","N/A","Capacitación para usuario técnico o administrador hasta 20 Personas.","Por sesión de capacitación de 4 horas para un grupo de hasta 20 personas.","Serv","Servicio","Zona 1","Remoto","Tecnico o Tecnologo","IT-SW-04-01","Mensual por servicios/productos efectivamente prestados","$ 1.571.200,00",1,1,"COP"]
["ServinformaciónSoftware ServinformaciónIT-SW-04-02","IT-SW-04-02Software Servinformación",null,"Servinformación","IT-SW-04-02","Software Servinformación","Servinformación","COP","N/A","Capacitación para usuario técnico o administrador hasta 20 Personas.","Por sesión de capacitación de 4 horas para un grupo de hasta 20 personas.","Serv","Servicio","Zona 1","Sitio","Tecnico o Tecnologo","IT-SW-04-02","Mensual por servicios/productos efectivamente prestados","$ 4.752.880,00",1,1,"COP"]
["ServinformaciónSoftware ServinformaciónIT-SW-04-03","IT-SW-04-03Software Servinformación",null,"Servinformación","IT-SW-04-03","Software Servinformación","Servinformación","COP","N/A","Capacitación para usuario técnico o administrador hasta 20 Personas.","Por sesión de capacitación de 4 horas para un grupo de hasta 20 personas.","Serv","Servicio","Zona 2","Remoto","Tecnico o Tecnologo","IT-SW-04-03","Mensual por servicios/productos efectivamente prestados","$ 1.571.200,00",1,1,"COP"]
["ServinformaciónSoftware ServinformaciónIT-SW-04-04","IT-SW-04-04Software Servinformación",null,"Servinformación","IT-SW-04-04","Software Servinformación","Servinformación","COP","N/A","Capacitación para usuario técnico o administrador hasta 20 Personas.","Por sesión de capacitación de 4 horas para un grupo de hasta 20 personas.","Serv","Servicio","Zona 2","Sitio","Tecnico o Tecnologo","IT-SW-04-04","Mensual por servicios/productos efectivamente prestados","$ 4.936.800,00",1,1,"COP"]
["ServinformaciónSoftware ServinformaciónIT-SW-04-05","IT-SW-04-05Software Servinformación",null,"Servinformación","IT-SW-04-05","Software Servinformación","Servinformación","COP","N/A","Capacitación para usuario técnico o administrador hasta 20 Personas.","Por sesión de capacitación de 4 horas para un grupo de hasta 20 personas.","Serv","Servicio","Zona 3","Remoto","Tecnico o Tecnologo","IT-SW-04-05","Mensual por servicios/productos efectivamente prestados","$ 1.571.200,00",1,1,"COP"]
["ServinformaciónSoftware ServinformaciónIT-SW-04-06","IT-SW-04-06Software Servinformación",null,"Servinformación","IT-SW-04-06","Software Servinformación","Servinformación","COP","N/A","Capacitación para usuario técnico o administrador hasta 20 Personas.","Por sesión de capacitación de 4 horas para un grupo de hasta 20 personas.","Serv","Servicio","Zona 3","Sitio","Tecnico o Tecnologo","IT-SW-04-06","Mensual por servicios/productos efectivamente prestados","$ 6.171.000,00",1,1,"COP"]
["ServinformaciónSoftware ServinformaciónIT-SW-04-06A","IT-SW-04-06ASoftware Servinformación",null,"Servinformación","IT-SW-04-06A","Software Servinformación","Servinformación","COP","N/A","Capacitacion para usuarios de Geomarketing BI","Por sesión de capacitación de 4 horas para un grupo de hasta 20 personas.","Serv","Servicio","Zonas (1,2,3)","Remoto","Tecnico o Tecnologo","IT-SW-04-06A","Mensual por servicios/productos efectivamente prestados","$ 37.610.100,00",1,1,"COP"]
["ServinformaciónSoftware ServinformaciónIT-SW-04-06B","IT-SW-04-06BSoftware Servinformación",null,"Servinformación","IT-SW-04-06B","Software Servinformación","Servinformación","COP","N/A","Capacitacion para usuarios de Geomarketing BI","Por sesión de capacitación de 4 horas para un grupo de hasta 20 personas.","Serv","Servicio","Zona 1","Sitio","Tecnico o Tecnologo","IT-SW-04-06B","Mensual por servicios/productos efectivamente prestados","$ 45.132.120,00",1,1,"COP"]
["ServinformaciónSoftware ServinformaciónIT-SW-04-06C","IT-SW-04-06CSoftware Servinformación",null,"Servinformación","IT-SW-04-06C","Software Servinformación","Servinformación","COP","N/A","Capacitacion para usuarios de Geomarketing BI","Por sesión de capacitación de 4 horas para un grupo de hasta 20 personas.","Serv","Servicio","Zona 2","Sitio","Tecnico o Tecnologo","IT-SW-04-06C","Mensual por servicios/productos efectivamente prestados","$ 54.158.544,00",1,1,"COP"]
["ServinformaciónSoftware ServinformaciónIT-SW-04-06D","IT-SW-04-06DSoftware Servinformación",null,"Servinformación","IT-SW-04-06D","Software Servinformación","Servinformación","COP","N/A","Capacitacion para usuarios de Geomarketing BI","Por sesión de capacitación de 4 horas para un grupo de hasta 20 personas.","Serv","Servicio","Zona 3","Sitio","Tecnico o Tecnologo","IT-SW-04-06D","Mensual por servicios/productos efectivamente prestados","$ 64.990.252,80",1,1,"COP"]
["ServinformaciónSoftware ServinformaciónIT-SW-05-01","IT-SW-05-01Software Servinformación",null,"Servinformación","IT-SW-05-01","Software Servinformación","Servinformación","COP","N/A","Configuración y parametrización de los Productos","Hora","Serv","Servicio","Zona 1","Remoto","Tecnico o Tecnologo","IT-SW-05-01","Mensual por servicios/productos efectivamente prestados","$ 184.000,00",1,1,"COP"]
["ServinformaciónSoftware ServinformaciónIT-SW-05-02","IT-SW-05-02Software Servinformación",null,"Servinformación","IT-SW-05-02","Software Servinformación","Servinformación","COP","N/A","Configuración y parametrización de los Productos","Hora","Serv","Servicio","Zona 1","Sitio","Tecnico o Tecnologo","IT-SW-05-02","Mensual por servicios/productos efectivamente prestados","$ 230.000,00",1,1,"COP"]
["ServinformaciónSoftware ServinformaciónIT-SW-05-03","IT-SW-05-03Software Servinformación",null,"Servinformación","IT-SW-05-03","Software Servinformación","Servinformación","COP","N/A","Configuración y parametrización de los Productos","Hora","Serv","Servicio","Zona 2","Remoto","Tecnico o Tecnologo","IT-SW-05-03","Mensual por servicios/productos efectivamente prestados","$ 130.000,00",1,1,"COP"]
["ServinformaciónSoftware ServinformaciónIT-SW-05-04","IT-SW-05-04Software Servinformación",null,"Servinformación","IT-SW-05-04","Software Servinformación","Servinformación","COP","N/A","Configuración y parametrización de los Productos","Hora","Serv","Servicio","Zona 2","Sitio","Tecnico o Tecnologo","IT-SW-05-04","Mensual por servicios/productos efectivamente prestados","$ 337.500,00",1,1,"COP"]
["ServinformaciónSoftware ServinformaciónIT-SW-05-05","IT-SW-05-05Software Servinformación",null,"Servinformación","IT-SW-05-05","Software Servinformación","Servinformación","COP","N/A","Configuración y parametrización de los Productos","Hora","Serv","Servicio","Zona 3","Remoto","Tecnico o Tecnologo","IT-SW-05-05","Mensual por servicios/productos efectivamente prestados","$ 130.000,00",1,1,"COP"]
["ServinformaciónSoftware ServinformaciónIT-SW-05-06","IT-SW-05-06Software Servinformación",null,"Servinformación","IT-SW-05-06","Software Servinformación","Servinformación","COP","N/A","Configuración y parametrización de los Productos","Hora","Serv","Servicio","Zona 3","Sitio","Tecnico o Tecnologo","IT-SW-05-06","Mensual por servicios/productos efectivamente prestados","$ 337.500,00",1,1,"COP"]
["ServinformaciónSoftware ServinformaciónIT-SW-06-01","IT-SW-06-01Software Servinformación",null,"Servinformación","IT-SW-06-01","Software Servinformación","Servinformación","COP","N/A","Gerente de cuenta (soporte)","Mes","Serv","Servicio","Zona 1","Sitio","Profesional","IT-SW-06-01","Mensual por servicios/productos efectivamente prestados","$ 18.000.000,00",1,1,"COP"]
["ServinformaciónSoftware ServinformaciónIT-SW-06-02","IT-SW-06-02Software Servinformación",null,"Servinformación","IT-SW-06-02","Software Servinformación","Servinformación","COP","N/A","Gerente de cuenta (soporte)","Mes","Serv","Servicio","Zona 2","Sitio","Profesional","IT-SW-06-02","Mensual por servicios/productos efectivamente prestados","$ 18.000.000,00",1,1,"COP"]
["ServinformaciónSoftware ServinformaciónIT-SW-06-03","IT-SW-06-03Software Servinformación",null,"Servinformación","IT-SW-06-03","Software Servinformación","Servinformación","COP","N/A","Gerente de cuenta (soporte)","Mes","Serv","Servicio","Zona 3","Sitio","Profesional","IT-SW-06-03","Mensual por servicios/productos efectivamente prestados","$ 18.000.000,00",1,1,"COP"]
["ServinformaciónSoftware ServinformaciónIT-SW-07-01","IT-SW-07-01Software Servinformación",null,"Servinformación","IT-SW-07-01","Software Servinformación","Servinformación","COP","N/A","Instalación de Licencia o Suscripción Anual, o afínes","Unidad","Serv","Servicio","Zona 1","Remoto","Tecnico o Tecnologo","IT-SW-07-01","Mensual por servicios/productos efectivamente prestados","$ 368.000,00",1,1,"COP"]
["ServinformaciónSoftware ServinformaciónIT-SW-07-02","IT-SW-07-02Software Servinformación",null,"Servinformación","IT-SW-07-02","Software Servinformación","Servinformación","COP","N/A","Instalación de Licencia o Suscripción Anual, o afínes","Unidad","Serv","Servicio","Zona 1","Sitio","Tecnico o Tecnologo","IT-SW-07-02","Mensual por servicios/productos efectivamente prestados","$ 460.000,00",1,1,"COP"]
["ServinformaciónSoftware ServinformaciónIT-SW-07-03","IT-SW-07-03Software Servinformación",null,"Servinformación","IT-SW-07-03","Software Servinformación","Servinformación","COP","N/A","Instalación de Licencia o Suscripción Anual, o afínes","Unidad","Serv","Servicio","Zona 2","Remoto","Tecnico o Tecnologo","IT-SW-07-03","Mensual por servicios/productos efectivamente prestados","$ 260.000,00",1,1,"COP"]
["ServinformaciónSoftware ServinformaciónIT-SW-07-04","IT-SW-07-04Software Servinformación",null,"Servinformación","IT-SW-07-04","Software Servinformación","Servinformación","COP","N/A","Instalación de Licencia o Suscripción Anual, o afínes","Unidad","Serv","Servicio","Zona 2","Sitio","Tecnico o Tecnologo","IT-SW-07-04","Mensual por servicios/productos efectivamente prestados","$ 675.000,00",1,1,"COP"]
["ServinformaciónSoftware ServinformaciónIT-SW-07-05","IT-SW-07-05Software Servinformación",null,"Servinformación","IT-SW-07-05","Software Servinformación","Servinformación","COP","N/A","Instalación de Licencia o Suscripción Anual, o afínes","Unidad","Serv","Servicio","Zona 3","Remoto","Tecnico o Tecnologo","IT-SW-07-05","Mensual por servicios/productos efectivamente prestados","$ 260.000,00",1,1,"COP"]
["ServinformaciónSoftware ServinformaciónIT-SW-07-06","IT-SW-07-06Software Servinformación",null,"Servinformación","IT-SW-07-06","Software Servinformación","Servinformación","COP","N/A","Instalación de Licencia o Suscripción Anual, o afínes","Unidad","Serv","Servicio","Zona 3","Sitio","Tecnico o Tecnologo","IT-SW-07-06","Mensual por servicios/productos efectivamente prestados","$ 675.000,00",1,1,"COP"]
["ServinformaciónSoftware ServinformaciónIT-SW-08-01","IT-SW-08-01Software Servinformación",null,"Servinformación","IT-SW-08-01","Software Servinformación","Servinformación","COP","N/A","Migración de información por volumen de datos almacenados","GB","Serv","Servicio","Zona 1","Remoto","Tecnico o Tecnologo","IT-SW-08-01","Mensual por servicios/productos efectivamente prestados","$ 18.133,33",1,1,"COP"]
["ServinformaciónSoftware ServinformaciónIT-SW-08-02","IT-SW-08-02Software Servinformación",null,"Servinformación","IT-SW-08-02","Software Servinformación","Servinformación","COP","N/A","Migración de información por volumen de datos almacenados","GB","Serv","Servicio","Zona 1","Sitio","Tecnico o Tecnologo","IT-SW-08-02","Mensual por servicios/productos efectivamente prestados","$ 38.333,33",1,1,"COP"]
["ServinformaciónSoftware ServinformaciónIT-SW-08-03","IT-SW-08-03Software Servinformación",null,"Servinformación","IT-SW-08-03","Software Servinformación","Servinformación","COP","N/A","Migración de información por volumen de datos almacenados","GB","Serv","Servicio","Zona 2","Remoto","Tecnico o Tecnologo","IT-SW-08-03","Mensual por servicios/productos efectivamente prestados","$ 18.133,33",1,1,"COP"]
["ServinformaciónSoftware ServinformaciónIT-SW-08-04","IT-SW-08-04Software Servinformación",null,"Servinformación","IT-SW-08-04","Software Servinformación","Servinformación","COP","N/A","Migración de información por volumen de datos almacenados","GB","Serv","Servicio","Zona 2","Sitio","Tecnico o Tecnologo","IT-SW-08-04","Mensual por servicios/productos efectivamente prestados","$ 56.250,00",1,1,"COP"]
["ServinformaciónSoftware ServinformaciónIT-SW-08-05","IT-SW-08-05Software Servinformación",null,"Servinformación","IT-SW-08-05","Software Servinformación","Servinformación","COP","N/A","Migración de información por volumen de datos almacenados","GB","Serv","Servicio","Zona 3","Remoto","Tecnico o Tecnologo","IT-SW-08-05","Mensual por servicios/productos efectivamente prestados","$ 18.133,33",1,1,"COP"]
["ServinformaciónSoftware ServinformaciónIT-SW-08-06","IT-SW-08-06Software Servinformación",null,"Servinformación","IT-SW-08-06","Software Servinformación","Servinformación","COP","N/A","Migración de información por volumen de datos almacenados","GB","Serv","Servicio","Zona 3","Sitio","Tecnico o Tecnologo","IT-SW-08-06","Mensual por servicios/productos efectivamente prestados","$ 56.250,00",1,1,"COP"]
["ServinformaciónSoftware ServinformaciónIT-SW-09-01","IT-SW-09-01Software Servinformación",null,"Servinformación","IT-SW-09-01","Software Servinformación","Servinformación","COP","N/A","Soporte técnico en sitio","Mes","Serv","Servicio","Zona 1","Sitio","Tecnico o Tecnologo","IT-SW-09-01","Mensual por servicios/productos efectivamente prestados","$ 13.594.000,00",1,1,"COP"]
["ServinformaciónSoftware ServinformaciónIT-SW-09-02","IT-SW-09-02Software Servinformación",null,"Servinformación","IT-SW-09-02","Software Servinformación","Servinformación","COP","N/A","Soporte técnico en sitio","Mes","Serv","Servicio","Zona 2","Sitio","Tecnico o Tecnologo","IT-SW-09-02","Mensual por servicios/productos efectivamente prestados","$ 13.594.000,00",1,1,"COP"]
["ServinformaciónSoftware ServinformaciónIT-SW-09-03","IT-SW-09-03Software Servinformación",null,"Servinformación","IT-SW-09-03","Software Servinformación","Servinformación","COP","N/A","Soporte técnico en sitio","Mes","Serv","Servicio","Zona 3","Sitio","Tecnico o Tecnologo","IT-SW-09-03","Mensual por servicios/productos efectivamente prestados","$ 13.594.000,00",1,1,"COP"]
["ServinformaciónSoftware ServinformaciónIT-SW-10-01","IT-SW-10-01Software Servinformación",null,"Servinformación","IT-SW-10-01","Software Servinformación","Servinformación","COP","N/A","Soporte técnico proactivo","Hora","Serv","Servicio","Zona 2","Remoto","Tecnico o Tecnologo","IT-SW-10-01","Mensual por servicios/productos efectivamente prestados","$ 108.800,00",1,1,"COP"]
["ServinformaciónSoftware ServinformaciónIT-SW-10-02","IT-SW-10-02Software Servinformación",null,"Servinformación","IT-SW-10-02","Software Servinformación","Servinformación","COP","N/A","Soporte técnico proactivo","Hora","Serv","Servicio","Zona 2","Sitio","Tecnico o Tecnologo","IT-SW-10-02","Mensual por servicios/productos efectivamente prestados","$ 204.000,00",1,1,"COP"]
["ServinformaciónSoftware ServinformaciónIT-SW-10-03","IT-SW-10-03Software Servinformación",null,"Servinformación","IT-SW-10-03","Software Servinformación","Servinformación","COP","N/A","Soporte técnico proactivo","Hora","Serv","Servicio","Zona 1","Remoto","Tecnico o Tecnologo","IT-SW-10-03","Mensual por servicios/productos efectivamente prestados","$ 108.800,00",1,1,"COP"]
["ServinformaciónSoftware ServinformaciónIT-SW-10-04","IT-SW-10-04Software Servinformación",null,"Servinformación","IT-SW-10-04","Software Servinformación","Servinformación","COP","N/A","Soporte técnico proactivo","Hora","Serv","Servicio","Zona 3","Remoto","Tecnico o Tecnologo","IT-SW-10-04","Mensual por servicios/productos efectivamente prestados","$ 108.800,00",1,1,"COP"]
["ServinformaciónSoftware ServinformaciónIT-SW-10-05","IT-SW-10-05Software Servinformación",null,"Servinformación","IT-SW-10-05","Software Servinformación","Servinformación","COP","N/A","Soporte técnico proactivo","Hora","Serv","Servicio","Zona 3","Sitio","Tecnico o Tecnologo","IT-SW-10-05","Mensual por servicios/productos efectivamente prestados","$ 204.000,00",1,1,"COP"]
["ServinformaciónSoftware ServinformaciónIT-SW-10-06","IT-SW-10-06Software Servinformación",null,"Servinformación","IT-SW-10-06","Software Servinformación","Servinformación","COP","N/A","Soporte técnico proactivo","Hora","Serv","Servicio","Zona 1","Sitio","Tecnico o Tecnologo","IT-SW-10-06","Mensual por servicios/productos efectivamente prestados","$ 136.000,00",1,1,"COP"]
["ServinformaciónSoftware ServinformaciónIT-SW-11-01","IT-SW-11-01Software Servinformación",null,"Servinformación","IT-SW-11-01","Software Servinformación","Servinformación","COP","N/A","Soporte técnico reactivo","Hora","Serv","Servicio","Zona 1","Sitio","Tecnico o Tecnologo","IT-SW-11-01","Mensual por servicios/productos efectivamente prestados","$ 168.000,00",1,1,"COP"]
["ServinformaciónSoftware ServinformaciónIT-SW-11-02","IT-SW-11-02Software Servinformación",null,"Servinformación","IT-SW-11-02","Software Servinformación","Servinformación","COP","N/A","Soporte técnico reactivo","Hora","Serv","Servicio","Zona 2","Remoto","Tecnico o Tecnologo","IT-SW-11-02","Mensual por servicios/productos efectivamente prestados","$ 134.400,00",1,1,"COP"]
["ServinformaciónSoftware ServinformaciónIT-SW-11-03","IT-SW-11-03Software Servinformación",null,"Servinformación","IT-SW-11-03","Software Servinformación","Servinformación","COP","N/A","Soporte técnico reactivo","Hora","Serv","Servicio","Zona 2","Sitio","Tecnico o Tecnologo","IT-SW-11-03","Mensual por servicios/productos efectivamente prestados","$ 252.000,00",1,1,"COP"]
["ServinformaciónSoftware ServinformaciónIT-SW-11-04","IT-SW-11-04Software Servinformación",null,"Servinformación","IT-SW-11-04","Software Servinformación","Servinformación","COP","N/A","Soporte técnico reactivo","Hora","Serv","Servicio","Zona 3","Remoto","Tecnico o Tecnologo","IT-SW-11-04","Mensual por servicios/productos efectivamente prestados","$ 134.400,00",1,1,"COP"]
["ServinformaciónSoftware ServinformaciónIT-SW-11-05","IT-SW-11-05Software Servinformación",null,"Servinformación","IT-SW-11-05","Software Servinformación","Servinformación","COP","N/A","Soporte técnico reactivo","Hora","Serv","Servicio","Zona 3","Sitio","Tecnico o Tecnologo","IT-SW-11-05","Mensual por servicios/productos efectivamente prestados","$ 252.000,00",1,1,"COP"]
["ServinformaciónSoftware ServinformaciónIT-SW-11-06","IT-SW-11-06Software Servinformación",null,"Servinformación","IT-SW-11-06","Software Servinformación","Servinformación","COP","N/A","Soporte técnico reactivo","Hora","Serv","Servicio","Zona 1","Remoto","Tecnico o Tecnologo","IT-SW-11-06","Mensual por servicios/productos efectivamente prestados","$ 134.400,00",1,1,"COP"]
["ServinformaciónSoftware ServinformaciónIT-SW-06-04","IT-SW-06-04Software Servinformación",null,"Servinformación","IT-SW-06-04","Software Servinformación","Servinformación","COP","N/A","Administrador de la solución (Soporte)","Mes","Serv","Servicio","Zonas (1,2,3)","Remoto","Profesional","IT-SW-06-04","Mensual por servicios/productos efectivamente prestados","$ 18.000.000,00",1,1,"COP"]
["ServinformaciónSoftware ServinformaciónIT-SW-06-05","IT-SW-06-05Software Servinformación",null,"Servinformación","IT-SW-06-05","Software Servinformación","Servinformación","COP","N/A","Administrador de la solución (Soporte)","Anual ","Serv","Servicio","Zonas (1,2,3)","Remoto","Profesional","IT-SW-06-05","Pago anual Anticipado",216000000,1,1,"COP"]
["ServinformaciónSoftware ServinformaciónIT-SW-09-04","IT-SW-09-04Software Servinformación",null,"Servinformación","IT-SW-09-04","Software Servinformación","Servinformación","COP","N/A","Soporte técnico 7x24","Mes","Serv","Servicio","Zonas (1,2,3)","Remoto","Tecnico o Tecnologo","IT-SW-09-04","Mensual por servicios/productos efectivamente prestados","$ 13.594.000,00",1,1,"COP"]
["ServinformaciónSoftware ServinformaciónIT-SW-09-04-01","IT-SW-09-04-01Software Servinformación",null,"Servinformación","IT-SW-09-04-01","Software Servinformación","Servinformación","COP","N/A","Soporte técnico 7x24","Anual ","Serv","Servicio","Zonas (1,2,3)","Remoto","Tecnico o Tecnologo","IT-SW-09-04-01","Pago anual Anticipado",163128000,1,1,"COP"]
["ServinformaciónSoftware ServinformaciónIT-SW-11-07","IT-SW-11-07Software Servinformación",null,"Servinformación","IT-SW-11-07","Software Servinformación","Servinformación","COP","N/A","Configuración y parametrización SitiData - Automatización de procesos (RAAS) y  lectura y optimización de documentos (OCR) XS (hasta 96 horas) ","Mensual","Serv","Servicio","Zonas (1,2,3)","Remoto","Usuario","IT-SW-11-07","Mensual por servicios/productos efectivamente prestados",17184000,1,1,"COP"]
["ServinformaciónSoftware ServinformaciónIT-SW-11-08","IT-SW-11-08Software Servinformación",null,"Servinformación","IT-SW-11-08","Software Servinformación","Servinformación","COP","N/A"," Configuración y parametrización SitiData - Automatización de procesos (RAAS) y  lectura y optimización de documentos (OCR) s (hasta 144 horas) ","Mensual","Serv","Servicio","Zonas (1,2,3)","Remoto","Usuario","IT-SW-11-08","Mensual por servicios/productos efectivamente prestados",25776000,1,1,"COP"]
["ServinformaciónSoftware ServinformaciónIT-SW-11-09","IT-SW-11-09Software Servinformación",null,"Servinformación","IT-SW-11-09","Software Servinformación","Servinformación","COP","N/A"," Configuración y parametrización SitiData - Automatización de procesos (RAAS) y  lectura y optimización de documentos (OCR) M (hasta 240 horas) ","Mensual","Serv","Servicio","Zonas (1,2,3)","Remoto","Usuario","IT-SW-11-09","Mensual por servicios/productos efectivamente prestados",42960000,1,1,"COP"]
["ServinformaciónSoftware ServinformaciónIT-SW-11-10","IT-SW-11-10Software Servinformación",null,"Servinformación","IT-SW-11-10","Software Servinformación","Servinformación","COP","N/A"," Configuración y parametrización SitiData - Automatización de procesos (RAAS) y  lectura y optimización de documentos (OCR) ML (hasta 288 horas) ","Mensual","Serv","Servicio","Zonas (1,2,3)","Remoto","Usuario","IT-SW-11-10","Mensual por servicios/productos efectivamente prestados",51552000,1,1,"COP"]
["ServinformaciónSoftware ServinformaciónIT-SW-11-11","IT-SW-11-11Software Servinformación",null,"Servinformación","IT-SW-11-11","Software Servinformación","Servinformación","COP","N/A"," Configuración y parametrización SitiData - Automatización de procesos (RAAS) y  lectura y optimización de documentos (OCR) L (hasta 384 horas) ","Mensual","Serv","Servicio","Zonas (1,2,3)","Remoto","Usuario","IT-SW-11-11","Mensual por servicios/productos efectivamente prestados",68736000,1,1,"COP"]
["ServinformaciónSoftware ServinformaciónIT-SW-11-12","IT-SW-11-12Software Servinformación",null,"Servinformación","IT-SW-11-12","Software Servinformación","Servinformación","COP","N/A"," Configuración y parametrización SitiData - Automatización de procesos (RAAS) y  lectura y optimización de documentos (OCR) XL (hasta 480 horas) ","Mensual","Serv","Servicio","Zonas (1,2,3)","Remoto","Usuario","IT-SW-11-12","Mensual por servicios/productos efectivamente prestados",85920000,1,1,"COP"]
["ServinformaciónSoftware ServinformaciónIT-SW-11-13","IT-SW-11-13Software Servinformación",null,"Servinformación","IT-SW-11-13","Software Servinformación","Servinformación","COP","N/A"," Configuración y parametrización SitiData - Automatización de procesos (RAAS) y  lectura y optimización de documentos (OCR) XXL (hasta 576 horas) ","Mensual","Serv","Servicio","Zonas (1,2,3)","Remoto","Usuario","IT-SW-11-13","Mensual por servicios/productos efectivamente prestados",103104000,1,1,"COP"]
[{"$f":"D481&F481&E481","v":"ServinformaciónSoftware ServinformaciónP-9014-b"},{"$f":"E481&F481","v":"P-9014-bSoftware Servinformación"},null,"Servinformación","P-9014-b","Software Servinformación",{"$f":"D481","v":"Servinformación"},"COP","N/A","Geovisor Catastro Multipropósito SaaS - Observatorio Territorial ","Mensual","Prod","Servicio","Zonas (1,2,3)","Remoto","Usuario",{"$f":"+E481","v":"P-9014-b"},"Pago anual Anticipado","$ 34.000.000,00",1,0,"COP"]
["ServinformaciónSoftware ServinformaciónP-3003-A","P-3003-ASoftware Servinformación",null,"Servinformación","P-3003-A","Software Servinformación","Servinformación","COP","N/A","SitiData - Automatización de procesos (RAAS) XS (hasta 96 horas) \n","Mensual","Prod","Servicio","Zonas (1,2,3)","Remoto","Usuario","P-3003-A","Mensual por servicios/productos efectivamente prestados",1653928,1,0,"COP"]
["ServinformaciónSoftware ServinformaciónP-3003-B","P-3003-BSoftware Servinformación",null,"Servinformación","P-3003-B","Software Servinformación","Servinformación","COP","N/A","SitiData - Automatización de procesos (RAAS) S (hasta 192 horas) \n","Mensual","Prod","Servicio","Zonas (1,2,3)","Remoto","Usuario","P-3003-B","Mensual por servicios/productos efectivamente prestados",2452035,1,0,"COP"]
["ServinformaciónSoftware ServinformaciónP-3003-C","P-3003-CSoftware Servinformación",null,"Servinformación","P-3003-C","Software Servinformación","Servinformación","COP","N/A","SitiData - Automatización de procesos (RAAS) M (hasta 288 horas) \n","Mensual","Prod","Servicio","Zonas (1,2,3)","Remoto","Usuario","P-3003-C","Mensual por servicios/productos efectivamente prestados",3600089,1,0,"COP"]
["ServinformaciónSoftware ServinformaciónP-3003-D","P-3003-DSoftware Servinformación",null,"Servinformación","P-3003-D","Software Servinformación","Servinformación","COP","N/A","SitiData - Automatización de procesos (RAAS) ML (hasta 384 horas) \n","Mensual","Prod","Servicio","Zonas (1,2,3)","Remoto","Usuario","P-3003-D","Mensual por servicios/productos efectivamente prestados",4240675,1,0,"COP"]
["ServinformaciónSoftware ServinformaciónP-3003-E","P-3003-ESoftware Servinformación",null,"Servinformación","P-3003-E","Software Servinformación","Servinformación","COP","N/A","SitiData - Automatización de procesos (RAAS) L (hasta 480 horas) \n","Mensual","Prod","Servicio","Zonas (1,2,3)","Remoto","Usuario","P-3003-E","Mensual por servicios/productos efectivamente prestados",4871688,1,0,"COP"]
["ServinformaciónSoftware ServinformaciónP-3003-F","P-3003-FSoftware Servinformación",null,"Servinformación","P-3003-F","Software Servinformación","Servinformación","COP","N/A","SitiData - Automatización de procesos (RAAS) XL (hasta 576 horas) \n","Mensual","Prod","Servicio","Zonas (1,2,3)","Remoto","Usuario","P-3003-F","Mensual por servicios/productos efectivamente prestados",5497753,1,0,"COP"]
["ServinformaciónSoftware ServinformaciónP-3003-G","P-3003-GSoftware Servinformación",null,"Servinformación","P-3003-G","Software Servinformación","Servinformación","COP","N/A","SitiData - Automatización de procesos (RAAS) XXL (hasta 672 horas) \n","Mensual","Prod","Servicio","Zonas (1,2,3)","Remoto","Usuario","P-3003-G","Mensual por servicios/productos efectivamente prestados",6462303,1,0,"COP"]
["ServinformaciónSoftware ServinformaciónP-3003-H","P-3003-HSoftware Servinformación",null,"Servinformación","P-3003-H","Software Servinformación","Servinformación","COP","N/A","SitiData -  Lectura y optimización de documentos (OCR) XS (hasta 96 horas) ","Mensual","Prod","Servicio","Zonas (1,2,3)","Remoto","Usuario","P-3003-H","Mensual por servicios/productos efectivamente prestados",1653928,1,0,"COP"]
["ServinformaciónSoftware ServinformaciónP-3003-I","P-3003-ISoftware Servinformación",null,"Servinformación","P-3003-I","Software Servinformación","Servinformación","COP","N/A","SitiData - Lectura y optimización de documentos (OCR) S (hasta 192 horas) \n","Mensual","Prod","Servicio","Zonas (1,2,3)","Remoto","Usuario","P-3003-I","Mensual por servicios/productos efectivamente prestados",2452035,1,0,"COP"]
["ServinformaciónSoftware ServinformaciónP-3003-J","P-3003-JSoftware Servinformación",null,"Servinformación","P-3003-J","Software Servinformación","Servinformación","COP","N/A","SitiData - Lectura y optimización de documentos (OCR) M (hasta 288 horas) \n","Mensual","Prod","Servicio","Zonas (1,2,3)","Remoto","Usuario","P-3003-J","Mensual por servicios/productos efectivamente prestados",3600089,1,0,"COP"]
["ServinformaciónSoftware ServinformaciónP-3003-K","P-3003-KSoftware Servinformación",null,"Servinformación","P-3003-K","Software Servinformación","Servinformación","COP","N/A","SitiData - Lectura y optimización de documentos (OCR) ML (hasta 384 horas) \n","Mensual","Prod","Servicio","Zonas (1,2,3)","Remoto","Usuario","P-3003-K","Mensual por servicios/productos efectivamente prestados",4240675,1,0,"COP"]
["ServinformaciónSoftware ServinformaciónP-3003-L","P-3003-LSoftware Servinformación",null,"Servinformación","P-3003-L","Software Servinformación","Servinformación","COP","N/A","SitiData - Lectura y optimización de documentos (OCR) L (hasta 480 horas) \n","Mensual","Prod","Servicio","Zonas (1,2,3)","Remoto","Usuario","P-3003-L","Mensual por servicios/productos efectivamente prestados",4871688,1,0,"COP"]
["ServinformaciónSoftware ServinformaciónP-3003-M","P-3003-MSoftware Servinformación",null,"Servinformación","P-3003-M","Software Servinformación","Servinformación","COP","N/A","SitiData - Lectura y optimización de documentos (OCR) XL (hasta 576 horas) \n","Mensual","Prod","Servicio","Zonas (1,2,3)","Remoto","Usuario","P-3003-M","Mensual por servicios/productos efectivamente prestados",5497753,1,0,"COP"]
["ServinformaciónSoftware ServinformaciónP-3003-N","P-3003-NSoftware Servinformación",null,"Servinformación","P-3003-N","Software Servinformación","Servinformación","COP","N/A","SitiData - Lectura y optimización de documentos (OCR) XXL (hasta 672 horas) \n","Mensual","Prod","Servicio","Zonas (1,2,3)","Remoto","Usuario","P-3003-N","Mensual por servicios/productos efectivamente prestados",6462303,1,0,"COP"]
["ServinformaciónSoftware ServinformaciónP-3003-O","P-3003-OSoftware Servinformación",null,"Servinformación","P-3003-O","Software Servinformación","Servinformación","COP","N/A","SitiData - Conversaciones Cognitivas S","Usuario","Prod","Servicio","Zonas (1,2,3)","Remoto","Usuario","P-3003-O","Contado",38550000,1,0,"COP"]
["ServinformaciónSoftware ServinformaciónP-3003-P","P-3003-PSoftware Servinformación",null,"Servinformación","P-3003-P","Software Servinformación","Servinformación","COP","N/A","SitiData - Conversaciones Cognitivas M","Usuario","Prod","Servicio","Zonas (1,2,3)","Remoto","Usuario","P-3003-P","Contado",77100000,1,0,"COP"]
["ServinformaciónSoftware ServinformaciónP-3003-Q","P-3003-QSoftware Servinformación",null,"Servinformación","P-3003-Q","Software Servinformación","Servinformación","COP","N/A","SitiData - Conversaciones Cognitivas L","Usuario","Prod","Servicio","Zonas (1,2,3)","Remoto","Usuario","P-3003-Q","Contado",115650000,1,0,"COP"]
["ServinformaciónSoftware ServinformaciónP-3003-R","P-3003-RSoftware Servinformación",null,"Servinformación","P-3003-R","Software Servinformación","Servinformación","COP","N/A","SitiData - LakeHouse S","Usuario","Prod","Servicio","Zonas (1,2,3)","Remoto","Usuario","P-3003-R","Contado",98550000,1,0,"COP"]
["ServinformaciónSoftware ServinformaciónP-3003-S","P-3003-SSoftware Servinformación",null,"Servinformación","P-3003-S","Software Servinformación","Servinformación","COP","N/A","SitiData - LakeHouse M","Usuario","Prod","Servicio","Zonas (1,2,3)","Remoto","Usuario","P-3003-S","Contado",177100000,1,0,"COP"]
["ServinformaciónSoftware ServinformaciónP-3003-T","P-3003-TSoftware Servinformación",null,"Servinformación","P-3003-T","Software Servinformación","Servinformación","COP","N/A","SitiData - LakeHouse L","Usuario","Prod","Servicio","Zonas (1,2,3)","Remoto","Usuario","P-3003-T","Contado",245650000,1,0,"COP"]
["ServinformaciónSoftware ServinformaciónP-9014-a","P-9014-aSoftware Servinformación",null,"Servinformación","P-9014-a","Software Servinformación","Servinformación","COP","N/A","Geovisor Catastro Multipropósito SaaS - Observatorio Territorial ","Anual","Prod","Servicio","Zonas (1,2,3)","Remoto","Usuario","P-9014-a","Pago anual Anticipado","$ 324.000.000,00",1,0,"COP"]
["ServinformaciónSoftware ServinformaciónP-9018-A","P-9018-ASoftware Servinformación",null,"Servinformación","P-9018-A","Software Servinformación","Servinformación","USD","N/A","Geovisor - Servicio de monitoreo satelital en linea","Suscripción","Prod","Servicio","Zonas (1,2,3)","Remoto","Usuario","P-9018-A","Pago anual Anticipado",5000,1,0,"USD"]
["ServinformaciónSoftware ServinformaciónAG-7009","AG-7009Software Servinformación",null,"Servinformación","AG-7009","Software Servinformación","Servinformación","COP","N/A","AGRODATAI - Gremios: Perfil productor para apoyo a la Asistencia Técnica y extensión rural.","Registro mensual","Prod","Servicio","Zonas (1,2,3)","Remoto","Usuario","AG-7009","Mensual por servicios/productos efectivamente prestados",30000,1,0,"COP"]
["ServinformaciónSoftware ServinformaciónAG-7010","AG-7010Software Servinformación",null,"Servinformación","AG-7010","Software Servinformación","Servinformación","COP","N/A","AGRODATAI - Asociaciones: Perfil productor para apoyo a la Asistencia Técnica y extensión rural.","Registro mensual","Prod","Servicio","Zonas (1,2,3)","Remoto","Usuario","AG-7010","Mensual por servicios/productos efectivamente prestados",30000,1,0,"COP"]
["ServinformaciónSoftware ServinformaciónAG-7011","AG-7011Software Servinformación",null,"Servinformación","AG-7011","Software Servinformación","Servinformación","COP","N/A","AGRODATAI - Entidas publicas orden nacional: Perfil productor para apoyo a la Asistencia Técnica y extensión rural.","Registro mensual","Prod","Servicio","Zonas (1,2,3)","Remoto","Usuario","AG-7011","Mensual por servicios/productos efectivamente prestados",30000,1,0,"COP"]
["ServinformaciónSoftware ServinformaciónAG-7012","AG-7012Software Servinformación",null,"Servinformación","AG-7012","Software Servinformación","Servinformación","COP","N/A","AGRODATAI - Entidades territoriales: Perfil productor para apoyo a la Asistencia Técnica y extensión rural.","Registro mensual","Prod","Servicio","Zonas (1,2,3)","Remoto","Usuario","AG-7012","Mensual por servicios/productos efectivamente prestados",30000,1,0,"COP"]
["ServinformaciónSoftware ServinformaciónAG-7013","AG-7013Software Servinformación",null,"Servinformación","AG-7013","Software Servinformación","Servinformación","COP","N/A","AGRODATAI - Gremios: Perfil productor para apoyo a la Asistencia Técnica y extensión rural.","Registro anual","Prod","Servicio","Zonas (1,2,3)","Remoto","Usuario","AG-7013","Pago anual Anticipado",360000,1,0,"COP"]
["ServinformaciónSoftware ServinformaciónAG-7014","AG-7014Software Servinformación",null,"Servinformación","AG-7014","Software Servinformación","Servinformación","COP","N/A","AGRODATAI - Asociaciones: Perfil productor para apoyo a la Asistencia Técnica y extensión rural.","Registro anual","Prod","Servicio","Zonas (1,2,3)","Remoto","Usuario","AG-7014","Pago anual Anticipado",360000,1,0,"COP"]
["ServinformaciónSoftware ServinformaciónAG-7015","AG-7015Software Servinformación",null,"Servinformación","AG-7015","Software Servinformación","Servinformación","COP","N/A","AGRODATAI - Entidas publicas orden nacional: Perfil productor para apoyo a la Asistencia Técnica y extensión rural.","Registro anual","Prod","Servicio","Zonas (1,2,3)","Remoto","Usuario","AG-7015","Pago anual Anticipado",360000,1,0,"COP"]
["ServinformaciónSoftware ServinformaciónAG-7016","AG-7016Software Servinformación",null,"Servinformación","AG-7016","Software Servinformación","Servinformación","COP","N/A","AGRODATAI - Entidades territoriales: Perfil productor para apoyo a la Asistencia Técnica y extensión rural.","Registro anual","Prod","Servicio","Zonas (1,2,3)","Remoto","Usuario","AG-7016","Pago anual Anticipado",360000,1,0,"COP"]
["ServinformaciónSoftware ServinformaciónAG-7017","AG-7017Software Servinformación",null,"Servinformación","AG-7017","Software Servinformación","Servinformación","COP","N/A","AGRODATAI - Gremios: Envío de mensajes caracterizados a productores.","Unidad","Prod","Servicio","Zonas (1,2,3)","Remoto","Usuario","AG-7017","Mensual por servicios/productos efectivamente prestados",500,1,1,"COP"]
["ServinformaciónSoftware ServinformaciónAG-7018","AG-7018Software Servinformación",null,"Servinformación","AG-7018","Software Servinformación","Servinformación","COP","N/A","AGRODATAI - Asociaciones: Envío de mensajes caracterizados a productores.","Unidad","Prod","Servicio","Zonas (1,2,3)","Remoto","Usuario","AG-7018","Mensual por servicios/productos efectivamente prestados",500,1,1,"COP"]
["ServinformaciónSoftware ServinformaciónAG-7019","AG-7019Software Servinformación",null,"Servinformación","AG-7019","Software Servinformación","Servinformación","COP","N/A","AGRODATAI - Entidas publicas orden nacional: Envío de mensajes caracterizados a productores.","Unidad","Prod","Servicio","Zonas (1,2,3)","Remoto","Usuario","AG-7019","Mensual por servicios/productos efectivamente prestados",500,1,1,"COP"]
["ServinformaciónSoftware ServinformaciónAG-7020","AG-7020Software Servinformación",null,"Servinformación","AG-7020","Software Servinformación","Servinformación","COP","N/A","AGRODATAI - Entidades territoriales:  Envío de mensajes caracterizados a productores.","Unidad","Prod","Servicio","Zonas (1,2,3)","Remoto","Usuario","AG-7020","Mensual por servicios/productos efectivamente prestados",500,1,1,"COP"]
["ServinformaciónSoftware ServinformaciónAG-7021","AG-7021Software Servinformación",null,"Servinformación","AG-7021","Software Servinformación","Servinformación","COP","N/A","AGRODATAI - Gremios: Construcción  de formulario de 10 preguntas y despliegue en perfil productor.","Mensual","Prod","Servicio","Zonas (1,2,3)","Remoto","Usuario","AG-7021","Mensual por servicios/productos efectivamente prestados",5000000,1,1,"COP"]
["ServinformaciónSoftware ServinformaciónAG-7022","AG-7022Software Servinformación",null,"Servinformación","AG-7022","Software Servinformación","Servinformación","COP","N/A","AGRODATAI - Asociaciones: Construcción  de formulario de 10 preguntas y despliegue en perfil productor.","Mensual","Prod","Servicio","Zonas (1,2,3)","Remoto","Usuario","AG-7022","Mensual por servicios/productos efectivamente prestados",5000000,1,1,"COP"]
["ServinformaciónSoftware ServinformaciónAG-7023","AG-7023Software Servinformación",null,"Servinformación","AG-7023","Software Servinformación","Servinformación","COP","N/A","AGRODATAI - Entidas publicas orden nacional: Construcción  de formulario de 10 preguntas y despliegue en perfil productor.","Mensual","Prod","Servicio","Zonas (1,2,3)","Remoto","Usuario","AG-7023","Mensual por servicios/productos efectivamente prestados",5000000,1,1,"COP"]
["ServinformaciónSoftware ServinformaciónAG-7024","AG-7024Software Servinformación",null,"Servinformación","AG-7024","Software Servinformación","Servinformación","COP","N/A","AGRODATAI - Entidades territoriales: Construcción  de formulario de 10 preguntas y despliegue en perfil productor.","Mensual","Prod","Servicio","Zonas (1,2,3)","Remoto","Usuario","AG-7024","Mensual por servicios/productos efectivamente prestados",5000000,1,1,"COP"]
["ServinformaciónSoftware ServinformaciónAG-7025","AG-7025Software Servinformación",null,"Servinformación","AG-7025","Software Servinformación","Servinformación","COP","N/A","AGRODATAI - Gremios:  Encuesta efectiva.","Unidad","Prod","Servicio","Zonas (1,2,3)","Remoto","Usuario","AG-7025","Mensual por servicios/productos efectivamente prestados",5000,1,1,"COP"]
["ServinformaciónSoftware ServinformaciónAG-7026","AG-7026Software Servinformación",null,"Servinformación","AG-7026","Software Servinformación","Servinformación","COP","N/A","AGRODATAI - Asociaciones: Encuesta efectiva.","Unidad","Prod","Servicio","Zonas (1,2,3)","Remoto","Usuario","AG-7026","Mensual por servicios/productos efectivamente prestados",5000,1,1,"COP"]
["ServinformaciónSoftware ServinformaciónAG-7027","AG-7027Software Servinformación",null,"Servinformación","AG-7027","Software Servinformación","Servinformación","COP","N/A","AGRODATAI - Entidas publicas orden nacional: Encuesta efectiva.","Unidad","Prod","Servicio","Zonas (1,2,3)","Remoto","Usuario","AG-7027","Mensual por servicios/productos efectivamente prestados",5000,1,1,"COP"]
["ServinformaciónSoftware ServinformaciónAG-7028","AG-7028Software Servinformación",null,"Servinformación","AG-7028","Software Servinformación","Servinformación","COP","N/A","AGRODATAI - Entidades territoriales: Encuesta efectiva.","Unidad","Prod","Servicio","Zonas (1,2,3)","Remoto","Usuario","AG-7028","Mensual por servicios/productos efectivamente prestados",5000,1,1,"COP"]
["ServinformaciónSoftware ServinformaciónAG-7029","AG-7029Software Servinformación",null,"Servinformación","AG-7029","Software Servinformación","Servinformación","COP","N/A","AGRODATAI - Gremios: Diseño y despliegue de anuncios en el perfil productor.","Mensual","Prod","Servicio","Zonas (1,2,3)","Remoto","Usuario","AG-7029","Mensual por servicios/productos efectivamente prestados",1500000,1,1,"COP"]
["ServinformaciónSoftware ServinformaciónAG-7030","AG-7030Software Servinformación",null,"Servinformación","AG-7030","Software Servinformación","Servinformación","COP","N/A","AGRODATAI - Asociaciones: Diseño y despliegue de anuncios en el perfil productor.","Mensual","Prod","Servicio","Zonas (1,2,3)","Remoto","Usuario","AG-7030","Mensual por servicios/productos efectivamente prestados",1500000,1,1,"COP"]
["ServinformaciónSoftware ServinformaciónAG-7031","AG-7031Software Servinformación",null,"Servinformación","AG-7031","Software Servinformación","Servinformación","COP","N/A","AGRODATAI - Entidas publicas orden nacional: Diseño y despliegue de anuncios en el perfil productor.","Mensual","Prod","Servicio","Zonas (1,2,3)","Remoto","Usuario","AG-7031","Mensual por servicios/productos efectivamente prestados",1500000,1,1,"COP"]
["ServinformaciónSoftware ServinformaciónAG-7032","AG-7032Software Servinformación",null,"Servinformación","AG-7032","Software Servinformación","Servinformación","COP","N/A","AGRODATAI - Entidades territoriales: Diseño y despliegue de anuncios en el perfil productor.","Mensual","Prod","Servicio","Zonas (1,2,3)","Remoto","Usuario","AG-7032","Mensual por servicios/productos efectivamente prestados",1500000,1,1,"COP"]
["ServinformaciónSoftware ServinformaciónAG-7001-A","AG-7001-ASoftware Servinformación",null,"Servinformación","AG-7001-A","Software Servinformación","Servinformación","COP","N/A","AGRODATAI - Gremios","Anual","Prod","Servicio","Zonas (1,2,3)","Remoto","Usuario","AG-7001-A","Pago anual Anticipado",144000000,1,0,"COP"]
["ServinformaciónSoftware ServinformaciónAG-7002-A","AG-7002-ASoftware Servinformación",null,"Servinformación","AG-7002-A","Software Servinformación","Servinformación","COP","N/A","AGRODATAI - Asociaciones","Anual","Prod","Servicio","Zonas (1,2,3)","Remoto","Usuario","AG-7002-A","Pago anual Anticipado",144000000,1,0,"COP"]
["ServinformaciónSoftware ServinformaciónAG-7003-A","AG-7003-ASoftware Servinformación",null,"Servinformación","AG-7003-A","Software Servinformación","Servinformación","COP","N/A","AGRODATAI - Comercializadores","Anual","Prod","Servicio","Zonas (1,2,3)","Remoto","Usuario","AG-7003-A","Pago anual Anticipado",144000000,1,0,"COP"]
["ServinformaciónSoftware ServinformaciónAG-7004-A","AG-7004-ASoftware Servinformación",null,"Servinformación","AG-7004-A","Software Servinformación","Servinformación","COP","N/A","AGRODATAI - Transformadores","Anual","Prod","Servicio","Zonas (1,2,3)","Remoto","Usuario","AG-7004-A","Pago anual Anticipado",144000000,1,0,"COP"]
["ServinformaciónSoftware ServinformaciónAG-7005-A","AG-7005-ASoftware Servinformación",null,"Servinformación","AG-7005-A","Software Servinformación","Servinformación","COP","N/A","AGRODATAI - Bancos","Anual","Prod","Servicio","Zonas (1,2,3)","Remoto","Usuario","AG-7005-A","Pago anual Anticipado",180000000,1,0,"COP"]
["ServinformaciónSoftware ServinformaciónAG-7006-A","AG-7006-ASoftware Servinformación",null,"Servinformación","AG-7006-A","Software Servinformación","Servinformación","COP","N/A","AGRODATAI - Aseguradoras","Anual","Prod","Servicio","Zonas (1,2,3)","Remoto","Usuario","AG-7006-A","Pago anual Anticipado",180000000,1,0,"COP"]
["ServinformaciónSoftware ServinformaciónAG-7007-A","AG-7007-ASoftware Servinformación",null,"Servinformación","AG-7007-A","Software Servinformación","Servinformación","COP","N/A","AGRODATAI - Entidad publica orden nacional","Anual","Prod","Servicio","Zonas (1,2,3)","Remoto","Usuario","AG-7007-A","Pago anual Anticipado",144000000,1,0,"COP"]
["ServinformaciónSoftware ServinformaciónAG-7008-A","AG-7008-ASoftware Servinformación",null,"Servinformación","AG-7008-A","Software Servinformación","Servinformación","COP","N/A","AGRODATAI - Entidades territoriales","Anual","Prod","Servicio","Zonas (1,2,3)","Remoto","Usuario","AG-7008-A","Pago anual Anticipado",144000000,1,0,"COP"]
["Macro Proyectos SASSoftware Macro Proyectos SASIT-BPMS-01","IT-BPMS-01Software Macro Proyectos SAS",null,"Macro Proyectos SAS","IT-BPMS-01","Software Macro Proyectos SAS","Macro Proyectos SAS","COP","N/A","Licencia Forest BPMS Básica (Hasta 25 Procedimientos) ONPREMISE","Licencia","Prod","Servicio","Zona 1,2,3","N.A.","N/A","IT-BPMS-01","Único pago",370000000,1,1,"COP"]
["Macro Proyectos SASSoftware Macro Proyectos SASIT-BPMS-02","IT-BPMS-02Software Macro Proyectos SAS",null,"Macro Proyectos SAS","IT-BPMS-02","Software Macro Proyectos SAS","Macro Proyectos SAS","COP","N/A","Licencia Forest BPMS Básica SaaS (50 usuarios hasta 25 procedimientos)","Usuario","Serv","Servicio","Zona 1,2,3","N.A.","N/A","IT-BPMS-02","Mensual por servicios efectivamente prestados",37000000,1,1,"COP"]
["Macro Proyectos SASSoftware Macro Proyectos SASIT-SGDEA-03","IT-SGDEA-03Software Macro Proyectos SAS",null,"Macro Proyectos SAS","IT-SGDEA-03","Software Macro Proyectos SAS","Macro Proyectos SAS","COP","N/A","Licencia Forest SGDEA ONPREMISE","Licencia","Prod","Servicio","Zona 1,2,3","N.A.","N/A","IT-SGDEA-03","Único pago",580000000,1,1,"COP"]
["Macro Proyectos SASSoftware Macro Proyectos SASIT-SGDEA-04","IT-SGDEA-04Software Macro Proyectos SAS",null,"Macro Proyectos SAS","IT-SGDEA-04","Software Macro Proyectos SAS","Macro Proyectos SAS","COP","N/A","Licencia Forest SGDEA SaaS (50 usuarios)","Usuario","Serv","Servicio","Zona 1,2,3","N.A.","N/A","IT-SGDEA-04","Mensual por servicios efectivamente prestados",37000000,1,1,"COP"]
["Macro Proyectos SASSoftware Macro Proyectos SASIT-SGDEA-05","IT-SGDEA-05Software Macro Proyectos SAS",null,"Macro Proyectos SAS","IT-SGDEA-05","Software Macro Proyectos SAS","Macro Proyectos SAS","COP","N/A","Licencia Adicional Forest SGDEA SaaS (usuario)","Usuario","Serv","Servicio","Zona 1,2,3","N.A.","N/A","IT-SGDEA-05","Mensual por servicios efectivamente prestados",780000,1,1,"COP"]
["Macro Proyectos SASSoftware Macro Proyectos SASIT-SW-01-01","IT-SW-01-01Software Macro Proyectos SAS",null,"Macro Proyectos SAS","IT-SW-01-01","Software Macro Proyectos SAS","Macro Proyectos SAS","COP","N/A","Capacitación para usuario final - hasta 10 Personas.  ","Por sesión de capacitación de 4 horas para un grupo de hasta 10 personas.","Serv","Servicio","Zona 1","Remoto","Capacitador","IT-SW-01-01","Mensual por servicios efectivamente prestados",1320000,1,1,"COP"]
["Macro Proyectos SASSoftware Macro Proyectos SASIT-SW-01-02","IT-SW-01-02Software Macro Proyectos SAS",null,"Macro Proyectos SAS","IT-SW-01-02","Software Macro Proyectos SAS","Macro Proyectos SAS","COP","N/A","Capacitación para usuario final - hasta 10 Personas.  ","Por sesión de capacitación de 4 horas para un grupo de hasta 10 personas.","Serv","Servicio","Zona 1","Sitio","Capacitador","IT-SW-01-02","Mensual por servicios efectivamente prestados",1320000,1,1,"COP"]
["Macro Proyectos SASSoftware Macro Proyectos SASIT-SW-01-03","IT-SW-01-03Software Macro Proyectos SAS",null,"Macro Proyectos SAS","IT-SW-01-03","Software Macro Proyectos SAS","Macro Proyectos SAS","COP","N/A","Capacitación para usuario final - hasta 10 Personas.  ","Por sesión de capacitación de 4 horas para un grupo de hasta 10 personas.","Serv","Servicio","Zona 2","Remoto","Capacitador","IT-SW-01-03","Mensual por servicios efectivamente prestados",1320000,1,1,"COP"]
["Macro Proyectos SASSoftware Macro Proyectos SASIT-SW-01-04","IT-SW-01-04Software Macro Proyectos SAS",null,"Macro Proyectos SAS","IT-SW-01-04","Software Macro Proyectos SAS","Macro Proyectos SAS","COP","N/A","Capacitación para usuario final - hasta 10 Personas.  ","Por sesión de capacitación de 4 horas para un grupo de hasta 10 personas.","Serv","Servicio","Zona 2","Sitio","Capacitador","IT-SW-01-04","Mensual por servicios efectivamente prestados",1320000,1,1,"COP"]
[{"$f":"D545&F545&E545","v":"Macro Proyectos SASSoftware Macro Proyectos SASIT-SW-01-05"},{"$f":"E545&F545","v":"IT-SW-01-05Software Macro Proyectos SAS"},null,"Macro Proyectos SAS","IT-SW-01-05","Software Macro Proyectos SAS",{"$f":"D545","v":"Macro Proyectos SAS"},"COP","N/A","Capacitación para usuario final - hasta 10 Personas.  ","Por sesión de capacitación de 4 horas para un grupo de hasta 10 personas.","Serv","Servicio","Zona 3","Remoto","Capacitador",{"$f":"+E545","v":"IT-SW-01-05"},"Mensual por servicios efectivamente prestados",1320000,1,1,"COP"]
["Macro Proyectos SASSoftware Macro Proyectos SASIT-SW-01-06","IT-SW-01-06Software Macro Proyectos SAS",null,"Macro Proyectos SAS","IT-SW-01-06","Software Macro Proyectos SAS","Macro Proyectos SAS","COP","N/A","Capacitación para usuario final - hasta 10 Personas.  ","Por sesión de capacitación de 4 horas para un grupo de hasta 10 personas.","Serv","Servicio","Zona 3","Sitio","Capacitador","IT-SW-01-06","Mensual por servicios efectivamente prestados",2244000,1,1,"COP"]
["Macro Proyectos SASSoftware Macro Proyectos SASIT-SW-02-01","IT-SW-02-01Software Macro Proyectos SAS",null,"Macro Proyectos SAS","IT-SW-02-01","Software Macro Proyectos SAS","Macro Proyectos SAS","COP","N/A","Capacitación para usuario final hasta 20 Personas.  ","Por sesión de capacitación de 4 horas para un grupo de hasta 20 personas.","Serv","Servicio","Zona 1","Remoto","Capacitador","IT-SW-02-01","Mensual por servicios efectivamente prestados",2244000,1,1,"COP"]
["Macro Proyectos SASSoftware Macro Proyectos SASIT-SW-02-02","IT-SW-02-02Software Macro Proyectos SAS",null,"Macro Proyectos SAS","IT-SW-02-02","Software Macro Proyectos SAS","Macro Proyectos SAS","COP","N/A","Capacitación para usuario final hasta 20 Personas.  ","Por sesión de capacitación de 4 horas para un grupo de hasta 20 personas.","Serv","Servicio","Zona 1","Sitio","Capacitador","IT-SW-02-02","Mensual por servicios efectivamente prestados",2244000,1,1,"COP"]
["Macro Proyectos SASSoftware Macro Proyectos SASIT-SW-02-03","IT-SW-02-03Software Macro Proyectos SAS",null,"Macro Proyectos SAS","IT-SW-02-03","Software Macro Proyectos SAS","Macro Proyectos SAS","COP","N/A","Capacitación para usuario final hasta 20 Personas.  ","Por sesión de capacitación de 4 horas para un grupo de hasta 20 personas.","Serv","Servicio","Zona 2","Remoto","Capacitador","IT-SW-02-03","Mensual por servicios efectivamente prestados",2244000,1,1,"COP"]
["Macro Proyectos SASSoftware Macro Proyectos SASIT-SW-02-04","IT-SW-02-04Software Macro Proyectos SAS",null,"Macro Proyectos SAS","IT-SW-02-04","Software Macro Proyectos SAS","Macro Proyectos SAS","COP","N/A","Capacitación para usuario final hasta 20 Personas.  ","Por sesión de capacitación de 4 horas para un grupo de hasta 20 personas.","Serv","Servicio","Zona 2","Sitio","Capacitador","IT-SW-02-04","Mensual por servicios efectivamente prestados",2244000,1,1,"COP"]
["Macro Proyectos SASSoftware Macro Proyectos SASIT-SW-02-05","IT-SW-02-05Software Macro Proyectos SAS",null,"Macro Proyectos SAS","IT-SW-02-05","Software Macro Proyectos SAS","Macro Proyectos SAS","COP","N/A","Capacitación para usuario final hasta 20 Personas.  ","Por sesión de capacitación de 4 horas para un grupo de hasta 20 personas.","Serv","Servicio","Zona 3","Remoto","Capacitador","IT-SW-02-05","Mensual por servicios efectivamente prestados",2244000,1,1,"COP"]
["Macro Proyectos SASSoftware Macro Proyectos SASIT-SW-02-06","IT-SW-02-06Software Macro Proyectos SAS",null,"Macro Proyectos SAS","IT-SW-02-06","Software Macro Proyectos SAS","Macro Proyectos SAS","COP","N/A","Capacitación para usuario final hasta 20 Personas.  ","Por sesión de capacitación de 4 horas para un grupo de hasta 20 personas.","Serv","Servicio","Zona 3","Sitio","Capacitador","IT-SW-02-06","Mensual por servicios efectivamente prestados",2244000,1,1,"COP"]
["Macro Proyectos SASSoftware Macro Proyectos SASIT-SW-03-01","IT-SW-03-01Software Macro Proyectos SAS",null,"Macro Proyectos SAS","IT-SW-03-01","Software Macro Proyectos SAS","Macro Proyectos SAS","COP","N/A","Capacitación para usuario técnico o administrador - hasta 10 Personas.  ","Por sesión de capacitación de 4 horas para un grupo de hasta 10 personas.","Serv","Servicio","Zona 1","Remoto","Capacitador","IT-SW-03-01","Mensual por servicios efectivamente prestados",1716000,1,1,"COP"]
["Macro Proyectos SASSoftware Macro Proyectos SASIT-SW-03-02","IT-SW-03-02Software Macro Proyectos SAS",null,"Macro Proyectos SAS","IT-SW-03-02","Software Macro Proyectos SAS","Macro Proyectos SAS","COP","N/A","Capacitación para usuario técnico o administrador - hasta 10 Personas.  ","Por sesión de capacitación de 4 horas para un grupo de hasta 10 personas.","Serv","Servicio","Zona 1","Sitio","Capacitador","IT-SW-03-02","Mensual por servicios efectivamente prestados",1716000,1,1,"COP"]
["Macro Proyectos SASSoftware Macro Proyectos SASIT-SW-03-03","IT-SW-03-03Software Macro Proyectos SAS",null,"Macro Proyectos SAS","IT-SW-03-03","Software Macro Proyectos SAS","Macro Proyectos SAS","COP","N/A","Capacitación para usuario técnico o administrador - hasta 10 Personas.  ","Por sesión de capacitación de 4 horas para un grupo de hasta 10 personas.","Serv","Servicio","Zona 2","Remoto","Capacitador","IT-SW-03-03","Mensual por servicios efectivamente prestados",1716000,1,1,"COP"]
["Macro Proyectos SASSoftware Macro Proyectos SASIT-SW-03-04","IT-SW-03-04Software Macro Proyectos SAS",null,"Macro Proyectos SAS","IT-SW-03-04","Software Macro Proyectos SAS","Macro Proyectos SAS","COP","N/A","Capacitación para usuario técnico o administrador - hasta 10 Personas.  ","Por sesión de capacitación de 4 horas para un grupo de hasta 10 personas.","Serv","Servicio","Zona 2","Sitio","Capacitador","IT-SW-03-04","Mensual por servicios efectivamente prestados",1716000,1,1,"COP"]
["Macro Proyectos SASSoftware Macro Proyectos SASIT-SW-03-05","IT-SW-03-05Software Macro Proyectos SAS",null,"Macro Proyectos SAS","IT-SW-03-05","Software Macro Proyectos SAS","Macro Proyectos SAS","COP","N/A","Capacitación para usuario técnico o administrador - hasta 10 Personas.  ","Por sesión de capacitación de 4 horas para un grupo de hasta 10 personas.","Serv","Servicio","Zona 3","Remoto","Capacitador","IT-SW-03-05","Mensual por servicios efectivamente prestados",1716000,1,1,"COP"]
["Macro Proyectos SASSoftware Macro Proyectos SASIT-SW-03-06","IT-SW-03-06Software Macro Proyectos SAS",null,"Macro Proyectos SAS","IT-SW-03-06","Software Macro Proyectos SAS","Macro Proyectos SAS","COP","N/A","Capacitación para usuario técnico o administrador - hasta 10 Personas.  ","Por sesión de capacitación de 4 horas para un grupo de hasta 10 personas.","Serv","Servicio","Zona 3","Sitio","Capacitador","IT-SW-03-06","Mensual por servicios efectivamente prestados",1716000,1,1,"COP"]
["Macro Proyectos SASSoftware Macro Proyectos SASIT-SW-05-01","IT-SW-05-01Software Macro Proyectos SAS",null,"Macro Proyectos SAS","IT-SW-05-01","Software Macro Proyectos SAS","Macro Proyectos SAS","COP","N/A","Automatización, configuración, parametrización de procesos en Forest BPMS","Hora","Serv","Servicio","Zona 1","Remoto","profesional","IT-SW-05-01","Mensual por servicios efectivamente prestados",237000,1,1,"COP"]
["Macro Proyectos SASSoftware Macro Proyectos SASIT-SW-05-02","IT-SW-05-02Software Macro Proyectos SAS",null,"Macro Proyectos SAS","IT-SW-05-02","Software Macro Proyectos SAS","Macro Proyectos SAS","COP","N/A","Automatización, configuración, parametrización de procesos en Forest BPMS","Hora","Serv","Servicio","Zona 1","Sitio","profesional","IT-SW-05-02","Mensual por servicios efectivamente prestados",237000,1,1,"COP"]
["Macro Proyectos SASSoftware Macro Proyectos SASIT-SW-05-03","IT-SW-05-03Software Macro Proyectos SAS",null,"Macro Proyectos SAS","IT-SW-05-03","Software Macro Proyectos SAS","Macro Proyectos SAS","COP","N/A","Automatización, configuración, parametrización de procesos en Forest BPMS","Hora","Serv","Servicio","Zona 2","Remoto","profesional","IT-SW-05-03","Mensual por servicios efectivamente prestados",237000,1,1,"COP"]
["Macro Proyectos SASSoftware Macro Proyectos SASIT-SW-05-04","IT-SW-05-04Software Macro Proyectos SAS",null,"Macro Proyectos SAS","IT-SW-05-04","Software Macro Proyectos SAS","Macro Proyectos SAS","COP","N/A","Automatización, configuración, parametrización de procesos en Forest BPMS","Hora","Serv","Servicio","Zona 2","Sitio","profesional","IT-SW-05-04","Mensual por servicios efectivamente prestados",237000,1,1,"COP"]
["Macro Proyectos SASSoftware Macro Proyectos SASIT-SW-05-05","IT-SW-05-05Software Macro Proyectos SAS",null,"Macro Proyectos SAS","IT-SW-05-05","Software Macro Proyectos SAS","Macro Proyectos SAS","COP","N/A","Automatización, configuración, parametrización de procesos en Forest BPMS","Hora","Serv","Servicio","Zona 3","Remoto","profesional","IT-SW-05-05","Mensual por servicios efectivamente prestados",237000,1,1,"COP"]
["Macro Proyectos SASSoftware Macro Proyectos SASIT-SW-05-06","IT-SW-05-06Software Macro Proyectos SAS",null,"Macro Proyectos SAS","IT-SW-05-06","Software Macro Proyectos SAS","Macro Proyectos SAS","COP","N/A","Automatización, configuración, parametrización de procesos en Forest BPMS","Hora","Serv","Servicio","Zona 3","Sitio","profesional","IT-SW-05-06","Mensual por servicios efectivamente prestados",237000,1,1,"COP"]
["Macro Proyectos SASSoftware Macro Proyectos SASIT-SW-07-01","IT-SW-07-01Software Macro Proyectos SAS",null,"Macro Proyectos SAS","IT-SW-07-01","Software Macro Proyectos SAS","Macro Proyectos SAS","COP","N/A","Instalación de Licencia o Suscripción Anual, o afínes ","Unidad","Serv","Servicio","Zona 1","Remoto","profesional","IT-SW-07-01","Mensual por servicios efectivamente prestados",5910000,1,1,"COP"]
["Macro Proyectos SASSoftware Macro Proyectos SASIT-SW-07-02","IT-SW-07-02Software Macro Proyectos SAS",null,"Macro Proyectos SAS","IT-SW-07-02","Software Macro Proyectos SAS","Macro Proyectos SAS","COP","N/A","Instalación de Licencia o Suscripción Anual, o afínes ","Unidad","Serv","Servicio","Zona 1","Sitio","profesional","IT-SW-07-02","Mensual por servicios efectivamente prestados",5910000,1,1,"COP"]
["Macro Proyectos SASSoftware Macro Proyectos SASIT-SW-07-03","IT-SW-07-03Software Macro Proyectos SAS",null,"Macro Proyectos SAS","IT-SW-07-03","Software Macro Proyectos SAS","Macro Proyectos SAS","COP","N/A","Instalación de Licencia o Suscripción Anual, o afínes ","Unidad","Serv","Servicio","Zona 2","Remoto","profesional","IT-SW-07-03","Mensual por servicios efectivamente prestados",7880000,1,1,"COP"]
["Macro Proyectos SASSoftware Macro Proyectos SASIT-SW-07-04","IT-SW-07-04Software Macro Proyectos SAS",null,"Macro Proyectos SAS","IT-SW-07-04","Software Macro Proyectos SAS","Macro Proyectos SAS","COP","N/A","Instalación de Licencia o Suscripción Anual, o afínes ","Unidad","Serv","Servicio","Zona 2","Sitio","profesional","IT-SW-07-04","Mensual por servicios efectivamente prestados",7880000,1,1,"COP"]
["Macro Proyectos SASSoftware Macro Proyectos SASIT-SW-07-05","IT-SW-07-05Software Macro Proyectos SAS",null,"Macro Proyectos SAS","IT-SW-07-05","Software Macro Proyectos SAS","Macro Proyectos SAS","COP","N/A","Instalación de Licencia o Suscripción Anual, o afínes ","Unidad","Serv","Servicio","Zona 3","Remoto","profesional","IT-SW-07-05","Mensual por servicios efectivamente prestados",8865000,1,1,"COP"]
["Macro Proyectos SASSoftware Macro Proyectos SASIT-SW-07-06","IT-SW-07-06Software Macro Proyectos SAS",null,"Macro Proyectos SAS","IT-SW-07-06","Software Macro Proyectos SAS","Macro Proyectos SAS","COP","N/A","Instalación de Licencia o Suscripción Anual, o afínes ","Unidad","Serv","Servicio","Zona 3","Sitio","profesional","IT-SW-07-06","Mensual por servicios efectivamente prestados",8865000,1,1,"COP"]
["Macro Proyectos SASSoftware Macro Proyectos SASIT-SW-08-01","IT-SW-08-01Software Macro Proyectos SAS",null,"Macro Proyectos SAS","IT-SW-08-01","Software Macro Proyectos SAS","Macro Proyectos SAS","COP","N/A","Migración de información por volumen de datos almacenados ","Hora","Serv","Servicio","Zona 1","Remoto","profesional","IT-SW-08-01","Mensual por servicios efectivamente prestados",237000,1,1,"COP"]
["Macro Proyectos SASSoftware Macro Proyectos SASIT-SW-08-02","IT-SW-08-02Software Macro Proyectos SAS",null,"Macro Proyectos SAS","IT-SW-08-02","Software Macro Proyectos SAS","Macro Proyectos SAS","COP","N/A","Migración de información por volumen de datos almacenados ","Hora","Serv","Servicio","Zona 1","Sitio","profesional","IT-SW-08-02","Mensual por servicios efectivamente prestados",237000,1,1,"COP"]
["Macro Proyectos SASSoftware Macro Proyectos SASIT-SW-08-03","IT-SW-08-03Software Macro Proyectos SAS",null,"Macro Proyectos SAS","IT-SW-08-03","Software Macro Proyectos SAS","Macro Proyectos SAS","COP","N/A","Migración de información por volumen de datos almacenados ","Hora","Serv","Servicio","Zona 2","Remoto","profesional","IT-SW-08-03","Mensual por servicios efectivamente prestados",237000,1,1,"COP"]
["Macro Proyectos SASSoftware Macro Proyectos SASIT-SW-08-04","IT-SW-08-04Software Macro Proyectos SAS",null,"Macro Proyectos SAS","IT-SW-08-04","Software Macro Proyectos SAS","Macro Proyectos SAS","COP","N/A","Migración de información por volumen de datos almacenados ","Hora","Serv","Servicio","Zona 2","Sitio","profesional","IT-SW-08-04","Mensual por servicios efectivamente prestados",237000,1,1,"COP"]
["Macro Proyectos SASSoftware Macro Proyectos SASIT-SW-08-05","IT-SW-08-05Software Macro Proyectos SAS",null,"Macro Proyectos SAS","IT-SW-08-05","Software Macro Proyectos SAS","Macro Proyectos SAS","COP","N/A","Migración de información por volumen de datos almacenados ","Hora","Serv","Servicio","Zona 3","Remoto","profesional","IT-SW-08-05","Mensual por servicios efectivamente prestados",237000,1,1,"COP"]
["Macro Proyectos SASSoftware Macro Proyectos SASIT-SW-08-06","IT-SW-08-06Software Macro Proyectos SAS",null,"Macro Proyectos SAS","IT-SW-08-06","Software Macro Proyectos SAS","Macro Proyectos SAS","COP","N/A","Migración de información por volumen de datos almacenados ","Hora","Serv","Servicio","Zona 3","Sitio","profesional","IT-SW-08-06","Mensual por servicios efectivamente prestados",237000,1,1,"COP"]
["Macro Proyectos SASSoftware Macro Proyectos SASIT-SW-09-01","IT-SW-09-01Software Macro Proyectos SAS",null,"Macro Proyectos SAS","IT-SW-09-01","Software Macro Proyectos SAS","Macro Proyectos SAS","COP","N/A","Soporte técnico en sitio ","Mes","Serv","Servicio","Zona 1","Sitio","profesional","IT-SW-09-01","Mensual por servicios efectivamente prestados",20000000,1,1,"COP"]
["Macro Proyectos SASSoftware Macro Proyectos SASIT-SW-09-02","IT-SW-09-02Software Macro Proyectos SAS",null,"Macro Proyectos SAS","IT-SW-09-02","Software Macro Proyectos SAS","Macro Proyectos SAS","COP","N/A","Soporte técnico en sitio ","Mes","Serv","Servicio","Zona 2","Sitio","profesional","IT-SW-09-02","Mensual por servicios efectivamente prestados",20000000,1,1,"COP"]
["Macro Proyectos SASSoftware Macro Proyectos SASIT-SW-09-03","IT-SW-09-03Software Macro Proyectos SAS",null,"Macro Proyectos SAS","IT-SW-09-03","Software Macro Proyectos SAS","Macro Proyectos SAS","COP","N/A","Soporte técnico en sitio ","Mes","Serv","Servicio","Zona 3","Sitio","profesional","IT-SW-09-03","Mensual por servicios efectivamente prestados",20000000,1,1,"COP"]
["Macro Proyectos SASSoftware Macro Proyectos SASIT-SW-10-01","IT-SW-10-01Software Macro Proyectos SAS",null,"Macro Proyectos SAS","IT-SW-10-01","Software Macro Proyectos SAS","Macro Proyectos SAS","COP","N/A","Soporte técnico proactivo ","Mes","Serv","Servicio","Zona 2","Remoto","profesional","IT-SW-10-01","Mensual por servicios efectivamente prestados",15000000,1,1,"COP"]
["Macro Proyectos SASSoftware Macro Proyectos SASIT-SW-10-02","IT-SW-10-02Software Macro Proyectos SAS",null,"Macro Proyectos SAS","IT-SW-10-02","Software Macro Proyectos SAS","Macro Proyectos SAS","COP","N/A","Soporte técnico proactivo ","Mes","Serv","Servicio","Zona 2","Sitio","profesional","IT-SW-10-02","Mensual por servicios efectivamente prestados",20000000,1,1,"COP"]
["Macro Proyectos SASSoftware Macro Proyectos SASIT-SW-10-03","IT-SW-10-03Software Macro Proyectos SAS",null,"Macro Proyectos SAS","IT-SW-10-03","Software Macro Proyectos SAS","Macro Proyectos SAS","COP","N/A","Soporte técnico proactivo ","Mes","Serv","Servicio","Zona 1","Remoto","profesional","IT-SW-10-03","Mensual por servicios efectivamente prestados",15000000,1,1,"COP"]
["Macro Proyectos SASSoftware Macro Proyectos SASIT-SW-10-04","IT-SW-10-04Software Macro Proyectos SAS",null,"Macro Proyectos SAS","IT-SW-10-04","Software Macro Proyectos SAS","Macro Proyectos SAS","COP","N/A","Soporte técnico proactivo ","Mes","Serv","Servicio","Zona 3","Remoto","profesional","IT-SW-10-04","Mensual por servicios efectivamente prestados",15000000,1,1,"COP"]
["Macro Proyectos SASSoftware Macro Proyectos SASIT-SW-10-05","IT-SW-10-05Software Macro Proyectos SAS",null,"Macro Proyectos SAS","IT-SW-10-05","Software Macro Proyectos SAS","Macro Proyectos SAS","COP","N/A","Soporte técnico proactivo ","Mes","Serv","Servicio","Zona 3","Sitio","profesional","IT-SW-10-05","Mensual por servicios efectivamente prestados",20000000,1,1,"COP"]
["Macro Proyectos SASSoftware Macro Proyectos SASIT-SW-10-06","IT-SW-10-06Software Macro Proyectos SAS",null,"Macro Proyectos SAS","IT-SW-10-06","Software Macro Proyectos SAS","Macro Proyectos SAS","COP","N/A","Soporte técnico proactivo ","Mes","Serv","Servicio","Zona 1","Sitio","profesional","IT-SW-10-06","Mensual por servicios efectivamente prestados",20000000,1,1,"COP"]
["Macro Proyectos SASSoftware Macro Proyectos SASIT-SW-11-01","IT-SW-11-01Software Macro Proyectos SAS",null,"Macro Proyectos SAS","IT-SW-11-01","Software Macro Proyectos SAS","Macro Proyectos SAS","COP","N/A","Soporte técnico reactivo ","Mes","Serv","Servicio","Zona 1","Sitio","profesional","IT-SW-11-01","Mensual por servicios efectivamente prestados",20000000,1,1,"COP"]
["Macro Proyectos SASSoftware Macro Proyectos SASIT-SW-11-02","IT-SW-11-02Software Macro Proyectos SAS",null,"Macro Proyectos SAS","IT-SW-11-02","Software Macro Proyectos SAS","Macro Proyectos SAS","COP","N/A","Soporte técnico reactivo ","Mes","Serv","Servicio","Zona 2","Remoto","profesional","IT-SW-11-02","Mensual por servicios efectivamente prestados",15000000,1,1,"COP"]
["Macro Proyectos SASSoftware Macro Proyectos SASIT-SW-11-03","IT-SW-11-03Software Macro Proyectos SAS",null,"Macro Proyectos SAS","IT-SW-11-03","Software Macro Proyectos SAS","Macro Proyectos SAS","COP","N/A","Soporte técnico reactivo ","Mes","Serv","Servicio","Zona 2","Sitio","profesional","IT-SW-11-03","Mensual por servicios efectivamente prestados",20000000,1,1,"COP"]
["Macro Proyectos SASSoftware Macro Proyectos SASIT-SW-11-04","IT-SW-11-04Software Macro Proyectos SAS",null,"Macro Proyectos SAS","IT-SW-11-04","Software Macro Proyectos SAS","Macro Proyectos SAS","COP","N/A","Soporte técnico reactivo ","Mes","Serv","Servicio","Zona 3","Remoto","profesional","IT-SW-11-04","Mensual por servicios efectivamente prestados",15000000,1,1,"COP"]
["Macro Proyectos SASSoftware Macro Proyectos SASIT-SW-11-05","IT-SW-11-05Software Macro Proyectos SAS",null,"Macro Proyectos SAS","IT-SW-11-05","Software Macro Proyectos SAS","Macro Proyectos SAS","COP","N/A","Soporte técnico reactivo ","Mes","Serv","Servicio","Zona 3","Sitio","profesional","IT-SW-11-05","Mensual por servicios efectivamente prestados",20000000,1,1,"COP"]
["Macro Proyectos SASSoftware Macro Proyectos SASIT-SW-11-06","IT-SW-11-06Software Macro Proyectos SAS",null,"Macro Proyectos SAS","IT-SW-11-06","Software Macro Proyectos SAS","Macro Proyectos SAS","COP","N/A","Soporte técnico reactivo ","Mes","Serv","Servicio","Zona 1","Remoto","profesional","IT-SW-11-06","Mensual por servicios efectivamente prestados",15000000,1,1,"COP"]
["Macro Proyectos SASSoftware Macro Proyectos SASIT-ECM-06","IT-ECM-06Software Macro Proyectos SAS",null,"Macro Proyectos SAS","IT-ECM-06","Software Macro Proyectos SAS","Macro Proyectos SAS","COP","N/A","Licencia Forest ECM ONPREMISE","Licencia","Prod","Servicio","Zona 1,2,3","N.A.","N/A","IT-ECM-06","Único pago",380000000,1,1,"COP"]
["Macro Proyectos SASSoftware Macro Proyectos SASIT-ECM-07","IT-ECM-07Software Macro Proyectos SAS",null,"Macro Proyectos SAS","IT-ECM-07","Software Macro Proyectos SAS","Macro Proyectos SAS","COP","N/A","Licencia Forest ECM SaaS (50 usuarios - 1 repositorio)","Usuario","Serv","Servicio","Zona 1,2,3","N.A.","N/A","IT-ECM-07","Mensual por servicios efectivamente prestados",38000000,1,1,"COP"]
["Analitica SASSoftware Analitica S.A.SAZD-SW-1","AZD-SW-1Software Analitica S.A.S",null,"Analitica SAS","AZD-SW-1","Software Analitica S.A.S","Analitica SAS","COP","N/A","AZDigital Licencia por usuario: SGDEA (Incluye soporte por el primer año) - Mínimo 20 usuarios","Usuario ","Soft","Servicio","Zonas (1,2,3)","Remoto","N/A","AZD-SW-1","Único Pago",1500000,1,1,"COP"]
["Analitica SASSoftware Analitica S.A.SAZD-SW-2","AZD-SW-2Software Analitica S.A.S",null,"Analitica SAS","AZD-SW-2","Software Analitica S.A.S","Analitica SAS","COP","N/A","AZDigital Soporte anual por usuario: SGDEA (Año adicional)","Usuario","Sop","Servicio","Zonas (1,2,3)","Remoto","N/A","AZD-SW-2","Anual",300000,1,1,"COP"]
["Analitica SASSoftware Analitica S.A.SAZD-SW-3","AZD-SW-3Software Analitica S.A.S",null,"Analitica SAS","AZD-SW-3","Software Analitica S.A.S","Analitica SAS","COP","N/A","AZDigital Licencia por usuario: SGDEA + PQRSD (Incluye soporte por el primer año) - Mínimo 20 usuarios","Usuario ","Soft","Servicio","Zonas (1,2,3)","Remoto","N/A","AZD-SW-3","Único Pago",1723750,1,1,"COP"]
["Analitica SASSoftware Analitica S.A.SAZD-SW-4","AZD-SW-4Software Analitica S.A.S",null,"Analitica SAS","AZD-SW-4","Software Analitica S.A.S","Analitica SAS","COP","N/A","AZDigital Soporte anual por usuario: SGDEA + PQRSD  (Año adicional)","Usuario ","Sop","Servicio","Zonas (1,2,3)","Remoto","N/A","AZD-SW-4","Anual",344750,1,1,"COP"]
["Analitica SASSoftware Analitica S.A.SAZD-SW-5","AZD-SW-5Software Analitica S.A.S",null,"Analitica SAS","AZD-SW-5","Software Analitica S.A.S","Analitica SAS","COP","N/A","AZDigital Licencia por usuario: SGDEA + BPMS Ilimitados Procedimientos (Incluye soporte por el primer año) - Mínimo 20 usuarios","Usuario ","Soft","Servicio","Zonas (1,2,3)","Remoto","N/A","AZD-SW-5","Único Pago",1948750,1,1,"COP"]
["Analitica SASSoftware Analitica S.A.SAZD-SW-6","AZD-SW-6Software Analitica S.A.S",null,"Analitica SAS","AZD-SW-6","Software Analitica S.A.S","Analitica SAS","COP","N/A","AZDigital Soporte anual por usuario: SGDEA + BPMS Ilimitados Procedimientos (Año adicional)","Usuario ","Sop","Servicio","Zonas (1,2,3)","Remoto","N/A","AZD-SW-6","Anual",389750,1,1,"COP"]
["Analitica SASSoftware Analitica S.A.SAZD-SW-7","AZD-SW-7Software Analitica S.A.S",null,"Analitica SAS","AZD-SW-7","Software Analitica S.A.S","Analitica SAS","COP","N/A","AZDigital Licencia por usuario: SGDEA + PQRSD + BPMS Ilimitados Procedimientos (Incluye soporte por el primer año) - Mínimo 20 usuarios","Usuario ","Soft","Servicio","Zonas (1,2,3)","Remoto","N/A","AZD-SW-7","Único Pago",2173750,1,1,"COP"]
["Analitica SASSoftware Analitica S.A.SAZD-SW-8","AZD-SW-8Software Analitica S.A.S",null,"Analitica SAS","AZD-SW-8","Software Analitica S.A.S","Analitica SAS","COP","N/A","AZDigita Soporte anual por usuariol: SGDEA + PQRSD + BPMS (Año adicional)","Usuario ","Sop","Servicio","Zonas (1,2,3)","Remoto","N/A","AZD-SW-8","Anual",434750,1,1,"COP"]
["Analitica SASSoftware Analitica S.A.SAZD-SW-9","AZD-SW-9Software Analitica S.A.S",null,"Analitica SAS","AZD-SW-9","Software Analitica S.A.S","Analitica SAS","COP","N/A","AZDigital Licencia: SGDEA (Incluye soporte por el primer año)","Licencia","Soft","Servicio","Zonas (1,2,3)","Remoto","N/A","AZD-SW-9","Único Pago",625000000,1,1,"COP"]
["Analitica SASSoftware Analitica S.A.SAZD-SW-10","AZD-SW-10Software Analitica S.A.S",null,"Analitica SAS","AZD-SW-10","Software Analitica S.A.S","Analitica SAS","COP","N/A","AZDigital Soporte Licencia: SGDEA (Año adicional)","Licencia","Sop","Servicio","Zonas (1,2,3)","Remoto","N/A","AZD-SW-10","Anual",125000000,1,1,"COP"]
["Analitica SASSoftware Analitica S.A.SAZD-SW-11","AZD-SW-11Software Analitica S.A.S",null,"Analitica SAS","AZD-SW-11","Software Analitica S.A.S","Analitica SAS","COP","N/A","AZDigital Licencia: SGDEA + PQRSD (Incluye soporte por el primer año)","Licencia","Soft","Servicio","Zonas (1,2,3)","Remoto","N/A","AZD-SW-11","Único Pago",718750000,1,1,"COP"]
["Analitica SASSoftware Analitica S.A.SAZD-SW-12","AZD-SW-12Software Analitica S.A.S",null,"Analitica SAS","AZD-SW-12","Software Analitica S.A.S","Analitica SAS","COP","N/A","AZDigital Soporte Licencia: SGDEA + PQRSD (Año adicional)","Licencia","Sop","Servicio","Zonas (1,2,3)","Remoto","N/A","AZD-SW-12","Anual",143750000,1,1,"COP"]
["Analitica SASSoftware Analitica S.A.SAZD-SW-13","AZD-SW-13Software Analitica S.A.S",null,"Analitica SAS","AZD-SW-13","Software Analitica S.A.S","Analitica SAS","COP","N/A","AZDigital Licencia: SGDEA + BPMS Ilimitados Procedimientos (Incluye soporte por el primer año)","Licencia","Soft","Servicio","Zonas (1,2,3)","Remoto","N/A","AZD-SW-13","Único Pago",812500000,1,1,"COP"]
["Analitica SASSoftware Analitica S.A.SAZD-SW-14","AZD-SW-14Software Analitica S.A.S",null,"Analitica SAS","AZD-SW-14","Software Analitica S.A.S","Analitica SAS","COP","N/A","AZDigital Soporte Licencia: SGDEA + BPMS Ilimitados Procedimientos (Año adicioanal)","Licencia","Sop","Servicio","Zonas (1,2,3)","Remoto","N/A","AZD-SW-14","Anual",162500000,1,1,"COP"]
["Analitica SASSoftware Analitica S.A.SAZD-SW-15","AZD-SW-15Software Analitica S.A.S",null,"Analitica SAS","AZD-SW-15","Software Analitica S.A.S","Analitica SAS","COP","N/A","AZDigital Licencia: SGDEA + PQRSD + BPMS Ilimitados Procedimientos (Incluye soporte por el primer año)","Licencia","Soft","Servicio","Zonas (1,2,3)","Remoto","N/A","AZD-SW-15","Único Pago",906250000,1,1,"COP"]
[{"$f":"D609&F609&E609","v":"Analitica SASSoftware Analitica S.A.SAZD-SW-16"},{"$f":"E609&F609","v":"AZD-SW-16Software Analitica S.A.S"},null,"Analitica SAS","AZD-SW-16","Software Analitica S.A.S",{"$f":"D609","v":"Analitica SAS"},"COP","N/A","AZDigital Soporte Licencia: SGDEA + PQRSD + BPMS Ilimitados Procedimientos (Año adicioanal)","Licencia","Sop","Servicio","Zonas (1,2,3)","Remoto","N/A",{"$f":"+E609","v":"AZD-SW-16"},"Anual",181250000,1,1,"COP"]
["Analitica SASSoftware Analitica S.A.SAZD-SW-17","AZD-SW-17Software Analitica S.A.S",null,"Analitica SAS","AZD-SW-17","Software Analitica S.A.S","Analitica SAS","COP","N/A","AZDigital SaaS por usuario: SGDEA (Incluye soporte de la Licencia) - Mínimo 20 usuarios - Suscripcion Anual","Usuario ","SaaS","Servicio","Zonas (1,2,3)","Remoto","N/A","AZD-SW-17","Anual",675000,1,0,"COP"]
["Analitica SASSoftware Analitica S.A.SAZD-SW-18","AZD-SW-18Software Analitica S.A.S",null,"Analitica SAS","AZD-SW-18","Software Analitica S.A.S","Analitica SAS","COP","N/A","AZDigital SaaS por usuario: SGDEA (Incluye soporte de la Licencia) - Mínimo 20 usuarios - Suscripcion Mensual","Usuario","SaaS","Servicio","Zonas (1,2,3)","Remoto","N/A","AZD-SW-18","Mensual",62500,1,0,"COP"]
["Analitica SASSoftware Analitica S.A.SAZD-SW-19","AZD-SW-19Software Analitica S.A.S",null,"Analitica SAS","AZD-SW-19","Software Analitica S.A.S","Analitica SAS","COP","N/A","AZDigital SaaS por usuario: SGDEA + PQRSD (Incluye soporte de la Licencia) - Minimo 20 usuarios - Suscripcion Anual","Usuario","SaaS","Servicio","Zonas (1,2,3)","Remoto","N/A","AZD-SW-19","Anual",783000,1,0,"COP"]
["Analitica SASSoftware Analitica S.A.SAZD-SW-20","AZD-SW-20Software Analitica S.A.S",null,"Analitica SAS","AZD-SW-20","Software Analitica S.A.S","Analitica SAS","COP","N/A","AZDigital SaaS por usuario: SGDEA + PQRSD (Incluye soporte de la Licencia) -  Mínimo 20 usuarios - Suscripcion Mensual","Usuario","SaaS","Servicio","Zonas (1,2,3)","Remoto","N/A","AZD-SW-20","Mensual",72500,1,0,"COP"]
["Analitica SASSoftware Analitica S.A.SAZD-SW-21","AZD-SW-21Software Analitica S.A.S",null,"Analitica SAS","AZD-SW-21","Software Analitica S.A.S","Analitica SAS","COP","N/A","AZDigital SaaS por usuario: SGDEA + BPMS Ilimitados Procedimientos (Incluye soporte de la Licencia) -  Mínimo 20 usuarios - Suscripcion Anual","Usuario","SaaS","Servicio","Zonas (1,2,3)","Remoto","N/A","AZD-SW-21","Anual",877500,1,0,"COP"]
["Analitica SASSoftware Analitica S.A.SAZD-SW-22","AZD-SW-22Software Analitica S.A.S",null,"Analitica SAS","AZD-SW-22","Software Analitica S.A.S","Analitica SAS","COP","N/A","AZDigital SaaS por usuario: SGDEA + BPMS Ilimitados Procedimientos (Incluye soporte de la Licencia) -  Mínimo 20 usuarios - Suscripcion Mensual","Usuario","SaaS","Servicio","Zonas (1,2,3)","Remoto","N/A","AZD-SW-22","Mensual",81250,1,0,"COP"]
["Analitica SASSoftware Analitica S.A.SAZD-SW-23","AZD-SW-23Software Analitica S.A.S",null,"Analitica SAS","AZD-SW-23","Software Analitica S.A.S","Analitica SAS","COP","N/A","AZDigital SaaS por usuario: SGDEA + PQRS + BPMS  Ilimitados Procedimientos (Incluye soporte de la Licencia) -  Mínimo 20 usuarios - Suscripcion Anual","Usuario","SaaS","Servicio","Zonas (1,2,3)","Remoto","N/A","AZD-SW-23","Anual",985500,1,0,"COP"]
["Analitica SASSoftware Analitica S.A.SAZD-SW-24","AZD-SW-24Software Analitica S.A.S",null,"Analitica SAS","AZD-SW-24","Software Analitica S.A.S","Analitica SAS","COP","N/A","AZDigital SaaS por usuario: SGDEA + PQRS + BPMS Ilimitados Procedimientos (Incluye soporte de la Licencia) -  Mínimo 20 usuarios - Suscripcion Mensual","Usuario","SaaS","Servicio","Zonas (1,2,3)","Remoto","N/A","AZD-SW-24","Mensual",91250,1,0,"COP"]
["Analitica SASSoftware Analitica S.A.SSGP-SW-1","SGP-SW-1Software Analitica S.A.S",null,"Analitica SAS","SGP-SW-1","Software Analitica S.A.S","Analitica SAS","COP","N/A","SGP Licencia por usuario: BPMS Ilimitados Procedimientos (Incluye soporte por el primer año) - Mínimo 20 usuarios","Usuario","Soft","Servicio","Zonas (1,2,3)","Remoto","N/A","SGP-SW-1","Único Pago",1500000,1,1,"COP"]
["Analitica SASSoftware Analitica S.A.SSGP-SW-2","SGP-SW-2Software Analitica S.A.S",null,"Analitica SAS","SGP-SW-2","Software Analitica S.A.S","Analitica SAS","COP","N/A","SGP Soporte anual por usuario: BPMS (Año Adicional)","Usuario","Sop","Servicio","Zonas (1,2,3)","Remoto","N/A","SGP-SW-2","Anual",300000,1,1,"COP"]
["Analitica SASSoftware Analitica S.A.SSGP-SW-3","SGP-SW-3Software Analitica S.A.S",null,"Analitica SAS","SGP-SW-3","Software Analitica S.A.S","Analitica SAS","COP","N/A","SGP SaaS por usuario: BPMS (Incluye soporte de la Licencia) - Mínimo 20 usuarios - Suscripcion Anual","Usuario","SaaS","Servicio","Zonas (1,2,3)","Remoto","N/A","SGP-SW-3","Anual",675000,1,0,"COP"]
["Analitica SASSoftware Analitica S.A.SSGP-SW-4","SGP-SW-4Software Analitica S.A.S",null,"Analitica SAS","SGP-SW-4","Software Analitica S.A.S","Analitica SAS","COP","N/A","SGP SaaS por usuario: BPMS (Incluye soporte de la Licencia) - Mínimo 20 usuarios - Suscripcion Mensual","Usuario","SaaS","Servicio","Zonas (1,2,3)","Remoto","N/A","SGP-SW-4","Mensual",62500,1,0,"COP"]
["Analitica SASSoftware Analitica S.A.SSGP-SW-5","SGP-SW-5Software Analitica S.A.S",null,"Analitica SAS","SGP-SW-5","Software Analitica S.A.S","Analitica SAS","COP","N/A","SGP Licencia: BPMS Ilimitados Procedimientos (Incluye soporte por el primer año)","Licencia","Soft","Servicio","Zonas (1,2,3)","Remoto","N/A","SGP-SW-5","Único Pago",625000000,1,1,"COP"]
["Analitica SASSoftware Analitica S.A.SSGP-SW-6","SGP-SW-6Software Analitica S.A.S",null,"Analitica SAS","SGP-SW-6","Software Analitica S.A.S","Analitica SAS","COP","N/A","SGP Soporte Licencia: BPMS Ilimitados Procedimientos (Año adicioanal)","Licencia","Sop","Servicio","Zonas (1,2,3)","Remoto","N/A","SGP-SW-6","Anual",125000000,1,1,"COP"]
["Analitica SASSoftware Analitica S.A.SAZD-SRV-1","AZD-SRV-1Software Analitica S.A.S",null,"Analitica SAS","AZD-SRV-1","Software Analitica S.A.S","Analitica SAS","COP","N/A","Capacitación para usuario final - hasta 10 Personas - AZDIGITAL (SGDEA)","Por sesión de capacitación de 4 horas para un grupo de hasta 10 personas.","Serv","Servicio","Zona 1","Remoto","Capacitador","AZD-SRV-1","Mensual por servicios efectivamente prestados",869400,1,1,"COP"]
["Analitica SASSoftware Analitica S.A.SAZD-SRV-2","AZD-SRV-2Software Analitica S.A.S",null,"Analitica SAS","AZD-SRV-2","Software Analitica S.A.S","Analitica SAS","COP","N/A","Capacitación para usuario final - hasta 10 Personas - AZDIGITAL (SGDEA)","Por sesión de capacitación de 4 horas para un grupo de hasta 10 personas.","Serv","Servicio","Zona 1","Sitio","Capacitador","AZD-SRV-2","Mensual por servicios efectivamente prestados",1593900,1,1,"COP"]
["Analitica SASSoftware Analitica S.A.SAZD-SRV-3","AZD-SRV-3Software Analitica S.A.S",null,"Analitica SAS","AZD-SRV-3","Software Analitica S.A.S","Analitica SAS","COP","N/A","Capacitación para usuario final - hasta 10 Personas - AZDIGITAL (SGDEA)","Por sesión de capacitación de 4 horas para un grupo de hasta 10 personas.","Serv","Servicio","Zona 2","Remoto","Capacitador","AZD-SRV-3","Mensual por servicios efectivamente prestados",869400,1,1,"COP"]
["Analitica SASSoftware Analitica S.A.SAZD-SRV-4","AZD-SRV-4Software Analitica S.A.S",null,"Analitica SAS","AZD-SRV-4","Software Analitica S.A.S","Analitica SAS","COP","N/A","Capacitación para usuario final - hasta 10 Personas - AZDIGITAL (SGDEA)","Por sesión de capacitación de 4 horas para un grupo de hasta 10 personas.","Serv","Servicio","Zona 2","Sitio","Capacitador","AZD-SRV-4","Mensual por servicios efectivamente prestados",1666350,1,1,"COP"]
["Analitica SASSoftware Analitica S.A.SAZD-SRV-5","AZD-SRV-5Software Analitica S.A.S",null,"Analitica SAS","AZD-SRV-5","Software Analitica S.A.S","Analitica SAS","COP","N/A","Capacitación para usuario final - hasta 10 Personas - AZDIGITAL (SGDEA)","Por sesión de capacitación de 4 horas para un grupo de hasta 10 personas.","Serv","Servicio","Zona 3","Remoto","Capacitador","AZD-SRV-5","Mensual por servicios efectivamente prestados",869400,1,1,"COP"]
["Analitica SASSoftware Analitica S.A.SAZD-SRV-6","AZD-SRV-6Software Analitica S.A.S",null,"Analitica SAS","AZD-SRV-6","Software Analitica S.A.S","Analitica SAS","COP","N/A","Capacitación para usuario final - hasta 10 Personas - AZDIGITAL (SGDEA)","Por sesión de capacitación de 4 horas para un grupo de hasta 10 personas.","Serv","Servicio","Zona 3","Sitio","Capacitador","AZD-SRV-6","Mensual por servicios efectivamente prestados",1811250,1,1,"COP"]
["Analitica SASSoftware Analitica S.A.SAZD-SRV-7","AZD-SRV-7Software Analitica S.A.S",null,"Analitica SAS","AZD-SRV-7","Software Analitica S.A.S","Analitica SAS","COP","N/A","Capacitación para usuario final hasta 20 Personas - AZDIGITAL (SGDEA)","Por sesión de capacitación de 4 horas para un grupo de hasta 20 personas.","Serv","Servicio","Zona 1","Remoto","Capacitador","AZD-SRV-7","Mensual por servicios efectivamente prestados",1738800,1,1,"COP"]
["Analitica SASSoftware Analitica S.A.SAZD-SRV-8","AZD-SRV-8Software Analitica S.A.S",null,"Analitica SAS","AZD-SRV-8","Software Analitica S.A.S","Analitica SAS","COP","N/A","Capacitación para usuario final hasta 20 Personas - AZDIGITAL (SGDEA)","Por sesión de capacitación de 4 horas para un grupo de hasta 20 personas.","Serv","Servicio","Zona 1","Sitio","Capacitador","AZD-SRV-8","Mensual por servicios efectivamente prestados",3187800,1,1,"COP"]
["Analitica SASSoftware Analitica S.A.SAZD-SRV-9","AZD-SRV-9Software Analitica S.A.S",null,"Analitica SAS","AZD-SRV-9","Software Analitica S.A.S","Analitica SAS","COP","N/A","Capacitación para usuario final hasta 20 Personas - AZDIGITAL (SGDEA)  ","Por sesión de capacitación de 4 horas para un grupo de hasta 20 personas.","Serv","Servicio","Zona 2","Remoto","Capacitador","AZD-SRV-9","Mensual por servicios efectivamente prestados",1738800,1,1,"COP"]
["Analitica SASSoftware Analitica S.A.SAZD-SRV-10","AZD-SRV-10Software Analitica S.A.S",null,"Analitica SAS","AZD-SRV-10","Software Analitica S.A.S","Analitica SAS","COP","N/A","Capacitación para usuario final hasta 20 Personas - AZDIGITAL (SGDEA)  ","Por sesión de capacitación de 4 horas para un grupo de hasta 20 personas.","Serv","Servicio","Zona 2","Sitio","Capacitador","AZD-SRV-10","Mensual por servicios efectivamente prestados",3332700,1,1,"COP"]
["Analitica SASSoftware Analitica S.A.SAZD-SRV-11","AZD-SRV-11Software Analitica S.A.S",null,"Analitica SAS","AZD-SRV-11","Software Analitica S.A.S","Analitica SAS","COP","N/A","Capacitación para usuario final hasta 20 Personas - AZDIGITAL (SGDEA)  ","Por sesión de capacitación de 4 horas para un grupo de hasta 20 personas.","Serv","Servicio","Zona 3","Remoto","Capacitador","AZD-SRV-11","Mensual por servicios efectivamente prestados",1738800,1,1,"COP"]
["Analitica SASSoftware Analitica S.A.SAZD-SRV-12","AZD-SRV-12Software Analitica S.A.S",null,"Analitica SAS","AZD-SRV-12","Software Analitica S.A.S","Analitica SAS","COP","N/A","Capacitación para usuario final hasta 20 Personas - AZDIGITAL (SGDEA)  ","Por sesión de capacitación de 4 horas para un grupo de hasta 20 personas.","Serv","Servicio","Zona 3","Sitio","Capacitador","AZD-SRV-12","Mensual por servicios efectivamente prestados",3622500,1,1,"COP"]
["Analitica SASSoftware Analitica S.A.SAZD-SRV-13","AZD-SRV-13Software Analitica S.A.S",null,"Analitica SAS","AZD-SRV-13","Software Analitica S.A.S","Analitica SAS","COP","N/A","Capacitación para usuario técnico o administrador - hasta 10 Personas AZDIGITAL (SGDEA)  ","Por sesión de capacitación de 4 horas para un grupo de hasta 10 personas.","Serv","Servicio","Zona 1","Remoto","Capacitador","AZD-SRV-13","Mensual por servicios efectivamente prestados",1376550,1,1,"COP"]
["Analitica SASSoftware Analitica S.A.SAZD-SRV-14","AZD-SRV-14Software Analitica S.A.S",null,"Analitica SAS","AZD-SRV-14","Software Analitica S.A.S","Analitica SAS","COP","N/A","Capacitación para usuario técnico o administrador - hasta 10 Personas AZDIGITAL (SGDEA)  ","Por sesión de capacitación de 4 horas para un grupo de hasta 10 personas.","Serv","Servicio","Zona 1","Sitio","Capacitador","AZD-SRV-14","Mensual por servicios efectivamente prestados",2101050,1,1,"COP"]
["Analitica SASSoftware Analitica S.A.SAZD-SRV-15","AZD-SRV-15Software Analitica S.A.S",null,"Analitica SAS","AZD-SRV-15","Software Analitica S.A.S","Analitica SAS","COP","N/A","Capacitación para usuario técnico o administrador - hasta 10 Personas AZDIGITAL (SGDEA)  ","Por sesión de capacitación de 4 horas para un grupo de hasta 10 personas.","Serv","Servicio","Zona 2","Remoto","Capacitador","AZD-SRV-15","Mensual por servicios efectivamente prestados",1376550,1,1,"COP"]
["Analitica SASSoftware Analitica S.A.SAZD-SRV-16","AZD-SRV-16Software Analitica S.A.S",null,"Analitica SAS","AZD-SRV-16","Software Analitica S.A.S","Analitica SAS","COP","N/A","Capacitación para usuario técnico o administrador - hasta 10 Personas AZDIGITAL (SGDEA)  ","Por sesión de capacitación de 4 horas para un grupo de hasta 10 personas.","Serv","Servicio","Zona 2","Sitio","Capacitador","AZD-SRV-16","Mensual por servicios efectivamente prestados",2173500,1,1,"COP"]
["Analitica SASSoftware Analitica S.A.SAZD-SRV-17","AZD-SRV-17Software Analitica S.A.S",null,"Analitica SAS","AZD-SRV-17","Software Analitica S.A.S","Analitica SAS","COP","N/A","Capacitación para usuario técnico o administrador - hasta 10 Personas AZDIGITAL (SGDEA)  ","Por sesión de capacitación de 4 horas para un grupo de hasta 10 personas.","Serv","Servicio","Zona 3","Remoto","Capacitador","AZD-SRV-17","Mensual por servicios efectivamente prestados",1376550,1,1,"COP"]
["Analitica SASSoftware Analitica S.A.SAZD-SRV-18","AZD-SRV-18Software Analitica S.A.S",null,"Analitica SAS","AZD-SRV-18","Software Analitica S.A.S","Analitica SAS","COP","N/A","Capacitación para usuario técnico o administrador - hasta 10 Personas -  AZDIGITAL (SGDEA)  ","Por sesión de capacitación de 4 horas para un grupo de hasta 10 personas.","Serv","Servicio","Zona 3","Sitio","Capacitador","AZD-SRV-18","Mensual por servicios efectivamente prestados",2245950,1,1,"COP"]
["Analitica SASSoftware Analitica S.A.SAZD-SRV-19","AZD-SRV-19Software Analitica S.A.S",null,"Analitica SAS","AZD-SRV-19","Software Analitica S.A.S","Analitica SAS","COP","N/A","Capacitación para usuario técnico o administrador hasta 20 Personas - AZDIGITAL (SGDEA)  ","Por sesión de capacitación de 4 horas para un grupo de hasta 20 personas.","Serv","Servicio","Zona 1","Remoto","Capacitador","AZD-SRV-19","Mensual por servicios efectivamente prestados",2753100,1,1,"COP"]
["Analitica SASSoftware Analitica S.A.SAZD-SRV-20","AZD-SRV-20Software Analitica S.A.S",null,"Analitica SAS","AZD-SRV-20","Software Analitica S.A.S","Analitica SAS","COP","N/A","Capacitación para usuario técnico o administrador hasta 20 Personas - AZDIGITAL (SGDEA)  ","Por sesión de capacitación de 4 horas para un grupo de hasta 20 personas.","Serv","Servicio","Zona 1","Sitio","Capacitador","AZD-SRV-20","Mensual por servicios efectivamente prestados",4202100,1,1,"COP"]
["Analitica SASSoftware Analitica S.A.SAZD-SRV-21","AZD-SRV-21Software Analitica S.A.S",null,"Analitica SAS","AZD-SRV-21","Software Analitica S.A.S","Analitica SAS","COP","N/A","Capacitación para usuario técnico o administrador hasta 20 Personas - AZDIGITAL (SGDEA)  ","Por sesión de capacitación de 4 horas para un grupo de hasta 20 personas.","Serv","Servicio","Zona 2","Remoto","Capacitador","AZD-SRV-21","Mensual por servicios efectivamente prestados",2753100,1,1,"COP"]
["Analitica SASSoftware Analitica S.A.SAZD-SRV-22","AZD-SRV-22Software Analitica S.A.S",null,"Analitica SAS","AZD-SRV-22","Software Analitica S.A.S","Analitica SAS","COP","N/A","Capacitación para usuario técnico o administrador hasta 20 Personas - AZDIGITAL (SGDEA)  ","Por sesión de capacitación de 4 horas para un grupo de hasta 20 personas.","Serv","Servicio","Zona 2","Sitio","Capacitador","AZD-SRV-22","Mensual por servicios efectivamente prestados",4347000,1,1,"COP"]
["Analitica SASSoftware Analitica S.A.SAZD-SRV-23","AZD-SRV-23Software Analitica S.A.S",null,"Analitica SAS","AZD-SRV-23","Software Analitica S.A.S","Analitica SAS","COP","N/A","Capacitación para usuario técnico o administrador hasta 20 Personas - AZDIGITAL (SGDEA)  ","Por sesión de capacitación de 4 horas para un grupo de hasta 20 personas.","Serv","Servicio","Zona 3","Remoto","Capacitador","AZD-SRV-23","Mensual por servicios efectivamente prestados",2753100,1,1,"COP"]
["Analitica SASSoftware Analitica S.A.SAZD-SRV-24","AZD-SRV-24Software Analitica S.A.S",null,"Analitica SAS","AZD-SRV-24","Software Analitica S.A.S","Analitica SAS","COP","N/A","Capacitación para usuario técnico o administrador hasta 20 Personas - AZDIGITAL (SGDEA)  ","Por sesión de capacitación de 4 horas para un grupo de hasta 20 personas.","Serv","Servicio","Zona 3","Sitio","Capacitador","AZD-SRV-24","Mensual por servicios efectivamente prestados",4491900,1,1,"COP"]
["Analitica SASSoftware Analitica S.A.SAZD-SRV-25","AZD-SRV-25Software Analitica S.A.S",null,"Analitica SAS","AZD-SRV-25","Software Analitica S.A.S","Analitica SAS","COP","N/A","Configuración y parametrización de los Productos  - AZDIGITAL (SGDEA)  ","Hora","Serv","Servicio","Zona 1","Remoto","Profesional","AZD-SRV-25","Mensual por servicios efectivamente prestados",94190,1,1,"COP"]
["Analitica SASSoftware Analitica S.A.SAZD-SRV-26","AZD-SRV-26Software Analitica S.A.S",null,"Analitica SAS","AZD-SRV-26","Software Analitica S.A.S","Analitica SAS","COP","N/A","Configuración y parametrización de los Productos  - AZDIGITAL (SGDEA)  ","Hora","Serv","Servicio","Zona 1","Sitio","Profesional","AZD-SRV-26","Mensual por servicios efectivamente prestados",108680,1,1,"COP"]
["Analitica SASSoftware Analitica S.A.SAZD-SRV-27","AZD-SRV-27Software Analitica S.A.S",null,"Analitica SAS","AZD-SRV-27","Software Analitica S.A.S","Analitica SAS","COP","N/A","Configuración y parametrización de los Productos  - AZDIGITAL (SGDEA)  ","Hora","Serv","Servicio","Zona 2","Remoto","Profesional","AZD-SRV-27","Mensual por servicios efectivamente prestados",94190,1,1,"COP"]
["Analitica SASSoftware Analitica S.A.SAZD-SRV-28","AZD-SRV-28Software Analitica S.A.S",null,"Analitica SAS","AZD-SRV-28","Software Analitica S.A.S","Analitica SAS","COP","N/A","Configuración y parametrización de los Productos  - AZDIGITAL (SGDEA)  ","Hora","Serv","Servicio","Zona 2","Sitio","Profesional","AZD-SRV-28","Mensual por servicios efectivamente prestados",123170,1,1,"COP"]
["Analitica SASSoftware Analitica S.A.SAZD-SRV-29","AZD-SRV-29Software Analitica S.A.S",null,"Analitica SAS","AZD-SRV-29","Software Analitica S.A.S","Analitica SAS","COP","N/A","Configuración y parametrización de los Productos  - AZDIGITAL (SGDEA)  ","Hora","Serv","Servicio","Zona 3","Remoto","Profesional","AZD-SRV-29","Mensual por servicios efectivamente prestados",94190,1,1,"COP"]
["Analitica SASSoftware Analitica S.A.SAZD-SRV-30","AZD-SRV-30Software Analitica S.A.S",null,"Analitica SAS","AZD-SRV-30","Software Analitica S.A.S","Analitica SAS","COP","N/A","Configuración y parametrización de los Productos  - AZDIGITAL (SGDEA)  ","Hora","Serv","Servicio","Zona 3","Sitio","Profesional","AZD-SRV-30","Mensual por servicios efectivamente prestados",130410,1,1,"COP"]
["Analitica SASSoftware Analitica S.A.SAZD-SRV-31","AZD-SRV-31Software Analitica S.A.S",null,"Analitica SAS","AZD-SRV-31","Software Analitica S.A.S","Analitica SAS","COP","N/A","Instalación de Licencia o Suscripción Anual, o afínes - AZDIGITAL (SGDEA)","Unidad","Serv","Servicio","Zona 1","Remoto","Técnico/Tecnólogo ó Profesional","AZD-SRV-31","Mensual por servicios efectivamente prestados",10143000,1,1,"COP"]
["Analitica SASSoftware Analitica S.A.SAZD-SRV-32","AZD-SRV-32Software Analitica S.A.S",null,"Analitica SAS","AZD-SRV-32","Software Analitica S.A.S","Analitica SAS","COP","N/A","Instalación de Licencia o Suscripción Anual, o afínes - AZDIGITAL (SGDEA)","Unidad","Serv","Servicio","Zona 1","Sitio","Técnico/Tecnólogo ó Profesional","AZD-SRV-32","Mensual por servicios efectivamente prestados",13765500,1,1,"COP"]
["Analitica SASSoftware Analitica S.A.SAZD-SRV-33","AZD-SRV-33Software Analitica S.A.S",null,"Analitica SAS","AZD-SRV-33","Software Analitica S.A.S","Analitica SAS","COP","N/A","Instalación de Licencia o Suscripción Anual, o afínes - AZDIGITAL (SGDEA)","Unidad","Serv","Servicio","Zona 2","Remoto","Técnico/Tecnólogo ó Profesional","AZD-SRV-33","Mensual por servicios efectivamente prestados",10143000,1,1,"COP"]
["Analitica SASSoftware Analitica S.A.SAZD-SRV-34","AZD-SRV-34Software Analitica S.A.S",null,"Analitica SAS","AZD-SRV-34","Software Analitica S.A.S","Analitica SAS","COP","N/A","Instalación de Licencia o Suscripción Anual, o afínes - AZDIGITAL (SGDEA)","Unidad","Serv","Servicio","Zona 2","Sitio","Técnico/Tecnólogo ó Profesional","AZD-SRV-34","Mensual por servicios efectivamente prestados",14127750,1,1,"COP"]
["Analitica SASSoftware Analitica S.A.SAZD-SRV-35","AZD-SRV-35Software Analitica S.A.S",null,"Analitica SAS","AZD-SRV-35","Software Analitica S.A.S","Analitica SAS","COP","N/A","Instalación de Licencia o Suscripción Anual, o afínes - AZDIGITAL (SGDEA)","Unidad","Serv","Servicio","Zona 3","Remoto","Técnico/Tecnólogo ó Profesional","AZD-SRV-35","Mensual por servicios efectivamente prestados",10143000,1,1,"COP"]
["Analitica SASSoftware Analitica S.A.SAZD-SRV-36","AZD-SRV-36Software Analitica S.A.S",null,"Analitica SAS","AZD-SRV-36","Software Analitica S.A.S","Analitica SAS","COP","N/A","Instalación de Licencia o Suscripción Anual, o afínes - AZDIGITAL (SGDEA)","Unidad","Serv","Servicio","Zona 3","Sitio","Técnico/Tecnólogo ó Profesional","AZD-SRV-36","Mensual por servicios efectivamente prestados",14490000,1,1,"COP"]
["Analitica SASSoftware Analitica S.A.SAZD-SRV-37","AZD-SRV-37Software Analitica S.A.S",null,"Analitica SAS","AZD-SRV-37","Software Analitica S.A.S","Analitica SAS","COP","N/A","Migración de información por volumen de datos almacenados  - AZDIGITAL (SGDEA)","Hora","Serv","Servicio","Zona 1","Remoto","Profesional","AZD-SRV-37","Mensual por servicios efectivamente prestados",94190,1,1,"COP"]
["Analitica SASSoftware Analitica S.A.SAZD-SRV-38","AZD-SRV-38Software Analitica S.A.S",null,"Analitica SAS","AZD-SRV-38","Software Analitica S.A.S","Analitica SAS","COP","N/A","Migración de información por volumen de datos almacenados  - AZDIGITAL (SGDEA)","Hora","Serv","Servicio","Zona 1","Sitio","Profesional","AZD-SRV-38","Mensual por servicios efectivamente prestados",108680,1,1,"COP"]
["Analitica SASSoftware Analitica S.A.SAZD-SRV-39","AZD-SRV-39Software Analitica S.A.S",null,"Analitica SAS","AZD-SRV-39","Software Analitica S.A.S","Analitica SAS","COP","N/A","Migración de información por volumen de datos almacenados  - AZDIGITAL (SGDEA)","Hora","Serv","Servicio","Zona 2","Remoto","Profesional","AZD-SRV-39","Mensual por servicios efectivamente prestados",94190,1,1,"COP"]
["Analitica SASSoftware Analitica S.A.SAZD-SRV-40","AZD-SRV-40Software Analitica S.A.S",null,"Analitica SAS","AZD-SRV-40","Software Analitica S.A.S","Analitica SAS","COP","N/A","Migración de información por volumen de datos almacenados  - AZDIGITAL (SGDEA)","Hora","Serv","Servicio","Zona 2","Sitio","Profesional","AZD-SRV-40","Mensual por servicios efectivamente prestados",123170,1,1,"COP"]
["Analitica SASSoftware Analitica S.A.SAZD-SRV-41","AZD-SRV-41Software Analitica S.A.S",null,"Analitica SAS","AZD-SRV-41","Software Analitica S.A.S","Analitica SAS","COP","N/A","Migración de información por volumen de datos almacenados  - AZDIGITAL (SGDEA)","Hora","Serv","Servicio","Zona 3","Remoto","Profesional","AZD-SRV-41","Mensual por servicios efectivamente prestados",94190,1,1,"COP"]
["Analitica SASSoftware Analitica S.A.SAZD-SRV-42","AZD-SRV-42Software Analitica S.A.S",null,"Analitica SAS","AZD-SRV-42","Software Analitica S.A.S","Analitica SAS","COP","N/A","Migración de información por volumen de datos almacenados  - AZDIGITAL (SGDEA)","Hora","Serv","Servicio","Zona 3","Sitio","Profesional","AZD-SRV-42","Mensual por servicios efectivamente prestados",130410,1,1,"COP"]
["Analitica SASSoftware Analitica S.A.SAZD-SRV-43","AZD-SRV-43Software Analitica S.A.S",null,"Analitica SAS","AZD-SRV-43","Software Analitica S.A.S","Analitica SAS","COP","N/A","Soporte técnico en sitio - AZDIGITAL (SGDEA)","Mes","Serv","Servicio","Zona 1","Sitio","Técnico/Tecnólogo ó Profesional","AZD-SRV-43","Mensual por servicios efectivamente prestados",27531000,1,1,"COP"]
["Analitica SASSoftware Analitica S.A.SAZD-SRV-44","AZD-SRV-44Software Analitica S.A.S",null,"Analitica SAS","AZD-SRV-44","Software Analitica S.A.S","Analitica SAS","COP","N/A","Soporte técnico en sitio - AZDIGITAL (SGDEA)","Mes","Serv","Servicio","Zona 2","Sitio","Técnico/Tecnólogo ó Profesional","AZD-SRV-44","Mensual por servicios efectivamente prestados",28255500,1,1,"COP"]
["Analitica SASSoftware Analitica S.A.SAZD-SRV-45","AZD-SRV-45Software Analitica S.A.S",null,"Analitica SAS","AZD-SRV-45","Software Analitica S.A.S","Analitica SAS","COP","N/A","Soporte técnico en sitio - AZDIGITAL (SGDEA)","Mes","Serv","Servicio","Zona 3","Sitio","Técnico/Tecnólogo ó Profesional","AZD-SRV-45","Mensual por servicios efectivamente prestados",28980000,1,1,"COP"]
["Analitica SASSoftware Analitica S.A.SAZD-SRV-46","AZD-SRV-46Software Analitica S.A.S",null,"Analitica SAS","AZD-SRV-46","Software Analitica S.A.S","Analitica SAS","COP","N/A","Soporte técnico proactivo - AZDIGITAL (SGDEA)","Hora","Serv","Servicio","Zona 2","Remoto","Técnico/Tecnólogo ó Profesional","AZD-SRV-46","Mensual por servicios efectivamente prestados",94190,1,1,"COP"]
["Analitica SASSoftware Analitica S.A.SAZD-SRV-47","AZD-SRV-47Software Analitica S.A.S",null,"Analitica SAS","AZD-SRV-47","Software Analitica S.A.S","Analitica SAS","COP","N/A","Soporte técnico proactivo - AZDIGITAL (SGDEA)","Hora","Serv","Servicio","Zona 2","Sitio","Técnico/Tecnólogo ó Profesional","AZD-SRV-47","Mensual por servicios efectivamente prestados",123170,1,1,"COP"]
["Analitica SASSoftware Analitica S.A.SAZD-SRV-48","AZD-SRV-48Software Analitica S.A.S",null,"Analitica SAS","AZD-SRV-48","Software Analitica S.A.S","Analitica SAS","COP","N/A","Soporte técnico proactivo - AZDIGITAL (SGDEA)","Hora","Serv","Servicio","Zona 1","Remoto","Técnico/Tecnólogo ó Profesional","AZD-SRV-48","Mensual por servicios efectivamente prestados",94190,1,1,"COP"]
["Analitica SASSoftware Analitica S.A.SAZD-SRV-49","AZD-SRV-49Software Analitica S.A.S",null,"Analitica SAS","AZD-SRV-49","Software Analitica S.A.S","Analitica SAS","COP","N/A","Soporte técnico proactivo - AZDIGITAL (SGDEA)","Hora","Serv","Servicio","Zona 3","Remoto","Técnico/Tecnólogo ó Profesional","AZD-SRV-49","Mensual por servicios efectivamente prestados",94190,1,1,"COP"]
[{"$f":"D673&F673&E673","v":"Analitica SASSoftware Analitica S.A.SAZD-SRV-50"},{"$f":"E673&F673","v":"AZD-SRV-50Software Analitica S.A.S"},null,"Analitica SAS","AZD-SRV-50","Software Analitica S.A.S",{"$f":"D673","v":"Analitica SAS"},"COP","N/A","Soporte técnico proactivo - AZDIGITAL (SGDEA)","Hora","Serv","Servicio","Zona 3","Sitio","Técnico/Tecnólogo ó Profesional",{"$f":"+E673","v":"AZD-SRV-50"},"Mensual por servicios efectivamente prestados",130410,1,1,"COP"]
["Analitica SASSoftware Analitica S.A.SAZD-SRV-51","AZD-SRV-51Software Analitica S.A.S",null,"Analitica SAS","AZD-SRV-51","Software Analitica S.A.S","Analitica SAS","COP","N/A","Soporte técnico proactivo - AZDIGITAL (SGDEA)","Hora","Serv","Servicio","Zona 1","Sitio","Técnico/Tecnólogo ó Profesional","AZD-SRV-51","Mensual por servicios efectivamente prestados",108680,1,1,"COP"]
["Analitica SASSoftware Analitica S.A.SAZD-SRV-52","AZD-SRV-52Software Analitica S.A.S",null,"Analitica SAS","AZD-SRV-52","Software Analitica S.A.S","Analitica SAS","COP","N/A","Soporte técnico reactivo - AZDIGITAL (SGDEA)","Hora","Serv","Servicio","Zona 1","Sitio","Técnico/Tecnólogo ó Profesional","AZD-SRV-52","Mensual por servicios efectivamente prestados",108680,1,1,"COP"]
["Analitica SASSoftware Analitica S.A.SAZD-SRV-53","AZD-SRV-53Software Analitica S.A.S",null,"Analitica SAS","AZD-SRV-53","Software Analitica S.A.S","Analitica SAS","COP","N/A","Soporte técnico reactivo - AZDIGITAL (SGDEA)","Hora","Serv","Servicio","Zona 2","Remoto","Técnico/Tecnólogo ó Profesional","AZD-SRV-53","Mensual por servicios efectivamente prestados",108680,1,1,"COP"]
["Analitica SASSoftware Analitica S.A.SAZD-SRV-54","AZD-SRV-54Software Analitica S.A.S",null,"Analitica SAS","AZD-SRV-54","Software Analitica S.A.S","Analitica SAS","COP","N/A","Soporte técnico reactivo - AZDIGITAL (SGDEA)","Hora","Serv","Servicio","Zona 2","Sitio","Técnico/Tecnólogo ó Profesional","AZD-SRV-54","Mensual por servicios efectivamente prestados",160120,1,1,"COP"]
["Analitica SASSoftware Analitica S.A.SAZD-SRV-55","AZD-SRV-55Software Analitica S.A.S",null,"Analitica SAS","AZD-SRV-55","Software Analitica S.A.S","Analitica SAS","COP","N/A","Soporte técnico reactivo - AZDIGITAL (SGDEA)","Hora","Serv","Servicio","Zona 3","Remoto","Técnico/Tecnólogo ó Profesional","AZD-SRV-55","Mensual por servicios efectivamente prestados",108680,1,1,"COP"]
["Analitica SASSoftware Analitica S.A.SAZD-SRV-56","AZD-SRV-56Software Analitica S.A.S",null,"Analitica SAS","AZD-SRV-56","Software Analitica S.A.S","Analitica SAS","COP","N/A","Soporte técnico reactivo - AZDIGITAL (SGDEA)","Hora","Serv","Servicio","Zona 3","Sitio","Técnico/Tecnólogo ó Profesional","AZD-SRV-56","Mensual por servicios efectivamente prestados",169540,1,1,"COP"]
["Analitica SASSoftware Analitica S.A.SAZD-SRV-57","AZD-SRV-57Software Analitica S.A.S",null,"Analitica SAS","AZD-SRV-57","Software Analitica S.A.S","Analitica SAS","COP","N/A","Soporte técnico reactivo - AZDIGITAL (SGDEA)","Hora","Serv","Servicio","Zona 1","Remoto","Técnico/Tecnólogo ó Profesional","AZD-SRV-57","Mensual por servicios efectivamente prestados",108680,1,1,"COP"]
["Analitica SASSoftware Analitica S.A.SSGP-SRV-1","SGP-SRV-1Software Analitica S.A.S",null,"Analitica SAS","SGP-SRV-1","Software Analitica S.A.S","Analitica SAS","COP","N/A","Capacitación para usuario final - hasta 10 Personas - SGP (BPMS)","Por sesión de capacitación de 4 horas para un grupo de hasta 10 personas.","Serv","Servicio","Zona 1","Remoto","Capacitador","SGP-SRV-1","Mensual por servicios efectivamente prestados",869400,1,1,"COP"]
["Analitica SASSoftware Analitica S.A.SSGP-SRV-2","SGP-SRV-2Software Analitica S.A.S",null,"Analitica SAS","SGP-SRV-2","Software Analitica S.A.S","Analitica SAS","COP","N/A","Capacitación para usuario final - hasta 10 Personas - SGP (BPMS)","Por sesión de capacitación de 4 horas para un grupo de hasta 10 personas.","Serv","Servicio","Zona 1","Sitio","Capacitador","SGP-SRV-2","Mensual por servicios efectivamente prestados",1593900,1,1,"COP"]
["Analitica SASSoftware Analitica S.A.SSGP-SRV-3","SGP-SRV-3Software Analitica S.A.S",null,"Analitica SAS","SGP-SRV-3","Software Analitica S.A.S","Analitica SAS","COP","N/A","Capacitación para usuario final - hasta 10 Personas - SGP (BPMS)","Por sesión de capacitación de 4 horas para un grupo de hasta 10 personas.","Serv","Servicio","Zona 2","Remoto","Capacitador","SGP-SRV-3","Mensual por servicios efectivamente prestados",869400,1,1,"COP"]
["Analitica SASSoftware Analitica S.A.SSGP-SRV-4","SGP-SRV-4Software Analitica S.A.S",null,"Analitica SAS","SGP-SRV-4","Software Analitica S.A.S","Analitica SAS","COP","N/A","Capacitación para usuario final - hasta 10 Personas - SGP (BPMS)","Por sesión de capacitación de 4 horas para un grupo de hasta 10 personas.","Serv","Servicio","Zona 2","Sitio","Capacitador","SGP-SRV-4","Mensual por servicios efectivamente prestados",1666350,1,1,"COP"]
["Analitica SASSoftware Analitica S.A.SSGP-SRV-5","SGP-SRV-5Software Analitica S.A.S",null,"Analitica SAS","SGP-SRV-5","Software Analitica S.A.S","Analitica SAS","COP","N/A","Capacitación para usuario final - hasta 10 Personas - SGP (BPMS)","Por sesión de capacitación de 4 horas para un grupo de hasta 10 personas.","Serv","Servicio","Zona 3","Remoto","Capacitador","SGP-SRV-5","Mensual por servicios efectivamente prestados",869400,1,1,"COP"]
["Analitica SASSoftware Analitica S.A.SSGP-SRV-6","SGP-SRV-6Software Analitica S.A.S",null,"Analitica SAS","SGP-SRV-6","Software Analitica S.A.S","Analitica SAS","COP","N/A","Capacitación para usuario final - hasta 10 Personas - SGP (BPMS)","Por sesión de capacitación de 4 horas para un grupo de hasta 10 personas.","Serv","Servicio","Zona 3","Sitio","Capacitador","SGP-SRV-6","Mensual por servicios efectivamente prestados",1811250,1,1,"COP"]
["Analitica SASSoftware Analitica S.A.SSGP-SRV-7","SGP-SRV-7Software Analitica S.A.S",null,"Analitica SAS","SGP-SRV-7","Software Analitica S.A.S","Analitica SAS","COP","N/A","Capacitación para usuario final hasta 20 Personas - SGP (BPMS)","Por sesión de capacitación de 4 horas para un grupo de hasta 20 personas.","Serv","Servicio","Zona 1","Remoto","Capacitador","SGP-SRV-7","Mensual por servicios efectivamente prestados",1738800,1,1,"COP"]
["Analitica SASSoftware Analitica S.A.SSGP-SRV-8","SGP-SRV-8Software Analitica S.A.S",null,"Analitica SAS","SGP-SRV-8","Software Analitica S.A.S","Analitica SAS","COP","N/A","Capacitación para usuario final hasta 20 Personas - SGP (BPMS)","Por sesión de capacitación de 4 horas para un grupo de hasta 20 personas.","Serv","Servicio","Zona 1","Sitio","Capacitador","SGP-SRV-8","Mensual por servicios efectivamente prestados",3187800,1,1,"COP"]
["Analitica SASSoftware Analitica S.A.SSGP-SRV-9","SGP-SRV-9Software Analitica S.A.S",null,"Analitica SAS","SGP-SRV-9","Software Analitica S.A.S","Analitica SAS","COP","N/A","Capacitación para usuario final hasta 20 Personas - SGP (BPMS)  ","Por sesión de capacitación de 4 horas para un grupo de hasta 20 personas.","Serv","Servicio","Zona 2","Remoto","Capacitador","SGP-SRV-9","Mensual por servicios efectivamente prestados",1738800,1,1,"COP"]
["Analitica SASSoftware Analitica S.A.SSGP-SRV-10","SGP-SRV-10Software Analitica S.A.S",null,"Analitica SAS","SGP-SRV-10","Software Analitica S.A.S","Analitica SAS","COP","N/A","Capacitación para usuario final hasta 20 Personas - SGP (BPMS)  ","Por sesión de capacitación de 4 horas para un grupo de hasta 20 personas.","Serv","Servicio","Zona 2","Sitio","Capacitador","SGP-SRV-10","Mensual por servicios efectivamente prestados",3332700,1,1,"COP"]
["Analitica SASSoftware Analitica S.A.SSGP-SRV-11","SGP-SRV-11Software Analitica S.A.S",null,"Analitica SAS","SGP-SRV-11","Software Analitica S.A.S","Analitica SAS","COP","N/A","Capacitación para usuario final hasta 20 Personas - SGP (BPMS)  ","Por sesión de capacitación de 4 horas para un grupo de hasta 20 personas.","Serv","Servicio","Zona 3","Remoto","Capacitador","SGP-SRV-11","Mensual por servicios efectivamente prestados",1738800,1,1,"COP"]
["Analitica SASSoftware Analitica S.A.SSGP-SRV-12","SGP-SRV-12Software Analitica S.A.S",null,"Analitica SAS","SGP-SRV-12","Software Analitica S.A.S","Analitica SAS","COP","N/A","Capacitación para usuario final hasta 20 Personas - SGP (BPMS)  ","Por sesión de capacitación de 4 horas para un grupo de hasta 20 personas.","Serv","Servicio","Zona 3","Sitio","Capacitador","SGP-SRV-12","Mensual por servicios efectivamente prestados",3622500,1,1,"COP"]
["Analitica SASSoftware Analitica S.A.SSGP-SRV-13","SGP-SRV-13Software Analitica S.A.S",null,"Analitica SAS","SGP-SRV-13","Software Analitica S.A.S","Analitica SAS","COP","N/A","Capacitación para usuario técnico o administrador - hasta 10 Personas SGP (BPMS)  ","Por sesión de capacitación de 4 horas para un grupo de hasta 10 personas.","Serv","Servicio","Zona 1","Remoto","Capacitador","SGP-SRV-13","Mensual por servicios efectivamente prestados",1376550,1,1,"COP"]
["Analitica SASSoftware Analitica S.A.SSGP-SRV-14","SGP-SRV-14Software Analitica S.A.S",null,"Analitica SAS","SGP-SRV-14","Software Analitica S.A.S","Analitica SAS","COP","N/A","Capacitación para usuario técnico o administrador - hasta 10 Personas SGP (BPMS)  ","Por sesión de capacitación de 4 horas para un grupo de hasta 10 personas.","Serv","Servicio","Zona 1","Sitio","Capacitador","SGP-SRV-14","Mensual por servicios efectivamente prestados",2101050,1,1,"COP"]
["Analitica SASSoftware Analitica S.A.SSGP-SRV-15","SGP-SRV-15Software Analitica S.A.S",null,"Analitica SAS","SGP-SRV-15","Software Analitica S.A.S","Analitica SAS","COP","N/A","Capacitación para usuario técnico o administrador - hasta 10 Personas SGP (BPMS)  ","Por sesión de capacitación de 4 horas para un grupo de hasta 10 personas.","Serv","Servicio","Zona 2","Remoto","Capacitador","SGP-SRV-15","Mensual por servicios efectivamente prestados",1376550,1,1,"COP"]
["Analitica SASSoftware Analitica S.A.SSGP-SRV-16","SGP-SRV-16Software Analitica S.A.S",null,"Analitica SAS","SGP-SRV-16","Software Analitica S.A.S","Analitica SAS","COP","N/A","Capacitación para usuario técnico o administrador - hasta 10 Personas SGP (BPMS)  ","Por sesión de capacitación de 4 horas para un grupo de hasta 10 personas.","Serv","Servicio","Zona 2","Sitio","Capacitador","SGP-SRV-16","Mensual por servicios efectivamente prestados",2173500,1,1,"COP"]
["Analitica SASSoftware Analitica S.A.SSGP-SRV-17","SGP-SRV-17Software Analitica S.A.S",null,"Analitica SAS","SGP-SRV-17","Software Analitica S.A.S","Analitica SAS","COP","N/A","Capacitación para usuario técnico o administrador - hasta 10 Personas SGP (BPMS)  ","Por sesión de capacitación de 4 horas para un grupo de hasta 10 personas.","Serv","Servicio","Zona 3","Remoto","Capacitador","SGP-SRV-17","Mensual por servicios efectivamente prestados",1376550,1,1,"COP"]
["Analitica SASSoftware Analitica S.A.SSGP-SRV-18","SGP-SRV-18Software Analitica S.A.S",null,"Analitica SAS","SGP-SRV-18","Software Analitica S.A.S","Analitica SAS","COP","N/A","Capacitación para usuario técnico o administrador - hasta 10 Personas -  SGP (BPMS)  ","Por sesión de capacitación de 4 horas para un grupo de hasta 10 personas.","Serv","Servicio","Zona 3","Sitio","Capacitador","SGP-SRV-18","Mensual por servicios efectivamente prestados",2245950,1,1,"COP"]
["Analitica SASSoftware Analitica S.A.SSGP-SRV-19","SGP-SRV-19Software Analitica S.A.S",null,"Analitica SAS","SGP-SRV-19","Software Analitica S.A.S","Analitica SAS","COP","N/A","Capacitación para usuario técnico o administrador hasta 20 Personas - SGP (BPMS)  ","Por sesión de capacitación de 4 horas para un grupo de hasta 20 personas.","Serv","Servicio","Zona 1","Remoto","Capacitador","SGP-SRV-19","Mensual por servicios efectivamente prestados",2753100,1,1,"COP"]
["Analitica SASSoftware Analitica S.A.SSGP-SRV-20","SGP-SRV-20Software Analitica S.A.S",null,"Analitica SAS","SGP-SRV-20","Software Analitica S.A.S","Analitica SAS","COP","N/A","Capacitación para usuario técnico o administrador hasta 20 Personas - SGP (BPMS)  ","Por sesión de capacitación de 4 horas para un grupo de hasta 20 personas.","Serv","Servicio","Zona 1","Sitio","Capacitador","SGP-SRV-20","Mensual por servicios efectivamente prestados",4202100,1,1,"COP"]
["Analitica SASSoftware Analitica S.A.SSGP-SRV-21","SGP-SRV-21Software Analitica S.A.S",null,"Analitica SAS","SGP-SRV-21","Software Analitica S.A.S","Analitica SAS","COP","N/A","Capacitación para usuario técnico o administrador hasta 20 Personas - SGP (BPMS)  ","Por sesión de capacitación de 4 horas para un grupo de hasta 20 personas.","Serv","Servicio","Zona 2","Remoto","Capacitador","SGP-SRV-21","Mensual por servicios efectivamente prestados",2753100,1,1,"COP"]
["Analitica SASSoftware Analitica S.A.SSGP-SRV-22","SGP-SRV-22Software Analitica S.A.S",null,"Analitica SAS","SGP-SRV-22","Software Analitica S.A.S","Analitica SAS","COP","N/A","Capacitación para usuario técnico o administrador hasta 20 Personas - SGP (BPMS)  ","Por sesión de capacitación de 4 horas para un grupo de hasta 20 personas.","Serv","Servicio","Zona 2","Sitio","Capacitador","SGP-SRV-22","Mensual por servicios efectivamente prestados",4347000,1,1,"COP"]
["Analitica SASSoftware Analitica S.A.SSGP-SRV-23","SGP-SRV-23Software Analitica S.A.S",null,"Analitica SAS","SGP-SRV-23","Software Analitica S.A.S","Analitica SAS","COP","N/A","Capacitación para usuario técnico o administrador hasta 20 Personas - SGP (BPMS)  ","Por sesión de capacitación de 4 horas para un grupo de hasta 20 personas.","Serv","Servicio","Zona 3","Remoto","Capacitador","SGP-SRV-23","Mensual por servicios efectivamente prestados",2753100,1,1,"COP"]
["Analitica SASSoftware Analitica S.A.SSGP-SRV-24","SGP-SRV-24Software Analitica S.A.S",null,"Analitica SAS","SGP-SRV-24","Software Analitica S.A.S","Analitica SAS","COP","N/A","Capacitación para usuario técnico o administrador hasta 20 Personas - SGP (BPMS)  ","Por sesión de capacitación de 4 horas para un grupo de hasta 20 personas.","Serv","Servicio","Zona 3","Sitio","Capacitador","SGP-SRV-24","Mensual por servicios efectivamente prestados",4491900,1,1,"COP"]
["Analitica SASSoftware Analitica S.A.SSGP-SRV-25","SGP-SRV-25Software Analitica S.A.S",null,"Analitica SAS","SGP-SRV-25","Software Analitica S.A.S","Analitica SAS","COP","N/A","Configuración y parametrización de los Productos  - SGP (BPMS)  ","Hora","Serv","Servicio","Zona 1","Remoto","Profesional","SGP-SRV-25","Mensual por servicios efectivamente prestados",94190,1,1,"COP"]
["Analitica SASSoftware Analitica S.A.SSGP-SRV-26","SGP-SRV-26Software Analitica S.A.S",null,"Analitica SAS","SGP-SRV-26","Software Analitica S.A.S","Analitica SAS","COP","N/A","Configuración y parametrización de los Productos  - SGP (BPMS)  ","Hora","Serv","Servicio","Zona 1","Sitio","Profesional","SGP-SRV-26","Mensual por servicios efectivamente prestados",108680,1,1,"COP"]
["Analitica SASSoftware Analitica S.A.SSGP-SRV-27","SGP-SRV-27Software Analitica S.A.S",null,"Analitica SAS","SGP-SRV-27","Software Analitica S.A.S","Analitica SAS","COP","N/A","Configuración y parametrización de los Productos  - SGP (BPMS)  ","Hora","Serv","Servicio","Zona 2","Remoto","Profesional","SGP-SRV-27","Mensual por servicios efectivamente prestados",94190,1,1,"COP"]
["Analitica SASSoftware Analitica S.A.SSGP-SRV-28","SGP-SRV-28Software Analitica S.A.S",null,"Analitica SAS","SGP-SRV-28","Software Analitica S.A.S","Analitica SAS","COP","N/A","Configuración y parametrización de los Productos  - SGP (BPMS)  ","Hora","Serv","Servicio","Zona 2","Sitio","Profesional","SGP-SRV-28","Mensual por servicios efectivamente prestados",123170,1,1,"COP"]
["Analitica SASSoftware Analitica S.A.SSGP-SRV-29","SGP-SRV-29Software Analitica S.A.S",null,"Analitica SAS","SGP-SRV-29","Software Analitica S.A.S","Analitica SAS","COP","N/A","Configuración y parametrización de los Productos  - SGP (BPMS)  ","Hora","Serv","Servicio","Zona 3","Remoto","Profesional","SGP-SRV-29","Mensual por servicios efectivamente prestados",94190,1,1,"COP"]
["Analitica SASSoftware Analitica S.A.SSGP-SRV-30","SGP-SRV-30Software Analitica S.A.S",null,"Analitica SAS","SGP-SRV-30","Software Analitica S.A.S","Analitica SAS","COP","N/A","Configuración y parametrización de los Productos  - SGP (BPMS)  ","Hora","Serv","Servicio","Zona 3","Sitio","Profesional","SGP-SRV-30","Mensual por servicios efectivamente prestados",130410,1,1,"COP"]
["Analitica SASSoftware Analitica S.A.SSGP-SRV-31","SGP-SRV-31Software Analitica S.A.S",null,"Analitica SAS","SGP-SRV-31","Software Analitica S.A.S","Analitica SAS","COP","N/A","Instalación de Licencia o Suscripción Anual, o afínes - SGP (BPMS)","Unidad","Serv","Servicio","Zona 1","Remoto","Técnico/Tecnólogo ó Profesional","SGP-SRV-31","Mensual por servicios efectivamente prestados",10143000,1,1,"COP"]
["Analitica SASSoftware Analitica S.A.SSGP-SRV-32","SGP-SRV-32Software Analitica S.A.S",null,"Analitica SAS","SGP-SRV-32","Software Analitica S.A.S","Analitica SAS","COP","N/A","Instalación de Licencia o Suscripción Anual, o afínes - SGP (BPMS)","Unidad","Serv","Servicio","Zona 1","Sitio","Técnico/Tecnólogo ó Profesional","SGP-SRV-32","Mensual por servicios efectivamente prestados",13765500,1,1,"COP"]
["Analitica SASSoftware Analitica S.A.SSGP-SRV-33","SGP-SRV-33Software Analitica S.A.S",null,"Analitica SAS","SGP-SRV-33","Software Analitica S.A.S","Analitica SAS","COP","N/A","Instalación de Licencia o Suscripción Anual, o afínes - SGP (BPMS)","Unidad","Serv","Servicio","Zona 2","Remoto","Técnico/Tecnólogo ó Profesional","SGP-SRV-33","Mensual por servicios efectivamente prestados",10143000,1,1,"COP"]
["Analitica SASSoftware Analitica S.A.SSGP-SRV-34","SGP-SRV-34Software Analitica S.A.S",null,"Analitica SAS","SGP-SRV-34","Software Analitica S.A.S","Analitica SAS","COP","N/A","Instalación de Licencia o Suscripción Anual, o afínes - SGP (BPMS)","Unidad","Serv","Servicio","Zona 2","Sitio","Técnico/Tecnólogo ó Profesional","SGP-SRV-34","Mensual por servicios efectivamente prestados",14127750,1,1,"COP"]
["Analitica SASSoftware Analitica S.A.SSGP-SRV-35","SGP-SRV-35Software Analitica S.A.S",null,"Analitica SAS","SGP-SRV-35","Software Analitica S.A.S","Analitica SAS","COP","N/A","Instalación de Licencia o Suscripción Anual, o afínes - SGP (BPMS)","Unidad","Serv","Servicio","Zona 3","Remoto","Técnico/Tecnólogo ó Profesional","SGP-SRV-35","Mensual por servicios efectivamente prestados",10143000,1,1,"COP"]
["Analitica SASSoftware Analitica S.A.SSGP-SRV-36","SGP-SRV-36Software Analitica S.A.S",null,"Analitica SAS","SGP-SRV-36","Software Analitica S.A.S","Analitica SAS","COP","N/A","Instalación de Licencia o Suscripción Anual, o afínes - SGP (BPMS)","Unidad","Serv","Servicio","Zona 3","Sitio","Técnico/Tecnólogo ó Profesional","SGP-SRV-36","Mensual por servicios efectivamente prestados",14490000,1,1,"COP"]
["Analitica SASSoftware Analitica S.A.SSGP-SRV-37","SGP-SRV-37Software Analitica S.A.S",null,"Analitica SAS","SGP-SRV-37","Software Analitica S.A.S","Analitica SAS","COP","N/A","Migración de información por volumen de datos almacenados  - SGP (BPMS)","Hora","Serv","Servicio","Zona 1","Remoto","Profesional","SGP-SRV-37","Mensual por servicios efectivamente prestados",94190,1,1,"COP"]
["Analitica SASSoftware Analitica S.A.SSGP-SRV-38","SGP-SRV-38Software Analitica S.A.S",null,"Analitica SAS","SGP-SRV-38","Software Analitica S.A.S","Analitica SAS","COP","N/A","Migración de información por volumen de datos almacenados  - SGP (BPMS)","Hora","Serv","Servicio","Zona 1","Sitio","Profesional","SGP-SRV-38","Mensual por servicios efectivamente prestados",108680,1,1,"COP"]
["Analitica SASSoftware Analitica S.A.SSGP-SRV-39","SGP-SRV-39Software Analitica S.A.S",null,"Analitica SAS","SGP-SRV-39","Software Analitica S.A.S","Analitica SAS","COP","N/A","Migración de información por volumen de datos almacenados  - SGP (BPMS)","Hora","Serv","Servicio","Zona 2","Remoto","Profesional","SGP-SRV-39","Mensual por servicios efectivamente prestados",94190,1,1,"COP"]
["Analitica SASSoftware Analitica S.A.SSGP-SRV-40","SGP-SRV-40Software Analitica S.A.S",null,"Analitica SAS","SGP-SRV-40","Software Analitica S.A.S","Analitica SAS","COP","N/A","Migración de información por volumen de datos almacenados  - SGP (BPMS)","Hora","Serv","Servicio","Zona 2","Sitio","Profesional","SGP-SRV-40","Mensual por servicios efectivamente prestados",123170,1,1,"COP"]
["Analitica SASSoftware Analitica S.A.SSGP-SRV-41","SGP-SRV-41Software Analitica S.A.S",null,"Analitica SAS","SGP-SRV-41","Software Analitica S.A.S","Analitica SAS","COP","N/A","Migración de información por volumen de datos almacenados  - SGP (BPMS)","Hora","Serv","Servicio","Zona 3","Remoto","Profesional","SGP-SRV-41","Mensual por servicios efectivamente prestados",94190,1,1,"COP"]
["Analitica SASSoftware Analitica S.A.SSGP-SRV-42","SGP-SRV-42Software Analitica S.A.S",null,"Analitica SAS","SGP-SRV-42","Software Analitica S.A.S","Analitica SAS","COP","N/A","Migración de información por volumen de datos almacenados  - SGP (BPMS)","Hora","Serv","Servicio","Zona 3","Sitio","Profesional","SGP-SRV-42","Mensual por servicios efectivamente prestados",130410,1,1,"COP"]
["Analitica SASSoftware Analitica S.A.SSGP-SRV-43","SGP-SRV-43Software Analitica S.A.S",null,"Analitica SAS","SGP-SRV-43","Software Analitica S.A.S","Analitica SAS","COP","N/A","Soporte técnico en sitio - SGP (BPMS)","Mes","Serv","Servicio","Zona 1","Sitio","Técnico/Tecnólogo ó Profesional","SGP-SRV-43","Mensual por servicios efectivamente prestados",27531000,1,1,"COP"]
["Analitica SASSoftware Analitica S.A.SSGP-SRV-44","SGP-SRV-44Software Analitica S.A.S",null,"Analitica SAS","SGP-SRV-44","Software Analitica S.A.S","Analitica SAS","COP","N/A","Soporte técnico en sitio - SGP (BPMS)","Mes","Serv","Servicio","Zona 2","Sitio","Técnico/Tecnólogo ó Profesional","SGP-SRV-44","Mensual por servicios efectivamente prestados",28255500,1,1,"COP"]
["Analitica SASSoftware Analitica S.A.SSGP-SRV-45","SGP-SRV-45Software Analitica S.A.S",null,"Analitica SAS","SGP-SRV-45","Software Analitica S.A.S","Analitica SAS","COP","N/A","Soporte técnico en sitio - SGP (BPMS)","Mes","Serv","Servicio","Zona 3","Sitio","Técnico/Tecnólogo ó Profesional","SGP-SRV-45","Mensual por servicios efectivamente prestados",28980000,1,1,"COP"]
["Analitica SASSoftware Analitica S.A.SSGP-SRV-46","SGP-SRV-46Software Analitica S.A.S",null,"Analitica SAS","SGP-SRV-46","Software Analitica S.A.S","Analitica SAS","COP","N/A","Soporte técnico proactivo - SGP (BPMS)","Hora","Serv","Servicio","Zona 2","Remoto","Técnico/Tecnólogo ó Profesional","SGP-SRV-46","Mensual por servicios efectivamente prestados",94190,1,1,"COP"]
["Analitica SASSoftware Analitica S.A.SSGP-SRV-47","SGP-SRV-47Software Analitica S.A.S",null,"Analitica SAS","SGP-SRV-47","Software Analitica S.A.S","Analitica SAS","COP","N/A","Soporte técnico proactivo - SGP (BPMS)","Hora","Serv","Servicio","Zona 2","Sitio","Técnico/Tecnólogo ó Profesional","SGP-SRV-47","Mensual por servicios efectivamente prestados",123170,1,1,"COP"]
["Analitica SASSoftware Analitica S.A.SSGP-SRV-48","SGP-SRV-48Software Analitica S.A.S",null,"Analitica SAS","SGP-SRV-48","Software Analitica S.A.S","Analitica SAS","COP","N/A","Soporte técnico proactivo - SGP (BPMS)","Hora","Serv","Servicio","Zona 1","Remoto","Técnico/Tecnólogo ó Profesional","SGP-SRV-48","Mensual por servicios efectivamente prestados",94190,1,1,"COP"]
["Analitica SASSoftware Analitica S.A.SSGP-SRV-49","SGP-SRV-49Software Analitica S.A.S",null,"Analitica SAS","SGP-SRV-49","Software Analitica S.A.S","Analitica SAS","COP","N/A","Soporte técnico proactivo - SGP (BPMS)","Hora","Serv","Servicio","Zona 3","Remoto","Técnico/Tecnólogo ó Profesional","SGP-SRV-49","Mensual por servicios efectivamente prestados",94185,1,1,"COP"]
["Analitica SASSoftware Analitica S.A.SSGP-SRV-50","SGP-SRV-50Software Analitica S.A.S",null,"Analitica SAS","SGP-SRV-50","Software Analitica S.A.S","Analitica SAS","COP","N/A","Soporte técnico proactivo - SGP (BPMS)","Hora","Serv","Servicio","Zona 3","Sitio","Técnico/Tecnólogo ó Profesional","SGP-SRV-50","Mensual por servicios efectivamente prestados",130409.99999999999,1,1,"COP"]
["Analitica SASSoftware Analitica S.A.SSGP-SRV-51","SGP-SRV-51Software Analitica S.A.S",null,"Analitica SAS","SGP-SRV-51","Software Analitica S.A.S","Analitica SAS","COP","N/A","Soporte técnico proactivo - SGP (BPMS)","Hora","Serv","Servicio","Zona 1","Sitio","Técnico/Tecnólogo ó Profesional","SGP-SRV-51","Mensual por servicios efectivamente prestados",108674.99999999999,1,1,"COP"]
["Analitica SASSoftware Analitica S.A.SSGP-SRV-52","SGP-SRV-52Software Analitica S.A.S",null,"Analitica SAS","SGP-SRV-52","Software Analitica S.A.S","Analitica SAS","COP","N/A","Soporte técnico reactivo - SGP (BPMS)","Hora","Serv","Servicio","Zona 1","Sitio","Técnico/Tecnólogo ó Profesional","SGP-SRV-52","Mensual por servicios efectivamente prestados",108674.99999999999,1,1,"COP"]
["Analitica SASSoftware Analitica S.A.SSGP-SRV-53","SGP-SRV-53Software Analitica S.A.S",null,"Analitica SAS","SGP-SRV-53","Software Analitica S.A.S","Analitica SAS","COP","N/A","Soporte técnico reactivo - SGP (BPMS)","Hora","Serv","Servicio","Zona 2","Remoto","Técnico/Tecnólogo ó Profesional","SGP-SRV-53","Mensual por servicios efectivamente prestados",108674.99999999999,1,1,"COP"]
["Analitica SASSoftware Analitica S.A.SSGP-SRV-54","SGP-SRV-54Software Analitica S.A.S",null,"Analitica SAS","SGP-SRV-54","Software Analitica S.A.S","Analitica SAS","COP","N/A","Soporte técnico reactivo - SGP (BPMS)","Hora","Serv","Servicio","Zona 2","Sitio","Técnico/Tecnólogo ó Profesional","SGP-SRV-54","Mensual por servicios efectivamente prestados",160114.5,1,1,"COP"]
["Analitica SASSoftware Analitica S.A.SSGP-SRV-55","SGP-SRV-55Software Analitica S.A.S",null,"Analitica SAS","SGP-SRV-55","Software Analitica S.A.S","Analitica SAS","COP","N/A","Soporte técnico reactivo - SGP (BPMS)","Hora","Serv","Servicio","Zona 3","Remoto","Técnico/Tecnólogo ó Profesional","SGP-SRV-55","Mensual por servicios efectivamente prestados",108674.99999999999,1,1,"COP"]
["Analitica SASSoftware Analitica S.A.SSGP-SRV-56","SGP-SRV-56Software Analitica S.A.S",null,"Analitica SAS","SGP-SRV-56","Software Analitica S.A.S","Analitica SAS","COP","N/A","Soporte técnico reactivo - SGP (BPMS)","Hora","Serv","Servicio","Zona 3","Sitio","Técnico/Tecnólogo ó Profesional","SGP-SRV-56","Mensual por servicios efectivamente prestados",169533,1,1,"COP"]
[{"$f":"D737&F737&E737","v":"Analitica SASSoftware Analitica S.A.SSGP-SRV-57"},{"$f":"E737&F737","v":"SGP-SRV-57Software Analitica S.A.S"},null,"Analitica SAS","SGP-SRV-57","Software Analitica S.A.S",{"$f":"D737","v":"Analitica SAS"},"COP","N/A","Soporte técnico reactivo - SGP (BPMS)","Hora","Serv","Servicio","Zona 1","Remoto","Técnico/Tecnólogo ó Profesional",{"$f":"+E737","v":"SGP-SRV-57"},"Mensual por servicios efectivamente prestados",108674.99999999999,1,1,"COP"]
["Analitica SASSoftware Analitica S.A.SAZD-SRV-58","AZD-SRV-58Software Analitica S.A.S",null,"Analitica SAS","AZD-SRV-58","Software Analitica S.A.S","Analitica SAS","COP","N/A","Soporte técnico en sitio premium - AZDIGITAL (SGDEA)","Año","Sop","Servicio","Zona 1","Sitio","Profesional","AZD-SRV-58","Anual",330372000,1,1,"COP"]
["Analitica SASSoftware Analitica S.A.SAZD-SRV-59","AZD-SRV-59Software Analitica S.A.S",null,"Analitica SAS","AZD-SRV-59","Software Analitica S.A.S","Analitica SAS","COP","N/A","Soporte técnico en sitio premium - AZDIGITAL (SGDEA)","Año","Sop","Servicio","Zona 2","Sitio","Profesional","AZD-SRV-59","Anual",339066000,1,1,"COP"]
["Analitica SASSoftware Analitica S.A.SAZD-SRV-60","AZD-SRV-60Software Analitica S.A.S",null,"Analitica SAS","AZD-SRV-60","Software Analitica S.A.S","Analitica SAS","COP","N/A","Soporte técnico en sitio premium - AZDIGITAL (SGDEA)","Año","Sop","Servicio","Zona 3","Sitio","Profesional","AZD-SRV-60","Anual",347760000,1,1,"COP"]
["Analitica SASSoftware Analitica S.A.SSGP-SRV-58","SGP-SRV-58Software Analitica S.A.S",null,"Analitica SAS","SGP-SRV-58","Software Analitica S.A.S","Analitica SAS","COP","N/A","Soporte técnico es sitio premium - SGP (BPMS)","Año","Sop","Servicio","Zona 1","Sitio","Profesional","SGP-SRV-58","Anual",330372000,1,1,"COP"]
["Analitica SASSoftware Analitica S.A.SSGP-SRV-59","SGP-SRV-59Software Analitica S.A.S",null,"Analitica SAS","SGP-SRV-59","Software Analitica S.A.S","Analitica SAS","COP","N/A","Soporte técnico es sitio premium - SGP (BPMS)","Año","Sop","Servicio","Zona 2","Sitio","Profesional","SGP-SRV-59","Anual",339066000,1,1,"COP"]
["Analitica SASSoftware Analitica S.A.SSGP-SRV-60","SGP-SRV-60Software Analitica S.A.S",null,"Analitica SAS","SGP-SRV-60","Software Analitica S.A.S","Analitica SAS","COP","N/A","Soporte técnico es sitio premium - SGP (BPMS)","Año","Sop","Servicio","Zona 3","Sitio","Profesional","SGP-SRV-60","Anual",347760000,1,1,"COP"]
["HEINSOHN HUMAN GLOBAL SOLUTIONS SAS Software Heinsohn ON-HN-NM-P-01","ON-HN-NM-P-01Software Heinsohn ",null,"HEINSOHN HUMAN GLOBAL SOLUTIONS SAS ","ON-HN-NM-P-01","Software Heinsohn ","HEINSOHN HUMAN GLOBAL SOLUTIONS SAS ","COP","N/A","LICENCIA HEINSOHN NOMINA ON PREMISE (Módulos: Hoja de vida, Nomenclatura y escala salarial, Estructura organizacional, Planta de personal, Cargos, Perfiles y funciones, Organigrama, Puestos, Normas, Actos administrativos, Nómina, reportes Planta, Portales) (minimo 100 empleados)","Paq x 100 empleados","Serv","Producto","Zonas (1,2,3)","Remoto y/o sitio","N/A","ON-HN-NM-P-01","con pago mensual vencido",60000000,1,1,"COP"]
["HEINSOHN HUMAN GLOBAL SOLUTIONS SAS Software Heinsohn ON-HN-NM-P-02","ON-HN-NM-P-02Software Heinsohn ",null,"HEINSOHN HUMAN GLOBAL SOLUTIONS SAS ","ON-HN-NM-P-02","Software Heinsohn ","HEINSOHN HUMAN GLOBAL SOLUTIONS SAS ","COP","N/A","LICENCIA ADICIONAL HEINSOHN NOMINA WEB ONPREMISE","Empleado","Serv","Producto","Zonas (1,2,3)","Remoto y/o sitio","N/A","ON-HN-NM-P-02","con pago mensual vencido",100000,1,1,"COP"]
["HEINSOHN HUMAN GLOBAL SOLUTIONS SAS Software Heinsohn ON-HN-NM-S-01","ON-HN-NM-S-01Software Heinsohn ",null,"HEINSOHN HUMAN GLOBAL SOLUTIONS SAS ","ON-HN-NM-S-01","Software Heinsohn ","HEINSOHN HUMAN GLOBAL SOLUTIONS SAS ","COP","N/A","INSTALACION HEINSOHN NÓMINA WEB ONPREMISE","3 días","Serv","Servicio","Zonas (1,2,3)","Remoto y/o sitio","Profesional","ON-HN-NM-S-01","con pago mensual vencido",6000000,1,1,"COP"]
["HEINSOHN HUMAN GLOBAL SOLUTIONS SAS Software Heinsohn ON-HN-NM-S-02","ON-HN-NM-S-02Software Heinsohn ",null,"HEINSOHN HUMAN GLOBAL SOLUTIONS SAS ","ON-HN-NM-S-02","Software Heinsohn ","HEINSOHN HUMAN GLOBAL SOLUTIONS SAS ","COP","N/A","ACTUALIZACION Y SOPORTE ESTANDAR HEINSOHN NOMINA WEB ONPREMISE (25% sobre licencias)","Anual ","Serv","Servicio","Zonas (1,2,3)","Remoto y/o sitio","Técnico o Tecnólogo","ON-HN-NM-S-02","Pago anual Anticipado",15000000,1,1,"COP"]
["HEINSOHN HUMAN GLOBAL SOLUTIONS SAS Software Heinsohn SA-HN-NM-S-01","SA-HN-NM-S-01Software Heinsohn ",null,"HEINSOHN HUMAN GLOBAL SOLUTIONS SAS ","SA-HN-NM-S-01","Software Heinsohn ","HEINSOHN HUMAN GLOBAL SOLUTIONS SAS ","COP","N/A","SOFTWARE HEINSOHN NOMINA WEB  SaaS (Paquete Inicial 100 empleados) Incluye infraestructura en la nube, arrendamiento de la licencia, actualización y mantenimiento del software y de la infraestructura ","Paq x 100 empleados","Serv","Servicio","Zonas (1,2,3)","Remoto y/o sitio","N/A","SA-HN-NM-S-01","Suscripción mensual con pago mensual vencido",3000000,1,0,"COP"]
["HEINSOHN HUMAN GLOBAL SOLUTIONS SAS Software Heinsohn SA-HN-NM-S-02","SA-HN-NM-S-02Software Heinsohn ",null,"HEINSOHN HUMAN GLOBAL SOLUTIONS SAS ","SA-HN-NM-S-02","Software Heinsohn ","HEINSOHN HUMAN GLOBAL SOLUTIONS SAS ","COP","N/A","SOFTWARE HEINSOHN NOMINA WEB  SaaS (empleado adicional de 101 a 200 empleados) Incluye infraestructura en la nube, arrendamiento de la licencia, actualización y mantenimiento del software y de la infraestructura ","Empleado","Serv","Servicio","Zonas (1,2,3)","Remoto y/o sitio","N/A","SA-HN-NM-S-02","Suscripción mensual con pago mensual vencido",15800,1,0,"COP"]
["HEINSOHN HUMAN GLOBAL SOLUTIONS SAS Software Heinsohn SA-HN-NM-S-03","SA-HN-NM-S-03Software Heinsohn ",null,"HEINSOHN HUMAN GLOBAL SOLUTIONS SAS ","SA-HN-NM-S-03","Software Heinsohn ","HEINSOHN HUMAN GLOBAL SOLUTIONS SAS ","COP","N/A","SOFTWARE HEINSOHN NOMINA WEB  SaaS (Paquete Inicial 201 a 300 empleados) Incluye infraestructura en la nube, arrendamiento de la licencia, actualización y mantenimiento del software y de la infraestructura ","Empleado","Serv","Servicio","Zonas (1,2,3)","Remoto y/o sitio","N/A","SA-HN-NM-S-03","Suscripción mensual con pago mensual vencido",14800,1,0,"COP"]
["HEINSOHN HUMAN GLOBAL SOLUTIONS SAS Software Heinsohn SA-HN-NM-S-04","SA-HN-NM-S-04Software Heinsohn ",null,"HEINSOHN HUMAN GLOBAL SOLUTIONS SAS ","SA-HN-NM-S-04","Software Heinsohn ","HEINSOHN HUMAN GLOBAL SOLUTIONS SAS ","COP","N/A","SOFTWARE HEINSOHN NOMINA WEB SaaS (Paquete Inicial de 301 a 500 empleados) Incluye infraestructura en la nube, actualización y mantenimiento del software y de la infraestructura ","Empleado","Serv","Servicio","Zonas (1,2,3)","Remoto y/o sitio","N/A","SA-HN-NM-S-04","Suscripción mensual con pago mensual vencido",12500,1,0,"COP"]
["HEINSOHN HUMAN GLOBAL SOLUTIONS SAS Software Heinsohn SA-HN-NM-S-05","SA-HN-NM-S-05Software Heinsohn ",null,"HEINSOHN HUMAN GLOBAL SOLUTIONS SAS ","SA-HN-NM-S-05","Software Heinsohn ","HEINSOHN HUMAN GLOBAL SOLUTIONS SAS ","COP","N/A","SOFTWARE HEINSOHN NOMINA WEB  SaaS (Paquete Inicial de 501 a 800 empleados) Incluye infraestructura en la nube, actualización y mantenimiento del software y de la infraestructura ","Empleado","Serv","Servicio","Zonas (1,2,3)","Remoto y/o sitio","N/A","SA-HN-NM-S-05","Suscripción mensual con pago mensual vencido",11000,1,0,"COP"]
["HEINSOHN HUMAN GLOBAL SOLUTIONS SAS Software Heinsohn SA-HN-NM-S-06","SA-HN-NM-S-06Software Heinsohn ",null,"HEINSOHN HUMAN GLOBAL SOLUTIONS SAS ","SA-HN-NM-S-06","Software Heinsohn ","HEINSOHN HUMAN GLOBAL SOLUTIONS SAS ","COP","N/A","SOFTWARE HEINSOHN NOMINA WEB  SaaS (Paquete Inicial 801 a 1200 empleados) Incluye infraestructura en la nube, actualización y mantenimiento del software y de la infraestructura ","Empleado","Serv","Servicio","Zonas (1,2,3)","Remoto y/o sitio","N/A","SA-HN-NM-S-06","Suscripción mensual con pago mensual vencido",10000,1,0,"COP"]
["HEINSOHN HUMAN GLOBAL SOLUTIONS SAS Software Heinsohn SA-HN-NM-S-07","SA-HN-NM-S-07Software Heinsohn ",null,"HEINSOHN HUMAN GLOBAL SOLUTIONS SAS ","SA-HN-NM-S-07","Software Heinsohn ","HEINSOHN HUMAN GLOBAL SOLUTIONS SAS ","COP","N/A","SOFTWARE HEINSOHN NOMINA WEB  SaaS (Paquete Inicial de 1201 a 1500 empleados) Incluye infraestructura en la nube, actualización y mantenimiento del software y de la infraestructura ","Empleado","Serv","Servicio","Zonas (1,2,3)","Remoto y/o sitio","N/A","SA-HN-NM-S-07","Suscripción mensual con pago mensual vencido",9000,1,0,"COP"]
["HEINSOHN HUMAN GLOBAL SOLUTIONS SAS Software Heinsohn SA-HN-NM-S-08","SA-HN-NM-S-08Software Heinsohn ",null,"HEINSOHN HUMAN GLOBAL SOLUTIONS SAS ","SA-HN-NM-S-08","Software Heinsohn ","HEINSOHN HUMAN GLOBAL SOLUTIONS SAS ","COP","N/A","SOFTWARE HEINSOHN NOMINA WEB  SaaS (Paquete Inicial de 1501 a 3000 empleados) Incluye infraestructura en la nube, actualización y mantenimiento del software y de la infraestructura ","Empleado","Serv","Servicio","Zonas (1,2,3)","Remoto y/o sitio","N/A","SA-HN-NM-S-08","Suscripción mensual con pago mensual vencido",8000,1,0,"COP"]
["HEINSOHN HUMAN GLOBAL SOLUTIONS SAS Software Heinsohn SA-HN-NM-S-09","SA-HN-NM-S-09Software Heinsohn ",null,"HEINSOHN HUMAN GLOBAL SOLUTIONS SAS ","SA-HN-NM-S-09","Software Heinsohn ","HEINSOHN HUMAN GLOBAL SOLUTIONS SAS ","COP","N/A","SOFTWARE HEINSOHN NOMINA WEB SaaS (Paquete Inicial de 3001 a 5000 empleados) Incluye infraestructura en la nube, actualización y mantenimiento del software y de la infraestructura ","Empleado","Serv","Servicio","Zonas (1,2,3)","Remoto y/o sitio","N/A","SA-HN-NM-S-09","Suscripción mensual con pago mensual vencido",7000,1,0,"COP"]
["HEINSOHN HUMAN GLOBAL SOLUTIONS SAS Software Heinsohn SA-HN-NM-S-10","SA-HN-NM-S-10Software Heinsohn ",null,"HEINSOHN HUMAN GLOBAL SOLUTIONS SAS ","SA-HN-NM-S-10","Software Heinsohn ","HEINSOHN HUMAN GLOBAL SOLUTIONS SAS ","COP","N/A","SOFTWARE HEINSOHN NOMINA WEB  SaaS (Paquete Inicial de 5001 empleados en adelante ) Incluye infraestructura en la nube, actualización y mantenimiento del software y de la infraestructura ","Empleado","Serv","Servicio","Zonas (1,2,3)","Remoto y/o sitio","N/A","SA-HN-NM-S-10","Suscripción mensual con pago mensual vencido",6000,1,0,"COP"]
["HEINSOHN HUMAN GLOBAL SOLUTIONS SAS Software Heinsohn SA-HN-NM-S-11","SA-HN-NM-S-11Software Heinsohn ",null,"HEINSOHN HUMAN GLOBAL SOLUTIONS SAS ","SA-HN-NM-S-11","Software Heinsohn ","HEINSOHN HUMAN GLOBAL SOLUTIONS SAS ","COP","N/A","HABILITACION SERVICIO HEINSOHN NÓMINA WEB SaaS","24 Horas","Serv","Servicio","Zonas (1,2,3)","Remoto","Profesional","SA-HN-NM-S-11","con pago mensual vencido",6000000,1,1,"COP"]
["HEINSOHN HUMAN GLOBAL SOLUTIONS SAS Software Heinsohn SA-HN-NM-S-12","SA-HN-NM-S-12Software Heinsohn ",null,"HEINSOHN HUMAN GLOBAL SOLUTIONS SAS ","SA-HN-NM-S-12","Software Heinsohn ","HEINSOHN HUMAN GLOBAL SOLUTIONS SAS ","COP","N/A","SOPORTE TÉCNICO HEINSOHN NOMINA WEB ","4 Horas","Serv","Servicio","Zonas (1,2,3)","Remoto y/o sitio","Técnico o Tecnólogo","SA-HN-NM-S-12","Mensual por servicios/productos efectivamente prestados",640000,1,1,"COP"]
["HEINSOHN HUMAN GLOBAL SOLUTIONS SAS Software Heinsohn SA-HN-NM-S-13","SA-HN-NM-S-13Software Heinsohn ",null,"HEINSOHN HUMAN GLOBAL SOLUTIONS SAS ","SA-HN-NM-S-13","Software Heinsohn ","HEINSOHN HUMAN GLOBAL SOLUTIONS SAS ","COP","N/A","SOPORTE FUNCIONAL HEINSOHN NOMINA WEB ","4 Horas","Serv","Servicio","Zonas (1,2,3)","Remoto y/o sitio","Técnico o Tecnólogo","SA-HN-NM-S-13","Mensual por servicios/productos efectivamente prestados",640000,1,1,"COP"]
["HEINSOHN HUMAN GLOBAL SOLUTIONS SAS Software Heinsohn SA-HN-NM-S-14","SA-HN-NM-S-14Software Heinsohn ",null,"HEINSOHN HUMAN GLOBAL SOLUTIONS SAS ","SA-HN-NM-S-14","Software Heinsohn ","HEINSOHN HUMAN GLOBAL SOLUTIONS SAS ","COP","N/A","CAPACITACIÓN HEINSOHN NOMINA WEB USUARIO TÉCNICO - HASTA 5 PERSONAS. ","16 Horas","Serv","Servicio","Zonas (1,2,3)","Remoto y/o sitio","Capacitador","SA-HN-NM-S-14","Mensual por servicios/productos efectivamente prestados",2880000,1,1,"COP"]
["HEINSOHN HUMAN GLOBAL SOLUTIONS SAS Software Heinsohn SA-HN-NM-S-15","SA-HN-NM-S-15Software Heinsohn ",null,"HEINSOHN HUMAN GLOBAL SOLUTIONS SAS ","SA-HN-NM-S-15","Software Heinsohn ","HEINSOHN HUMAN GLOBAL SOLUTIONS SAS ","COP","N/A","CAPACITACIÓN HEINSOHN NOMINA WEB PARA USUARIO FUNCIONAL ADMINISTRADOR  - HASTA 10 PERSONAS. ","32 Horas","Serv","Servicio","Zonas (1,2,3)","Remoto y/o sitio","Capacitador","SA-HN-NM-S-15","Mensual por servicios/productos efectivamente prestados",5120000,1,1,"COP"]
["HEINSOHN HUMAN GLOBAL SOLUTIONS SAS Software Heinsohn SA-HN-NM-S-16","SA-HN-NM-S-16Software Heinsohn ",null,"HEINSOHN HUMAN GLOBAL SOLUTIONS SAS ","SA-HN-NM-S-16","Software Heinsohn ","HEINSOHN HUMAN GLOBAL SOLUTIONS SAS ","COP","N/A","CAPACITACIÓN PORTALES HEINSOHN NÓMINA PARA USUARIO FINAL - HASTA 20 PERSONAS ","3 Horas","Serv","Servicio","Zonas (1,2,3)","Remoto y/o sitio","Capacitador","SA-HN-NM-S-16","Mensual por servicios/productos efectivamente prestados",480000,1,1,"COP"]
["HEINSOHN HUMAN GLOBAL SOLUTIONS SAS Software Heinsohn SA-HN-NM-S-17","SA-HN-NM-S-17Software Heinsohn ",null,"HEINSOHN HUMAN GLOBAL SOLUTIONS SAS ","SA-HN-NM-S-17","Software Heinsohn ","HEINSOHN HUMAN GLOBAL SOLUTIONS SAS ","COP","N/A","CAPACITACIÓN EN ACTUALIZACIÓN O CAMBIOS DE LEY APLICABLE AL PROCESO PARA USUARIO FINAL - HASTA 20 PERSONAS","Hora ","Serv","Servicio","Zonas (1,2,3)","Remoto y/o sitio","Capacitador","SA-HN-NM-S-17","Mensual por servicios/productos efectivamente prestados",50000,1,1,"COP"]
["HEINSOHN HUMAN GLOBAL SOLUTIONS SAS Software Heinsohn SA-HN-NM-S-18","SA-HN-NM-S-18Software Heinsohn ",null,"HEINSOHN HUMAN GLOBAL SOLUTIONS SAS ","SA-HN-NM-S-18","Software Heinsohn ","HEINSOHN HUMAN GLOBAL SOLUTIONS SAS ","COP","N/A","CAPACITACIÓN EN ACTUALIZACIONES HEINSOHN NOMINA PARA USUARIO FUNCIONAL - HASTA 5 PERSONAS ","Hora","Serv","Servicio","Zonas (1,2,3)","Remoto y/o sitio","Capacitador","SA-HN-NM-S-18","Mensual por servicios/productos efectivamente prestados",2000,1,1,"COP"]
["HEINSOHN HUMAN GLOBAL SOLUTIONS SAS Software Heinsohn SA-HN-NM-S-19","SA-HN-NM-S-19Software Heinsohn ",null,"HEINSOHN HUMAN GLOBAL SOLUTIONS SAS ","SA-HN-NM-S-19","Software Heinsohn ","HEINSOHN HUMAN GLOBAL SOLUTIONS SAS ","COP","N/A","LEVANTAMIENTO DE INFORMACIÓN PARA IMPLEMENTAR HEINSOHN NOMINA WEB","Hora","Serv","Servicio","Zonas (1,2,3)","Remoto y/o sitio","Profesional ","SA-HN-NM-S-19","con pago mensual vencido",160000,1,1,"COP"]
["HEINSOHN HUMAN GLOBAL SOLUTIONS SAS Software Heinsohn SA-HN-NM-S-20","SA-HN-NM-S-20Software Heinsohn ",null,"HEINSOHN HUMAN GLOBAL SOLUTIONS SAS ","SA-HN-NM-S-20","Software Heinsohn ","HEINSOHN HUMAN GLOBAL SOLUTIONS SAS ","COP","N/A","CONFIGURACIÓN Y PARAMETRIZACIÓN  HEINSOHN NOMINA WEB","Hora","Serv","Servicio","Zonas (1,2,3)","Remoto y/o sitio","Profesional","SA-HN-NM-S-20","con pago mensual vencido",160000,1,1,"COP"]
["HEINSOHN HUMAN GLOBAL SOLUTIONS SAS Software Heinsohn SA-HN-NM-S-21","SA-HN-NM-S-21Software Heinsohn ",null,"HEINSOHN HUMAN GLOBAL SOLUTIONS SAS ","SA-HN-NM-S-21","Software Heinsohn ","HEINSOHN HUMAN GLOBAL SOLUTIONS SAS ","COP","N/A","MIGRACIÓN DE INFORMACIÓN A HEINSOHN NOMINA WEB POR VOLUMEN DE DATOS ","Hora","Serv","Servicio","Zonas (1,2,3)","Remoto y/o sitio","Profesional","SA-HN-NM-S-21","Mensual por servicios/productos efectivamente prestados",160000,1,1,"COP"]
["HEINSOHN HUMAN GLOBAL SOLUTIONS SAS Software Heinsohn ON-HN-GH-P-01","ON-HN-GH-P-01Software Heinsohn ",null,"HEINSOHN HUMAN GLOBAL SOLUTIONS SAS ","ON-HN-GH-P-01","Software Heinsohn ","HEINSOHN HUMAN GLOBAL SOLUTIONS SAS ","COP","N/A","LICENCIA HEINSOHN GESTION HUMANA  (módulos: Capacitación, Desempeño, Mapeo de talentos, Bienestar y Beneficios, Clima y cultura, Desarrollo, Desvinculación, Indicadores y portales) (Mínimo 100 empleados)","Paq x 100 empleados","Serv","Producto","Zonas (1,2,3)","Remoto y/o sitio","N/A","ON-HN-GH-P-01","con pago mensual vencido",60000000,1,1,"COP"]
["HEINSOHN HUMAN GLOBAL SOLUTIONS SAS Software Heinsohn ON-HN-GH-P-02","ON-HN-GH-P-02Software Heinsohn ",null,"HEINSOHN HUMAN GLOBAL SOLUTIONS SAS ","ON-HN-GH-P-02","Software Heinsohn ","HEINSOHN HUMAN GLOBAL SOLUTIONS SAS ","COP","N/A","LICENCIA ADICIONAL HEINSOHN GESTION HUMANA ONPREMISE ","usuario","Serv","Producto","Zonas (1,2,3)","Remoto y/o sitio","N/A","ON-HN-GH-P-02","Mensual por servicios/productos efectivamente prestados",100000,1,1,"COP"]
["HEINSOHN HUMAN GLOBAL SOLUTIONS SAS Software Heinsohn ON-HN-GH-S-01","ON-HN-GH-S-01Software Heinsohn ",null,"HEINSOHN HUMAN GLOBAL SOLUTIONS SAS ","ON-HN-GH-S-01","Software Heinsohn ","HEINSOHN HUMAN GLOBAL SOLUTIONS SAS ","COP","N/A","INSTALACION HEINSOHN GESTION HUMANA ON PREMISE","3 días","Serv","Servicio","Zonas (1,2,3)","Remoto y/o sitio","Profesional","ON-HN-GH-S-01","con pago mensual vencido",6000000,1,1,"COP"]
["HEINSOHN HUMAN GLOBAL SOLUTIONS SAS Software Heinsohn ON-HN-GH-S-02","ON-HN-GH-S-02Software Heinsohn ",null,"HEINSOHN HUMAN GLOBAL SOLUTIONS SAS ","ON-HN-GH-S-02","Software Heinsohn ","HEINSOHN HUMAN GLOBAL SOLUTIONS SAS ","COP","N/A","ACTUALIZACION Y SOPORTE ESTANDAR HEINSOHN GESTION HUMANA ONPREMISE (25% sobre licencias)","Anual ","Serv","Servicio","Zonas (1,2,3)","Remoto y/o sitio","Profesional","ON-HN-GH-S-02","Pago anual Anticipado",15000000,1,1,"COP"]
["HEINSOHN HUMAN GLOBAL SOLUTIONS SAS Software Heinsohn SA-HN-GH-S-01","SA-HN-GH-S-01Software Heinsohn ",null,"HEINSOHN HUMAN GLOBAL SOLUTIONS SAS ","SA-HN-GH-S-01","Software Heinsohn ","HEINSOHN HUMAN GLOBAL SOLUTIONS SAS ","COP","N/A","SOFTWARE HEINSOHN GESTION HUMANA WEB  SaaS (Paquete Inicial 100 empleados) Incluye infraestructura en la nube, arrendamiento de la licencia, actualización y mantenimiento del software y de la infraestructura ","Paq x 100 empleados","Serv","Servicio","Zonas (1,2,3)","Remoto y/o sitio","N/A","SA-HN-GH-S-01","Suscripción mensual con pago mensual vencido",3000000,1,0,"COP"]
["HEINSOHN HUMAN GLOBAL SOLUTIONS SAS Software Heinsohn SA-HN-GH-S-02","SA-HN-GH-S-02Software Heinsohn ",null,"HEINSOHN HUMAN GLOBAL SOLUTIONS SAS ","SA-HN-GH-S-02","Software Heinsohn ","HEINSOHN HUMAN GLOBAL SOLUTIONS SAS ","COP","N/A","SOFTWARE HEINSOHN GESTION HUMANA WEB  SaaS (empleado adicional de 101 a 200 empleados) Incluye infraestructura en la nube, arrendamiento de la licencia, actualización y mantenimiento del software y de la infraestructura ","Empleado","Serv","Servicio","Zonas (1,2,3)","Remoto y/o sitio","N/A","SA-HN-GH-S-02","Suscripción mensual con pago mensual vencido",15800,1,0,"COP"]
["HEINSOHN HUMAN GLOBAL SOLUTIONS SAS Software Heinsohn SA-HN-GH-S-03","SA-HN-GH-S-03Software Heinsohn ",null,"HEINSOHN HUMAN GLOBAL SOLUTIONS SAS ","SA-HN-GH-S-03","Software Heinsohn ","HEINSOHN HUMAN GLOBAL SOLUTIONS SAS ","COP","N/A","SOFTWARE HEINSOHN GESTION HUMANA  WEB SaaS (Paquete Inicial 201 a 300 empleados) Incluye infraestructura en la nube, arrendamiento de la licencia, actualización y mantenimiento del software y de la infraestructura ","Empleado","Serv","Servicio","Zonas (1,2,3)","Remoto y/o sitio","N/A","SA-HN-GH-S-03","Suscripción mensual con pago mensual vencido",14800,1,0,"COP"]
["HEINSOHN HUMAN GLOBAL SOLUTIONS SAS Software Heinsohn SA-HN-GH-S-04","SA-HN-GH-S-04Software Heinsohn ",null,"HEINSOHN HUMAN GLOBAL SOLUTIONS SAS ","SA-HN-GH-S-04","Software Heinsohn ","HEINSOHN HUMAN GLOBAL SOLUTIONS SAS ","COP","N/A","SOFTWARE HEINSOHN GESTION HUMANA WEB SaaS (Paquete Inicial de 301 a 500 empleados) Incluye infraestructura en la nube, actualización y mantenimiento del software y de la infraestructura ","Empleado","Serv","Servicio","Zonas (1,2,3)","Remoto y/o sitio","N/A","SA-HN-GH-S-04","Suscripción mensual con pago mensual vencido",12500,1,0,"COP"]
["HEINSOHN HUMAN GLOBAL SOLUTIONS SAS Software Heinsohn SA-HN-GH-S-05","SA-HN-GH-S-05Software Heinsohn ",null,"HEINSOHN HUMAN GLOBAL SOLUTIONS SAS ","SA-HN-GH-S-05","Software Heinsohn ","HEINSOHN HUMAN GLOBAL SOLUTIONS SAS ","COP","N/A","SOFTWARE HEINSOHN GESTION HUMANA WEB  SaaS (Paquete Inicial de 501 a 800 empleados) Incluye infraestructura en la nube, actualización y mantenimiento del software y de la infraestructura ","Empleado","Serv","Servicio","Zonas (1,2,3)","Remoto y/o sitio","N/A","SA-HN-GH-S-05","Suscripción mensual con pago mensual vencido",11000,1,0,"COP"]
["HEINSOHN HUMAN GLOBAL SOLUTIONS SAS Software Heinsohn SA-HN-GH-S-06","SA-HN-GH-S-06Software Heinsohn ",null,"HEINSOHN HUMAN GLOBAL SOLUTIONS SAS ","SA-HN-GH-S-06","Software Heinsohn ","HEINSOHN HUMAN GLOBAL SOLUTIONS SAS ","COP","N/A","SOFTWARE HEINSOHN GESTION HUMANA WEB  SaaS (Paquete Inicial 801 a 1200 empleados) Incluye infraestructura en la nube, actualización y mantenimiento del software y de la infraestructura ","Empleado","Serv","Servicio","Zonas (1,2,3)","Remoto y/o sitio","N/A","SA-HN-GH-S-06","Suscripción mensual con pago mensual vencido",10000,1,0,"COP"]
["HEINSOHN HUMAN GLOBAL SOLUTIONS SAS Software Heinsohn SA-HN-GH-S-07","SA-HN-GH-S-07Software Heinsohn ",null,"HEINSOHN HUMAN GLOBAL SOLUTIONS SAS ","SA-HN-GH-S-07","Software Heinsohn ","HEINSOHN HUMAN GLOBAL SOLUTIONS SAS ","COP","N/A","SOFTWARE HEINSOHN GESTION HUMANA WEB  SaaS (Paquete Inicial de 1201 a 1500 empleados) Incluye infraestructura en la nube, actualización y mantenimiento del software y de la infraestructura ","Empleado","Serv","Servicio","Zonas (1,2,3)","Remoto y/o sitio","N/A","SA-HN-GH-S-07","Suscripción mensual con pago mensual vencido",9000,1,0,"COP"]
["HEINSOHN HUMAN GLOBAL SOLUTIONS SAS Software Heinsohn SA-HN-GH-S-08","SA-HN-GH-S-08Software Heinsohn ",null,"HEINSOHN HUMAN GLOBAL SOLUTIONS SAS ","SA-HN-GH-S-08","Software Heinsohn ","HEINSOHN HUMAN GLOBAL SOLUTIONS SAS ","COP","N/A","SOFTWARE HEINSOHN GESTION HUMANA WEB  SaaS (Paquete Inicial de 1501 a 3000 empleados) Incluye infraestructura en la nube, actualización y mantenimiento del software y de la infraestructura ","Empleado","Serv","Servicio","Zonas (1,2,3)","Remoto y/o sitio","N/A","SA-HN-GH-S-08","Suscripción mensual con pago mensual vencido",8000,1,0,"COP"]
["HEINSOHN HUMAN GLOBAL SOLUTIONS SAS Software Heinsohn SA-HN-GH-S-09","SA-HN-GH-S-09Software Heinsohn ",null,"HEINSOHN HUMAN GLOBAL SOLUTIONS SAS ","SA-HN-GH-S-09","Software Heinsohn ","HEINSOHN HUMAN GLOBAL SOLUTIONS SAS ","COP","N/A","SOFTWARE HEINSOHN GESTION HUMANA WEB SaaS (Paquete Inicial de 3001 a 5000 empleados) Incluye infraestructura en la nube, actualización y mantenimiento del software y de la infraestructura ","Empleado","Serv","Servicio","Zonas (1,2,3)","Remoto y/o sitio","N/A","SA-HN-GH-S-09","Suscripción mensual con pago mensual vencido",7000,1,0,"COP"]
["HEINSOHN HUMAN GLOBAL SOLUTIONS SAS Software Heinsohn SA-HN-GH-S-10","SA-HN-GH-S-10Software Heinsohn ",null,"HEINSOHN HUMAN GLOBAL SOLUTIONS SAS ","SA-HN-GH-S-10","Software Heinsohn ","HEINSOHN HUMAN GLOBAL SOLUTIONS SAS ","COP","N/A","SOFTWARE HEINSOHN GESTION HUMANA WEB  SaaS (Paquete Inicial de 5001 empleados en adelante ) Incluye infraestructura en la nube, actualización y mantenimiento del software y de la infraestructura ","Empleado","Serv","Servicio","Zonas (1,2,3)","Remoto y/o sitio","N/A","SA-HN-GH-S-10","Suscripción mensual con pago mensual vencido",6000,1,0,"COP"]
["HEINSOHN HUMAN GLOBAL SOLUTIONS SAS Software Heinsohn SA-HN-GH-S-11","SA-HN-GH-S-11Software Heinsohn ",null,"HEINSOHN HUMAN GLOBAL SOLUTIONS SAS ","SA-HN-GH-S-11","Software Heinsohn ","HEINSOHN HUMAN GLOBAL SOLUTIONS SAS ","COP","N/A","HABILITACION HEINSOHN GESTION HUMANA SAAS ","1 semana","Serv","Servicio","Zonas (1,2,3)","Remoto","Profesional","SA-HN-GH-S-11","con pago mensual vencido",6000000,1,1,"COP"]
["HEINSOHN HUMAN GLOBAL SOLUTIONS SAS Software Heinsohn SA-HN-GH-S-12","SA-HN-GH-S-12Software Heinsohn ",null,"HEINSOHN HUMAN GLOBAL SOLUTIONS SAS ","SA-HN-GH-S-12","Software Heinsohn ","HEINSOHN HUMAN GLOBAL SOLUTIONS SAS ","COP","N/A","SOPORTE TÉCNICO HEINSOHN GESTION HUMANA WEB ","4 Horas","Serv","Servicio","Zonas (1,2,3)","Remoto y/o sitio","Profesional","SA-HN-GH-S-12","Mensual por servicios/productos efectivamente prestados",640000,1,1,"COP"]
["HEINSOHN HUMAN GLOBAL SOLUTIONS SAS Software Heinsohn SA-HN-GH-S-13","SA-HN-GH-S-13Software Heinsohn ",null,"HEINSOHN HUMAN GLOBAL SOLUTIONS SAS ","SA-HN-GH-S-13","Software Heinsohn ","HEINSOHN HUMAN GLOBAL SOLUTIONS SAS ","COP","N/A","SOPORTE FUNCIONAL HEINSOHN GESTION HUMANA WEB ","4 Horas","Serv","Servicio","Zonas (1,2,3)","Remoto y/o sitio","Profesional","SA-HN-GH-S-13","Mensual por servicios/productos efectivamente prestados",640000,1,1,"COP"]
["HEINSOHN HUMAN GLOBAL SOLUTIONS SAS Software Heinsohn SA-HN-GH-S-14","SA-HN-GH-S-14Software Heinsohn ",null,"HEINSOHN HUMAN GLOBAL SOLUTIONS SAS ","SA-HN-GH-S-14","Software Heinsohn ","HEINSOHN HUMAN GLOBAL SOLUTIONS SAS ","COP","N/A","CAPACITACIÓN HEINSOHN GESTION HUMANA WEB USUARIO TÉCNICO - HASTA 5 PERSONAS. ","16 Horas","Serv","Servicio","Zonas (1,2,3)","Remoto y/o sitio","Capacitador","SA-HN-GH-S-14","Mensual por servicios/productos efectivamente prestados",2880000,1,1,"COP"]
["HEINSOHN HUMAN GLOBAL SOLUTIONS SAS Software Heinsohn SA-HN-GH-S-15","SA-HN-GH-S-15Software Heinsohn ",null,"HEINSOHN HUMAN GLOBAL SOLUTIONS SAS ","SA-HN-GH-S-15","Software Heinsohn ","HEINSOHN HUMAN GLOBAL SOLUTIONS SAS ","COP","N/A","CAPACITACIÓN HEINSOHN GESTION HUMANA WEB PARA USUARIO FUNCIONAL DE GESTION HUMANA ADMINISTRADOR  - HASTA 10 PERSONAS. ","40 Horas ","Serv","Servicio","Zonas (1,2,3)","Remoto y/o sitio","Capacitador","SA-HN-GH-S-15","Mensual por servicios/productos efectivamente prestados",6000000,1,1,"COP"]
["HEINSOHN HUMAN GLOBAL SOLUTIONS SAS Software Heinsohn SA-HN-GH-S-16","SA-HN-GH-S-16Software Heinsohn ",null,"HEINSOHN HUMAN GLOBAL SOLUTIONS SAS ","SA-HN-GH-S-16","Software Heinsohn ","HEINSOHN HUMAN GLOBAL SOLUTIONS SAS ","COP","N/A","CAPACITACIÓN PORTALES HEINSOHN GESTION HUMANA PARA USUARIO FINAL - HASTA 20 PERSONAS ","3 Horas","Serv","Servicio","Zonas (1,2,3)","Remoto y/o sitio","Capacitador","SA-HN-GH-S-16","Mensual por servicios/productos efectivamente prestados",480000,1,1,"COP"]
["HEINSOHN HUMAN GLOBAL SOLUTIONS SAS Software Heinsohn SA-HN-GH-S-17","SA-HN-GH-S-17Software Heinsohn ",null,"HEINSOHN HUMAN GLOBAL SOLUTIONS SAS ","SA-HN-GH-S-17","Software Heinsohn ","HEINSOHN HUMAN GLOBAL SOLUTIONS SAS ","COP","N/A","CAPACITACIÓN EN ACTUALIZACIONES HEINSOHN GESTION HUMANA PARA USUARIO FUNCIONAL - HASTA 5 PERSONAS ","Hora","Serv","Servicio","Zonas (1,2,3)","Remoto y/o sitio","Capacitador","SA-HN-GH-S-17","Mensual por servicios/productos efectivamente prestados",2000,1,1,"COP"]
["HEINSOHN HUMAN GLOBAL SOLUTIONS SAS Software Heinsohn SA-HN-GH-S-18","SA-HN-GH-S-18Software Heinsohn ",null,"HEINSOHN HUMAN GLOBAL SOLUTIONS SAS ","SA-HN-GH-S-18","Software Heinsohn ","HEINSOHN HUMAN GLOBAL SOLUTIONS SAS ","COP","N/A","LEVANTAMIENTO DE INFORMACIÓN PARA IMPLEMENTAR HEINSOHN GESTION HUMANA WEB","Hora","Serv","Servicio","Zonas (1,2,3)","Remoto y/o sitio","Profesional","SA-HN-GH-S-18","con pago mensual vencido",160000,1,1,"COP"]
["HEINSOHN HUMAN GLOBAL SOLUTIONS SAS Software Heinsohn SA-HN-GH-S-19","SA-HN-GH-S-19Software Heinsohn ",null,"HEINSOHN HUMAN GLOBAL SOLUTIONS SAS ","SA-HN-GH-S-19","Software Heinsohn ","HEINSOHN HUMAN GLOBAL SOLUTIONS SAS ","COP","N/A","CONFIGURACIÓN Y PARAMETRIZACIÓN  HEINSOHN GESTION HUMANA WEB","Hora","Serv","Servicio","Zonas (1,2,3)","Remoto y/o sitio","Profesional","SA-HN-GH-S-19","con pago mensual vencido",160000,1,1,"COP"]
["HEINSOHN HUMAN GLOBAL SOLUTIONS SAS Software Heinsohn SA-HN-GH-S-20","SA-HN-GH-S-20Software Heinsohn ",null,"HEINSOHN HUMAN GLOBAL SOLUTIONS SAS ","SA-HN-GH-S-20","Software Heinsohn ","HEINSOHN HUMAN GLOBAL SOLUTIONS SAS ","COP","N/A","CARGA DE INFORMACIÓN A HEINSOHN GESTION HUMANA WEB POR VOLUMEN DE DATOS ","Hora","Serv","Servicio","Zonas (1,2,3)","Remoto y/o sitio","Profesional","SA-HN-GH-S-20","Mensual por servicios/productos efectivamente prestados",160000,1,1,"COP"]
["HEINSOHN HUMAN GLOBAL SOLUTIONS SAS Software Heinsohn SA-HN-SST-S-01","SA-HN-SST-S-01Software Heinsohn ",null,"HEINSOHN HUMAN GLOBAL SOLUTIONS SAS ","SA-HN-SST-S-01","Software Heinsohn ","HEINSOHN HUMAN GLOBAL SOLUTIONS SAS ","COP","N/A","SOFTWARE HEINSOHN SEGURIDAD Y SALUD EN EL TRABAJO (SST) SaaS Incluye infraestructura en la nube, arrendamiento de la licencia, actualización y mantenimiento del software y de la infraestructura con un usuario administrador","Unidad","Serv","Servicio","Zonas (1,2,3)","Remoto y/o sitio","N/A","SA-HN-SST-S-01","Suscripción mensual con pago mensual vencido",800000,1,0,"COP"]
["HEINSOHN HUMAN GLOBAL SOLUTIONS SAS Software Heinsohn SA-HN-SST-S-02","SA-HN-SST-S-02Software Heinsohn ",null,"HEINSOHN HUMAN GLOBAL SOLUTIONS SAS ","SA-HN-SST-S-02","Software Heinsohn ","HEINSOHN HUMAN GLOBAL SOLUTIONS SAS ","COP","N/A","USUARIO ADMINISTRADOR ADICIONAL SOFTWARE HEINSOHN SEGURIDAD Y SALUD EN EL TRABAJO (SST) SaaS ","Usuario","Serv","Servicio","Zonas (1,2,3)","Remoto y/o sitio","N/A","SA-HN-SST-S-02","Suscripción mensual con pago mensual vencido",500000,1,0,"COP"]
["HEINSOHN HUMAN GLOBAL SOLUTIONS SAS Software Heinsohn SA-HN-SST-S-03","SA-HN-SST-S-03Software Heinsohn ",null,"HEINSOHN HUMAN GLOBAL SOLUTIONS SAS ","SA-HN-SST-S-03","Software Heinsohn ","HEINSOHN HUMAN GLOBAL SOLUTIONS SAS ","COP","N/A","USUARIO GESTOR ADICIONAL SOFTWARE HEINSOHN SEGURIDAD Y SALUD EN EL TRABAJO (SST) SaaS ","Usuario","Serv","Servicio","Zonas (1,2,3)","Remoto y/o sitio","N/A","SA-HN-SST-S-03","Suscripción mensual con pago mensual vencido",320000,1,0,"COP"]
["HEINSOHN HUMAN GLOBAL SOLUTIONS SAS Software Heinsohn SA-HN-SST-S-04","SA-HN-SST-S-04Software Heinsohn ",null,"HEINSOHN HUMAN GLOBAL SOLUTIONS SAS ","SA-HN-SST-S-04","Software Heinsohn ","HEINSOHN HUMAN GLOBAL SOLUTIONS SAS ","COP","N/A","HABILITACION HEINSOHN SST SAAS ","1 semana","Serv","Servicio","Zonas (1,2,3)","Remoto","Profesional","SA-HN-SST-S-04","con pago mensual vencido",6000000,1,1,"COP"]
["HEINSOHN HUMAN GLOBAL SOLUTIONS SAS Software Heinsohn SA-HN-SST-S-05","SA-HN-SST-S-05Software Heinsohn ",null,"HEINSOHN HUMAN GLOBAL SOLUTIONS SAS ","SA-HN-SST-S-05","Software Heinsohn ","HEINSOHN HUMAN GLOBAL SOLUTIONS SAS ","COP","N/A","SOPORTE TÉCNICO HEINSOHN SST WEB ","4 Horas","Serv","Servicio","Zonas (1,2,3)","Remoto y/o sitio","Profesional","SA-HN-SST-S-05","Mensual por servicios/productos efectivamente prestados",640000,1,1,"COP"]
["HEINSOHN HUMAN GLOBAL SOLUTIONS SAS Software Heinsohn SA-HN-SST-S-06","SA-HN-SST-S-06Software Heinsohn ",null,"HEINSOHN HUMAN GLOBAL SOLUTIONS SAS ","SA-HN-SST-S-06","Software Heinsohn ","HEINSOHN HUMAN GLOBAL SOLUTIONS SAS ","COP","N/A","SOPORTE FUNCIONAL HEINSOHN SST WEB ","4 Horas","Serv","Servicio","Zonas (1,2,3)","Remoto y/o sitio","Profesional","SA-HN-SST-S-06","Mensual por servicios/productos efectivamente prestados",640000,1,1,"COP"]
["HEINSOHN HUMAN GLOBAL SOLUTIONS SAS Software Heinsohn SA-HN-SST-S-07","SA-HN-SST-S-07Software Heinsohn ",null,"HEINSOHN HUMAN GLOBAL SOLUTIONS SAS ","SA-HN-SST-S-07","Software Heinsohn ","HEINSOHN HUMAN GLOBAL SOLUTIONS SAS ","COP","N/A","CAPACITACIÓN HEINSOHN SST WEB PARA USUARIO FUNCIONAL DE GESTION HUMANA ADMINISTRADOR  - HASTA 10 PERSONAS. ","20 Horas","Serv","Servicio","Zonas (1,2,3)","Remoto y/o sitio","Capacitador","SA-HN-SST-S-07","Mensual por servicios/productos efectivamente prestados",3200000,1,1,"COP"]
["HEINSOHN HUMAN GLOBAL SOLUTIONS SAS Software Heinsohn SA-HN-SST-S-08","SA-HN-SST-S-08Software Heinsohn ",null,"HEINSOHN HUMAN GLOBAL SOLUTIONS SAS ","SA-HN-SST-S-08","Software Heinsohn ","HEINSOHN HUMAN GLOBAL SOLUTIONS SAS ","COP","N/A","CAPACITACIÓN EN ACTUALIZACIONES HEINSOHN SST PARA USUARIO FUNCIONAL - HASTA 5 PERSONAS ","Hora","Serv","Servicio","Zonas (1,2,3)","Remoto y/o sitio","Capacitador","SA-HN-SST-S-08","Mensual por servicios/productos efectivamente prestados",2000,1,1,"COP"]
[{"$f":"D801&F801&E801","v":"HEINSOHN HUMAN GLOBAL SOLUTIONS SAS Software Heinsohn SA-HN-SST-S-09"},{"$f":"E801&F801","v":"SA-HN-SST-S-09Software Heinsohn "},null,"HEINSOHN HUMAN GLOBAL SOLUTIONS SAS ","SA-HN-SST-S-09","Software Heinsohn ",{"$f":"D801","v":"HEINSOHN HUMAN GLOBAL SOLUTIONS SAS "},"COP","N/A","LEVANTAMIENTO DE INFORMACIÓN PARA IMPLEMENTAR HEINSOHN SST","Hora","Serv","Servicio","Zonas (1,2,3)","Remoto y/o sitio","Profesional",{"$f":"+E801","v":"SA-HN-SST-S-09"},"con pago mensual vencido",160000,1,1,"COP"]
["HEINSOHN HUMAN GLOBAL SOLUTIONS SAS Software Heinsohn SA-HN-SST-S-10","SA-HN-SST-S-10Software Heinsohn ",null,"HEINSOHN HUMAN GLOBAL SOLUTIONS SAS ","SA-HN-SST-S-10","Software Heinsohn ","HEINSOHN HUMAN GLOBAL SOLUTIONS SAS ","COP","N/A","CONFIGURACIÓN Y PARAMETRIZACIÓN  HEINSOHN SST","Hora","Serv","Servicio","Zonas (1,2,3)","Remoto y/o sitio","Profesional","SA-HN-SST-S-10","con pago mensual vencido",160000,1,1,"COP"]
["HEINSOHN HUMAN GLOBAL SOLUTIONS SAS Software Heinsohn SA-HN-SST-S-11","SA-HN-SST-S-11Software Heinsohn ",null,"HEINSOHN HUMAN GLOBAL SOLUTIONS SAS ","SA-HN-SST-S-11","Software Heinsohn ","HEINSOHN HUMAN GLOBAL SOLUTIONS SAS ","COP","N/A","CARGA DE INFORMACIÓN A HEINSOHN SST POR VOLUMEN DE DATOS ","Hora","Serv","Servicio","Zonas (1,2,3)","Remoto y/o sitio","Profesional","SA-HN-SST-S-11","Mensual por servicios/productos efectivamente prestados",160000,1,1,"COP"]
["Integrasoft SASSoftware IntegrasoftBPM-ERP-SA-01-07","BPM-ERP-SA-01-07Software Integrasoft",null,"Integrasoft SAS","BPM-ERP-SA-01-07","Software Integrasoft","Integrasoft SAS","COP","N/A","BPM.Gov* ERP-Presupuesto/Contabilidad/Tesoreria adición paquete 3 usuarios","Saas","Prod","Servicio","Zonas (1,2,3)","Remoto","N/A","BPM-ERP-SA-01-07","Mensual",350000,1,0,"COP"]
["Integrasoft SASSoftware IntegrasoftBPM-ERP-SA-01-06","BPM-ERP-SA-01-06Software Integrasoft",null,"Integrasoft SAS","BPM-ERP-SA-01-06","Software Integrasoft","Integrasoft SAS","COP","N/A","BPM.Gov* ERP-Presupuesto/Contabilidad/Tesoreria Categoria 6 para 3 usuarios","Saas","Prod","Servicio","Zonas (1,2,3)","Remoto","N/A","BPM-ERP-SA-01-06","Mensual",900000,1,0,"COP"]
["Integrasoft SASSoftware IntegrasoftBPM-ERP-SA-01-05","BPM-ERP-SA-01-05Software Integrasoft",null,"Integrasoft SAS","BPM-ERP-SA-01-05","Software Integrasoft","Integrasoft SAS","COP","N/A","BPM.Gov* ERP-Presupuesto/Contabilidad/Tesoreria Categoria 5 para 3 usuarios","Saas","Prod","Servicio","Zonas (1,2,3)","Remoto","N/A","BPM-ERP-SA-01-05","Mensual",1100000,1,0,"COP"]
["Integrasoft SASSoftware IntegrasoftBPM-ERP-SA-01-04","BPM-ERP-SA-01-04Software Integrasoft",null,"Integrasoft SAS","BPM-ERP-SA-01-04","Software Integrasoft","Integrasoft SAS","COP","N/A","BPM.Gov* ERP-Presupuesto/Contabilidad/Tesoreria Categoria 4  para 3 usuarios","Saas","Prod","Servicio","Zonas (1,2,3)","Remoto","N/A","BPM-ERP-SA-01-04","Mensual",1300000,1,0,"COP"]
["Integrasoft SASSoftware IntegrasoftBPM-ERP-SA-01-03","BPM-ERP-SA-01-03Software Integrasoft",null,"Integrasoft SAS","BPM-ERP-SA-01-03","Software Integrasoft","Integrasoft SAS","COP","N/A","BPM.Gov* ERP-Presupuesto/Contabilidad/Tesoreria Categoria 3  para 3 usuarios","Saas","Prod","Servicio","Zonas (1,2,3)","Remoto","N/A","BPM-ERP-SA-01-03","Mensual",1480000,1,0,"COP"]
["Integrasoft SASSoftware IntegrasoftBPM-ERP-SA-01-02","BPM-ERP-SA-01-02Software Integrasoft",null,"Integrasoft SAS","BPM-ERP-SA-01-02","Software Integrasoft","Integrasoft SAS","COP","N/A","BPM.Gov* ERP-Presupuesto/Contabilidad/Tesoreria Categoria 2  para 3 usuarios","Saas","Prod","Servicio","Zonas (1,2,3)","Remoto","N/A","BPM-ERP-SA-01-02","Mensual",1750000,1,0,"COP"]
["Integrasoft SASSoftware IntegrasoftBPM-ERP-SA-01-01","BPM-ERP-SA-01-01Software Integrasoft",null,"Integrasoft SAS","BPM-ERP-SA-01-01","Software Integrasoft","Integrasoft SAS","COP","N/A","BPM.Gov* ERP-Presupuesto/Contabilidad/Tesoreria Categoria 1  para 3 usuarios","Saas","Prod","Servicio","Zonas (1,2,3)","Remoto","N/A","BPM-ERP-SA-01-01","Mensual",1850000,1,0,"COP"]
["Integrasoft SASSoftware IntegrasoftBPM-ERP-LC-01-07","BPM-ERP-LC-01-07Software Integrasoft",null,"Integrasoft SAS","BPM-ERP-LC-01-07","Software Integrasoft","Integrasoft SAS","COP","N/A","BPM.Gov* ERP-Presupuesto/Contabilidad/Tesoreria adición paquete  3 usuarios","Licencia","Prod","Servicio","Zonas (1,2,3)","Remoto","N/A","BPM-ERP-LC-01-07","Contado",6750000,1,1,"COP"]
["Integrasoft SASSoftware IntegrasoftBPM-ERP-LC-01-06","BPM-ERP-LC-01-06Software Integrasoft",null,"Integrasoft SAS","BPM-ERP-LC-01-06","Software Integrasoft","Integrasoft SAS","COP","N/A","BPM.Gov* ERP-Presupuesto/Contabilidad/Tesoreria Categoria 6  para 3 usuarios","Licencia","Prod","Servicio","Zonas (1,2,3)","Remoto","N/A","BPM-ERP-LC-01-06","Contado",27150000,1,1,"COP"]
["Integrasoft SASSoftware IntegrasoftBPM-ERP-LC-01-05","BPM-ERP-LC-01-05Software Integrasoft",null,"Integrasoft SAS","BPM-ERP-LC-01-05","Software Integrasoft","Integrasoft SAS","COP","N/A","BPM.Gov* ERP-Presupuesto/Contabilidad/Tesoreria Categoria 5  para 3 usuarios","Licencia","Prod","Servicio","Zonas (1,2,3)","Remoto","N/A","BPM-ERP-LC-01-05","Contado",36600000,1,1,"COP"]
["Integrasoft SASSoftware IntegrasoftBPM-ERP-LC-01-04","BPM-ERP-LC-01-04Software Integrasoft",null,"Integrasoft SAS","BPM-ERP-LC-01-04","Software Integrasoft","Integrasoft SAS","COP","N/A","BPM.Gov* ERP-Presupuesto/Contabilidad/Tesoreria Categoria 4  para 3 usuarios","Licencia","Prod","Servicio","Zonas (1,2,3)","Remoto","N/A","BPM-ERP-LC-01-04","Contado",45900000,1,1,"COP"]
["Integrasoft SASSoftware IntegrasoftBPM-ERP-LC-01-03","BPM-ERP-LC-01-03Software Integrasoft",null,"Integrasoft SAS","BPM-ERP-LC-01-03","Software Integrasoft","Integrasoft SAS","COP","N/A","BPM.Gov* ERP-Presupuesto/Contabilidad/Tesoreria Categoria 3  para 3 usuarios","Licencia","Prod","Servicio","Zonas (1,2,3)","Remoto","N/A","BPM-ERP-LC-01-03","Contado",55150000,1,1,"COP"]
["Integrasoft SASSoftware IntegrasoftBPM-ERP-LC-01-02","BPM-ERP-LC-01-02Software Integrasoft",null,"Integrasoft SAS","BPM-ERP-LC-01-02","Software Integrasoft","Integrasoft SAS","COP","N/A","BPM.Gov* ERP-Presupuesto/Contabilidad/Tesoreria Categoria 2 para 3 usuarios","Licencia","Prod","Servicio","Zonas (1,2,3)","Remoto","N/A","BPM-ERP-LC-01-02","Contado",64150000,1,1,"COP"]
["Integrasoft SASSoftware IntegrasoftBPM-ERP-LC-01-01","BPM-ERP-LC-01-01Software Integrasoft",null,"Integrasoft SAS","BPM-ERP-LC-01-01","Software Integrasoft","Integrasoft SAS","COP","N/A","BPM.Gov* ERP-Presupuesto/Contabilidad/Tesoreria Categoria 1  para 3 usuarios","Licencia","Prod","Servicio","Zonas (1,2,3)","Remoto","N/A","BPM-ERP-LC-01-01","Contado",85000000,1,1,"COP"]
["Integrasoft SASSoftware IntegrasoftBPM-ERP-SA-02-06","BPM-ERP-SA-02-06Software Integrasoft",null,"Integrasoft SAS","BPM-ERP-SA-02-06","Software Integrasoft","Integrasoft SAS","COP","N/A","BPM.Gov* ERP-Inventarios/Activos fijos/ Orden de compra Categoria 6","Saas","Prod","Servicio","Zonas (1,2,3)","Remoto","N/A","BPM-ERP-SA-02-06","Mensual",850000,1,0,"COP"]
["Integrasoft SASSoftware IntegrasoftBPM-ERP-SA-02-05","BPM-ERP-SA-02-05Software Integrasoft",null,"Integrasoft SAS","BPM-ERP-SA-02-05","Software Integrasoft","Integrasoft SAS","COP","N/A","BPM.Gov* ERP-Inventarios/Activos fijos/ Orden de compra Categoria 5","Saas","Prod","Servicio","Zonas (1,2,3)","Remoto","N/A","BPM-ERP-SA-02-05","Mensual",1150000,1,0,"COP"]
["Integrasoft SASSoftware IntegrasoftBPM-ERP-SA-02-04","BPM-ERP-SA-02-04Software Integrasoft",null,"Integrasoft SAS","BPM-ERP-SA-02-04","Software Integrasoft","Integrasoft SAS","COP","N/A","BPM.Gov* ERP-Inventarios/Activos fijos/ Orden de compra Categoria 4","Saas","Prod","Servicio","Zonas (1,2,3)","Remoto","N/A","BPM-ERP-SA-02-04","Mensual",1350000,1,0,"COP"]
["Integrasoft SASSoftware IntegrasoftBPM-ERP-SA-02-03","BPM-ERP-SA-02-03Software Integrasoft",null,"Integrasoft SAS","BPM-ERP-SA-02-03","Software Integrasoft","Integrasoft SAS","COP","N/A","BPM.Gov* ERP-Inventarios/Activos fijos/ Orden de compra Categoria 3","Saas","Prod","Servicio","Zonas (1,2,3)","Remoto","N/A","BPM-ERP-SA-02-03","Mensual",1550000,1,0,"COP"]
["Integrasoft SASSoftware IntegrasoftBPM-ERP-SA-02-02","BPM-ERP-SA-02-02Software Integrasoft",null,"Integrasoft SAS","BPM-ERP-SA-02-02","Software Integrasoft","Integrasoft SAS","COP","N/A","BPM.Gov* ERP-Inventarios/Activos fijos/ Orden de compra Categoria 2","Saas","Prod","Servicio","Zonas (1,2,3)","Remoto","N/A","BPM-ERP-SA-02-02","Mensual",1850000,1,0,"COP"]
["Integrasoft SASSoftware IntegrasoftBPM-ERP-SA-02-01","BPM-ERP-SA-02-01Software Integrasoft",null,"Integrasoft SAS","BPM-ERP-SA-02-01","Software Integrasoft","Integrasoft SAS","COP","N/A","BPM.Gov* ERP-Inventarios/Activos fijos/ Orden de compra Categoria 1","Saas","Prod","Servicio","Zonas (1,2,3)","Remoto","N/A","BPM-ERP-SA-02-01","Mensual",2150000,1,0,"COP"]
["Integrasoft SASSoftware IntegrasoftBPM-ERP-LC-02-06","BPM-ERP-LC-02-06Software Integrasoft",null,"Integrasoft SAS","BPM-ERP-LC-02-06","Software Integrasoft","Integrasoft SAS","COP","N/A","BPM.Gov* ERP-Inventarios/Activos fijos/ Orden de compra Categoria 6","Licencia","Prod","Servicio","Zonas (1,2,3)","Remoto","N/A","BPM-ERP-LC-02-06","Contado",26150000,1,1,"COP"]
["Integrasoft SASSoftware IntegrasoftBPM-ERP-LC-02-05","BPM-ERP-LC-02-05Software Integrasoft",null,"Integrasoft SAS","BPM-ERP-LC-02-05","Software Integrasoft","Integrasoft SAS","COP","N/A","BPM.Gov* ERP-Inventarios/Activos fijos/ Orden de compra Categoria 5","Licencia","Prod","Servicio","Zonas (1,2,3)","Remoto","N/A","BPM-ERP-LC-02-05","Contado",37650000,1,1,"COP"]
["Integrasoft SASSoftware IntegrasoftBPM-ERP-LC-02-04","BPM-ERP-LC-02-04Software Integrasoft",null,"Integrasoft SAS","BPM-ERP-LC-02-04","Software Integrasoft","Integrasoft SAS","COP","N/A","BPM.Gov* ERP-Inventarios/Activos fijos/ Orden de compra Categoria 4","Licencia","Prod","Servicio","Zonas (1,2,3)","Remoto","N/A","BPM-ERP-LC-02-04","Contado",45950000,1,1,"COP"]
["Integrasoft SASSoftware IntegrasoftBPM-ERP-LC-02-03","BPM-ERP-LC-02-03Software Integrasoft",null,"Integrasoft SAS","BPM-ERP-LC-02-03","Software Integrasoft","Integrasoft SAS","COP","N/A","BPM.Gov* ERP-Inventarios/Activos fijos/ Orden de compra Categoria 3","Licencia","Prod","Servicio","Zonas (1,2,3)","Remoto","N/A","BPM-ERP-LC-02-03","Contado",55150000,1,1,"COP"]
["Integrasoft SASSoftware IntegrasoftBPM-ERP-LC-02-02","BPM-ERP-LC-02-02Software Integrasoft",null,"Integrasoft SAS","BPM-ERP-LC-02-02","Software Integrasoft","Integrasoft SAS","COP","N/A","BPM.Gov* ERP-Inventarios/Activos fijos/ Orden de compra Categoria 2","Licencia","Prod","Servicio","Zonas (1,2,3)","Remoto","N/A","BPM-ERP-LC-02-02","Contado",64150000,1,1,"COP"]
["Integrasoft SASSoftware IntegrasoftBPM-ERP-LC-02-01","BPM-ERP-LC-02-01Software Integrasoft",null,"Integrasoft SAS","BPM-ERP-LC-02-01","Software Integrasoft","Integrasoft SAS","COP","N/A","BPM.Gov* ERP-Inventarios/Activos fijos/ Orden de compra Categoria 1","Licencia","Prod","Servicio","Zonas (1,2,3)","Remoto","N/A","BPM-ERP-LC-02-01","Contado",84150000,1,1,"COP"]
["Integrasoft SASSoftware IntegrasoftBPM-ERP-SA-03-07","BPM-ERP-SA-03-07Software Integrasoft",null,"Integrasoft SAS","BPM-ERP-SA-03-07","Software Integrasoft","Integrasoft SAS","COP","N/A","BPM.Gov* ERP- Nomina/Recursos Humanos  Adición 50 empleados ","Saas","Prod","Servicio","Zonas (1,2,3)","Remoto","N/A","BPM-ERP-SA-03-07","Mensual",250000,1,0,"COP"]
["Integrasoft SASSoftware IntegrasoftBPM-ERP-SA-03-06","BPM-ERP-SA-03-06Software Integrasoft",null,"Integrasoft SAS","BPM-ERP-SA-03-06","Software Integrasoft","Integrasoft SAS","COP","N/A","BPM.Gov* ERP- Nomina/Recursos Humanos  Categoria 6 para 50 empleados ","Saas","Prod","Servicio","Zonas (1,2,3)","Remoto","N/A","BPM-ERP-SA-03-06","Mensual",850000,1,0,"COP"]
["Integrasoft SASSoftware IntegrasoftBPM-ERP-SA-03-05","BPM-ERP-SA-03-05Software Integrasoft",null,"Integrasoft SAS","BPM-ERP-SA-03-05","Software Integrasoft","Integrasoft SAS","COP","N/A","BPM.Gov* ERP- Nomina/Recursos Humanos  Categoria 5 para 50 empleados ","Saas","Prod","Servicio","Zonas (1,2,3)","Remoto","N/A","BPM-ERP-SA-03-05","Mensual",1150000,1,0,"COP"]
["Integrasoft SASSoftware IntegrasoftBPM-ERP-SA-03-04","BPM-ERP-SA-03-04Software Integrasoft",null,"Integrasoft SAS","BPM-ERP-SA-03-04","Software Integrasoft","Integrasoft SAS","COP","N/A","BPM.Gov* ERP- Nomina/Recursos Humanos  Categoria 4 para 50 empleados ","Saas","Prod","Servicio","Zonas (1,2,3)","Remoto","N/A","BPM-ERP-SA-03-04","Mensual",1350000,1,0,"COP"]
["Integrasoft SASSoftware IntegrasoftBPM-ERP-SA-03-03","BPM-ERP-SA-03-03Software Integrasoft",null,"Integrasoft SAS","BPM-ERP-SA-03-03","Software Integrasoft","Integrasoft SAS","COP","N/A","BPM.Gov* ERP- Nomina/Recursos Humanos  Categoria 3 para 50 empleados ","Saas","Prod","Servicio","Zonas (1,2,3)","Remoto","N/A","BPM-ERP-SA-03-03","Mensual",1450000,1,0,"COP"]
["Integrasoft SASSoftware IntegrasoftBPM-ERP-SA-03-02","BPM-ERP-SA-03-02Software Integrasoft",null,"Integrasoft SAS","BPM-ERP-SA-03-02","Software Integrasoft","Integrasoft SAS","COP","N/A","BPM.Gov* ERP- Nomina/Recursos Humanos  Categoria 2 para 100 empleados ","Saas","Prod","Servicio","Zonas (1,2,3)","Remoto","N/A","BPM-ERP-SA-03-02","Mensual",1750000,1,0,"COP"]
["Integrasoft SASSoftware IntegrasoftBPM-ERP-SA-03-01","BPM-ERP-SA-03-01Software Integrasoft",null,"Integrasoft SAS","BPM-ERP-SA-03-01","Software Integrasoft","Integrasoft SAS","COP","N/A","BPM.Gov* ERP- Nomina/Recursos Humanos  Categoria 1 para 100 empleados ","Saas","Prod","Servicio","Zonas (1,2,3)","Remoto","N/A","BPM-ERP-SA-03-01","Mensual",2150000,1,0,"COP"]
["Integrasoft SASSoftware IntegrasoftBPM-ERP-LC-03-07","BPM-ERP-LC-03-07Software Integrasoft",null,"Integrasoft SAS","BPM-ERP-LC-03-07","Software Integrasoft","Integrasoft SAS","COP","N/A","BPM.Gov* ERP- Nomina/Recursos Humanos  Adición 50 empleados ","Licencia","Prod","Servicio","Zonas (1,2,3)","Remoto","N/A","BPM-ERP-LC-03-07","Contado",10500000,1,1,"COP"]
["Integrasoft SASSoftware IntegrasoftBPM-ERP-LC-03-06","BPM-ERP-LC-03-06Software Integrasoft",null,"Integrasoft SAS","BPM-ERP-LC-03-06","Software Integrasoft","Integrasoft SAS","COP","N/A","BPM.Gov* ERP- Nomina/Recursos Humanos  Categoria 6  para 50 empleados ","Licencia","Prod","Servicio","Zonas (1,2,3)","Remoto","N/A","BPM-ERP-LC-03-06","Contado",21182000,1,1,"COP"]
["Integrasoft SASSoftware IntegrasoftBPM-ERP-LC-03-05","BPM-ERP-LC-03-05Software Integrasoft",null,"Integrasoft SAS","BPM-ERP-LC-03-05","Software Integrasoft","Integrasoft SAS","COP","N/A","BPM.Gov* ERP- Nomina/Recursos Humanos  Categoria 5 para 50 empleados ","Licencia","Prod","Servicio","Zonas (1,2,3)","Remoto","N/A","BPM-ERP-LC-03-05","Contado",36550000,1,1,"COP"]
["Integrasoft SASSoftware IntegrasoftBPM-ERP-LC-03-04","BPM-ERP-LC-03-04Software Integrasoft",null,"Integrasoft SAS","BPM-ERP-LC-03-04","Software Integrasoft","Integrasoft SAS","COP","N/A","BPM.Gov* ERP- Nomina/Recursos Humanos  Categoria 4 para 50 empleados ","Licencia","Prod","Servicio","Zonas (1,2,3)","Remoto","N/A","BPM-ERP-LC-03-04","Contado",44950000,1,1,"COP"]
["Integrasoft SASSoftware IntegrasoftBPM-ERP-LC-03-03","BPM-ERP-LC-03-03Software Integrasoft",null,"Integrasoft SAS","BPM-ERP-LC-03-03","Software Integrasoft","Integrasoft SAS","COP","N/A","BPM.Gov* ERP- Nomina/Recursos Humanos  Categoria 3 para 50 empleados ","Licencia","Prod","Servicio","Zonas (1,2,3)","Remoto","N/A","BPM-ERP-LC-03-03","Contado",53750000,1,1,"COP"]
["Integrasoft SASSoftware IntegrasoftBPM-ERP-LC-03-02","BPM-ERP-LC-03-02Software Integrasoft",null,"Integrasoft SAS","BPM-ERP-LC-03-02","Software Integrasoft","Integrasoft SAS","COP","N/A","BPM.Gov* ERP- Nomina/Recursos Humanos  Categoria 2 para 100 empleados ","Licencia","Prod","Servicio","Zonas (1,2,3)","Remoto","N/A","BPM-ERP-LC-03-02","Contado",62150000,1,1,"COP"]
["Integrasoft SASSoftware IntegrasoftBPM-ERP-LC-03-01","BPM-ERP-LC-03-01Software Integrasoft",null,"Integrasoft SAS","BPM-ERP-LC-03-01","Software Integrasoft","Integrasoft SAS","COP","N/A","BPM.Gov* ERP- Nomina/Recursos Humanos  Categoria 1 para 100 empleados ","Licencia","Prod","Servicio","Zonas (1,2,3)","Remoto","N/A","BPM-ERP-LC-03-01","Contado",81650000,1,1,"COP"]
["Integrasoft SASSoftware IntegrasoftBPM-ERP-SA-04-06","BPM-ERP-SA-04-06Software Integrasoft",null,"Integrasoft SAS","BPM-ERP-SA-04-06","Software Integrasoft","Integrasoft SAS","COP","N/A","BPM.Gov* ERP-Contratos/ Planeación Categoria 6","Saas","Prod","Servicio","Zonas (1,2,3)","Remoto","N/A","BPM-ERP-SA-04-06","Mensual",650000,1,0,"COP"]
["Integrasoft SASSoftware IntegrasoftBPM-ERP-SA-04-05","BPM-ERP-SA-04-05Software Integrasoft",null,"Integrasoft SAS","BPM-ERP-SA-04-05","Software Integrasoft","Integrasoft SAS","COP","N/A","BPM.Gov* ERP-Contratos/ Planeación Categoria 5","Saas","Prod","Servicio","Zonas (1,2,3)","Remoto","N/A","BPM-ERP-SA-04-05","Mensual",850000,1,0,"COP"]
["Integrasoft SASSoftware IntegrasoftBPM-ERP-SA-04-04","BPM-ERP-SA-04-04Software Integrasoft",null,"Integrasoft SAS","BPM-ERP-SA-04-04","Software Integrasoft","Integrasoft SAS","COP","N/A","BPM.Gov* ERP-Contratos/ Planeación Categoria 4","Saas","Prod","Servicio","Zonas (1,2,3)","Remoto","N/A","BPM-ERP-SA-04-04","Mensual",950000,1,0,"COP"]
["Integrasoft SASSoftware IntegrasoftBPM-ERP-SA-04-03","BPM-ERP-SA-04-03Software Integrasoft",null,"Integrasoft SAS","BPM-ERP-SA-04-03","Software Integrasoft","Integrasoft SAS","COP","N/A","BPM.Gov* ERP-Contratos/ Planeación Categoria 3","Saas","Prod","Servicio","Zonas (1,2,3)","Remoto","N/A","BPM-ERP-SA-04-03","Mensual",1100000,1,0,"COP"]
["Integrasoft SASSoftware IntegrasoftBPM-ERP-SA-04-02","BPM-ERP-SA-04-02Software Integrasoft",null,"Integrasoft SAS","BPM-ERP-SA-04-02","Software Integrasoft","Integrasoft SAS","COP","N/A","BPM.Gov* ERP-Contratos/ Planeación Categoria 2","Saas","Prod","Servicio","Zonas (1,2,3)","Remoto","N/A","BPM-ERP-SA-04-02","Mensual",1250000,1,0,"COP"]
["Integrasoft SASSoftware IntegrasoftBPM-ERP-SA-04-01","BPM-ERP-SA-04-01Software Integrasoft",null,"Integrasoft SAS","BPM-ERP-SA-04-01","Software Integrasoft","Integrasoft SAS","COP","N/A","BPM.Gov* ERP-Contratos/ Planeación Categoria 1","Saas","Prod","Servicio","Zonas (1,2,3)","Remoto","N/A","BPM-ERP-SA-04-01","Mensual",1600000,1,0,"COP"]
["Integrasoft SASSoftware IntegrasoftBPM-ERP-LC-04-06","BPM-ERP-LC-04-06Software Integrasoft",null,"Integrasoft SAS","BPM-ERP-LC-04-06","Software Integrasoft","Integrasoft SAS","COP","N/A","BPM.Gov* ERP-Contratos/ Planeación Categoria 6","Licencia","Prod","Servicio","Zonas (1,2,3)","Remoto","N/A","BPM-ERP-LC-04-06","Contado",17750000,1,1,"COP"]
["Integrasoft SASSoftware IntegrasoftBPM-ERP-LC-04-05","BPM-ERP-LC-04-05Software Integrasoft",null,"Integrasoft SAS","BPM-ERP-LC-04-05","Software Integrasoft","Integrasoft SAS","COP","N/A","BPM.Gov* ERP-Contratos/ Planeación Categoria 5","Licencia","Prod","Servicio","Zonas (1,2,3)","Remoto","N/A","BPM-ERP-LC-04-05","Contado",24750000,1,1,"COP"]
["Integrasoft SASSoftware IntegrasoftBPM-ERP-LC-04-04","BPM-ERP-LC-04-04Software Integrasoft",null,"Integrasoft SAS","BPM-ERP-LC-04-04","Software Integrasoft","Integrasoft SAS","COP","N/A","BPM.Gov* ERP-Contratos/ Planeación Categoria 4","Licencia","Prod","Servicio","Zonas (1,2,3)","Remoto","N/A","BPM-ERP-LC-04-04","Contado",29500000,1,1,"COP"]
["Integrasoft SASSoftware IntegrasoftBPM-ERP-LC-04-03","BPM-ERP-LC-04-03Software Integrasoft",null,"Integrasoft SAS","BPM-ERP-LC-04-03","Software Integrasoft","Integrasoft SAS","COP","N/A","BPM.Gov* ERP-Contratos/ Planeación Categoria 3","Licencia","Prod","Servicio","Zonas (1,2,3)","Remoto","N/A","BPM-ERP-LC-04-03","Contado",31950000,1,1,"COP"]
["Integrasoft SASSoftware IntegrasoftBPM-ERP-LC-04-02","BPM-ERP-LC-04-02Software Integrasoft",null,"Integrasoft SAS","BPM-ERP-LC-04-02","Software Integrasoft","Integrasoft SAS","COP","N/A","BPM.Gov* ERP-Contratos/ Planeación Categoria 2","Licencia","Prod","Servicio","Zonas (1,2,3)","Remoto","N/A","BPM-ERP-LC-04-02","Contado",40850000,1,1,"COP"]
["Integrasoft SASSoftware IntegrasoftBPM-ERP-LC-04-01","BPM-ERP-LC-04-01Software Integrasoft",null,"Integrasoft SAS","BPM-ERP-LC-04-01","Software Integrasoft","Integrasoft SAS","COP","N/A","BPM.Gov* ERP-Contratos/ Planeación Categoria 1","Licencia","Prod","Servicio","Zonas (1,2,3)","Remoto","N/A","BPM-ERP-LC-04-01","Contado",60550000,1,1,"COP"]
["Integrasoft SASSoftware IntegrasoftBPM-IMP-SA-01-06","BPM-IMP-SA-01-06Software Integrasoft",null,"Integrasoft SAS","BPM-IMP-SA-01-06","Software Integrasoft","Integrasoft SAS","COP","N/A","Modulo Impuestos-Predial.Net/Cobro coactivo. Persuasivo Categoria 6","Saas","Prod","Servicio","Zonas (1,2,3)","Remoto","N/A","BPM-IMP-SA-01-06","Mensual",1850000,1,0,"COP"]
["Integrasoft SASSoftware IntegrasoftBPM-IMP-SA-01-05","BPM-IMP-SA-01-05Software Integrasoft",null,"Integrasoft SAS","BPM-IMP-SA-01-05","Software Integrasoft","Integrasoft SAS","COP","N/A","Modulo Impuestos-Predial.Net/Cobro coactivo. Persuasivo Categoria 5","Saas","Prod","Servicio","Zonas (1,2,3)","Remoto","N/A","BPM-IMP-SA-01-05","Mensual",3150000,1,0,"COP"]
["Integrasoft SASSoftware IntegrasoftBPM-IMP-SA-01-04","BPM-IMP-SA-01-04Software Integrasoft",null,"Integrasoft SAS","BPM-IMP-SA-01-04","Software Integrasoft","Integrasoft SAS","COP","N/A","Modulo Impuestos-Predial.Net/Cobro coactivo. Persuasivo Categoria 4","Saas","Prod","Servicio","Zonas (1,2,3)","Remoto","N/A","BPM-IMP-SA-01-04","Mensual",4280000,1,0,"COP"]
["Integrasoft SASSoftware IntegrasoftBPM-IMP-SA-01-03","BPM-IMP-SA-01-03Software Integrasoft",null,"Integrasoft SAS","BPM-IMP-SA-01-03","Software Integrasoft","Integrasoft SAS","COP","N/A","Modulo Impuestos-Predial.Net/Cobro coactivo. Persuasivo Categoria 3","Saas","Prod","Servicio","Zonas (1,2,3)","Remoto","N/A","BPM-IMP-SA-01-03","Mensual",6200000,1,0,"COP"]
["Integrasoft SASSoftware IntegrasoftBPM-IMP-SA-01-02","BPM-IMP-SA-01-02Software Integrasoft",null,"Integrasoft SAS","BPM-IMP-SA-01-02","Software Integrasoft","Integrasoft SAS","COP","N/A","Modulo Impuestos-Predial.Net/Cobro coactivo. Persuasivo Categoria 2","Saas","Prod","Servicio","Zonas (1,2,3)","Remoto","N/A","BPM-IMP-SA-01-02","Mensual",6450000,1,0,"COP"]
["Integrasoft SASSoftware IntegrasoftBPM-IMP-SA-01-01","BPM-IMP-SA-01-01Software Integrasoft",null,"Integrasoft SAS","BPM-IMP-SA-01-01","Software Integrasoft","Integrasoft SAS","COP","N/A","Modulo Impuestos-Predial.Net/Cobro coactivo. Persuasivo Categoria 1","Saas","Prod","Servicio","Zonas (1,2,3)","Remoto","N/A","BPM-IMP-SA-01-01","Mensual",6800000,1,0,"COP"]
["Integrasoft SASSoftware IntegrasoftBPM-IMP-LC-01-06","BPM-IMP-LC-01-06Software Integrasoft",null,"Integrasoft SAS","BPM-IMP-LC-01-06","Software Integrasoft","Integrasoft SAS","COP","N/A","Modulo Impuestos-Predial.Net/Cobro coactivo. Persuasivo Categoria 6","Licencia","Prod","Servicio","Zonas (1,2,3)","Remoto","N/A","BPM-IMP-LC-01-06","Contado",58400000,1,1,"COP"]
["Integrasoft SASSoftware IntegrasoftBPM-IMP-LC-01-05","BPM-IMP-LC-01-05Software Integrasoft",null,"Integrasoft SAS","BPM-IMP-LC-01-05","Software Integrasoft","Integrasoft SAS","COP","N/A","Modulo Impuestos-Predial.Net/Cobro coactivo. Persuasivo Categoria 5","Licencia","Prod","Servicio","Zonas (1,2,3)","Remoto","N/A","BPM-IMP-LC-01-05","Contado",111700000,1,1,"COP"]
["Integrasoft SASSoftware IntegrasoftBPM-IMP-LC-01-04","BPM-IMP-LC-01-04Software Integrasoft",null,"Integrasoft SAS","BPM-IMP-LC-01-04","Software Integrasoft","Integrasoft SAS","COP","N/A","Modulo Impuestos-Predial.Net/Cobro coactivo. Persuasivo Categoria 4","Licencia","Prod","Servicio","Zonas (1,2,3)","Remoto","N/A","BPM-IMP-LC-01-04","Contado",148200000,1,1,"COP"]
[{"$f":"D865&F865&E865","v":"Integrasoft SASSoftware IntegrasoftBPM-IMP-LC-01-03"},{"$f":"E865&F865","v":"BPM-IMP-LC-01-03Software Integrasoft"},null,"Integrasoft SAS","BPM-IMP-LC-01-03","Software Integrasoft",{"$f":"D865","v":"Integrasoft SAS"},"COP","N/A","Modulo Impuestos-Predial.Net/Cobro coactivo. Persuasivo Categoria 3","Licencia","Prod","Servicio","Zonas (1,2,3)","Remoto","N/A",{"$f":"+E865","v":"BPM-IMP-LC-01-03"},"Contado",230750000,1,1,"COP"]
["Integrasoft SASSoftware IntegrasoftBPM-IMP-LC-01-02","BPM-IMP-LC-01-02Software Integrasoft",null,"Integrasoft SAS","BPM-IMP-LC-01-02","Software Integrasoft","Integrasoft SAS","COP","N/A","Modulo Impuestos-Predial.Net/Cobro coactivo. Persuasivo Categoria 2","Licencia","Prod","Servicio","Zonas (1,2,3)","Remoto","N/A","BPM-IMP-LC-01-02","Contado",240000000,1,1,"COP"]
["Integrasoft SASSoftware IntegrasoftBPM-IMP-LC-01-01","BPM-IMP-LC-01-01Software Integrasoft",null,"Integrasoft SAS","BPM-IMP-LC-01-01","Software Integrasoft","Integrasoft SAS","COP","N/A","Modulo Impuestos-Predial.Net/Cobro coactivo. Persuasivo Categoria 1","Licencia","Prod","Servicio","Zonas (1,2,3)","Remoto","N/A","BPM-IMP-LC-01-01","Contado",260000000,1,1,"COP"]
["Integrasoft SASSoftware IntegrasoftBPM-IMP-SA-02-06","BPM-IMP-SA-02-06Software Integrasoft",null,"Integrasoft SAS","BPM-IMP-SA-02-06","Software Integrasoft","Integrasoft SAS","COP","N/A","Modulo Impuestos-Ind Y Comercio.Net/Rete ICA/Cobro coactivo. Fiscalizacion Categoria 6","Saas","Prod","Servicio","Zonas (1,2,3)","Remoto","N/A","BPM-IMP-SA-02-06","Mensual",2600000,1,0,"COP"]
["Integrasoft SASSoftware IntegrasoftBPM-IMP-SA-02-05","BPM-IMP-SA-02-05Software Integrasoft",null,"Integrasoft SAS","BPM-IMP-SA-02-05","Software Integrasoft","Integrasoft SAS","COP","N/A","Modulo Impuestos-Ind Y Comercio.Net/Rete ICA/Cobro coactivo. Fiscalizacion Categoria 5","Saas","Prod","Servicio","Zonas (1,2,3)","Remoto","N/A","BPM-IMP-SA-02-05","Mensual",4400000,1,0,"COP"]
["Integrasoft SASSoftware IntegrasoftBPM-IMP-SA-02-04","BPM-IMP-SA-02-04Software Integrasoft",null,"Integrasoft SAS","BPM-IMP-SA-02-04","Software Integrasoft","Integrasoft SAS","COP","N/A","Modulo Impuestos-Ind Y Comercio.Net/Rete ICA/Cobro coactivo. Fiscalizacion Categoria 4","Saas","Prod","Servicio","Zonas (1,2,3)","Remoto","N/A","BPM-IMP-SA-02-04","Mensual",5980000,1,0,"COP"]
["Integrasoft SASSoftware IntegrasoftBPM-IMP-SA-02-03","BPM-IMP-SA-02-03Software Integrasoft",null,"Integrasoft SAS","BPM-IMP-SA-02-03","Software Integrasoft","Integrasoft SAS","COP","N/A","Modulo Impuestos-Ind Y Comercio.Net/Rete ICA/Cobro coactivo. Fiscalizacion Categoria 3","Saas","Prod","Servicio","Zonas (1,2,3)","Remoto","N/A","BPM-IMP-SA-02-03","Mensual",8850000,1,0,"COP"]
["Integrasoft SASSoftware IntegrasoftBPM-IMP-SA-02-02","BPM-IMP-SA-02-02Software Integrasoft",null,"Integrasoft SAS","BPM-IMP-SA-02-02","Software Integrasoft","Integrasoft SAS","COP","N/A","Modulo Impuestos-Ind Y Comercio.Net/Rete ICA/Cobro coactivo. Fiscalizacion Categoria 2","Saas","Prod","Servicio","Zonas (1,2,3)","Remoto","N/A","BPM-IMP-SA-02-02","Mensual",9100000,1,0,"COP"]
["Integrasoft SASSoftware IntegrasoftBPM-IMP-SA-02-01","BPM-IMP-SA-02-01Software Integrasoft",null,"Integrasoft SAS","BPM-IMP-SA-02-01","Software Integrasoft","Integrasoft SAS","COP","N/A","Modulo Impuestos-Ind Y Comercio.Net/Rete ICA/Cobro coactivo. Fiscalizacion Categoria 1","Saas","Prod","Servicio","Zonas (1,2,3)","Remoto","N/A","BPM-IMP-SA-02-01","Mensual",9650000,1,0,"COP"]
["Integrasoft SASSoftware IntegrasoftBPM-IMP-LC-02-06","BPM-IMP-LC-02-06Software Integrasoft",null,"Integrasoft SAS","BPM-IMP-LC-02-06","Software Integrasoft","Integrasoft SAS","COP","N/A","Modulo Impuestos-Ind Y Comercio.Net/Rete ICA/Cobro coactivo. Fiscalizacion Categoria 6","Licencia","Prod","Servicio","Zonas (1,2,3)","Remoto","N/A","BPM-IMP-LC-02-06","Contado",85530000,1,1,"COP"]
["Integrasoft SASSoftware IntegrasoftBPM-IMP-LC-02-05","BPM-IMP-LC-02-05Software Integrasoft",null,"Integrasoft SAS","BPM-IMP-LC-02-05","Software Integrasoft","Integrasoft SAS","COP","N/A","Modulo Impuestos-Ind Y Comercio.Net/Rete ICA/Cobro coactivo. Fiscalizacion Categoria 5","Licencia","Prod","Servicio","Zonas (1,2,3)","Remoto","N/A","BPM-IMP-LC-02-05","Contado",160000000,1,1,"COP"]
["Integrasoft SASSoftware IntegrasoftBPM-IMP-LC-02-04","BPM-IMP-LC-02-04Software Integrasoft",null,"Integrasoft SAS","BPM-IMP-LC-02-04","Software Integrasoft","Integrasoft SAS","COP","N/A","Modulo Impuestos-Ind Y Comercio.Net/Rete ICA/Cobro coactivo. Fiscalizacion Categoria 4","Licencia","Prod","Servicio","Zonas (1,2,3)","Remoto","N/A","BPM-IMP-LC-02-04","Contado",210000000,1,1,"COP"]
["Integrasoft SASSoftware IntegrasoftBPM-IMP-LC-02-03","BPM-IMP-LC-02-03Software Integrasoft",null,"Integrasoft SAS","BPM-IMP-LC-02-03","Software Integrasoft","Integrasoft SAS","COP","N/A","Modulo Impuestos-Ind Y Comercio.Net/Rete ICA/Cobro coactivo. Fiscalizacion Categoria 3","Licencia","Prod","Servicio","Zonas (1,2,3)","Remoto","N/A","BPM-IMP-LC-02-03","Contado",334000000,1,1,"COP"]
["Integrasoft SASSoftware IntegrasoftBPM-IMP-LC-02-02","BPM-IMP-LC-02-02Software Integrasoft",null,"Integrasoft SAS","BPM-IMP-LC-02-02","Software Integrasoft","Integrasoft SAS","COP","N/A","Modulo Impuestos-Ind Y Comercio.Net/Rete ICA/Cobro coactivo. Fiscalizacion Categoria 2","Licencia","Prod","Servicio","Zonas (1,2,3)","Remoto","N/A","BPM-IMP-LC-02-02","Contado",342000000,1,1,"COP"]
["Integrasoft SASSoftware IntegrasoftBPM-IMP-LC-02-01","BPM-IMP-LC-02-01Software Integrasoft",null,"Integrasoft SAS","BPM-IMP-LC-02-01","Software Integrasoft","Integrasoft SAS","COP","N/A","Modulo Impuestos-Ind Y Comercio.Net/Rete ICA/Cobro coactivo. Fiscalizacion Categoria 1","Licencia","Prod","Servicio","Zonas (1,2,3)","Remoto","N/A","BPM-IMP-LC-02-01","Contado",362000000,1,1,"COP"]
["Integrasoft SASSoftware IntegrasoftBPM-IMP-SA-03-06","BPM-IMP-SA-03-06Software Integrasoft",null,"Integrasoft SAS","BPM-IMP-SA-03-06","Software Integrasoft","Integrasoft SAS","COP","N/A","Modulo Impuestos-Portal contribuyente/Pasarela de pagos Categoria 6","Saas","Prod","Servicio","Zonas (1,2,3)","Remoto","N/A","BPM-IMP-SA-03-06","Mensual",770000,1,0,"COP"]
["Integrasoft SASSoftware IntegrasoftBPM-IMP-SA-03-05","BPM-IMP-SA-03-05Software Integrasoft",null,"Integrasoft SAS","BPM-IMP-SA-03-05","Software Integrasoft","Integrasoft SAS","COP","N/A","Modulo Impuestos-Portal contribuyente/Pasarela de pagos Categoria 5","Saas","Prod","Servicio","Zonas (1,2,3)","Remoto","N/A","BPM-IMP-SA-03-05","Mensual",1350000,1,0,"COP"]
["Integrasoft SASSoftware IntegrasoftBPM-IMP-SA-03-04","BPM-IMP-SA-03-04Software Integrasoft",null,"Integrasoft SAS","BPM-IMP-SA-03-04","Software Integrasoft","Integrasoft SAS","COP","N/A","Modulo Impuestos-Portal contribuyente/Pasarela de pagos Categoria 4","Saas","Prod","Servicio","Zonas (1,2,3)","Remoto","N/A","BPM-IMP-SA-03-04","Mensual",1890000,1,0,"COP"]
["Integrasoft SASSoftware IntegrasoftBPM-IMP-SA-03-03","BPM-IMP-SA-03-03Software Integrasoft",null,"Integrasoft SAS","BPM-IMP-SA-03-03","Software Integrasoft","Integrasoft SAS","COP","N/A","Modulo Impuestos-Portal contribuyente/Pasarela de pagos Categoria 3","Saas","Prod","Servicio","Zonas (1,2,3)","Remoto","N/A","BPM-IMP-SA-03-03","Mensual",2450000,1,0,"COP"]
["Integrasoft SASSoftware IntegrasoftBPM-IMP-SA-03-02","BPM-IMP-SA-03-02Software Integrasoft",null,"Integrasoft SAS","BPM-IMP-SA-03-02","Software Integrasoft","Integrasoft SAS","COP","N/A","Modulo Impuestos-Portal contribuyente/Pasarela de pagos Categoria 2","Saas","Prod","Servicio","Zonas (1,2,3)","Remoto","N/A","BPM-IMP-SA-03-02","Mensual",2750000,1,0,"COP"]
["Integrasoft SASSoftware IntegrasoftBPM-IMP-SA-03-01","BPM-IMP-SA-03-01Software Integrasoft",null,"Integrasoft SAS","BPM-IMP-SA-03-01","Software Integrasoft","Integrasoft SAS","COP","N/A","Modulo Impuestos-Portal contribuyente/Pasarela de pagos Categoria 1","Saas","Prod","Servicio","Zonas (1,2,3)","Remoto","N/A","BPM-IMP-SA-03-01","Mensual",3100000,1,0,"COP"]
["Integrasoft SASSoftware IntegrasoftBPM-IMP-LC-03-06","BPM-IMP-LC-03-06Software Integrasoft",null,"Integrasoft SAS","BPM-IMP-LC-03-06","Software Integrasoft","Integrasoft SAS","COP","N/A","Modulo Impuestos-Portal contribuyente/Pasarela de pagos Categoria 6","Licencia","Prod","Servicio","Zonas (1,2,3)","Remoto","N/A","BPM-IMP-LC-03-06","Contado",16700000,1,1,"COP"]
["Integrasoft SASSoftware IntegrasoftBPM-IMP-LC-03-05","BPM-IMP-LC-03-05Software Integrasoft",null,"Integrasoft SAS","BPM-IMP-LC-03-05","Software Integrasoft","Integrasoft SAS","COP","N/A","Modulo Impuestos-Portal contribuyente/Pasarela de pagos Categoria 5","Licencia","Prod","Servicio","Zonas (1,2,3)","Remoto","N/A","BPM-IMP-LC-03-05","Contado",40150000,1,1,"COP"]
["Integrasoft SASSoftware IntegrasoftBPM-IMP-LC-03-04","BPM-IMP-LC-03-04Software Integrasoft",null,"Integrasoft SAS","BPM-IMP-LC-03-04","Software Integrasoft","Integrasoft SAS","COP","N/A","Modulo Impuestos-Portal contribuyente/Pasarela de pagos Categoria 4","Licencia","Prod","Servicio","Zonas (1,2,3)","Remoto","N/A","BPM-IMP-LC-03-04","Contado",55100000,1,1,"COP"]
["Integrasoft SASSoftware IntegrasoftBPM-IMP-LC-03-03","BPM-IMP-LC-03-03Software Integrasoft",null,"Integrasoft SAS","BPM-IMP-LC-03-03","Software Integrasoft","Integrasoft SAS","COP","N/A","Modulo Impuestos-Portal contribuyente/Pasarela de pagos Categoria 3","Licencia","Prod","Servicio","Zonas (1,2,3)","Remoto","N/A","BPM-IMP-LC-03-03","Contado",80500000,1,1,"COP"]
["Integrasoft SASSoftware IntegrasoftBPM-IMP-LC-03-02","BPM-IMP-LC-03-02Software Integrasoft",null,"Integrasoft SAS","BPM-IMP-LC-03-02","Software Integrasoft","Integrasoft SAS","COP","N/A","Modulo Impuestos-Portal contribuyente/Pasarela de pagos Categoria 2","Licencia","Prod","Servicio","Zonas (1,2,3)","Remoto","N/A","BPM-IMP-LC-03-02","Contado",89500000,1,1,"COP"]
["Integrasoft SASSoftware IntegrasoftBPM-IMP-LC-03-01","BPM-IMP-LC-03-01Software Integrasoft",null,"Integrasoft SAS","BPM-IMP-LC-03-01","Software Integrasoft","Integrasoft SAS","COP","N/A","Modulo Impuestos-Portal contribuyente/Pasarela de pagos Categoria 1","Licencia","Prod","Servicio","Zonas (1,2,3)","Remoto","N/A","BPM-IMP-LC-03-01","Contado",109100000,1,1,"COP"]
["Integrasoft SASSoftware IntegrasoftBPM-IMP-LC-04","BPM-IMP-LC-04Software Integrasoft",null,"Integrasoft SAS","BPM-IMP-LC-04","Software Integrasoft","Integrasoft SAS","COP","N/A","Modulo Impuestos-Impomotor.Net/Cobro coactivo. Persuasivo","Licencia","Prod","Servicio","Zonas (1,2,3)","Remoto","N/A","BPM-IMP-LC-04","Contado",250000000,1,1,"COP"]
["Integrasoft SASSoftware IntegrasoftBPM-IMP-LC-05","BPM-IMP-LC-05Software Integrasoft",null,"Integrasoft SAS","BPM-IMP-LC-05","Software Integrasoft","Integrasoft SAS","COP","N/A","Modulo Impuestos-Imporegistro.Net/Cobro coactivo. Persuasivo","Licencia","Prod","Servicio","Zonas (1,2,3)","Remoto","N/A","BPM-IMP-LC-05","Contado",120000000,1,1,"COP"]
["Integrasoft SASSoftware IntegrasoftBPM-IMP-LC-06","BPM-IMP-LC-06Software Integrasoft",null,"Integrasoft SAS","BPM-IMP-LC-06","Software Integrasoft","Integrasoft SAS","COP","N/A","Modulo Impuestos-Imporentas.Net/Cobro coactivo. Persuasivo/Estampilas","Licencia","Prod","Servicio","Zonas (1,2,3)","Remoto","N/A","BPM-IMP-LC-06","Contado",80000000,1,1,"COP"]
["Integrasoft SASSoftware IntegrasoftBPM-IMP-LC-07","BPM-IMP-LC-07Software Integrasoft",null,"Integrasoft SAS","BPM-IMP-LC-07","Software Integrasoft","Integrasoft SAS","COP","N/A","Modulo Impuestos-Imporentas.Net/Cobro coactivo. Persuasivo/Sobretasa al combustible","Licencia","Prod","Servicio","Zonas (1,2,3)","Remoto","N/A","BPM-IMP-LC-07","Contado",30000000,1,1,"COP"]
["Integrasoft SASSoftware IntegrasoftBPM-IMP-LC-08","BPM-IMP-LC-08Software Integrasoft",null,"Integrasoft SAS","BPM-IMP-LC-08","Software Integrasoft","Integrasoft SAS","COP","N/A","Modulo Impuestos-Imporentas.Net/Cobro coactivo. Persuasivo/Deguello ganado","Licencia","Prod","Servicio","Zonas (1,2,3)","Remoto","N/A","BPM-IMP-LC-08","Contado",20000000,1,1,"COP"]
["Integrasoft SASSoftware IntegrasoftBPM-IMP-SA-04","BPM-IMP-SA-04Software Integrasoft",null,"Integrasoft SAS","BPM-IMP-SA-04","Software Integrasoft","Integrasoft SAS","COP","N/A","Modulo Impuestos-Impomotor.Net/Cobro coactivo. Persuasivo","Saas","Prod","Servicio","Zonas (1,2,3)","Remoto","N/A","BPM-IMP-SA-04","Mensual",9800000,1,0,"COP"]
["Integrasoft SASSoftware IntegrasoftBPM-IMP-SA-05","BPM-IMP-SA-05Software Integrasoft",null,"Integrasoft SAS","BPM-IMP-SA-05","Software Integrasoft","Integrasoft SAS","COP","N/A","Modulo Impuestos-Imporegistro.Net/Cobro coactivo. Persuasivo","Saas","Prod","Servicio","Zonas (1,2,3)","Remoto","N/A","BPM-IMP-SA-05","Mensual",3700000,1,0,"COP"]
["Integrasoft SASSoftware IntegrasoftBPM-IMP-SA-06","BPM-IMP-SA-06Software Integrasoft",null,"Integrasoft SAS","BPM-IMP-SA-06","Software Integrasoft","Integrasoft SAS","COP","N/A","Modulo Impuestos-Imporentas.Net/Cobro coactivo. Persuasivo/Estampilas","Saas","Prod","Servicio","Zonas (1,2,3)","Remoto","N/A","BPM-IMP-SA-06","Mensual",2900000,1,0,"COP"]
["Integrasoft SASSoftware IntegrasoftBPM-IMP-SA-07","BPM-IMP-SA-07Software Integrasoft",null,"Integrasoft SAS","BPM-IMP-SA-07","Software Integrasoft","Integrasoft SAS","COP","N/A","Modulo Impuestos-Imporentas.Net/Cobro coactivo. Persuasivo/Sobretasa al combustible","Saas","Prod","Servicio","Zonas (1,2,3)","Remoto","N/A","BPM-IMP-SA-07","Mensual",1100000,1,0,"COP"]
["Integrasoft SASSoftware IntegrasoftBPM-IMP-SA-08","BPM-IMP-SA-08Software Integrasoft",null,"Integrasoft SAS","BPM-IMP-SA-08","Software Integrasoft","Integrasoft SAS","COP","N/A","Modulo Impuestos-Imporentas.Net/Cobro coactivo. Persuasivo/Deguello ganado","Saas","Prod","Servicio","Zonas (1,2,3)","Remoto","N/A","BPM-IMP-SA-08","Mensual",900000,1,0,"COP"]
["Integrasoft SASSoftware IntegrasoftBPM-GE-SA-10-11","BPM-GE-SA-10-11Software Integrasoft",null,"Integrasoft SAS","BPM-GE-SA-10-11","Software Integrasoft","Integrasoft SAS","COP","N/A","BPM.Gov Adición módulo de logística/productos","Saas","Prod","Servicio","Zonas (1,2,3)","Remoto","N/A","BPM-GE-SA-10-11","Mensual",450000,1,0,"COP"]
["Integrasoft SASSoftware IntegrasoftBPM-GE-SA-10-10","BPM-GE-SA-10-10Software Integrasoft",null,"Integrasoft SAS","BPM-GE-SA-10-10","Software Integrasoft","Integrasoft SAS","COP","N/A","BPM.Gov Adición módulo de planeación, proyectos, calendario.","Saas","Prod","Servicio","Zonas (1,2,3)","Remoto","N/A","BPM-GE-SA-10-10","Mensual",450000,1,0,"COP"]
["Integrasoft SASSoftware IntegrasoftBPM-GE-SA-10-09","BPM-GE-SA-10-09Software Integrasoft",null,"Integrasoft SAS","BPM-GE-SA-10-09","Software Integrasoft","Integrasoft SAS","COP","N/A","BPM.Gov Adición módulo alertas, messenger.","Saas","Prod","Servicio","Zonas (1,2,3)","Remoto","N/A","BPM-GE-SA-10-09","Mensual",150000,1,0,"COP"]
["Integrasoft SASSoftware IntegrasoftBPM-GE-SA-10-08","BPM-GE-SA-10-08Software Integrasoft",null,"Integrasoft SAS","BPM-GE-SA-10-08","Software Integrasoft","Integrasoft SAS","COP","N/A","BPM.Gov Paquete módulo 3 actividades ","Saas","Prod","Servicio","Zonas (1,2,3)","Remoto","N/A","BPM-GE-SA-10-08","Mensual",240000,1,0,"COP"]
["Integrasoft SASSoftware IntegrasoftBPM-GE-SA-10-07","BPM-GE-SA-10-07Software Integrasoft",null,"Integrasoft SAS","BPM-GE-SA-10-07","Software Integrasoft","Integrasoft SAS","COP","N/A","BPM.Gov Adición paquete de 5 usuarios ","Saas","Prod","Servicio","Zonas (1,2,3)","Remoto","N/A","BPM-GE-SA-10-07","Mensual",240000,1,0,"COP"]
["Integrasoft SASSoftware IntegrasoftBPM-GE-SA-10-06","BPM-GE-SA-10-06Software Integrasoft",null,"Integrasoft SAS","BPM-GE-SA-10-06","Software Integrasoft","Integrasoft SAS","COP","N/A","BPM.Gov Ventanilla unica/PQRs/Gestion documental/Radicacio web Categoria 6 para 5 usuarios","Saas","Prod","Servicio","Zonas (1,2,3)","Remoto","N/A","BPM-GE-SA-10-06","Mensual",580000,1,0,"COP"]
["Integrasoft SASSoftware IntegrasoftBPM-GE-SA-10-05","BPM-GE-SA-10-05Software Integrasoft",null,"Integrasoft SAS","BPM-GE-SA-10-05","Software Integrasoft","Integrasoft SAS","COP","N/A","BPM.Gov Ventanilla unica/PQRs/Gestion documental/Radicacio web Categoria 5 para 5 usuarios","Saas","Prod","Servicio","Zonas (1,2,3)","Remoto","N/A","BPM-GE-SA-10-05","Mensual",650000,1,0,"COP"]
["Integrasoft SASSoftware IntegrasoftBPM-GE-SA-10-04","BPM-GE-SA-10-04Software Integrasoft",null,"Integrasoft SAS","BPM-GE-SA-10-04","Software Integrasoft","Integrasoft SAS","COP","N/A","BPM.Gov Ventanilla unica/PQRs/Gestion documental/Radicacio web Categoria 4 para 5 usuarios","Saas","Prod","Servicio","Zonas (1,2,3)","Remoto","N/A","BPM-GE-SA-10-04","Mensual",850000,1,0,"COP"]
["Integrasoft SASSoftware IntegrasoftBPM-GE-SA-10-03","BPM-GE-SA-10-03Software Integrasoft",null,"Integrasoft SAS","BPM-GE-SA-10-03","Software Integrasoft","Integrasoft SAS","COP","N/A","BPM.Gov Ventanilla unica/PQRs/Gestion documental/Radicacio web Categoria 3 para 5 usuarios","Saas","Prod","Servicio","Zonas (1,2,3)","Remoto","N/A","BPM-GE-SA-10-03","Mensual",950000,1,0,"COP"]
["Integrasoft SASSoftware IntegrasoftBPM-GE-SA-10-02","BPM-GE-SA-10-02Software Integrasoft",null,"Integrasoft SAS","BPM-GE-SA-10-02","Software Integrasoft","Integrasoft SAS","COP","N/A","BPM.Gov Ventanilla unica/PQRs/Gestion documental/Radicacio web Categoria 2 para 5 usuarios","Saas","Prod","Servicio","Zonas (1,2,3)","Remoto","N/A","BPM-GE-SA-10-02","Mensual",1200000,1,0,"COP"]
["Integrasoft SASSoftware IntegrasoftBPM-GE-SA-10-01","BPM-GE-SA-10-01Software Integrasoft",null,"Integrasoft SAS","BPM-GE-SA-10-01","Software Integrasoft","Integrasoft SAS","COP","N/A","BPM.Gov Ventanilla unica/PQRs/Gestion documental/Radicacio web Categoria 1 para 5 usuarios","Saas","Prod","Servicio","Zonas (1,2,3)","Remoto","N/A","BPM-GE-SA-10-01","Mensual",1600000,1,0,"COP"]
["Integrasoft SASSoftware IntegrasoftBPM-GE-LC-10-11","BPM-GE-LC-10-11Software Integrasoft",null,"Integrasoft SAS","BPM-GE-LC-10-11","Software Integrasoft","Integrasoft SAS","COP","N/A","BPM.Gov Adición módulo de logística/productos","Licencia","Prod","Servicio","Zonas (1,2,3)","Remoto","N/A","BPM-GE-LC-10-11","Contado",8250000,1,1,"COP"]
["Integrasoft SASSoftware IntegrasoftBPM-GE-LC-10-10","BPM-GE-LC-10-10Software Integrasoft",null,"Integrasoft SAS","BPM-GE-LC-10-10","Software Integrasoft","Integrasoft SAS","COP","N/A","BPM.Gov Adición módulo de planeación, proyectos, calendario.","Licencia","Prod","Servicio","Zonas (1,2,3)","Remoto","N/A","BPM-GE-LC-10-10","Contado",8250000,1,1,"COP"]
["Integrasoft SASSoftware IntegrasoftBPM-GE-LC-10-09","BPM-GE-LC-10-09Software Integrasoft",null,"Integrasoft SAS","BPM-GE-LC-10-09","Software Integrasoft","Integrasoft SAS","COP","N/A","BPM.Gov Adición módulo alertas, messenger.","Licencia","Prod","Servicio","Zonas (1,2,3)","Remoto","N/A","BPM-GE-LC-10-09","Contado",2250000,1,1,"COP"]
["Integrasoft SASSoftware IntegrasoftBPM-GE-LC-10-08","BPM-GE-LC-10-08Software Integrasoft",null,"Integrasoft SAS","BPM-GE-LC-10-08","Software Integrasoft","Integrasoft SAS","COP","N/A","BPM.Gov Paquete módulo 3 actividades ","Licencia","Prod","Servicio","Zonas (1,2,3)","Remoto","N/A","BPM-GE-LC-10-08","Contado",8250000,1,1,"COP"]
["Integrasoft SASSoftware IntegrasoftBPM-GE-LC-10-07","BPM-GE-LC-10-07Software Integrasoft",null,"Integrasoft SAS","BPM-GE-LC-10-07","Software Integrasoft","Integrasoft SAS","COP","N/A","BPM.Gov Adición paquete de 5 usuarios ","Licencia","Prod","Servicio","Zonas (1,2,3)","Remoto","N/A","BPM-GE-LC-10-07","Contado",8250000,1,1,"COP"]
["Integrasoft SASSoftware IntegrasoftBPM-GE-LC-10-06","BPM-GE-LC-10-06Software Integrasoft",null,"Integrasoft SAS","BPM-GE-LC-10-06","Software Integrasoft","Integrasoft SAS","COP","N/A","BPM.Gov Ventanilla unica/PQRs/Gestion documental/Radicacio web Categoria 6 para 5 usuarios","Licencia","Prod","Servicio","Zonas (1,2,3)","Remoto","N/A","BPM-GE-LC-10-06","Contado",13300000,1,1,"COP"]
["Integrasoft SASSoftware IntegrasoftBPM-GE-LC-10-05","BPM-GE-LC-10-05Software Integrasoft",null,"Integrasoft SAS","BPM-GE-LC-10-05","Software Integrasoft","Integrasoft SAS","COP","N/A","BPM.Gov Ventanilla unica/PQRs/Gestion documental/Radicacio web Categoria 5 para 5 usuarios","Licencia","Prod","Servicio","Zonas (1,2,3)","Remoto","N/A","BPM-GE-LC-10-05","Contado",16150000,1,1,"COP"]
["Integrasoft SASSoftware IntegrasoftBPM-GE-LC-10-04","BPM-GE-LC-10-04Software Integrasoft",null,"Integrasoft SAS","BPM-GE-LC-10-04","Software Integrasoft","Integrasoft SAS","COP","N/A","BPM.Gov Ventanilla unica/PQRs/Gestion documental/Radicacio web Categoria 4 para 5 usuarios","Licencia","Prod","Servicio","Zonas (1,2,3)","Remoto","N/A","BPM-GE-LC-10-04","Contado",24500000,1,1,"COP"]
["Integrasoft SASSoftware IntegrasoftBPM-GE-LC-10-03","BPM-GE-LC-10-03Software Integrasoft",null,"Integrasoft SAS","BPM-GE-LC-10-03","Software Integrasoft","Integrasoft SAS","COP","N/A","BPM.Gov Ventanilla unica/PQRs/Gestion documental/Radicacio web Categoria 3 para 5 usuarios","Licencia","Prod","Servicio","Zonas (1,2,3)","Remoto","N/A","BPM-GE-LC-10-03","Contado",30500000,1,1,"COP"]
["Integrasoft SASSoftware IntegrasoftBPM-GE-LC-10-02","BPM-GE-LC-10-02Software Integrasoft",null,"Integrasoft SAS","BPM-GE-LC-10-02","Software Integrasoft","Integrasoft SAS","COP","N/A","BPM.Gov Ventanilla unica/PQRs/Gestion documental/Radicacio web Categoria 2 para 5 usuarios","Licencia","Prod","Servicio","Zonas (1,2,3)","Remoto","N/A","BPM-GE-LC-10-02","Contado",39300000,1,1,"COP"]
["Integrasoft SASSoftware IntegrasoftBPM-GE-LC-10-01","BPM-GE-LC-10-01Software Integrasoft",null,"Integrasoft SAS","BPM-GE-LC-10-01","Software Integrasoft","Integrasoft SAS","COP","N/A","BPM.Gov Ventanilla unica/PQRs/Gestion documental/Radicacio web Categoria 1 para 5 usuarios","Licencia","Prod","Servicio","Zonas (1,2,3)","Remoto","N/A","BPM-GE-LC-10-01","Contado",59000000,1,1,"COP"]
["Integrasoft SASSoftware IntegrasoftBPM-GE-SA-11-06","BPM-GE-SA-11-06Software Integrasoft",null,"Integrasoft SAS","BPM-GE-SA-11-06","Software Integrasoft","Integrasoft SAS","COP","N/A","BPM.Gov Contratacion/Calidad/Control interno/ Categoria 6 ","Saas","Prod","Servicio","Zonas (1,2,3)","Remoto","N/A","BPM-GE-SA-11-06","Mensual",750000,1,0,"COP"]
["Integrasoft SASSoftware IntegrasoftBPM-GE-SA-11-05","BPM-GE-SA-11-05Software Integrasoft",null,"Integrasoft SAS","BPM-GE-SA-11-05","Software Integrasoft","Integrasoft SAS","COP","N/A","BPM.Gov Contratacion/Calidad/Control interno/ Categoria 5","Saas","Prod","Servicio","Zonas (1,2,3)","Remoto","N/A","BPM-GE-SA-11-05","Mensual",820000,1,0,"COP"]
["Integrasoft SASSoftware IntegrasoftBPM-GE-SA-11-04","BPM-GE-SA-11-04Software Integrasoft",null,"Integrasoft SAS","BPM-GE-SA-11-04","Software Integrasoft","Integrasoft SAS","COP","N/A","BPM.Gov Contratacion/Calidad/Control interno/ Categoria 4","Saas","Prod","Servicio","Zonas (1,2,3)","Remoto","N/A","BPM-GE-SA-11-04","Mensual",1000000,1,0,"COP"]
["Integrasoft SASSoftware IntegrasoftBPM-GE-SA-11-03","BPM-GE-SA-11-03Software Integrasoft",null,"Integrasoft SAS","BPM-GE-SA-11-03","Software Integrasoft","Integrasoft SAS","COP","N/A","BPM.Gov Contratacion/Calidad/Control interno/ Categoria 3","Saas","Prod","Servicio","Zonas (1,2,3)","Remoto","N/A","BPM-GE-SA-11-03","Mensual",1150000,1,0,"COP"]
["Integrasoft SASSoftware IntegrasoftBPM-GE-SA-11-02","BPM-GE-SA-11-02Software Integrasoft",null,"Integrasoft SAS","BPM-GE-SA-11-02","Software Integrasoft","Integrasoft SAS","COP","N/A","BPM.Gov Contratacion/Calidad/Control interno/Categoria 2","Saas","Prod","Servicio","Zonas (1,2,3)","Remoto","N/A","BPM-GE-SA-11-02","Mensual",1380000,1,0,"COP"]
[{"$f":"D929&F929&E929","v":"Integrasoft SASSoftware IntegrasoftBPM-GE-SA-11-01"},{"$f":"E929&F929","v":"BPM-GE-SA-11-01Software Integrasoft"},null,"Integrasoft SAS","BPM-GE-SA-11-01","Software Integrasoft",{"$f":"D929","v":"Integrasoft SAS"},"COP","N/A","BPM.Gov Contratacion/Calidad/Control interno/ Categoria 1","Saas","Prod","Servicio","Zonas (1,2,3)","Remoto","N/A",{"$f":"+E929","v":"BPM-GE-SA-11-01"},"Mensual",1750000,1,0,"COP"]
["Integrasoft SASSoftware IntegrasoftBPM-GE-SA-12-06","BPM-GE-SA-12-06Software Integrasoft",null,"Integrasoft SAS","BPM-GE-SA-12-06","Software Integrasoft","Integrasoft SAS","COP","N/A","BPM.Gov Tramites web Ciudadano/Contribuyente/Liquidador otras rentas Categoria 6","Saas","Prod","Servicio","Zonas (1,2,3)","Remoto","N/A","BPM-GE-SA-12-06","Contado",13300000,1,1,"COP"]
["Integrasoft SASSoftware IntegrasoftBPM-GE-SA-12-05","BPM-GE-SA-12-05Software Integrasoft",null,"Integrasoft SAS","BPM-GE-SA-12-05","Software Integrasoft","Integrasoft SAS","COP","N/A","BPM.Gov Tramites web Ciudadano/Contribuyente/Liquidador otras rentas Categoria 5","Saas","Prod","Servicio","Zonas (1,2,3)","Remoto","N/A","BPM-GE-SA-12-05","Contado",16980000,1,1,"COP"]
["Integrasoft SASSoftware IntegrasoftBPM-GE-SA-12-04","BPM-GE-SA-12-04Software Integrasoft",null,"Integrasoft SAS","BPM-GE-SA-12-04","Software Integrasoft","Integrasoft SAS","COP","N/A","BPM.Gov Tramites web Ciudadano/Contribuyente/Liquidador otras rentas Categoria 4","Saas","Prod","Servicio","Zonas (1,2,3)","Remoto","N/A","BPM-GE-SA-12-04","Contado",24500000,1,1,"COP"]
["Integrasoft SASSoftware IntegrasoftBPM-GE-SA-12-03","BPM-GE-SA-12-03Software Integrasoft",null,"Integrasoft SAS","BPM-GE-SA-12-03","Software Integrasoft","Integrasoft SAS","COP","N/A","BPM.Gov Tramites web Ciudadano/Contribuyente/Liquidador otras rentas Categoria 3","Saas","Prod","Servicio","Zonas (1,2,3)","Remoto","N/A","BPM-GE-SA-12-03","Contado",30500000,1,1,"COP"]
["Integrasoft SASSoftware IntegrasoftBPM-GE-SA-12-02","BPM-GE-SA-12-02Software Integrasoft",null,"Integrasoft SAS","BPM-GE-SA-12-02","Software Integrasoft","Integrasoft SAS","COP","N/A","BPM.Gov Tramites web Ciudadano/Contribuyente/Liquidador otras rentas Categoria 2","Saas","Prod","Servicio","Zonas (1,2,3)","Remoto","N/A","BPM-GE-SA-12-02","Contado",39500000,1,1,"COP"]
["Integrasoft SASSoftware IntegrasoftBPM-GE-SA-12-01","BPM-GE-SA-12-01Software Integrasoft",null,"Integrasoft SAS","BPM-GE-SA-12-01","Software Integrasoft","Integrasoft SAS","COP","N/A","BPM.Gov Tramites web Ciudadano/Contribuyente/Liquidador otras rentas Categoria 1","Saas","Prod","Servicio","Zonas (1,2,3)","Remoto","N/A","BPM-GE-SA-12-01","Contado",58950000,1,1,"COP"]
["Integrasoft SASSoftware IntegrasoftBPM-IMP-SA-13-01","BPM-IMP-SA-13-01Software Integrasoft",null,"Integrasoft SAS","BPM-IMP-SA-13-01","Software Integrasoft","Integrasoft SAS","COP","N/A","Modulo Gestion Predial.Net/Gestion Catastral multiproposito/gestion de tramites alfanumericos","Saas","Prod","Servicio","Zonas (1,2,3)","Remoto","N/A","BPM-IMP-SA-13-01","Mensual",25000000,1,0,"COP"]
["Integrasoft SASSoftware IntegrasoftBPM-IMP-SA-13-02","BPM-IMP-SA-13-02Software Integrasoft",null,"Integrasoft SAS","BPM-IMP-SA-13-02","Software Integrasoft","Integrasoft SAS","COP","N/A","Modulo Gestion Predial.Net/Gestion Catastral multiproposito/Visor Geografico/Expediente Ciudadano","Saas","Prod","Servicio","Zonas (1,2,3)","Remoto","N/A","BPM-IMP-SA-13-02","Mensual",4500000,1,0,"COP"]
["Integrasoft SASSoftware IntegrasoftBPM-IMP-SA-13-03","BPM-IMP-SA-13-03Software Integrasoft",null,"Integrasoft SAS","BPM-IMP-SA-13-03","Software Integrasoft","Integrasoft SAS","COP","N/A","Modulo Gestion Predial.Net/Gestion Catastral multiproposito/Sistema de Informacion Geografica ","Saas","Prod","Servicio","Zonas (1,2,3)","Remoto","N/A","BPM-IMP-SA-13-03","Mensual",25000000,1,0,"COP"]
["Integrasoft SASSoftware IntegrasoftBPM-IMP-SA-13-04","BPM-IMP-SA-13-04Software Integrasoft",null,"Integrasoft SAS","BPM-IMP-SA-13-04","Software Integrasoft","Integrasoft SAS","COP","N/A","Modulo Gestion Predial.Net/Gestion Catastral multiproposito/Modulo de interoperabilidad LADM-COL","Saas","Prod","Servicio","Zonas (1,2,3)","Remoto","N/A","BPM-IMP-SA-13-04","Mensual",4500000,1,0,"COP"]
["Integrasoft SASSoftware IntegrasoftBPM-IMP-SA-13-05","BPM-IMP-SA-13-05Software Integrasoft",null,"Integrasoft SAS","BPM-IMP-SA-13-05","Software Integrasoft","Integrasoft SAS","COP","N/A","Modulo Gestion Predial.Net/Gestion Catastral multiproposito/Modulo movil captura de informacion de campo","Saas","Prod","Servicio","Zonas (1,2,3)","Remoto","N/A","BPM-IMP-SA-13-05","Mensual",950000,1,0,"COP"]
["Integrasoft SASSoftware IntegrasoftBPM-IMP-LC-11-01","BPM-IMP-LC-11-01Software Integrasoft",null,"Integrasoft SAS","BPM-IMP-LC-11-01","Software Integrasoft","Integrasoft SAS","COP","N/A","Modulo Gestion Predial.Net/Gestion Catastral multiproposito/gestion de tramites alfanumericos","Licencia","Prod","Servicio","Zonas (1,2,3)","Remoto","N/A","BPM-IMP-LC-11-01","Contado",650000000,1,1,"COP"]
["Integrasoft SASSoftware IntegrasoftBPM-IMP-LC-11-02","BPM-IMP-LC-11-02Software Integrasoft",null,"Integrasoft SAS","BPM-IMP-LC-11-02","Software Integrasoft","Integrasoft SAS","COP","N/A","Modulo Gestion Predial.Net/Gestion Catastral multiproposito/Visor Geografico/Expediente Ciudadano","Licencia","Prod","Servicio","Zonas (1,2,3)","Remoto","N/A","BPM-IMP-LC-11-02","Contado",178500000,1,1,"COP"]
["Integrasoft SASSoftware IntegrasoftBPM-IMP-LC-11-03","BPM-IMP-LC-11-03Software Integrasoft",null,"Integrasoft SAS","BPM-IMP-LC-11-03","Software Integrasoft","Integrasoft SAS","COP","N/A","Modulo Gestion Predial.Net/Gestion Catastral multiproposito/Sistema de Informacion Geografica ","Licencia","Prod","Servicio","Zonas (1,2,3)","Remoto","N/A","BPM-IMP-LC-11-03","Contado",650000000,1,1,"COP"]
["Integrasoft SASSoftware IntegrasoftBPM-IMP-LC-11-04","BPM-IMP-LC-11-04Software Integrasoft",null,"Integrasoft SAS","BPM-IMP-LC-11-04","Software Integrasoft","Integrasoft SAS","COP","N/A","Modulo Gestion Predial.Net/Gestion Catastral multiproposito/Modulo de interoperabilidad LADM-COL","Licencia","Prod","Servicio","Zonas (1,2,3)","Remoto","N/A","BPM-IMP-LC-11-04","Contado",178500000,1,1,"COP"]
["Integrasoft SASSoftware IntegrasoftBPM-IMP-LC-11-05","BPM-IMP-LC-11-05Software Integrasoft",null,"Integrasoft SAS","BPM-IMP-LC-11-05","Software Integrasoft","Integrasoft SAS","COP","N/A","Modulo Gestion Predial.Net/Gestion Catastral multiproposito/Modulo movil captura de informacion de campo","Licencia","Prod","Servicio","Zonas (1,2,3)","Remoto","N/A","BPM-IMP-LC-11-05","Contado",35000000,1,1,"COP"]
["Integrasoft SASSoftware IntegrasoftBPM-USU-SA-14-01","BPM-USU-SA-14-01Software Integrasoft",null,"Integrasoft SAS","BPM-USU-SA-14-01","Software Integrasoft","Integrasoft SAS","COP","N/A","BPM.Gov Usuario adicional nombrado acceso full ","Saas","Prod","Servicio","Zonas (1,2,3)","Remoto","N/A","BPM-USU-SA-14-01","Mensual",69000,1,0,"COP"]
["Integrasoft SASSoftware IntegrasoftBPM-USU-SA-14-02","BPM-USU-SA-14-02Software Integrasoft",null,"Integrasoft SAS","BPM-USU-SA-14-02","Software Integrasoft","Integrasoft SAS","COP","N/A","BPM.Gov Usuario adicional nombrado acceso medio","Saas","Prod","Servicio","Zonas (1,2,3)","Remoto","N/A","BPM-USU-SA-14-02","Mensual",35000,1,0,"COP"]
["Integrasoft SASSoftware IntegrasoftBPM-USU-LC-11-01","BPM-USU-LC-11-01Software Integrasoft",null,"Integrasoft SAS","BPM-USU-LC-11-01","Software Integrasoft","Integrasoft SAS","COP","N/A","BPM.Gov Usuario adicional nombrado acceso full ","Licencia","Prod","Servicio","Zonas (1,2,3)","Remoto","N/A","BPM-USU-LC-11-01","Contado",1650000,1,1,"COP"]
["Integrasoft SASSoftware IntegrasoftBPM-USU-LC-11-02","BPM-USU-LC-11-02Software Integrasoft",null,"Integrasoft SAS","BPM-USU-LC-11-02","Software Integrasoft","Integrasoft SAS","COP","N/A","BPM.Gov Usuario adicional nombrado acceso medio","Licencia","Prod","Servicio","Zonas (1,2,3)","Remoto","N/A","BPM-USU-LC-11-02","Contado",950000,1,1,"COP"]
["Integrasoft SASSoftware IntegrasoftBPM-POR-SA-15-01","BPM-POR-SA-15-01Software Integrasoft",null,"Integrasoft SAS","BPM-POR-SA-15-01","Software Integrasoft","Integrasoft SAS","COP","N/A","BPM.Gov Portal proveedores usuarios ilimitados","Saas","Prod","Servicio","Zonas (1,2,3)","Remoto","N/A","BPM-POR-SA-15-01","Mensual",2500000,1,0,"COP"]
["Integrasoft SASSoftware IntegrasoftBPM-POR-SA-15-02","BPM-POR-SA-15-02Software Integrasoft",null,"Integrasoft SAS","BPM-POR-SA-15-02","Software Integrasoft","Integrasoft SAS","COP","N/A","BPM.Gov Portal ciudadano usuarios ilimitados","Saas","Prod","Servicio","Zonas (1,2,3)","Remoto","N/A","BPM-POR-SA-15-02","Mensual",2500000,1,0,"COP"]
["Integrasoft SASSoftware IntegrasoftBPM-POR-LC-12-01","BPM-POR-LC-12-01Software Integrasoft",null,"Integrasoft SAS","BPM-POR-LC-12-01","Software Integrasoft","Integrasoft SAS","COP","N/A","BPM.Gov Portal proveedores usuarios ilimitados","Licencia","Prod","Servicio","Zonas (1,2,3)","Remoto","N/A","BPM-POR-LC-12-01","Contado",10500000,1,1,"COP"]
["Integrasoft SASSoftware IntegrasoftBPM-POR-LC-12-02","BPM-POR-LC-12-02Software Integrasoft",null,"Integrasoft SAS","BPM-POR-LC-12-02","Software Integrasoft","Integrasoft SAS","COP","N/A","BPM.Gov Portal ciudadano usuarios ilimitados","Licencia","Prod","Servicio","Zonas (1,2,3)","Remoto","N/A","BPM-POR-LC-12-02","Contado",10500000,1,1,"COP"]
["Integrasoft SASSoftware IntegrasoftBPM-COB-SA-16-01","BPM-COB-SA-16-01Software Integrasoft",null,"Integrasoft SAS","BPM-COB-SA-16-01","Software Integrasoft","Integrasoft SAS","COP","N/A","BPM.Gov ControlBlood ESP/Facturación/PQRs/Tarifas/Ordenes de Servicio/Recaudo/Financiación/por cada 1000 suscriptores","Saas","Prod","Servicio","Zonas (1,2,3)","Remoto","N/A","BPM-COB-SA-16-01","Mensual",650000,1,0,"COP"]
["Integrasoft SASSoftware IntegrasoftBPM-COB-LC-13-01","BPM-COB-LC-13-01Software Integrasoft",null,"Integrasoft SAS","BPM-COB-LC-13-01","Software Integrasoft","Integrasoft SAS","COP","N/A","BPM.Gov ControlBlood ESP/Facturación/PQRs/Tarifas/Ordenes de Servicio/Recaudo/Financiación/por cada 1000 suscriptores","Licencia","Prod","Servicio","Zonas (1,2,3)","Remoto","N/A","BPM-COB-LC-13-01","Contado",6500000,1,1,"COP"]
["Integrasoft SASSoftware IntegrasoftIT-SW-01-01","IT-SW-01-01Software Integrasoft",null,"Integrasoft SAS","IT-SW-01-01","Software Integrasoft","Integrasoft SAS","COP","N/A","Capacitación para usuario final - hasta 10 Personas.  ","Por sesión de capacitación de 4 horas para un grupo de hasta 10 personas.","Serv","Servicio","Zona 1","Remoto","Capacitador","IT-SW-01-01","mensual ",571200,1,1,"COP"]
["Integrasoft SASSoftware IntegrasoftIT-SW-01-02","IT-SW-01-02Software Integrasoft",null,"Integrasoft SAS","IT-SW-01-02","Software Integrasoft","Integrasoft SAS","COP","N/A","Capacitación para usuario final - hasta 10 Personas.  ","Por sesión de capacitación de 4 horas para un grupo de hasta 10 personas.","Serv","Servicio","Zona 1","Sitio","Capacitador","IT-SW-01-02","mensual ",880600,1,1,"COP"]
["Integrasoft SASSoftware IntegrasoftIT-SW-01-03","IT-SW-01-03Software Integrasoft",null,"Integrasoft SAS","IT-SW-01-03","Software Integrasoft","Integrasoft SAS","COP","N/A","Capacitación para usuario final - hasta 10 Personas.  ","Por sesión de capacitación de 4 horas para un grupo de hasta 10 personas.","Serv","Servicio","Zona 2","Remoto","Capacitador","IT-SW-01-03","mensual ",571200,1,1,"COP"]
["Integrasoft SASSoftware IntegrasoftIT-SW-01-04","IT-SW-01-04Software Integrasoft",null,"Integrasoft SAS","IT-SW-01-04","Software Integrasoft","Integrasoft SAS","COP","N/A","Capacitación para usuario final - hasta 10 Personas.  ","Por sesión de capacitación de 4 horas para un grupo de hasta 10 personas.","Serv","Servicio","Zona 2","Sitio","Capacitador","IT-SW-01-04","mensual ",880600,1,1,"COP"]
["Integrasoft SASSoftware IntegrasoftIT-SW-01-05","IT-SW-01-05Software Integrasoft",null,"Integrasoft SAS","IT-SW-01-05","Software Integrasoft","Integrasoft SAS","COP","N/A","Capacitación para usuario final - hasta 10 Personas.  ","Por sesión de capacitación de 4 horas para un grupo de hasta 10 personas.","Serv","Servicio","Zona 3","Remoto","Capacitador","IT-SW-01-05","mensual ",571200,1,1,"COP"]
["Integrasoft SASSoftware IntegrasoftIT-SW-01-06","IT-SW-01-06Software Integrasoft",null,"Integrasoft SAS","IT-SW-01-06","Software Integrasoft","Integrasoft SAS","COP","N/A","Capacitación para usuario final - hasta 10 Personas.  ","Por sesión de capacitación de 4 horas para un grupo de hasta 10 personas.","Serv","Servicio","Zona 3","Sitio","Capacitador","IT-SW-01-06","mensual ",880600,1,1,"COP"]
["Integrasoft SASSoftware IntegrasoftIT-SW-02-01","IT-SW-02-01Software Integrasoft",null,"Integrasoft SAS","IT-SW-02-01","Software Integrasoft","Integrasoft SAS","COP","N/A","Capacitación para usuario final hasta 20 Personas.  ","Por sesión de capacitación de 4 horas para un grupo de hasta 20 personas.","Serv","Servicio","Zona 1","Remoto","Capacitador","IT-SW-02-01","mensual ",642600,1,1,"COP"]
["Integrasoft SASSoftware IntegrasoftIT-SW-02-02","IT-SW-02-02Software Integrasoft",null,"Integrasoft SAS","IT-SW-02-02","Software Integrasoft","Integrasoft SAS","COP","N/A","Capacitación para usuario final hasta 20 Personas.  ","Por sesión de capacitación de 4 horas para un grupo de hasta 20 personas.","Serv","Servicio","Zona 1","Sitio","Capacitador","IT-SW-02-02","mensual ",999600,1,1,"COP"]
["Integrasoft SASSoftware IntegrasoftIT-SW-02-03","IT-SW-02-03Software Integrasoft",null,"Integrasoft SAS","IT-SW-02-03","Software Integrasoft","Integrasoft SAS","COP","N/A","Capacitación para usuario final hasta 20 Personas.  ","Por sesión de capacitación de 4 horas para un grupo de hasta 20 personas.","Serv","Servicio","Zona 2","Remoto","Capacitador","IT-SW-02-03","mensual ",642600,1,1,"COP"]
["Integrasoft SASSoftware IntegrasoftIT-SW-02-04","IT-SW-02-04Software Integrasoft",null,"Integrasoft SAS","IT-SW-02-04","Software Integrasoft","Integrasoft SAS","COP","N/A","Capacitación para usuario final hasta 20 Personas.  ","Por sesión de capacitación de 4 horas para un grupo de hasta 20 personas.","Serv","Servicio","Zona 2","Sitio","Capacitador","IT-SW-02-04","mensual ",999600,1,1,"COP"]
["Integrasoft SASSoftware IntegrasoftIT-SW-02-05","IT-SW-02-05Software Integrasoft",null,"Integrasoft SAS","IT-SW-02-05","Software Integrasoft","Integrasoft SAS","COP","N/A","Capacitación para usuario final hasta 20 Personas.  ","Por sesión de capacitación de 4 horas para un grupo de hasta 20 personas.","Serv","Servicio","Zona 3","Remoto","Capacitador","IT-SW-02-05","mensual ",642600,1,1,"COP"]
["Integrasoft SASSoftware IntegrasoftIT-SW-02-06","IT-SW-02-06Software Integrasoft",null,"Integrasoft SAS","IT-SW-02-06","Software Integrasoft","Integrasoft SAS","COP","N/A","Capacitación para usuario final hasta 20 Personas.  ","Por sesión de capacitación de 4 horas para un grupo de hasta 20 personas.","Serv","Servicio","Zona 3","Sitio","Capacitador","IT-SW-02-06","mensual ",999600,1,1,"COP"]
["Integrasoft SASSoftware IntegrasoftIT-SW-03-01","IT-SW-03-01Software Integrasoft",null,"Integrasoft SAS","IT-SW-03-01","Software Integrasoft","Integrasoft SAS","COP","N/A","Capacitación para usuario técnico o administrador - hasta 10 Personas.  ","Por sesión de capacitación de 4 horas para un grupo de hasta 10 personas.","Serv","Servicio","Zona 1","Remoto","Capacitador","IT-SW-03-01","mensual ",571200,1,1,"COP"]
["Integrasoft SASSoftware IntegrasoftIT-SW-03-02","IT-SW-03-02Software Integrasoft",null,"Integrasoft SAS","IT-SW-03-02","Software Integrasoft","Integrasoft SAS","COP","N/A","Capacitación para usuario técnico o administrador - hasta 10 Personas.  ","Por sesión de capacitación de 4 horas para un grupo de hasta 10 personas.","Serv","Servicio","Zona 1","Sitio","Capacitador","IT-SW-03-02","mensual ",880600,1,1,"COP"]
["Integrasoft SASSoftware IntegrasoftIT-SW-03-03","IT-SW-03-03Software Integrasoft",null,"Integrasoft SAS","IT-SW-03-03","Software Integrasoft","Integrasoft SAS","COP","N/A","Capacitación para usuario técnico o administrador - hasta 10 Personas.  ","Por sesión de capacitación de 4 horas para un grupo de hasta 10 personas.","Serv","Servicio","Zona 2","Remoto","Capacitador","IT-SW-03-03","mensual ",571200,1,1,"COP"]
["Integrasoft SASSoftware IntegrasoftIT-SW-03-04","IT-SW-03-04Software Integrasoft",null,"Integrasoft SAS","IT-SW-03-04","Software Integrasoft","Integrasoft SAS","COP","N/A","Capacitación para usuario técnico o administrador - hasta 10 Personas.  ","Por sesión de capacitación de 4 horas para un grupo de hasta 10 personas.","Serv","Servicio","Zona 2","Sitio","Capacitador","IT-SW-03-04","mensual ",880600,1,1,"COP"]
["Integrasoft SASSoftware IntegrasoftIT-SW-03-05","IT-SW-03-05Software Integrasoft",null,"Integrasoft SAS","IT-SW-03-05","Software Integrasoft","Integrasoft SAS","COP","N/A","Capacitación para usuario técnico o administrador - hasta 10 Personas.  ","Por sesión de capacitación de 4 horas para un grupo de hasta 10 personas.","Serv","Servicio","Zona 3","Remoto","Capacitador","IT-SW-03-05","mensual ",571200,1,1,"COP"]
["Integrasoft SASSoftware IntegrasoftIT-SW-03-06","IT-SW-03-06Software Integrasoft",null,"Integrasoft SAS","IT-SW-03-06","Software Integrasoft","Integrasoft SAS","COP","N/A","Capacitación para usuario técnico o administrador - hasta 10 Personas.  ","Por sesión de capacitación de 4 horas para un grupo de hasta 10 personas.","Serv","Servicio","Zona 3","Sitio","Capacitador","IT-SW-03-06","mensual ",880600,1,1,"COP"]
["Integrasoft SASSoftware IntegrasoftIT-SW-04-01","IT-SW-04-01Software Integrasoft",null,"Integrasoft SAS","IT-SW-04-01","Software Integrasoft","Integrasoft SAS","COP","N/A","Capacitación para usuario técnico o administrador hasta 20 Personas.  ","Por sesión de capacitación de 4 horas para un grupo de hasta 20 personas.","Serv","Servicio","Zona 1","Remoto","Capacitador","IT-SW-04-01","mensual ",642600,1,1,"COP"]
["Integrasoft SASSoftware IntegrasoftIT-SW-04-02","IT-SW-04-02Software Integrasoft",null,"Integrasoft SAS","IT-SW-04-02","Software Integrasoft","Integrasoft SAS","COP","N/A","Capacitación para usuario técnico o administrador hasta 20 Personas.  ","Por sesión de capacitación de 4 horas para un grupo de hasta 20 personas.","Serv","Servicio","Zona 1","Sitio","Capacitador","IT-SW-04-02","mensual ",999600,1,1,"COP"]
["Integrasoft SASSoftware IntegrasoftIT-SW-04-03","IT-SW-04-03Software Integrasoft",null,"Integrasoft SAS","IT-SW-04-03","Software Integrasoft","Integrasoft SAS","COP","N/A","Capacitación para usuario técnico o administrador hasta 20 Personas.  ","Por sesión de capacitación de 4 horas para un grupo de hasta 20 personas.","Serv","Servicio","Zona 2","Remoto","Capacitador","IT-SW-04-03","mensual ",642600,1,1,"COP"]
["Integrasoft SASSoftware IntegrasoftIT-SW-04-04","IT-SW-04-04Software Integrasoft",null,"Integrasoft SAS","IT-SW-04-04","Software Integrasoft","Integrasoft SAS","COP","N/A","Capacitación para usuario técnico o administrador hasta 20 Personas.  ","Por sesión de capacitación de 4 horas para un grupo de hasta 20 personas.","Serv","Servicio","Zona 2","Sitio","Capacitador","IT-SW-04-04","mensual ",999600,1,1,"COP"]
["Integrasoft SASSoftware IntegrasoftIT-SW-04-05","IT-SW-04-05Software Integrasoft",null,"Integrasoft SAS","IT-SW-04-05","Software Integrasoft","Integrasoft SAS","COP","N/A","Capacitación para usuario técnico o administrador hasta 20 Personas.  ","Por sesión de capacitación de 4 horas para un grupo de hasta 20 personas.","Serv","Servicio","Zona 3","Remoto","Capacitador","IT-SW-04-05","mensual ",642600,1,1,"COP"]
["Integrasoft SASSoftware IntegrasoftIT-SW-04-06","IT-SW-04-06Software Integrasoft",null,"Integrasoft SAS","IT-SW-04-06","Software Integrasoft","Integrasoft SAS","COP","N/A","Capacitación para usuario técnico o administrador hasta 20 Personas.  ","Por sesión de capacitación de 4 horas para un grupo de hasta 20 personas.","Serv","Servicio","Zona 3","Sitio","Capacitador","IT-SW-04-06","mensual ",999600,1,1,"COP"]
["Integrasoft SASSoftware IntegrasoftIT-SW-05-01","IT-SW-05-01Software Integrasoft",null,"Integrasoft SAS","IT-SW-05-01","Software Integrasoft","Integrasoft SAS","COP","N/A","Configuración y parametrización de los Productos ","Unidad","Serv","Servicio","Zona 1","Remoto","Profesional","IT-SW-05-01","mensual ",642600,1,1,"COP"]
["Integrasoft SASSoftware IntegrasoftIT-SW-05-02","IT-SW-05-02Software Integrasoft",null,"Integrasoft SAS","IT-SW-05-02","Software Integrasoft","Integrasoft SAS","COP","N/A","Configuración y parametrización de los Productos ","Unidad","Serv","Servicio","Zona 1","Sitio","Profesional","IT-SW-05-02","mensual ",880600,1,1,"COP"]
["Integrasoft SASSoftware IntegrasoftIT-SW-05-03","IT-SW-05-03Software Integrasoft",null,"Integrasoft SAS","IT-SW-05-03","Software Integrasoft","Integrasoft SAS","COP","N/A","Configuración y parametrización de los Productos ","Unidad","Serv","Servicio","Zona 2","Remoto","Profesional","IT-SW-05-03","mensual ",642600,1,1,"COP"]
["Integrasoft SASSoftware IntegrasoftIT-SW-05-04","IT-SW-05-04Software Integrasoft",null,"Integrasoft SAS","IT-SW-05-04","Software Integrasoft","Integrasoft SAS","COP","N/A","Configuración y parametrización de los Productos ","Unidad","Serv","Servicio","Zona 2","Sitio","Profesional","IT-SW-05-04","mensual ",880600,1,1,"COP"]
["Integrasoft SASSoftware IntegrasoftIT-SW-05-05","IT-SW-05-05Software Integrasoft",null,"Integrasoft SAS","IT-SW-05-05","Software Integrasoft","Integrasoft SAS","COP","N/A","Configuración y parametrización de los Productos ","Unidad","Serv","Servicio","Zona 3","Remoto","Profesional","IT-SW-05-05","mensual ",642600,1,1,"COP"]
["Integrasoft SASSoftware IntegrasoftIT-SW-05-06","IT-SW-05-06Software Integrasoft",null,"Integrasoft SAS","IT-SW-05-06","Software Integrasoft","Integrasoft SAS","COP","N/A","Configuración y parametrización de los Productos ","Unidad","Serv","Servicio","Zona 3","Sitio","Profesional","IT-SW-05-06","mensual ",880600,1,1,"COP"]
["Integrasoft SASSoftware IntegrasoftIT-SW-06-01","IT-SW-06-01Software Integrasoft",null,"Integrasoft SAS","IT-SW-06-01","Software Integrasoft","Integrasoft SAS","COP","N/A","Gerente de cuenta (soporte) ","Mes","Serv","Servicio","Zona 1","Sitio","Profesional","IT-SW-06-01","mensual ",1332800,1,1,"COP"]
["Integrasoft SASSoftware IntegrasoftIT-SW-06-02","IT-SW-06-02Software Integrasoft",null,"Integrasoft SAS","IT-SW-06-02","Software Integrasoft","Integrasoft SAS","COP","N/A","Gerente de cuenta (soporte) ","Mes","Serv","Servicio","Zona 2","Sitio","Profesional","IT-SW-06-02","mensual ",1332800,1,1,"COP"]
["Integrasoft SASSoftware IntegrasoftIT-SW-06-03","IT-SW-06-03Software Integrasoft",null,"Integrasoft SAS","IT-SW-06-03","Software Integrasoft","Integrasoft SAS","COP","N/A","Gerente de cuenta (soporte) ","Mes","Serv","Servicio","Zona 3","Sitio","Profesional","IT-SW-06-03","mensual ",1332800,1,1,"COP"]
["Integrasoft SASSoftware IntegrasoftIT-SW-07-01","IT-SW-07-01Software Integrasoft",null,"Integrasoft SAS","IT-SW-07-01","Software Integrasoft","Integrasoft SAS","COP","N/A","Instalación de Licencia o Suscripción Anual, o afínes ","Unidad","Serv","Servicio","Zona 1","Remoto","Técnico/Tecnólogo ó Profesional","IT-SW-07-01","mensual ",642600,1,1,"COP"]
["Integrasoft SASSoftware IntegrasoftIT-SW-07-02","IT-SW-07-02Software Integrasoft",null,"Integrasoft SAS","IT-SW-07-02","Software Integrasoft","Integrasoft SAS","COP","N/A","Instalación de Licencia o Suscripción Anual, o afínes ","Unidad","Serv","Servicio","Zona 1","Sitio","Técnico/Tecnólogo ó Profesional","IT-SW-07-02","mensual ",880600,1,1,"COP"]
["Integrasoft SASSoftware IntegrasoftIT-SW-07-03","IT-SW-07-03Software Integrasoft",null,"Integrasoft SAS","IT-SW-07-03","Software Integrasoft","Integrasoft SAS","COP","N/A","Instalación de Licencia o Suscripción Anual, o afínes ","Unidad","Serv","Servicio","Zona 2","Remoto","Técnico/Tecnólogo ó Profesional","IT-SW-07-03","mensual ",642600,1,1,"COP"]
["Integrasoft SASSoftware IntegrasoftIT-SW-07-04","IT-SW-07-04Software Integrasoft",null,"Integrasoft SAS","IT-SW-07-04","Software Integrasoft","Integrasoft SAS","COP","N/A","Instalación de Licencia o Suscripción Anual, o afínes ","Unidad","Serv","Servicio","Zona 2","Sitio","Técnico/Tecnólogo ó Profesional","IT-SW-07-04","mensual ",880600,1,1,"COP"]
[{"$f":"D993&F993&E993","v":"Integrasoft SASSoftware IntegrasoftIT-SW-07-05"},{"$f":"E993&F993","v":"IT-SW-07-05Software Integrasoft"},null,"Integrasoft SAS","IT-SW-07-05","Software Integrasoft",{"$f":"D993","v":"Integrasoft SAS"},"COP","N/A","Instalación de Licencia o Suscripción Anual, o afínes ","Unidad","Serv","Servicio","Zona 3","Remoto","Técnico/Tecnólogo ó Profesional",{"$f":"+E993","v":"IT-SW-07-05"},"mensual ",642600,1,1,"COP"]
["Integrasoft SASSoftware IntegrasoftIT-SW-07-06","IT-SW-07-06Software Integrasoft",null,"Integrasoft SAS","IT-SW-07-06","Software Integrasoft","Integrasoft SAS","COP","N/A","Instalación de Licencia o Suscripción Anual, o afínes ","Unidad","Serv","Servicio","Zona 3","Sitio","Técnico/Tecnólogo ó Profesional","IT-SW-07-06","mensual ",880600,1,1,"COP"]
["Integrasoft SASSoftware IntegrasoftIT-SW-08-01","IT-SW-08-01Software Integrasoft",null,"Integrasoft SAS","IT-SW-08-01","Software Integrasoft","Integrasoft SAS","COP","N/A","Migración de información por volumen de datos almacenados ","Volumen de datos migrados (GB).","Serv","Servicio","Zona 1","Remoto","Profesional","IT-SW-08-01","mensual ",642600,1,1,"COP"]
["Integrasoft SASSoftware IntegrasoftIT-SW-08-02","IT-SW-08-02Software Integrasoft",null,"Integrasoft SAS","IT-SW-08-02","Software Integrasoft","Integrasoft SAS","COP","N/A","Migración de información por volumen de datos almacenados ","Volumen de datos migrados (GB).","Serv","Servicio","Zona 1","Sitio","Profesional","IT-SW-08-02","mensual ",880600,1,1,"COP"]
["Integrasoft SASSoftware IntegrasoftIT-SW-08-03","IT-SW-08-03Software Integrasoft",null,"Integrasoft SAS","IT-SW-08-03","Software Integrasoft","Integrasoft SAS","COP","N/A","Migración de información por volumen de datos almacenados ","Volumen de datos migrados (GB).","Serv","Servicio","Zona 2","Remoto","Profesional","IT-SW-08-03","mensual ",642600,1,1,"COP"]
["Integrasoft SASSoftware IntegrasoftIT-SW-08-04","IT-SW-08-04Software Integrasoft",null,"Integrasoft SAS","IT-SW-08-04","Software Integrasoft","Integrasoft SAS","COP","N/A","Migración de información por volumen de datos almacenados ","Volumen de datos migrados (GB).","Serv","Servicio","Zona 2","Sitio","Profesional","IT-SW-08-04","mensual ",880600,1,1,"COP"]
["Integrasoft SASSoftware IntegrasoftIT-SW-08-05","IT-SW-08-05Software Integrasoft",null,"Integrasoft SAS","IT-SW-08-05","Software Integrasoft","Integrasoft SAS","COP","N/A","Migración de información por volumen de datos almacenados ","Volumen de datos migrados (GB).","Serv","Servicio","Zona 3","Remoto","Profesional","IT-SW-08-05","mensual ",642600,1,1,"COP"]
["Integrasoft SASSoftware IntegrasoftIT-SW-08-06","IT-SW-08-06Software Integrasoft",null,"Integrasoft SAS","IT-SW-08-06","Software Integrasoft","Integrasoft SAS","COP","N/A","Migración de información por volumen de datos almacenados ","Volumen de datos migrados (GB).","Serv","Servicio","Zona 3","Sitio","Profesional","IT-SW-08-06","mensual ",880600,1,1,"COP"]
["Integrasoft SASSoftware IntegrasoftIT-SW-09-01","IT-SW-09-01Software Integrasoft",null,"Integrasoft SAS","IT-SW-09-01","Software Integrasoft","Integrasoft SAS","COP","N/A","Soporte técnico en sitio ","Mes","Serv","Servicio","Zona 1","Sitio","Técnico/Tecnólogo ó Profesional","IT-SW-09-01","mensual ",880600,1,1,"COP"]
["Integrasoft SASSoftware IntegrasoftIT-SW-09-02","IT-SW-09-02Software Integrasoft",null,"Integrasoft SAS","IT-SW-09-02","Software Integrasoft","Integrasoft SAS","COP","N/A","Soporte técnico en sitio ","Mes","Serv","Servicio","Zona 2","Sitio","Técnico/Tecnólogo ó Profesional","IT-SW-09-02","mensual ",880600,1,1,"COP"]
["Integrasoft SASSoftware IntegrasoftIT-SW-09-03","IT-SW-09-03Software Integrasoft",null,"Integrasoft SAS","IT-SW-09-03","Software Integrasoft","Integrasoft SAS","COP","N/A","Soporte técnico en sitio ","Mes","Serv","Servicio","Zona 3","Sitio","Técnico/Tecnólogo ó Profesional","IT-SW-09-03","mensual ",880600,1,1,"COP"]
["Integrasoft SASSoftware IntegrasoftIT-SW-10-01","IT-SW-10-01Software Integrasoft",null,"Integrasoft SAS","IT-SW-10-01","Software Integrasoft","Integrasoft SAS","COP","N/A","Soporte técnico proactivo ","Hora","Serv","Servicio","Zona 2","Remoto","Técnico/Tecnólogo ó Profesional","IT-SW-10-01","mensual ",642600,1,1,"COP"]
["Integrasoft SASSoftware IntegrasoftIT-SW-10-02","IT-SW-10-02Software Integrasoft",null,"Integrasoft SAS","IT-SW-10-02","Software Integrasoft","Integrasoft SAS","COP","N/A","Soporte técnico proactivo ","Hora","Serv","Servicio","Zona 2","Sitio","Técnico/Tecnólogo ó Profesional","IT-SW-10-02","mensual ",880600,1,1,"COP"]
["Integrasoft SASSoftware IntegrasoftIT-SW-10-03","IT-SW-10-03Software Integrasoft",null,"Integrasoft SAS","IT-SW-10-03","Software Integrasoft","Integrasoft SAS","COP","N/A","Soporte técnico proactivo ","Hora","Serv","Servicio","Zona 1","Remoto","Técnico/Tecnólogo ó Profesional","IT-SW-10-03","mensual ",642600,1,1,"COP"]
["Integrasoft SASSoftware IntegrasoftIT-SW-10-04","IT-SW-10-04Software Integrasoft",null,"Integrasoft SAS","IT-SW-10-04","Software Integrasoft","Integrasoft SAS","COP","N/A","Soporte técnico proactivo ","Hora","Serv","Servicio","Zona 3","Remoto","Técnico/Tecnólogo ó Profesional","IT-SW-10-04","mensual ",642600,1,1,"COP"]
["Integrasoft SASSoftware IntegrasoftIT-SW-10-05","IT-SW-10-05Software Integrasoft",null,"Integrasoft SAS","IT-SW-10-05","Software Integrasoft","Integrasoft SAS","COP","N/A","Soporte técnico proactivo ","Hora","Serv","Servicio","Zona 3","Sitio","Técnico/Tecnólogo ó Profesional","IT-SW-10-05","mensual ",880600,1,1,"COP"]
["Integrasoft SASSoftware IntegrasoftIT-SW-10-06","IT-SW-10-06Software Integrasoft",null,"Integrasoft SAS","IT-SW-10-06","Software Integrasoft","Integrasoft SAS","COP","N/A","Soporte técnico proactivo ","Hora","Serv","Servicio","Zona 1","Sitio","Técnico/Tecnólogo ó Profesional","IT-SW-10-06","mensual ",880600,1,1,"COP"]
["Integrasoft SASSoftware IntegrasoftIT-SW-11-01","IT-SW-11-01Software Integrasoft",null,"Integrasoft SAS","IT-SW-11-01","Software Integrasoft","Integrasoft SAS","COP","N/A","Soporte técnico reactivo ","Hora","Serv","Servicio","Zona 1","Sitio","Técnico/Tecnólogo ó Profesional","IT-SW-11-01","mensual ",880600,1,1,"COP"]
["Integrasoft SASSoftware IntegrasoftIT-SW-11-02","IT-SW-11-02Software Integrasoft",null,"Integrasoft SAS","IT-SW-11-02","Software Integrasoft","Integrasoft SAS","COP","N/A","Soporte técnico reactivo ","Hora","Serv","Servicio","Zona 2","Remoto","Técnico/Tecnólogo ó Profesional","IT-SW-11-02","mensual ",642600,1,1,"COP"]
["Integrasoft SASSoftware IntegrasoftIT-SW-11-03","IT-SW-11-03Software Integrasoft",null,"Integrasoft SAS","IT-SW-11-03","Software Integrasoft","Integrasoft SAS","COP","N/A","Soporte técnico reactivo ","Hora","Serv","Servicio","Zona 2","Sitio","Técnico/Tecnólogo ó Profesional","IT-SW-11-03","mensual ",880600,1,1,"COP"]
["Integrasoft SASSoftware IntegrasoftIT-SW-11-04","IT-SW-11-04Software Integrasoft",null,"Integrasoft SAS","IT-SW-11-04","Software Integrasoft","Integrasoft SAS","COP","N/A","Soporte técnico reactivo ","Hora","Serv","Servicio","Zona 3","Remoto","Técnico/Tecnólogo ó Profesional","IT-SW-11-04","mensual ",642600,1,1,"COP"]
["Integrasoft SASSoftware IntegrasoftIT-SW-11-05","IT-SW-11-05Software Integrasoft",null,"Integrasoft SAS","IT-SW-11-05","Software Integrasoft","Integrasoft SAS","COP","N/A","Soporte técnico reactivo ","Hora","Serv","Servicio","Zona 3","Sitio","Técnico/Tecnólogo ó Profesional","IT-SW-11-05","mensual ",880600,1,1,"COP"]
["Integrasoft SASSoftware IntegrasoftIT-SW-11-06","IT-SW-11-06Software Integrasoft",null,"Integrasoft SAS","IT-SW-11-06","Software Integrasoft","Integrasoft SAS","COP","N/A","Soporte técnico reactivo ","Hora","Serv","Servicio","Zona 1","Remoto","Técnico/Tecnólogo ó Profesional","IT-SW-11-06","mensual ",642600,1,1,"COP"]
["Novasoft SASSoftware NovasoftON-NS-P-01","ON-NS-P-01Software Novasoft",null,"Novasoft SAS","ON-NS-P-01","Software Novasoft","Novasoft SAS","COP","N/A","LICENCIA NOVASOFT-ERP ESTANDAR ONPREMISE 1 (Inventarios, Activos Fijos, Componente Financiero(Contabilidad, Tesoreria, CXP, CXC) ) ","Paq x 15 usuarios","Prod","Servicio","Zonas\n(1,2,3)","Remoto y/o sitio","N/A","ON-NS-P-01","Unico Pago",258000000,1,1,"COP"]
["Novasoft SASSoftware NovasoftON-NS-P-02","ON-NS-P-02Software Novasoft",null,"Novasoft SAS","ON-NS-P-02","Software Novasoft","Novasoft SAS","COP","N/A","LICENCIA NOVASOFT-ERP ESTANDAR ONPREMISE 1 (Inventarios, Activos Fijos, integración SIIF NACION) ","Paq x 15 usuarios","Prod","Servicio","Zonas\n(1,2,3)","Remoto y/o sitio","N/A","ON-NS-P-02","Unico Pago",120000000,1,1,"COP"]
["Novasoft SASSoftware NovasoftON-NS-P-03","ON-NS-P-03Software Novasoft",null,"Novasoft SAS","ON-NS-P-03","Software Novasoft","Novasoft SAS","COP","N/A","LICENCIA NOVASOFT-ERP ESTANDAR ONPREMISE 1 (Inventarios, Activos Fijos) ","Paq x 15 usuarios","Prod","Servicio","Zonas\n(1,2,3)","Remoto y/o sitio","N/A","ON-NS-P-03","Unico Pago",100000000,1,1,"COP"]
["Novasoft SASSoftware NovasoftON-NS-P-04","ON-NS-P-04Software Novasoft",null,"Novasoft SAS","ON-NS-P-04","Software Novasoft","Novasoft SAS","COP","N/A","LICENCIA NOVASOFT-ERP MODULOS PRESUPUESTO DE INGRESOS Y GASTOS ONPREMISE","unidad","Prod","Servicio","Zonas (1,2,3)","Remoto y/o sitio","N/A","ON-NS-P-04","Unico Pago",52000000,1,1,"COP"]
["Novasoft SASSoftware NovasoftON-NS-P-05","ON-NS-P-05Software Novasoft",null,"Novasoft SAS","ON-NS-P-05","Software Novasoft","Novasoft SAS","COP","N/A","LICENCIA NOVASOFT-ERP MODULO COMPRAS ONPREMISE","unidad","Prod","Servicio","Zonas (1,2,3)","Remoto y/o sitio","N/A","ON-NS-P-05","Unico Pago",32000000,1,1,"COP"]
["Novasoft SASSoftware NovasoftON-NS-P-06","ON-NS-P-06Software Novasoft",null,"Novasoft SAS","ON-NS-P-06","Software Novasoft","Novasoft SAS","COP","N/A","LICENCIA NOVASOFT-ERP MODULO CONTRATACIÓN ONPREMISE","unidad","Prod","Servicio","Zonas (1,2,3)","Remoto y/o sitio","N/A","ON-NS-P-06","Unico Pago",32000000,1,1,"COP"]
["Novasoft SASSoftware NovasoftON-NS-P-07","ON-NS-P-07Software Novasoft",null,"Novasoft SAS","ON-NS-P-07","Software Novasoft","Novasoft SAS","COP","N/A","LICENCIA NOVASOFT-ERP ESTANDAR ONPREMISE 2 (Contabilidad, Tesorería, Facturación Proveedores, Cartera, Compras, Inventarios, Activos Fijos)","Paq x 15 usuarios","Prod","Servicio","Zonas (1,2,3)","Remoto y/o sitio","N/A","ON-NS-P-07","Unico Pago",358000000,1,1,"COP"]
["Novasoft SASSoftware NovasoftON-NS-P-08","ON-NS-P-08Software Novasoft",null,"Novasoft SAS","ON-NS-P-08","Software Novasoft","Novasoft SAS","COP","N/A","LICENCIA NOVASOFT-ERP MODULO PQRS ONPREMISE","Paq x 5 usuarios","Prod","Servicio","Zonas (1,2,3)","Remoto y/o sitio","N/A","ON-NS-P-08","Unico Pago",32000000,1,1,"COP"]
["Novasoft SASSoftware NovasoftON-NS-P-09","ON-NS-P-09Software Novasoft",null,"Novasoft SAS","ON-NS-P-09","Software Novasoft","Novasoft SAS","COP","N/A","LICENCIA NOVASOFT-ERP USUARIO ADICIONAL BASE DE DATOS ONPREMISE","usuario","Prod","Servicio","Zonas (1,2,3)","Remoto y/o sitio","N/A","ON-NS-P-09","Unico Pago",1000000,1,1,"COP"]
["Novasoft SASSoftware NovasoftON-NS-P-10","ON-NS-P-10Software Novasoft",null,"Novasoft SAS","ON-NS-P-10","Software Novasoft","Novasoft SAS","COP","N/A","LICENCIA NOVASOFT-ERP MODULO BANCO DE PROYECTOS","Paq x 15 usuarios","Prod","Servicio","Zonas (1,2,3)","Remoto y/o sitio","N/A","ON-NS-P-10","Unico Pago",32000000,1,1,"COP"]
["Novasoft SASSoftware NovasoftON-NS-P-11","ON-NS-P-11Software Novasoft",null,"Novasoft SAS","ON-NS-P-11","Software Novasoft","Novasoft SAS","COP","N/A","LICENCIA NOVASOFT- ERP INTEGRADO CON IMPUESTOS MPIO CAT - ESPECIAL","Paq x 90 usuarios","Prod","Servicio","Zonas (1,2,3)","Remoto y/o sitio","N/A","ON-NS-P-11","Unico Pago",1154000000,1,1,"COP"]
["Novasoft SASSoftware NovasoftON-NS-P-12","ON-NS-P-12Software Novasoft",null,"Novasoft SAS","ON-NS-P-12","Software Novasoft","Novasoft SAS","COP","N/A","LICENCIA NOVASOFT- ERP INTEGRADO CON IMPUESTOS MPIO CAT  - 1","Paq x 70 usuarios","Prod","Servicio","Zonas (1,2,3)","Remoto y/o sitio","N/A","ON-NS-P-12","Unico Pago",980900000,1,1,"COP"]
["Novasoft SASSoftware NovasoftON-NS-P-13","ON-NS-P-13Software Novasoft",null,"Novasoft SAS","ON-NS-P-13","Software Novasoft","Novasoft SAS","COP","N/A","LICENCIA NOVASOFT- ERP INTEGRADO CON IMPUESTOS MPIO CAT   - 2","Paq x 50 usuarios","Prod","Servicio","Zonas (1,2,3)","Remoto y/o sitio","N/A","ON-NS-P-13","Unico Pago",833765000,1,1,"COP"]
["Novasoft SASSoftware NovasoftON-NS-P-14","ON-NS-P-14Software Novasoft",null,"Novasoft SAS","ON-NS-P-14","Software Novasoft","Novasoft SAS","COP","N/A","LICENCIA NOVASOFT- ERP INTEGRADO CON IMPUESTOS MPIO CAT  - 3","Paq x 30 usuarios","Prod","Servicio","Zonas (1,2,3)","Remoto y/o sitio","N/A","ON-NS-P-14","Unico Pago",708700250,1,1,"COP"]
["Novasoft SASSoftware NovasoftON-NS-P-15","ON-NS-P-15Software Novasoft",null,"Novasoft SAS","ON-NS-P-15","Software Novasoft","Novasoft SAS","COP","N/A","LICENCIA NOVASOFT- ERP INTEGRADO CON IMPUESTOS MPIO CAT   - 4","Paq x 15 usuarios","Prod","Servicio","Zonas (1,2,3)","Remoto y/o sitio","N/A","ON-NS-P-15","Unico Pago",510264180,1,1,"COP"]
["Novasoft SASSoftware NovasoftON-NS-S-01","ON-NS-S-01Software Novasoft",null,"Novasoft SAS","ON-NS-S-01","Software Novasoft","Novasoft SAS","COP","N/A","INSTALACION NOVASOFT -ENTERPRISE WEB ONPREMISE","8 horas","Prod","Servicio","Zonas (1,2,3)","Remoto y/o sitio","N/A","ON-NS-S-01","Unico Pago",1280000,1,1,"COP"]
["Novasoft SASSoftware NovasoftON-NS-S-02","ON-NS-S-02Software Novasoft",null,"Novasoft SAS","ON-NS-S-02","Software Novasoft","Novasoft SAS","COP","N/A","ACTUALIZACION Y SOPORTE ESTANDAR NOVASOFT - ERP ONPREMISE 1","Anual ","Prod","Servicio","Zonas (1,2,3)","Remoto y/o sitio","N/A","ON-NS-S-02","Unico Pago",51600000,1,1,"COP"]
["Novasoft SASSoftware NovasoftON-NS-S-03","ON-NS-S-03Software Novasoft",null,"Novasoft SAS","ON-NS-S-03","Software Novasoft","Novasoft SAS","COP","N/A","ACTUALIZACIÓN Y SOPORTE ESTÁNDAR MODULOS PRESUPUESTO DE INGRESOS Y GASTOS ONPREMISE","Anual ","Prod","Servicio","Zonas (1,2,3)","Remoto y/o sitio","N/A","ON-NS-S-03","Unico Pago",10400000,1,1,"COP"]
["Novasoft SASSoftware NovasoftON-NS-S-04","ON-NS-S-04Software Novasoft",null,"Novasoft SAS","ON-NS-S-04","Software Novasoft","Novasoft SAS","COP","N/A","ACTUALIZACIÓN Y SOPORTE ESTÁNDAR MODULO COMPRAS ONPREMISE ","Anual ","Prod","Servicio","Zonas (1,2,3)","Remoto y/o sitio","N/A","ON-NS-S-04","Unico Pago",6400000,1,1,"COP"]
["Novasoft SASSoftware NovasoftON-NS-S-05","ON-NS-S-05Software Novasoft",null,"Novasoft SAS","ON-NS-S-05","Software Novasoft","Novasoft SAS","COP","N/A","ACTUALIZACIÓN Y SOPORTE ESTÁNDAR MODULO CONTRATACIÓN ONPREMISE  ","Anual ","Prod","Servicio","Zonas (1,2,3)","Remoto y/o sitio","N/A","ON-NS-S-05","Unico Pago",6400000,1,1,"COP"]
["Novasoft SASSoftware NovasoftON-NS-S-06","ON-NS-S-06Software Novasoft",null,"Novasoft SAS","ON-NS-S-06","Software Novasoft","Novasoft SAS","COP","N/A","ACTUALIZACIÓN Y SOPORTE ESTÁNDAR ESTANDAR ONPREMISE 2 (Contabilidad, Tesorería, Facturación Proveedores, Cartera, Compras, Inventarios, Activos Fijos)  ","Anual ","Prod","Servicio","Zonas (1,2,3)","Remoto y/o sitio","N/A","ON-NS-S-06","Unico Pago",87720000,1,1,"COP"]
["Novasoft SASSoftware NovasoftON-NS-S-07","ON-NS-S-07Software Novasoft",null,"Novasoft SAS","ON-NS-S-07","Software Novasoft","Novasoft SAS","COP","N/A","ACTUALIZACIÓN Y SOPORTE ESTÁNDAR MODULO PQRS ONPREMISE  ","Anual ","Prod","Servicio","Zonas (1,2,3)","Remoto y/o sitio","N/A","ON-NS-S-07","Unico Pago",6400000,1,1,"COP"]
["Novasoft SASSoftware NovasoftON-NS-S-08","ON-NS-S-08Software Novasoft",null,"Novasoft SAS","ON-NS-S-08","Software Novasoft","Novasoft SAS","COP","N/A","ACTUALIZACIÓN Y SOPORTE ESTÁNDAR MODULO CARTERA FINANCIERA ONPREMISE","Anual ","Prod","Servicio","Zonas (1,2,3)","Remoto y/o sitio","N/A","ON-NS-S-08","Unico Pago",10400000,1,1,"COP"]
["Novasoft SASSoftware NovasoftON-NS-S-09","ON-NS-S-09Software Novasoft",null,"Novasoft SAS","ON-NS-S-09","Software Novasoft","Novasoft SAS","COP","N/A","ACTUALIZACIÓN Y SOPORTE ESTÁNDAR - ERP ESTANDAR ONPREMISE 1 (Inventarios, Activos Fijos, integración SIIF NACION) ","Anual ","Prod","Servicio","Zonas (1,2,3)","Remoto y/o sitio","N/A","ON-NS-S-09","Unico Pago",10400000,1,1,"COP"]
["Novasoft SASSoftware NovasoftON-NS-S-10","ON-NS-S-10Software Novasoft",null,"Novasoft SAS","ON-NS-S-10","Software Novasoft","Novasoft SAS","COP","N/A","ACTUALIZACIÓN Y SOPORTE ESTÁNDAR - ERP ESTANDAR ONPREMISE 1 (Inventarios, Activos Fijos) ","Anual ","Prod","Servicio","Zonas (1,2,3)","Remoto y/o sitio","N/A","ON-NS-S-10","Unico Pago",10400000,1,1,"COP"]
["Novasoft SASSoftware NovasoftON-NS-S-11","ON-NS-S-11Software Novasoft",null,"Novasoft SAS","ON-NS-S-11","Software Novasoft","Novasoft SAS","COP","N/A","ACTUALIZACIÓN Y SOPORTE ESTÁNDAR - ERP MODULO BANCO DE PROYECTOS","Paq x 15 usuarios","Prod","Servicio","Zonas (1,2,3)","Remoto y/o sitio","N/A","ON-NS-S-11","Unico Pago",32000000,1,1,"COP"]
["Novasoft SASSoftware NovasoftON-NS-S-12","ON-NS-S-12Software Novasoft",null,"Novasoft SAS","ON-NS-S-12","Software Novasoft","Novasoft SAS","COP","N/A","ACTUALIZACIÓN Y SOPORTE ESTÁNDAR -  ERP INTEGRADO CON IMPUESTOS MPIO CAT - ESPECIAL","Paq x 90 usuarios","Prod","Servicio","Zonas (1,2,3)","Remoto y/o sitio","N/A","ON-NS-S-12","Unico Pago",253880000,1,1,"COP"]
["Novasoft SASSoftware NovasoftON-NS-S-13","ON-NS-S-13Software Novasoft",null,"Novasoft SAS","ON-NS-S-13","Software Novasoft","Novasoft SAS","COP","N/A","ACTUALIZACIÓN Y SOPORTE ESTÁNDAR -  ERP INTEGRADO CON IMPUESTOS MPIO CAT  - 1","Paq x 70 usuarios","Prod","Servicio","Zonas (1,2,3)","Remoto y/o sitio","N/A","ON-NS-S-13","Unico Pago",215798000,1,1,"COP"]
["Novasoft SASSoftware NovasoftON-NS-S-14","ON-NS-S-14Software Novasoft",null,"Novasoft SAS","ON-NS-S-14","Software Novasoft","Novasoft SAS","COP","N/A","ACTUALIZACIÓN Y SOPORTE ESTÁNDAR -  ERP INTEGRADO CON IMPUESTOS MPIO CAT   - 2","Paq x 50 usuarios","Prod","Servicio","Zonas (1,2,3)","Remoto y/o sitio","N/A","ON-NS-S-14","Unico Pago",183428300,1,1,"COP"]
["Novasoft SASSoftware NovasoftON-NS-S-15","ON-NS-S-15Software Novasoft",null,"Novasoft SAS","ON-NS-S-15","Software Novasoft","Novasoft SAS","COP","N/A","ACTUALIZACIÓN Y SOPORTE ESTÁNDAR -  ERP INTEGRADO CON IMPUESTOS MPIO CAT  - 3","Paq x 30 usuarios","Prod","Servicio","Zonas (1,2,3)","Remoto y/o sitio","N/A","ON-NS-S-15","Unico Pago",155914055,1,1,"COP"]
["Novasoft SASSoftware NovasoftON-NS-S-16","ON-NS-S-16Software Novasoft",null,"Novasoft SAS","ON-NS-S-16","Software Novasoft","Novasoft SAS","COP","N/A","ACTUALIZACIÓN Y SOPORTE ESTÁNDAR -  ERP INTEGRADO CON IMPUESTOS MPIO CAT   - 4","Paq x 15 usuarios","Prod","Servicio","Zonas (1,2,3)","Remoto y/o sitio","N/A","ON-NS-S-16","Unico Pago",112258119.59999999,1,1,"COP"]
["Novasoft SASSoftware NovasoftON-NS-P-51","ON-NS-P-51Software Novasoft",null,"Novasoft SAS","ON-NS-P-51","Software Novasoft","Novasoft SAS","COP","N/A","LICENCIA NOVASOFT-NOMINA ESTANDAR ONPREMISE ","Licencia principal para 100 empleados","Prod","Servicio","Zonas\n(1,2,3)","Remoto y/o sitio","N/A","ON-NS-P-51","Unico Pago",20000000,1,1,"COP"]
["Novasoft SASSoftware NovasoftON-NS-P-52","ON-NS-P-52Software Novasoft",null,"Novasoft SAS","ON-NS-P-52","Software Novasoft","Novasoft SAS","COP","N/A","LICENCIA NOVASOFT-PORTAL ESTANDAR ONPREMISE ","Licencia principal para 100 empleados","Prod","Servicio","Zonas\n(1,2,3)","Remoto y/o sitio","N/A","ON-NS-P-52","Unico Pago",16000000,1,1,"COP"]
["Novasoft SASSoftware NovasoftON-NS-P-53","ON-NS-P-53Software Novasoft",null,"Novasoft SAS","ON-NS-P-53","Software Novasoft","Novasoft SAS","COP","N/A","LICENCIA NOVASOFT-GESTION HUMANA ESTANDAR ONPREMISE ","Licencia principal para 100 empleados","Prod","Servicio","Zonas\n(1,2,3)","Remoto y/o sitio","N/A","ON-NS-P-53","Unico Pago",20000000,1,1,"COP"]
["Novasoft SASSoftware NovasoftON-NS-P-54","ON-NS-P-54Software Novasoft",null,"Novasoft SAS","ON-NS-P-54","Software Novasoft","Novasoft SAS","COP","N/A","LICENCIA NOVASOFT-SEGURIDAD Y SALUD EN EL TRABAJO ESTANDAR ONPREMISE ","Licencia principal para 100 empleados","Prod","Servicio","Zonas\n(1,2,3)","Remoto y/o sitio","N/A","ON-NS-P-54","Unico Pago",20000000,1,1,"COP"]
["Novasoft SASSoftware NovasoftON-NS-P-55","ON-NS-P-55Software Novasoft",null,"Novasoft SAS","ON-NS-P-55","Software Novasoft","Novasoft SAS","COP","N/A","LICENCIA NOVASOFT-NOMINA ESTANDAR ONPREMISE ","Ampliacion Licencia 100 empleados","Prod","Servicio","Zonas\n(1,2,3)","Remoto y/o sitio","N/A","ON-NS-P-55","Unico Pago",3000000,1,1,"COP"]
["Novasoft SASSoftware NovasoftON-NS-P-56","ON-NS-P-56Software Novasoft",null,"Novasoft SAS","ON-NS-P-56","Software Novasoft","Novasoft SAS","COP","N/A","LICENCIA NOVASOFT-PORTAL ESTANDAR ONPREMISE ","Ampliacion Licencia 100 empleados","Prod","Servicio","Zonas\n(1,2,3)","Remoto y/o sitio","N/A","ON-NS-P-56","Unico Pago",2600000,1,1,"COP"]
["Novasoft SASSoftware NovasoftON-NS-P-57","ON-NS-P-57Software Novasoft",null,"Novasoft SAS","ON-NS-P-57","Software Novasoft","Novasoft SAS","COP","N/A","LICENCIA NOVASOFT-GESTION HUMANA ESTANDAR ONPREMISE ","Ampliacion Licencia 100 empleados","Prod","Servicio","Zonas\n(1,2,3)","Remoto y/o sitio","N/A","ON-NS-P-57","Unico Pago",3000000,1,1,"COP"]
["Novasoft SASSoftware NovasoftON-NS-P-58","ON-NS-P-58Software Novasoft",null,"Novasoft SAS","ON-NS-P-58","Software Novasoft","Novasoft SAS","COP","N/A","LICENCIA NOVASOFT-SEGURIDAD Y SALUD EN EL TRABAJO ESTANDAR ONPREMISE ","Ampliacion Licencia 100 empleados","Prod","Servicio","Zonas\n(1,2,3)","Remoto y/o sitio","N/A","ON-NS-P-58","Unico Pago",3000000,1,1,"COP"]
["Novasoft SASSoftware NovasoftON-NS-P-59","ON-NS-P-59Software Novasoft",null,"Novasoft SAS","ON-NS-P-59","Software Novasoft","Novasoft SAS","COP","N/A","LICENCIA NOVASOFT-Usuario SUITE DE TALENTO HUMANO","Usuario","Prod","Servicio","Zonas\n(1,2,3)","Remoto y/o sitio","N/A","ON-NS-P-59","Unico Pago",1000000,1,1,"COP"]
["Novasoft SASSoftware NovasoftON-NS-P-71","ON-NS-P-71Software Novasoft",null,"Novasoft SAS","ON-NS-P-71","Software Novasoft","Novasoft SAS","COP","N/A","ACTUALIZACION NOVASOFT-NOMINA ESTANDAR ONPREMISE ","Licencia principal para 100 empleados","Prod","Servicio","Zonas\n(1,2,3)","Remoto y/o sitio","N/A","ON-NS-P-71","Unico Pago",4000000,1,1,"COP"]
[{"$f":"D1057&F1057&E1057","v":"Novasoft SASSoftware NovasoftON-NS-P-22"},{"$f":"E1057&F1057","v":"ON-NS-P-22Software Novasoft"},null,"Novasoft SAS","ON-NS-P-22","Software Novasoft",{"$f":"D1057","v":"Novasoft SAS"},"COP","N/A","ACTUALIZACION NOVASOFT-PORTAL ESTANDAR ONPREMISE ","Licencia principal para 100 empleados","Prod","Servicio","Zonas\n(1,2,3)","Remoto y/o sitio","N/A",{"$f":"+E1057","v":"ON-NS-P-22"},"Unico Pago",3200000,1,1,"COP"]
["Novasoft SASSoftware NovasoftON-NS-P-73","ON-NS-P-73Software Novasoft",null,"Novasoft SAS","ON-NS-P-73","Software Novasoft","Novasoft SAS","COP","N/A","ACTUALIZACION NOVASOFT-GESTION HUMANA ESTANDAR ONPREMISE ","Licencia principal para 100 empleados","Prod","Servicio","Zonas\n(1,2,3)","Remoto y/o sitio","N/A","ON-NS-P-73","Unico Pago",4000000,1,1,"COP"]
["Novasoft SASSoftware NovasoftON-NS-P-74","ON-NS-P-74Software Novasoft",null,"Novasoft SAS","ON-NS-P-74","Software Novasoft","Novasoft SAS","COP","N/A","ACTUALIZACION NOVASOFT-SEGURIDAD Y SALUD EN EL TRABAJO ESTANDAR ONPREMISE ","Licencia principal para 100 empleados","Prod","Servicio","Zonas\n(1,2,3)","Remoto y/o sitio","N/A","ON-NS-P-74","Unico Pago",4000000,1,1,"COP"]
["Novasoft SASSoftware NovasoftON-NS-P-75","ON-NS-P-75Software Novasoft",null,"Novasoft SAS","ON-NS-P-75","Software Novasoft","Novasoft SAS","COP","N/A","ACTUALIZACION NOVASOFT-NOMINA ESTANDAR ONPREMISE ","Ampliacion Licencia 100 empleados","Prod","Servicio","Zonas\n(1,2,3)","Remoto y/o sitio","N/A","ON-NS-P-75","Unico Pago",670000,1,1,"COP"]
["Novasoft SASSoftware NovasoftON-NS-P-76","ON-NS-P-76Software Novasoft",null,"Novasoft SAS","ON-NS-P-76","Software Novasoft","Novasoft SAS","COP","N/A","ACTUALIZACION NOVASOFT-PORTAL ESTANDAR ONPREMISE ","Ampliacion Licencia 100 empleados","Prod","Servicio","Zonas\n(1,2,3)","Remoto y/o sitio","N/A","ON-NS-P-76","Unico Pago",520000,1,1,"COP"]
["Novasoft SASSoftware NovasoftON-NS-P-77","ON-NS-P-77Software Novasoft",null,"Novasoft SAS","ON-NS-P-77","Software Novasoft","Novasoft SAS","COP","N/A","ACTUALIZACION NOVASOFT-GESTION HUMANA ESTANDAR ONPREMISE ","Ampliacion Licencia 100 empleados","Prod","Servicio","Zonas\n(1,2,3)","Remoto y/o sitio","N/A","ON-NS-P-77","Unico Pago",670000,1,1,"COP"]
["Novasoft SASSoftware NovasoftON-NS-P-78","ON-NS-P-78Software Novasoft",null,"Novasoft SAS","ON-NS-P-78","Software Novasoft","Novasoft SAS","COP","N/A","ACTUALIZACION NOVASOFT-SEGURIDAD Y SALUD EN EL TRABAJO ESTANDAR ONPREMISE ","Ampliacion Licencia 100 empleados","Prod","Servicio","Zonas\n(1,2,3)","Remoto y/o sitio","N/A","ON-NS-P-78","Unico Pago",670000,1,1,"COP"]
["Novasoft SASSoftware NovasoftON-NS-P-79","ON-NS-P-79Software Novasoft",null,"Novasoft SAS","ON-NS-P-79","Software Novasoft","Novasoft SAS","COP","N/A","ACTUALIZACION LICENCIA NOVASOFT-Usuario SUITE DE TALENTO HUMANO","Usuario","Prod","Servicio","Zonas\n(1,2,3)","Remoto y/o sitio","N/A","ON-NS-P-79","Unico Pago",200000,1,1,"COP"]
["Novasoft SASSoftware NovasoftSA-NS-S-01","SA-NS-S-01Software Novasoft",null,"Novasoft SAS","SA-NS-S-01","Software Novasoft","Novasoft SAS","COP","N/A","NOVASOFT-ERP-SAAS- ESTANDAR SAAS (Inventarios, Activos Fijos, Componente Financiero integración SIIF NACION)","Suscripción Mensual hasta 15 usuarios","Serv","Servicio","Zonas (1,2,3)","Remoto y/o sitio","N/A","SA-NS-S-01","Suscripción mensual con pago anual",10750000,1,0,"COP"]
["Novasoft SASSoftware NovasoftSA-NS-S-02","SA-NS-S-02Software Novasoft",null,"Novasoft SAS","SA-NS-S-02","Software Novasoft","Novasoft SAS","COP","N/A","NOVASOFT-ERP-SAAS- ESTANDAR SAAS 1 (Inventarios, Activos Fijos, integración SIIF NACION) ","Suscripción Mensual hasta 5 usuarios","Serv","Servicio","Zonas (1,2,3)","Remoto y/o sitio","N/A","SA-NS-S-02","Suscripción mensual con pago anual",2147000,1,0,"COP"]
["Novasoft SASSoftware NovasoftSA-NS-S-03","SA-NS-S-03Software Novasoft",null,"Novasoft SAS","SA-NS-S-03","Software Novasoft","Novasoft SAS","COP","N/A","NOVASOFT-ERP-SAAS- ESTANDAR SAAS 1 (Inventarios, Activos Fijos) ","Suscripción Mensual hasta 5 usuarios","Serv","Servicio","Zonas (1,2,3)","Remoto y/o sitio","N/A","SA-NS-S-03","Suscripción mensual con pago anual",2000000,1,0,"COP"]
["Novasoft SASSoftware NovasoftSA-NS-S-04","SA-NS-S-04Software Novasoft",null,"Novasoft SAS","SA-NS-S-04","Software Novasoft","Novasoft SAS","COP","N/A","NOVASOFT-ERP-SAAS- MODULOS PRESUPUESTO DE INGRESOS Y GASTOS SAAS","Suscripción Mensual","Serv","Servicio","Zonas (1,2,3)","Remoto y/o sitio","N/A","SA-NS-S-04","Suscripción mensual con pago anual",3000000,1,0,"COP"]
["Novasoft SASSoftware NovasoftSA-NS-S-05","SA-NS-S-05Software Novasoft",null,"Novasoft SAS","SA-NS-S-05","Software Novasoft","Novasoft SAS","COP","N/A","NOVASOFT-ERP-SAAS- MODULO COMPRAS SAAS","Suscripción Mensual","Serv","Servicio","Zonas (1,2,3)","Remoto y/o sitio","N/A","SA-NS-S-05","Suscripción mensual con pago anual",1500000,1,0,"COP"]
["Novasoft SASSoftware NovasoftSA-NS-S-06","SA-NS-S-06Software Novasoft",null,"Novasoft SAS","SA-NS-S-06","Software Novasoft","Novasoft SAS","COP","N/A","NOVASOFT-ERP-SAAS- MODULO CONTRATACIÓN SAAS","Suscripción Mensual","Serv","Servicio","Zonas (1,2,3)","Remoto y/o sitio","N/A","SA-NS-S-06","Suscripción mensual con pago anual",1500000,1,0,"COP"]
["Novasoft SASSoftware NovasoftSA-NS-S-07","SA-NS-S-07Software Novasoft",null,"Novasoft SAS","SA-NS-S-07","Software Novasoft","Novasoft SAS","COP","N/A","NOVASOFT-ERP-SAAS- NIT ADICIONAL BASE DE DATOS SAAS","Suscripción Mensual","Serv","Servicio","Zonas (1,2,3)","Remoto y/o sitio","N/A","SA-NS-S-07","Suscripción mensual con pago anual",500000,1,0,"COP"]
["Novasoft SASSoftware NovasoftSA-NS-S-08","SA-NS-S-08Software Novasoft",null,"Novasoft SAS","SA-NS-S-08","Software Novasoft","Novasoft SAS","COP","N/A","NOVASOFT-ERP-SAAS- USUARIO ADICIONAL BASE DE DATOS SAAS","Suscripción Mensual","Serv","Servicio","Zonas (1,2,3)","Remoto y/o sitio","N/A","SA-NS-S-08","Suscripción mensual con pago anual",302000,1,0,"COP"]
["Novasoft SASSoftware NovasoftSA-NS-S-09","SA-NS-S-09Software Novasoft",null,"Novasoft SAS","SA-NS-S-09","Software Novasoft","Novasoft SAS","COP","N/A","NOVASOFT-ERP-SAAS- ESTANDAR SAAS (Contabilidad, Tesorería, Proveedores, Cartera, Compras, Inventarios, Activos Fijos)","Suscripción Mensual hasta 15 usuarios","Serv","Servicio","Zonas (1,2,3)","Remoto y/o sitio","N/A","SA-NS-S-09","Suscripción mensual con pago anual",18275000,1,0,"COP"]
["Novasoft SASSoftware NovasoftSA-NS-S-10","SA-NS-S-10Software Novasoft",null,"Novasoft SAS","SA-NS-S-10","Software Novasoft","Novasoft SAS","COP","N/A","NOVASOFT-ERP-SAAS- MODULO PQRS SAAS","Suscripción Mensual","Serv","Servicio","Zonas (1,2,3)","Remoto y/o sitio","N/A","SA-NS-S-10","Suscripción mensual con pago anual",1500000,1,0,"COP"]
["Novasoft SASSoftware NovasoftSA-NS-S-11","SA-NS-S-11Software Novasoft",null,"Novasoft SAS","SA-NS-S-11","Software Novasoft","Novasoft SAS","COP","N/A","NOVASOFT-ERP-SAAS- MODULO CARTERA FINANCIERA SAAS","Suscripción Mensual","Serv","Servicio","Zonas (1,2,3)","Remoto y/o sitio","N/A","SA-NS-S-11","Suscripción mensual con pago anual",3000000,1,0,"COP"]
["Novasoft SASSoftware NovasoftSA-NS-S-12","SA-NS-S-12Software Novasoft",null,"Novasoft SAS","SA-NS-S-12","Software Novasoft","Novasoft SAS","COP","N/A","NOVASOFT-ERP NIT ADICIONAL BASE DE DATOS SaaS","Nit","Prod","Servicio","Zonas (1,2,3)","Remoto y/o sitio","N/A","SA-NS-S-12","Suscripción mensual con pago anual",320000,1,0,"COP"]
["Novasoft SASSoftware NovasoftSA-NS-S-13","SA-NS-S-13Software Novasoft",null,"Novasoft SAS","SA-NS-S-13","Software Novasoft","Novasoft SAS","COP","N/A","NOVASOFT-ERP USUARIO ADICIONAL BASE DE DATOS SaaS","usuario","Prod","Servicio","Zonas (1,2,3)","Remoto y/o sitio","N/A","SA-NS-S-13","Suscripción mensual con pago anual",200000,1,0,"COP"]
["Novasoft SASSoftware NovasoftSA-NS-S-14","SA-NS-S-14Software Novasoft",null,"Novasoft SAS","SA-NS-S-14","Software Novasoft","Novasoft SAS","COP","N/A","HABILITACION NOVASOFT-ERP SaaS","8 horas","Serv","Servicio","Zonas (1,2,3)","Remoto","N/A","SA-NS-S-14","Unico Pago",1280000,1,1,"COP"]
["Novasoft SASSoftware NovasoftSA-NS-S-15","SA-NS-S-15Software Novasoft",null,"Novasoft SAS","SA-NS-S-15","Software Novasoft","Novasoft SAS","COP","N/A","MIGRACIÓN DE INFORMACIÓN POR VOLUMEN DE DATOS ALMACENADOS NOVASOFT-ERP","Hora","Serv","Servicio","Zonas (1,2,3)","Remoto y/o sitio","N/A","SA-NS-S-15","Mensual por servicios efectivamente prestados",187000,1,1,"COP"]
["Novasoft SASSoftware NovasoftSA-NS-S-16","SA-NS-S-16Software Novasoft",null,"Novasoft SAS","SA-NS-S-16","Software Novasoft","Novasoft SAS","COP","N/A","NOVASOFT-ERP - SAAS - ERP MODULO BANCO DE PROYECTOS","Suscripción Mensual hasta Paq x 15 usuarios","Serv","Servicio","Zonas (1,2,3)","Remoto y/o sitio","N/A","SA-NS-S-16","Suscripción mensual con pago anual",2147000,1,0,"COP"]
["Novasoft SASSoftware NovasoftSA-NS-S-17","SA-NS-S-17Software Novasoft",null,"Novasoft SAS","SA-NS-S-17","Software Novasoft","Novasoft SAS","COP","N/A","NOVASOFT-ERP - SAAS  - ERP INTEGRADO CON IMPUESTOS MPIO CAT - ESPECIAL","Suscripción Mensual hasta 90 usuarios","Serv","Servicio","Zonas (1,2,3)","Remoto y/o sitio","N/A","SA-NS-S-17","Suscripción mensual con pago anual",46946567,1,0,"COP"]
["Novasoft SASSoftware NovasoftSA-NS-S-18","SA-NS-S-18Software Novasoft",null,"Novasoft SAS","SA-NS-S-18","Software Novasoft","Novasoft SAS","COP","N/A","NOVASOFT-ERP - SAAS  - ERP INTEGRADO CON IMPUESTOS MPIO CAT  - 1","Suscripción Mensual hasta 70 usuarios","Serv","Servicio","Zonas (1,2,3)","Remoto y/o sitio","N/A","SA-NS-S-18","Suscripción mensual con pago anual",42500000,1,0,"COP"]
["Novasoft SASSoftware NovasoftSA-NS-S-19","SA-NS-S-19Software Novasoft",null,"Novasoft SAS","SA-NS-S-19","Software Novasoft","Novasoft SAS","COP","N/A","NOVASOFT-ERP - SAAS  - ERP INTEGRADO CON IMPUESTOS MPIO CAT   - 2","Suscripción Mensual hasta 50 usuarios","Serv","Servicio","Zonas (1,2,3)","Remoto y/o sitio","N/A","SA-NS-S-19","Suscripción mensual con pago anual",35700000,1,0,"COP"]
["Novasoft SASSoftware NovasoftSA-NS-S-20","SA-NS-S-20Software Novasoft",null,"Novasoft SAS","SA-NS-S-20","Software Novasoft","Novasoft SAS","COP","N/A","NOVASOFT-ERP - SAAS  - ERP INTEGRADO CON IMPUESTOS MPIO CAT  - 3","Suscripción Mensual hasta 30 usuarios","Serv","Servicio","Zonas (1,2,3)","Remoto y/o sitio","N/A","SA-NS-S-20","Suscripción mensual con pago anual",27750000,1,0,"COP"]
["Novasoft SASSoftware NovasoftSA-NS-S-21","SA-NS-S-21Software Novasoft",null,"Novasoft SAS","SA-NS-S-21","Software Novasoft","Novasoft SAS","COP","N/A","NOVASOFT-ERP - SAAS  - ERP INTEGRADO CON IMPUESTOS MPIO CAT   - 4","Suscripción Mensual hasta 15 usuarios","Serv","Servicio","Zonas (1,2,3)","Remoto y/o sitio","N/A","SA-NS-S-21","Suscripción mensual con pago anual",25700000,1,0,"COP"]
["Novasoft SASSoftware NovasoftSA-NS-S-51","SA-NS-S-51Software Novasoft",null,"Novasoft SAS","SA-NS-S-51","Software Novasoft","Novasoft SAS","COP","N/A","NOVASOFT-NOMINA ESTANDAR Saas","Licencia principal para 100 empleados","Prod","Servicio","Zonas\n(1,2,3)","Remoto y/o sitio","N/A","SA-NS-S-51","Suscripción mensual con pago anual",3000000,1,0,"COP"]
["Novasoft SASSoftware NovasoftSA-NS-S-52","SA-NS-S-52Software Novasoft",null,"Novasoft SAS","SA-NS-S-52","Software Novasoft","Novasoft SAS","COP","N/A","NOVASOFT-PORTAL ESTANDAR Saas","Licencia principal para 100 empleados","Prod","Servicio","Zonas\n(1,2,3)","Remoto y/o sitio","N/A","SA-NS-S-52","Suscripción mensual con pago anual",3000000,1,0,"COP"]
["Novasoft SASSoftware NovasoftSA-NS-S-53","SA-NS-S-53Software Novasoft",null,"Novasoft SAS","SA-NS-S-53","Software Novasoft","Novasoft SAS","COP","N/A","NOVASOFT-GESTION HUMANA ESTANDAR Saas","Licencia principal para 100 empleados","Prod","Servicio","Zonas\n(1,2,3)","Remoto y/o sitio","N/A","SA-NS-S-53","Suscripción mensual con pago anual",3000000,1,0,"COP"]
["Novasoft SASSoftware NovasoftSA-NS-S-54","SA-NS-S-54Software Novasoft",null,"Novasoft SAS","SA-NS-S-54","Software Novasoft","Novasoft SAS","COP","N/A","NOVASOFT-SEGURIDAD Y SALUD EN EL TRABAJO Estandar Saas","Licencia principal para 100 empleados","Prod","Servicio","Zonas\n(1,2,3)","Remoto y/o sitio","N/A","SA-NS-S-54","Suscripción mensual con pago anual",3000000,1,0,"COP"]
["Novasoft SASSoftware NovasoftSA-NS-S-55","SA-NS-S-55Software Novasoft",null,"Novasoft SAS","SA-NS-S-55","Software Novasoft","Novasoft SAS","COP","N/A","NOVASOFT-NOMINA ESTANDAR Saas","Ampliacion Licencia 100 empleados","Prod","Servicio","Zonas\n(1,2,3)","Remoto y/o sitio","N/A","SA-NS-S-55","Suscripción mensual con pago anual",170000,1,0,"COP"]
["Novasoft SASSoftware NovasoftSA-NS-S-56","SA-NS-S-56Software Novasoft",null,"Novasoft SAS","SA-NS-S-56","Software Novasoft","Novasoft SAS","COP","N/A","NOVASOFT-PORTAL ESTANDAR Saas","Ampliacion Licencia 100 empleados","Prod","Servicio","Zonas\n(1,2,3)","Remoto y/o sitio","N/A","SA-NS-S-56","Suscripción mensual con pago anual",170000,1,0,"COP"]
["Novasoft SASSoftware NovasoftSA-NS-S-57","SA-NS-S-57Software Novasoft",null,"Novasoft SAS","SA-NS-S-57","Software Novasoft","Novasoft SAS","COP","N/A","NOVASOFT-GESTION HUMANA ESTANDAR Saas","Ampliacion Licencia 100 empleados","Prod","Servicio","Zonas\n(1,2,3)","Remoto y/o sitio","N/A","SA-NS-S-57","Suscripción mensual con pago anual",170000,1,0,"COP"]
["Novasoft SASSoftware NovasoftSA-NS-S-58","SA-NS-S-58Software Novasoft",null,"Novasoft SAS","SA-NS-S-58","Software Novasoft","Novasoft SAS","COP","N/A","NOVASOFT-SEGURIDAD Y SALUD EN EL TRABAJO Estandar Saas","Ampliacion Licencia 100 empleados","Prod","Servicio","Zonas\n(1,2,3)","Remoto y/o sitio","N/A","SA-NS-S-58","Suscripción mensual con pago anual",170000,1,0,"COP"]
["Novasoft SASSoftware NovasoftSA-NS-S-59","SA-NS-S-59Software Novasoft",null,"Novasoft SAS","SA-NS-S-59","Software Novasoft","Novasoft SAS","COP","N/A","NOVASOFT -SUITE DE TALENTO HUMANO Saas","Usuario","Prod","Servicio","Zonas\n(1,2,3)","Remoto y/o sitio","N/A","SA-NS-S-59","Suscripción mensual con pago anual",200000,1,0,"COP"]
["Novasoft SASSoftware NovasoftIT-SI-01-01","IT-SI-01-01Software Novasoft",null,"Novasoft SAS","IT-SI-01-01","Software Novasoft","Novasoft SAS","COP","N/A","IMPLEMENTACION - ERP INTEGRADO CON IMPUESTOS MPIO CAT - ESPECIAL","Paq x 90 usuarios","Serv","Servicio","Zonas\n(1,2,3)","Remoto y/o sitio","N/A","IT-SI-01-01","Unico Pago",903265216,1,1,"COP"]
["Novasoft SASSoftware NovasoftIT-SI-01-02","IT-SI-01-02Software Novasoft",null,"Novasoft SAS","IT-SI-01-02","Software Novasoft","Novasoft SAS","COP","N/A","IMPLEMENTACION - ERP INTEGRADO CON IMPUESTOS MPIO CAT  - 1","Paq x 70 usuarios","Serv","Servicio","Zonas\n(1,2,3)","Remoto y/o sitio","N/A","IT-SI-01-02","Unico Pago",767775434,1,1,"COP"]
["Novasoft SASSoftware NovasoftIT-SI-01-03","IT-SI-01-03Software Novasoft",null,"Novasoft SAS","IT-SI-01-03","Software Novasoft","Novasoft SAS","COP","N/A","IMPLEMENTACION - ERP INTEGRADO CON IMPUESTOS MPIO CAT   - 2","Paq x 50 usuarios","Serv","Servicio","Zonas\n(1,2,3)","Remoto y/o sitio","N/A","IT-SI-01-03","Unico Pago",652609119,1,1,"COP"]
["Novasoft SASSoftware NovasoftIT-SI-01-04","IT-SI-01-04Software Novasoft",null,"Novasoft SAS","IT-SI-01-04","Software Novasoft","Novasoft SAS","COP","N/A","IMPLEMENTACION - ERP INTEGRADO CON IMPUESTOS MPIO CAT  - 3","Paq x 30 usuarios","Serv","Servicio","Zonas\n(1,2,3)","Remoto y/o sitio","N/A","IT-SI-01-04","Unico Pago",554717751,1,1,"COP"]
["Novasoft SASSoftware NovasoftIT-SI-01-05","IT-SI-01-05Software Novasoft",null,"Novasoft SAS","IT-SI-01-05","Software Novasoft","Novasoft SAS","COP","N/A","IMPLEMENTACION - ERP INTEGRADO CON IMPUESTOS MPIO CAT   - 4","Paq x 15 usuarios","Serv","Servicio","Zonas\n(1,2,3)","Remoto y/o sitio","N/A","IT-SI-01-05","Unico Pago",399396781,1,1,"COP"]
["Novasoft SASSoftware NovasoftIT-SW-01-01","IT-SW-01-01Software Novasoft",null,"Novasoft SAS","IT-SW-01-01","Software Novasoft","Novasoft SAS","COP","N/A","Capacitación para usuario final - hasta 10 Personas.  ","Por sesión de capacitación de 4 horas para un grupo de hasta 10 personas.","Serv","Servicio","Zona 1","Remoto","Capacitador","IT-SW-01-01","Mensual por servicios efectivamente prestados",705000,1,1,"COP"]
["Novasoft SASSoftware NovasoftIT-SW-01-02","IT-SW-01-02Software Novasoft",null,"Novasoft SAS","IT-SW-01-02","Software Novasoft","Novasoft SAS","COP","N/A","Capacitación para usuario final - hasta 10 Personas.  ","Por sesión de capacitación de 4 horas para un grupo de hasta 10 personas.","Serv","Servicio","Zona 1","Sitio","Capacitador","IT-SW-01-02","Mensual por servicios efectivamente prestados",1015000,1,1,"COP"]
["Novasoft SASSoftware NovasoftIT-SW-01-03","IT-SW-01-03Software Novasoft",null,"Novasoft SAS","IT-SW-01-03","Software Novasoft","Novasoft SAS","COP","N/A","Capacitación para usuario final - hasta 10 Personas.  ","Por sesión de capacitación de 4 horas para un grupo de hasta 10 personas.","Serv","Servicio","Zona 2","Remoto","Capacitador","IT-SW-01-03","Mensual por servicios efectivamente prestados",705000,1,1,"COP"]
["Novasoft SASSoftware NovasoftIT-SW-01-04","IT-SW-01-04Software Novasoft",null,"Novasoft SAS","IT-SW-01-04","Software Novasoft","Novasoft SAS","COP","N/A","Capacitación para usuario final - hasta 10 Personas.  ","Por sesión de capacitación de 4 horas para un grupo de hasta 10 personas.","Serv","Servicio","Zona 2","Sitio","Capacitador","IT-SW-01-04","Mensual por servicios efectivamente prestados",1024000,1,1,"COP"]
["Novasoft SASSoftware NovasoftIT-SW-01-05","IT-SW-01-05Software Novasoft",null,"Novasoft SAS","IT-SW-01-05","Software Novasoft","Novasoft SAS","COP","N/A","Capacitación para usuario final - hasta 10 Personas.  ","Por sesión de capacitación de 4 horas para un grupo de hasta 10 personas.","Serv","Servicio","Zona 3","Remoto","Capacitador","IT-SW-01-05","Mensual por servicios efectivamente prestados",705000,1,1,"COP"]
["Novasoft SASSoftware NovasoftIT-SW-01-06","IT-SW-01-06Software Novasoft",null,"Novasoft SAS","IT-SW-01-06","Software Novasoft","Novasoft SAS","COP","N/A","Capacitación para usuario final - hasta 10 Personas.  ","Por sesión de capacitación de 4 horas para un grupo de hasta 10 personas.","Serv","Servicio","Zona 3","Sitio","Capacitador","IT-SW-01-06","Mensual por servicios efectivamente prestados",1152000,1,1,"COP"]
["Novasoft SASSoftware NovasoftIT-SW-02-01","IT-SW-02-01Software Novasoft",null,"Novasoft SAS","IT-SW-02-01","Software Novasoft","Novasoft SAS","COP","N/A","Capacitación para usuario final hasta 20 Personas.  ","Por sesión de capacitación de 4 horas para un grupo de hasta 20 personas.","Serv","Servicio","Zona 1","Remoto","Capacitador","IT-SW-02-01","Mensual por servicios efectivamente prestados",705000,1,1,"COP"]
["Novasoft SASSoftware NovasoftIT-SW-02-02","IT-SW-02-02Software Novasoft",null,"Novasoft SAS","IT-SW-02-02","Software Novasoft","Novasoft SAS","COP","N/A","Capacitación para usuario final hasta 20 Personas.  ","Por sesión de capacitación de 4 horas para un grupo de hasta 20 personas.","Serv","Servicio","Zona 1","Sitio","Capacitador","IT-SW-02-02","Mensual por servicios efectivamente prestados",1415000,1,1,"COP"]
["Novasoft SASSoftware NovasoftIT-SW-02-03","IT-SW-02-03Software Novasoft",null,"Novasoft SAS","IT-SW-02-03","Software Novasoft","Novasoft SAS","COP","N/A","Capacitación para usuario final hasta 20 Personas.  ","Por sesión de capacitación de 4 horas para un grupo de hasta 20 personas.","Serv","Servicio","Zona 2","Remoto","Capacitador","IT-SW-02-03","Mensual por servicios efectivamente prestados",705000,1,1,"COP"]
["Novasoft SASSoftware NovasoftIT-SW-02-04","IT-SW-02-04Software Novasoft",null,"Novasoft SAS","IT-SW-02-04","Software Novasoft","Novasoft SAS","COP","N/A","Capacitación para usuario final hasta 20 Personas.  ","Por sesión de capacitación de 4 horas para un grupo de hasta 20 personas.","Serv","Servicio","Zona 2","Sitio","Capacitador","IT-SW-02-04","Mensual por servicios efectivamente prestados",1024000,1,1,"COP"]
["Novasoft SASSoftware NovasoftIT-SW-02-05","IT-SW-02-05Software Novasoft",null,"Novasoft SAS","IT-SW-02-05","Software Novasoft","Novasoft SAS","COP","N/A","Capacitación para usuario final hasta 20 Personas.  ","Por sesión de capacitación de 4 horas para un grupo de hasta 20 personas.","Serv","Servicio","Zona 3","Remoto","Capacitador","IT-SW-02-05","Mensual por servicios efectivamente prestados",705000,1,1,"COP"]
["Novasoft SASSoftware NovasoftIT-SW-02-06","IT-SW-02-06Software Novasoft",null,"Novasoft SAS","IT-SW-02-06","Software Novasoft","Novasoft SAS","COP","N/A","Capacitación para usuario final hasta 20 Personas.  ","Por sesión de capacitación de 4 horas para un grupo de hasta 20 personas.","Serv","Servicio","Zona 3","Sitio","Capacitador","IT-SW-02-06","Mensual por servicios efectivamente prestados",1152000,1,1,"COP"]
["Novasoft SASSoftware NovasoftIT-SW-03-01","IT-SW-03-01Software Novasoft",null,"Novasoft SAS","IT-SW-03-01","Software Novasoft","Novasoft SAS","COP","N/A","Capacitación para usuario técnico o administrador - hasta 10 Personas.  ","Por sesión de capacitación de 4 horas para un grupo de hasta 10 personas.","Serv","Servicio","Zona 1","Remoto","Capacitador","IT-SW-03-01","Mensual por servicios efectivamente prestados",705000,1,1,"COP"]
["Novasoft SASSoftware NovasoftIT-SW-03-02","IT-SW-03-02Software Novasoft",null,"Novasoft SAS","IT-SW-03-02","Software Novasoft","Novasoft SAS","COP","N/A","Capacitación para usuario técnico o administrador - hasta 10 Personas.  ","Por sesión de capacitación de 4 horas para un grupo de hasta 10 personas.","Serv","Servicio","Zona 1","Sitio","Capacitador","IT-SW-03-02","Mensual por servicios efectivamente prestados",1260000,1,1,"COP"]
["Novasoft SASSoftware NovasoftIT-SW-03-03","IT-SW-03-03Software Novasoft",null,"Novasoft SAS","IT-SW-03-03","Software Novasoft","Novasoft SAS","COP","N/A","Capacitación para usuario técnico o administrador - hasta 10 Personas.  ","Por sesión de capacitación de 4 horas para un grupo de hasta 10 personas.","Serv","Servicio","Zona 2","Remoto","Capacitador","IT-SW-03-03","Mensual por servicios efectivamente prestados",705000,1,1,"COP"]
["Novasoft SASSoftware NovasoftIT-SW-03-04","IT-SW-03-04Software Novasoft",null,"Novasoft SAS","IT-SW-03-04","Software Novasoft","Novasoft SAS","COP","N/A","Capacitación para usuario técnico o administrador - hasta 10 Personas.  ","Por sesión de capacitación de 4 horas para un grupo de hasta 10 personas.","Serv","Servicio","Zona 2","Sitio","Capacitador","IT-SW-03-04","Mensual por servicios efectivamente prestados",1024000,1,1,"COP"]
["Novasoft SASSoftware NovasoftIT-SW-03-05","IT-SW-03-05Software Novasoft",null,"Novasoft SAS","IT-SW-03-05","Software Novasoft","Novasoft SAS","COP","N/A","Capacitación para usuario técnico o administrador - hasta 10 Personas.  ","Por sesión de capacitación de 4 horas para un grupo de hasta 10 personas.","Serv","Servicio","Zona 3","Remoto","Capacitador","IT-SW-03-05","Mensual por servicios efectivamente prestados",705000,1,1,"COP"]
["Novasoft SASSoftware NovasoftIT-SW-03-06","IT-SW-03-06Software Novasoft",null,"Novasoft SAS","IT-SW-03-06","Software Novasoft","Novasoft SAS","COP","N/A","Capacitación para usuario técnico o administrador - hasta 10 Personas.  ","Por sesión de capacitación de 4 horas para un grupo de hasta 10 personas.","Serv","Servicio","Zona 3","Sitio","Capacitador","IT-SW-03-06","Mensual por servicios efectivamente prestados",1152000,1,1,"COP"]
["Novasoft SASSoftware NovasoftIT-SW-04-01","IT-SW-04-01Software Novasoft",null,"Novasoft SAS","IT-SW-04-01","Software Novasoft","Novasoft SAS","COP","N/A","Capacitación para usuario técnico o administrador hasta 20 Personas.  ","Por sesión de capacitación de 4 horas para un grupo de hasta 20 personas.","Serv","Servicio","Zona 1","Remoto","Capacitador","IT-SW-04-01","Mensual por servicios efectivamente prestados",705000,1,1,"COP"]
["Novasoft SASSoftware NovasoftIT-SW-04-02","IT-SW-04-02Software Novasoft",null,"Novasoft SAS","IT-SW-04-02","Software Novasoft","Novasoft SAS","COP","N/A","Capacitación para usuario técnico o administrador hasta 20 Personas.  ","Por sesión de capacitación de 4 horas para un grupo de hasta 20 personas.","Serv","Servicio","Zona 1","Sitio","Capacitador","IT-SW-04-02","Mensual por servicios efectivamente prestados",1570000,1,1,"COP"]
["Novasoft SASSoftware NovasoftIT-SW-04-03","IT-SW-04-03Software Novasoft",null,"Novasoft SAS","IT-SW-04-03","Software Novasoft","Novasoft SAS","COP","N/A","Capacitación para usuario técnico o administrador hasta 20 Personas.  ","Por sesión de capacitación de 4 horas para un grupo de hasta 20 personas.","Serv","Servicio","Zona 2","Remoto","Capacitador","IT-SW-04-03","Mensual por servicios efectivamente prestados",705000,1,1,"COP"]
[{"$f":"D1121&F1121&E1121","v":"Novasoft SASSoftware NovasoftIT-SW-04-04"},{"$f":"E1121&F1121","v":"IT-SW-04-04Software Novasoft"},null,"Novasoft SAS","IT-SW-04-04","Software Novasoft",{"$f":"D1121","v":"Novasoft SAS"},"COP","N/A","Capacitación para usuario técnico o administrador hasta 20 Personas.  ","Por sesión de capacitación de 4 horas para un grupo de hasta 20 personas.","Serv","Servicio","Zona 2","Sitio","Capacitador",{"$f":"+E1121","v":"IT-SW-04-04"},"Mensual por servicios efectivamente prestados",1024000,1,1,"COP"]
["Novasoft SASSoftware NovasoftIT-SW-04-05","IT-SW-04-05Software Novasoft",null,"Novasoft SAS","IT-SW-04-05","Software Novasoft","Novasoft SAS","COP","N/A","Capacitación para usuario técnico o administrador hasta 20 Personas.  ","Por sesión de capacitación de 4 horas para un grupo de hasta 20 personas.","Serv","Servicio","Zona 3","Remoto","Capacitador","IT-SW-04-05","Mensual por servicios efectivamente prestados",705000,1,1,"COP"]
["Novasoft SASSoftware NovasoftIT-SW-04-06","IT-SW-04-06Software Novasoft",null,"Novasoft SAS","IT-SW-04-06","Software Novasoft","Novasoft SAS","COP","N/A","Capacitación para usuario técnico o administrador hasta 20 Personas.  ","Por sesión de capacitación de 4 horas para un grupo de hasta 20 personas.","Serv","Servicio","Zona 3","Sitio","Capacitador","IT-SW-04-06","Mensual por servicios efectivamente prestados",1152000,1,1,"COP"]
["Novasoft SASSoftware NovasoftIT-SW-05-01","IT-SW-05-01Software Novasoft",null,"Novasoft SAS","IT-SW-05-01","Software Novasoft","Novasoft SAS","COP","N/A","Configuración y parametrización de los Productos ","Hora","Serv","Servicio","Zona 1","Remoto","Profesional","IT-SW-05-01","Mensual por servicios efectivamente prestados",187000,1,1,"COP"]
["Novasoft SASSoftware NovasoftIT-SW-05-02","IT-SW-05-02Software Novasoft",null,"Novasoft SAS","IT-SW-05-02","Software Novasoft","Novasoft SAS","COP","N/A","Configuración y parametrización de los Productos ","Hora","Serv","Servicio","Zona 1","Sitio","Profesional","IT-SW-05-02","Mensual por servicios efectivamente prestados",270000,1,1,"COP"]
["Novasoft SASSoftware NovasoftIT-SW-05-03","IT-SW-05-03Software Novasoft",null,"Novasoft SAS","IT-SW-05-03","Software Novasoft","Novasoft SAS","COP","N/A","Configuración Pctos / Capacitación para usuario técnico o administrador hasta 5 Personas. ","Hora","Serv","Servicio","Zona 1","Remoto","Profesional","IT-SW-05-03","Mensual por servicios efectivamente prestados",187000,1,1,"COP"]
["Novasoft SASSoftware NovasoftIT-SW-05-04","IT-SW-05-04Software Novasoft",null,"Novasoft SAS","IT-SW-05-04","Software Novasoft","Novasoft SAS","COP","N/A","Configuración y parametrización de los Productos ","Hora","Serv","Servicio","Zona 2","Remoto","Profesional","IT-SW-05-04","Mensual por servicios efectivamente prestados",187000,1,1,"COP"]
["Novasoft SASSoftware NovasoftIT-SW-05-05","IT-SW-05-05Software Novasoft",null,"Novasoft SAS","IT-SW-05-05","Software Novasoft","Novasoft SAS","COP","N/A","Configuración y parametrización de los Productos ","Hora","Serv","Servicio","Zona 2","Sitio","Profesional","IT-SW-05-05","Mensual por servicios efectivamente prestados",287000,1,1,"COP"]
["Novasoft SASSoftware NovasoftIT-SW-05-06","IT-SW-05-06Software Novasoft",null,"Novasoft SAS","IT-SW-05-06","Software Novasoft","Novasoft SAS","COP","N/A","Configuración Pctos / Capacitación para usuario técnico o administrador hasta 5 Personas. ","Hora","Serv","Servicio","Zona 2","Remoto","Profesional","IT-SW-05-06","Mensual por servicios efectivamente prestados",187000,1,1,"COP"]
["Novasoft SASSoftware NovasoftIT-SW-05-07","IT-SW-05-07Software Novasoft",null,"Novasoft SAS","IT-SW-05-07","Software Novasoft","Novasoft SAS","COP","N/A","Configuración y parametrización de los Productos ","Hora","Serv","Servicio","Zona 3","Remoto","Profesional","IT-SW-05-07","Mensual por servicios efectivamente prestados",187000,1,1,"COP"]
["Novasoft SASSoftware NovasoftIT-SW-05-08","IT-SW-05-08Software Novasoft",null,"Novasoft SAS","IT-SW-05-08","Software Novasoft","Novasoft SAS","COP","N/A","Configuración Pctos / Capacitación para usuario técnico o administrador hasta 5 Personas. ","Hora","Serv","Servicio","Zona 3","Remoto","Profesional","IT-SW-05-08","Mensual por servicios efectivamente prestados",187000,1,1,"COP"]
["Novasoft SASSoftware NovasoftIT-SW-05-09","IT-SW-05-09Software Novasoft",null,"Novasoft SAS","IT-SW-05-09","Software Novasoft","Novasoft SAS","COP","N/A","Configuración y parametrización de los Productos ","Hora","Serv","Servicio","Zona 3","Sitio","Profesional","IT-SW-05-09","Mensual por servicios efectivamente prestados",315000,1,1,"COP"]
["Novasoft SASSoftware NovasoftIT-SW-06-01","IT-SW-06-01Software Novasoft",null,"Novasoft SAS","IT-SW-06-01","Software Novasoft","Novasoft SAS","COP","N/A","Gerente de cuenta (soporte) ","Mes","Serv","Servicio","Zona 1","Sitio","Profesional","IT-SW-06-01","Mensual por servicios efectivamente prestados",38400000,1,1,"COP"]
["Novasoft SASSoftware NovasoftIT-SW-06-02","IT-SW-06-02Software Novasoft",null,"Novasoft SAS","IT-SW-06-02","Software Novasoft","Novasoft SAS","COP","N/A","Gerente de cuenta (soporte) ","Mes","Serv","Servicio","Zona 2","Sitio","Profesional","IT-SW-06-02","Mensual por servicios efectivamente prestados",40960000,1,1,"COP"]
["Novasoft SASSoftware NovasoftIT-SW-06-03","IT-SW-06-03Software Novasoft",null,"Novasoft SAS","IT-SW-06-03","Software Novasoft","Novasoft SAS","COP","N/A","Gerente de cuenta (soporte) ","Mes","Serv","Servicio","Zona 3","Sitio","Profesional","IT-SW-06-03","Mensual por servicios efectivamente prestados",46080000,1,1,"COP"]
["Novasoft SASSoftware NovasoftIT-SW-07-01","IT-SW-07-01Software Novasoft",null,"Novasoft SAS","IT-SW-07-01","Software Novasoft","Novasoft SAS","COP","N/A","Instalación de Licencia o Suscripción Anual, o afínes ","Unidad","Serv","Servicio","Zona 1","Remoto","Profesional","IT-SW-07-01","Mensual por servicios efectivamente prestados",1280000,1,1,"COP"]
["Novasoft SASSoftware NovasoftIT-SW-07-02","IT-SW-07-02Software Novasoft",null,"Novasoft SAS","IT-SW-07-02","Software Novasoft","Novasoft SAS","COP","N/A","Instalación de Licencia o Suscripción Anual, o afínes ","Unidad","Serv","Servicio","Zona 1","Sitio","Profesional","IT-SW-07-02","Mensual por servicios efectivamente prestados",1920000,1,1,"COP"]
["Novasoft SASSoftware NovasoftIT-SW-07-03","IT-SW-07-03Software Novasoft",null,"Novasoft SAS","IT-SW-07-03","Software Novasoft","Novasoft SAS","COP","N/A","Instalación de Licencia o Suscripción Anual, o afínes ","Unidad","Serv","Servicio","Zona 2","Remoto","Profesional","IT-SW-07-03","Mensual por servicios efectivamente prestados",1280000,1,1,"COP"]
["Novasoft SASSoftware NovasoftIT-SW-07-04","IT-SW-07-04Software Novasoft",null,"Novasoft SAS","IT-SW-07-04","Software Novasoft","Novasoft SAS","COP","N/A","Instalación de Licencia o Suscripción Anual, o afínes ","Unidad","Serv","Servicio","Zona 2","Sitio","Profesional","IT-SW-07-04","Mensual por servicios efectivamente prestados",2048000,1,1,"COP"]
["Novasoft SASSoftware NovasoftIT-SW-07-05","IT-SW-07-05Software Novasoft",null,"Novasoft SAS","IT-SW-07-05","Software Novasoft","Novasoft SAS","COP","N/A","Instalación de Licencia o Suscripción Anual, o afínes ","Unidad","Serv","Servicio","Zona 3","Remoto","Profesional","IT-SW-07-05","Mensual por servicios efectivamente prestados",1280000,1,1,"COP"]
["Novasoft SASSoftware NovasoftIT-SW-07-06","IT-SW-07-06Software Novasoft",null,"Novasoft SAS","IT-SW-07-06","Software Novasoft","Novasoft SAS","COP","N/A","Instalación de Licencia o Suscripción Anual, o afínes ","Unidad","Serv","Servicio","Zona 3","Sitio","Profesional","IT-SW-07-06","Mensual por servicios efectivamente prestados",2304000,1,1,"COP"]
["Novasoft SASSoftware NovasoftIT-SW-09-01","IT-SW-09-01Software Novasoft",null,"Novasoft SAS","IT-SW-09-01","Software Novasoft","Novasoft SAS","COP","N/A","Soporte técnico en sitio ","Mes","Serv","Servicio","Zona 1","Sitio","Técnico ó Tecnólogo","IT-SW-09-01","Mensual por servicios efectivamente prestados",38400000,1,1,"COP"]
["Novasoft SASSoftware NovasoftIT-SW-09-02","IT-SW-09-02Software Novasoft",null,"Novasoft SAS","IT-SW-09-02","Software Novasoft","Novasoft SAS","COP","N/A","Soporte técnico en sitio ","Mes","Serv","Servicio","Zona 2","Sitio","Técnico ó Tecnólogo","IT-SW-09-02","Mensual por servicios efectivamente prestados",40960000,1,1,"COP"]
["Novasoft SASSoftware NovasoftIT-SW-09-03","IT-SW-09-03Software Novasoft",null,"Novasoft SAS","IT-SW-09-03","Software Novasoft","Novasoft SAS","COP","N/A","Soporte técnico en sitio ","Mes","Serv","Servicio","Zona 3","Sitio","Técnico ó Tecnólogo","IT-SW-09-03","Mensual por servicios efectivamente prestados",46080000,1,1,"COP"]
["Novasoft SASSoftware NovasoftIT-SW-10-01","IT-SW-10-01Software Novasoft",null,"Novasoft SAS","IT-SW-10-01","Software Novasoft","Novasoft SAS","COP","N/A","Soporte técnico proactivo ","Hora","Serv","Servicio","Zona 2","Remoto","Técnico ó Tecnólogo","IT-SW-10-01","Mensual por servicios efectivamente prestados",187000,1,1,"COP"]
["Novasoft SASSoftware NovasoftIT-SW-10-02","IT-SW-10-02Software Novasoft",null,"Novasoft SAS","IT-SW-10-02","Software Novasoft","Novasoft SAS","COP","N/A","Soporte técnico proactivo ","Hora","Serv","Servicio","Zona 2","Sitio","Técnico ó Tecnólogo","IT-SW-10-02","Mensual por servicios efectivamente prestados",270000,1,1,"COP"]
["Novasoft SASSoftware NovasoftIT-SW-10-03","IT-SW-10-03Software Novasoft",null,"Novasoft SAS","IT-SW-10-03","Software Novasoft","Novasoft SAS","COP","N/A","Soporte técnico proactivo ","Hora","Serv","Servicio","Zona 1","Remoto","Técnico ó Tecnólogo","IT-SW-10-03","Mensual por servicios efectivamente prestados",187000,1,1,"COP"]
["Novasoft SASSoftware NovasoftIT-SW-10-04","IT-SW-10-04Software Novasoft",null,"Novasoft SAS","IT-SW-10-04","Software Novasoft","Novasoft SAS","COP","N/A","Soporte técnico proactivo ","Hora","Serv","Servicio","Zona 3","Remoto","Técnico ó Tecnólogo","IT-SW-10-04","Mensual por servicios efectivamente prestados",287000,1,1,"COP"]
["Novasoft SASSoftware NovasoftIT-SW-10-05","IT-SW-10-05Software Novasoft",null,"Novasoft SAS","IT-SW-10-05","Software Novasoft","Novasoft SAS","COP","N/A","Soporte técnico proactivo ","Hora","Serv","Servicio","Zona 3","Sitio","Técnico ó Tecnólogo","IT-SW-10-05","Mensual por servicios efectivamente prestados",187000,1,1,"COP"]
["Novasoft SASSoftware NovasoftIT-SW-10-06","IT-SW-10-06Software Novasoft",null,"Novasoft SAS","IT-SW-10-06","Software Novasoft","Novasoft SAS","COP","N/A","Soporte técnico proactivo ","Hora","Serv","Servicio","Zona 1","Sitio","Técnico ó Tecnólogo","IT-SW-10-06","Mensual por servicios efectivamente prestados",315000,1,1,"COP"]
["Novasoft SASSoftware NovasoftIT-SW-11-01","IT-SW-11-01Software Novasoft",null,"Novasoft SAS","IT-SW-11-01","Software Novasoft","Novasoft SAS","COP","N/A","Soporte técnico reactivo ","Hora","Serv","Servicio","Zona 1","Sitio","Técnico ó Tecnólogo","IT-SW-11-01","Mensual por servicios efectivamente prestados",187000,1,1,"COP"]
["Novasoft SASSoftware NovasoftIT-SW-11-02","IT-SW-11-02Software Novasoft",null,"Novasoft SAS","IT-SW-11-02","Software Novasoft","Novasoft SAS","COP","N/A","Soporte técnico reactivo ","Hora","Serv","Servicio","Zona 2","Remoto","Técnico ó Tecnólogo","IT-SW-11-02","Mensual por servicios efectivamente prestados",270000,1,1,"COP"]
["Novasoft SASSoftware NovasoftIT-SW-11-03","IT-SW-11-03Software Novasoft",null,"Novasoft SAS","IT-SW-11-03","Software Novasoft","Novasoft SAS","COP","N/A","Soporte técnico reactivo ","Hora","Serv","Servicio","Zona 2","Sitio","Técnico ó Tecnólogo","IT-SW-11-03","Mensual por servicios efectivamente prestados",187000,1,1,"COP"]
["Novasoft SASSoftware NovasoftIT-SW-11-04","IT-SW-11-04Software Novasoft",null,"Novasoft SAS","IT-SW-11-04","Software Novasoft","Novasoft SAS","COP","N/A","Soporte técnico reactivo ","Hora","Serv","Servicio","Zona 3","Remoto","Técnico ó Tecnólogo","IT-SW-11-04","Mensual por servicios efectivamente prestados",287000,1,1,"COP"]
["Novasoft SASSoftware NovasoftIT-SW-11-05","IT-SW-11-05Software Novasoft",null,"Novasoft SAS","IT-SW-11-05","Software Novasoft","Novasoft SAS","COP","N/A","Soporte técnico reactivo ","Hora","Serv","Servicio","Zona 3","Sitio","Técnico ó Tecnólogo","IT-SW-11-05","Mensual por servicios efectivamente prestados",187000,1,1,"COP"]
["Novasoft SASSoftware NovasoftIT-SW-11-06","IT-SW-11-06Software Novasoft",null,"Novasoft SAS","IT-SW-11-06","Software Novasoft","Novasoft SAS","COP","N/A","Soporte técnico reactivo ","Hora","Serv","Servicio","Zona 1","Remoto","Técnico ó Tecnólogo","IT-SW-11-06","Mensual por servicios efectivamente prestados",315000,1,1,"COP"]
["Novasoft SASSoftware NovasoftSENIORX-BPM-TIER 1","SENIORX-BPM-TIER 1Software Novasoft",null,"Novasoft SAS","SENIORX-BPM-TIER 1","Software Novasoft","Novasoft SAS","COP","N/A","NOVASOFT - BUSINESS PROCESS MANAGEMENT T1","3K Tar, 5K Int, 2GB, 10K Vis.","Serv","Servicio","Zonas\n(1,2,3)","Remoto y/o sitio","N/A","SENIORX-BPM-TIER 1","Suscripción mensual con pago anual",270000,1,0,"COP"]
["Novasoft SASSoftware NovasoftSENIORX-BPM-TIER 2","SENIORX-BPM-TIER 2Software Novasoft",null,"Novasoft SAS","SENIORX-BPM-TIER 2","Software Novasoft","Novasoft SAS","COP","N/A","NOVASOFT - BUSINESS PROCESS MANAGEMENT T2","15K Tar, 25K Int, 8GB, 35K Vis.","Serv","Servicio","Zonas\n(1,2,3)","Remoto y/o sitio","N/A","SENIORX-BPM-TIER 2","Suscripción mensual con pago anual",4784700,1,0,"COP"]
["Novasoft SASSoftware NovasoftSENIORX-BPM-TIER 3","SENIORX-BPM-TIER 3Software Novasoft",null,"Novasoft SAS","SENIORX-BPM-TIER 3","Software Novasoft","Novasoft SAS","COP","N/A","NOVASOFT - BUSINESS PROCESS MANAGEMENT T3","30K Tar, 60K Int, 24GB, 75K Vis.","Serv","Servicio","Zonas\n(1,2,3)","Remoto y/o sitio","N/A","SENIORX-BPM-TIER 3","Suscripción mensual con pago anual",7655520,1,0,"COP"]
["Novasoft SASSoftware NovasoftSENIORX-BPM-TIER 4","SENIORX-BPM-TIER 4Software Novasoft",null,"Novasoft SAS","SENIORX-BPM-TIER 4","Software Novasoft","Novasoft SAS","COP","N/A","NOVASOFT - BUSINESS PROCESS MANAGEMENT T4","60K Tar, 150K Int, 60GB, 150K Vis.","Serv","Servicio","Zonas\n(1,2,3)","Remoto y/o sitio","N/A","SENIORX-BPM-TIER 4","Suscripción mensual con pago anual",12248340,1,0,"COP"]
["Novasoft SASSoftware NovasoftSENIORX-CRM-T1","SENIORX-CRM-T1Software Novasoft",null,"Novasoft SAS","SENIORX-CRM-T1","Software Novasoft","Novasoft SAS","COP","N/A","NOVASOFT - CRM T1","Suscripción Mensual hasta Paq x 25 usuarios","Serv","Servicio","Zonas\n(1,2,3)","Remoto y/o sitio","N/A","SENIORX-CRM-T1","Suscripción mensual con pago anual",102500,1,0,"COP"]
["Novasoft SASSoftware NovasoftSENIORX-CRM-T2","SENIORX-CRM-T2Software Novasoft",null,"Novasoft SAS","SENIORX-CRM-T2","Software Novasoft","Novasoft SAS","COP","N/A","NOVASOFT - CRM T2","Suscripción Mensual hasta Paq x 50 usuarios","Serv","Servicio","Zonas\n(1,2,3)","Remoto y/o sitio","N/A","SENIORX-CRM-T2","Suscripción mensual con pago anual",131200,1,0,"COP"]
["Novasoft SASSoftware NovasoftSENIORX-CRM-T3","SENIORX-CRM-T3Software Novasoft",null,"Novasoft SAS","SENIORX-CRM-T3","Software Novasoft","Novasoft SAS","COP","N/A","NOVASOFT - CRM T3","Suscripción Mensual mas de 50 usuarios","Serv","Servicio","Zonas\n(1,2,3)","Remoto y/o sitio","N/A","SENIORX-CRM-T3","Suscripción mensual con pago anual",164000,1,0,"COP"]
["Control Online SASControl Online ServicioIT-SW-01-01","IT-SW-01-01Control Online Servicio",null,"Control Online SAS","IT-SW-01-01","Control Online Servicio","Control Online SAS","COP","N/A","Capacitación para usuario final - hasta 10 Personas.  ","Por sesión de capacitación de 4 horas para un grupo de hasta 10 personas.","Serv","Servicio","Zona 1","Remoto","Capacitador","IT-SW-01-01","Mensual por servicios prestados",690000,1,1,"COP"]
["Control Online SASControl Online ServicioIT-SW-01-02","IT-SW-01-02Control Online Servicio",null,"Control Online SAS","IT-SW-01-02","Control Online Servicio","Control Online SAS","COP","N/A","Capacitación para usuario final - hasta 10 Personas.  ","Por sesión de capacitación de 4 horas para un grupo de hasta 10 personas.","Serv","Servicio","Zona 1","Sitio","Capacitador","IT-SW-01-02","Mensual por servicios prestados",2600000,1,1,"COP"]
["Control Online SASControl Online ServicioIT-SW-01-03","IT-SW-01-03Control Online Servicio",null,"Control Online SAS","IT-SW-01-03","Control Online Servicio","Control Online SAS","COP","N/A","Capacitación para usuario final - hasta 10 Personas.  ","Por sesión de capacitación de 4 horas para un grupo de hasta 10 personas.","Serv","Servicio","Zona 2","Remoto","Capacitador","IT-SW-01-03","Mensual por servicios prestados",690000,1,1,"COP"]
["Control Online SASControl Online ServicioIT-SW-01-04","IT-SW-01-04Control Online Servicio",null,"Control Online SAS","IT-SW-01-04","Control Online Servicio","Control Online SAS","COP","N/A","Capacitación para usuario final - hasta 10 Personas.  ","Por sesión de capacitación de 4 horas para un grupo de hasta 10 personas.","Serv","Servicio","Zona 2","Sitio","Capacitador","IT-SW-01-04","Mensual por servicios prestados",3100000,1,1,"COP"]
["Control Online SASControl Online ServicioIT-SW-01-05","IT-SW-01-05Control Online Servicio",null,"Control Online SAS","IT-SW-01-05","Control Online Servicio","Control Online SAS","COP","N/A","Capacitación para usuario final - hasta 10 Personas.  ","Por sesión de capacitación de 4 horas para un grupo de hasta 10 personas.","Serv","Servicio","Zona 3","Remoto","Capacitador","IT-SW-01-05","Mensual por servicios prestados",690000,1,1,"COP"]
["Control Online SASControl Online ServicioIT-SW-01-06","IT-SW-01-06Control Online Servicio",null,"Control Online SAS","IT-SW-01-06","Control Online Servicio","Control Online SAS","COP","N/A","Capacitación para usuario final - hasta 10 Personas.  ","Por sesión de capacitación de 4 horas para un grupo de hasta 10 personas.","Serv","Servicio","Zona 3","Sitio","Capacitador","IT-SW-01-06","Mensual por servicios prestados",3600000,1,1,"COP"]
["Control Online SASControl Online ServicioIT-SW-02-01","IT-SW-02-01Control Online Servicio",null,"Control Online SAS","IT-SW-02-01","Control Online Servicio","Control Online SAS","COP","N/A","Capacitación para usuario final hasta 20 Personas.  ","Por sesión de capacitación de 4 horas para un grupo de hasta 20 personas.","Serv","Servicio","Zona 1","Remoto","Capacitador","IT-SW-02-01","Mensual por servicios prestados",990000,1,1,"COP"]
["Control Online SASControl Online ServicioIT-SW-02-02","IT-SW-02-02Control Online Servicio",null,"Control Online SAS","IT-SW-02-02","Control Online Servicio","Control Online SAS","COP","N/A","Capacitación para usuario final hasta 20 Personas.  ","Por sesión de capacitación de 4 horas para un grupo de hasta 20 personas.","Serv","Servicio","Zona 1","Sitio","Capacitador","IT-SW-02-02","Mensual por servicios prestados",2900000,1,1,"COP"]
["Control Online SASControl Online ServicioIT-SW-02-03","IT-SW-02-03Control Online Servicio",null,"Control Online SAS","IT-SW-02-03","Control Online Servicio","Control Online SAS","COP","N/A","Capacitación para usuario final hasta 20 Personas.  ","Por sesión de capacitación de 4 horas para un grupo de hasta 20 personas.","Serv","Servicio","Zona 2","Remoto","Capacitador","IT-SW-02-03","Mensual por servicios prestados",990000,1,1,"COP"]
["Control Online SASControl Online ServicioIT-SW-02-04","IT-SW-02-04Control Online Servicio",null,"Control Online SAS","IT-SW-02-04","Control Online Servicio","Control Online SAS","COP","N/A","Capacitación para usuario final hasta 20 Personas.  ","Por sesión de capacitación de 4 horas para un grupo de hasta 20 personas.","Serv","Servicio","Zona 2","Sitio","Capacitador","IT-SW-02-04","Mensual por servicios prestados",3400000,1,1,"COP"]
["Control Online SASControl Online ServicioIT-SW-02-05","IT-SW-02-05Control Online Servicio",null,"Control Online SAS","IT-SW-02-05","Control Online Servicio","Control Online SAS","COP","N/A","Capacitación para usuario final hasta 20 Personas.  ","Por sesión de capacitación de 4 horas para un grupo de hasta 20 personas.","Serv","Servicio","Zona 3","Remoto","Capacitador","IT-SW-02-05","Mensual por servicios prestados",990000,1,1,"COP"]
["Control Online SASControl Online ServicioIT-SW-02-06","IT-SW-02-06Control Online Servicio",null,"Control Online SAS","IT-SW-02-06","Control Online Servicio","Control Online SAS","COP","N/A","Capacitación para usuario final hasta 20 Personas.  ","Por sesión de capacitación de 4 horas para un grupo de hasta 20 personas.","Serv","Servicio","Zona 3","Sitio","Capacitador","IT-SW-02-06","Mensual por servicios prestados",4000000,1,1,"COP"]
["Control Online SASControl Online ServicioIT-SW-03-01","IT-SW-03-01Control Online Servicio",null,"Control Online SAS","IT-SW-03-01","Control Online Servicio","Control Online SAS","COP","N/A","Capacitación para usuario técnico o administrador - hasta 10 Personas.  ","Por sesión de capacitación de 4 horas para un grupo de hasta 10 personas.","Serv","Servicio","Zona 1","Remoto","Capacitador","IT-SW-03-01","Mensual por servicios prestados",690000,1,1,"COP"]
["Control Online SASControl Online ServicioIT-SW-03-02","IT-SW-03-02Control Online Servicio",null,"Control Online SAS","IT-SW-03-02","Control Online Servicio","Control Online SAS","COP","N/A","Capacitación para usuario técnico o administrador - hasta 10 Personas.  ","Por sesión de capacitación de 4 horas para un grupo de hasta 10 personas.","Serv","Servicio","Zona 1","Sitio","Capacitador","IT-SW-03-02","Mensual por servicios prestados",2600000,1,1,"COP"]
["Control Online SASControl Online ServicioIT-SW-03-03","IT-SW-03-03Control Online Servicio",null,"Control Online SAS","IT-SW-03-03","Control Online Servicio","Control Online SAS","COP","N/A","Capacitación para usuario técnico o administrador - hasta 10 Personas.  ","Por sesión de capacitación de 4 horas para un grupo de hasta 10 personas.","Serv","Servicio","Zona 2","Remoto","Capacitador","IT-SW-03-03","Mensual por servicios prestados",690000,1,1,"COP"]
["Control Online SASControl Online ServicioIT-SW-03-04","IT-SW-03-04Control Online Servicio",null,"Control Online SAS","IT-SW-03-04","Control Online Servicio","Control Online SAS","COP","N/A","Capacitación para usuario técnico o administrador - hasta 10 Personas.  ","Por sesión de capacitación de 4 horas para un grupo de hasta 10 personas.","Serv","Servicio","Zona 2","Sitio","Capacitador","IT-SW-03-04","Mensual por servicios prestados",3100000,1,1,"COP"]
["Control Online SASControl Online ServicioIT-SW-03-05","IT-SW-03-05Control Online Servicio",null,"Control Online SAS","IT-SW-03-05","Control Online Servicio","Control Online SAS","COP","N/A","Capacitación para usuario técnico o administrador - hasta 10 Personas.  ","Por sesión de capacitación de 4 horas para un grupo de hasta 10 personas.","Serv","Servicio","Zona 3","Remoto","Capacitador","IT-SW-03-05","Mensual por servicios prestados",690000,1,1,"COP"]
["Control Online SASControl Online ServicioIT-SW-03-06","IT-SW-03-06Control Online Servicio",null,"Control Online SAS","IT-SW-03-06","Control Online Servicio","Control Online SAS","COP","N/A","Capacitación para usuario técnico o administrador - hasta 10 Personas.  ","Por sesión de capacitación de 4 horas para un grupo de hasta 10 personas.","Serv","Servicio","Zona 3","Sitio","Capacitador","IT-SW-03-06","Mensual por servicios prestados",3600000,1,1,"COP"]
["Control Online SASControl Online ServicioIT-SW-04-01","IT-SW-04-01Control Online Servicio",null,"Control Online SAS","IT-SW-04-01","Control Online Servicio","Control Online SAS","COP","N/A","Capacitación para usuario técnico o administrador hasta 20 Personas.  ","Por sesión de capacitación de 4 horas para un grupo de hasta 20 personas.","Serv","Servicio","Zona 1","Remoto","Capacitador","IT-SW-04-01","Mensual por servicios prestados",990000,1,1,"COP"]
["Control Online SASControl Online ServicioIT-SW-04-02","IT-SW-04-02Control Online Servicio",null,"Control Online SAS","IT-SW-04-02","Control Online Servicio","Control Online SAS","COP","N/A","Capacitación para usuario técnico o administrador hasta 20 Personas.  ","Por sesión de capacitación de 4 horas para un grupo de hasta 20 personas.","Serv","Servicio","Zona 1","Sitio","Capacitador","IT-SW-04-02","Mensual por servicios prestados",2900000,1,1,"COP"]
["Control Online SASControl Online ServicioIT-SW-04-03","IT-SW-04-03Control Online Servicio",null,"Control Online SAS","IT-SW-04-03","Control Online Servicio","Control Online SAS","COP","N/A","Capacitación para usuario técnico o administrador hasta 20 Personas.  ","Por sesión de capacitación de 4 horas para un grupo de hasta 20 personas.","Serv","Servicio","Zona 2","Remoto","Capacitador","IT-SW-04-03","Mensual por servicios prestados",990000,1,1,"COP"]
[{"$f":"D1185&F1185&E1185","v":"Control Online SASControl Online ServicioIT-SW-04-04"},{"$f":"E1185&F1185","v":"IT-SW-04-04Control Online Servicio"},null,"Control Online SAS","IT-SW-04-04","Control Online Servicio",{"$f":"D1185","v":"Control Online SAS"},"COP","N/A","Capacitación para usuario técnico o administrador hasta 20 Personas.  ","Por sesión de capacitación de 4 horas para un grupo de hasta 20 personas.","Serv","Servicio","Zona 2","Sitio","Capacitador",{"$f":"+E1185","v":"IT-SW-04-04"},"Mensual por servicios prestados",3400000,1,1,"COP"]
["Control Online SASControl Online ServicioIT-SW-04-05","IT-SW-04-05Control Online Servicio",null,"Control Online SAS","IT-SW-04-05","Control Online Servicio","Control Online SAS","COP","N/A","Capacitación para usuario técnico o administrador hasta 20 Personas.  ","Por sesión de capacitación de 4 horas para un grupo de hasta 20 personas.","Serv","Servicio","Zona 3","Remoto","Capacitador","IT-SW-04-05","Mensual por servicios prestados",990000,1,1,"COP"]
["Control Online SASControl Online ServicioIT-SW-04-06","IT-SW-04-06Control Online Servicio",null,"Control Online SAS","IT-SW-04-06","Control Online Servicio","Control Online SAS","COP","N/A","Capacitación para usuario técnico o administrador hasta 20 Personas.  ","Por sesión de capacitación de 4 horas para un grupo de hasta 20 personas.","Serv","Servicio","Zona 3","Sitio","Capacitador","IT-SW-04-06","Mensual por servicios prestados",4000000,1,1,"COP"]
["Control Online SASControl Online ServicioIT-SW-05-01","IT-SW-05-01Control Online Servicio",null,"Control Online SAS","IT-SW-05-01","Control Online Servicio","Control Online SAS","COP","N/A","Configuración y parametrización de los Productos ","Hora","Serv","Servicio","Zona 1","Remoto","Profesional","IT-SW-05-01","Mensual por servicios prestados",160000,1,1,"COP"]
["Control Online SASControl Online ServicioIT-SW-05-02","IT-SW-05-02Control Online Servicio",null,"Control Online SAS","IT-SW-05-02","Control Online Servicio","Control Online SAS","COP","N/A","Configuración y parametrización de los Productos ","Hora","Serv","Servicio","Zona 1","Sitio","Profesional","IT-SW-05-02","Mensual por servicios prestados",207000,1,1,"COP"]
["Control Online SASControl Online ServicioIT-SW-05-03","IT-SW-05-03Control Online Servicio",null,"Control Online SAS","IT-SW-05-03","Control Online Servicio","Control Online SAS","COP","N/A","Configuración y parametrización de los Productos ","Hora","Serv","Servicio","Zona 2","Remoto","Profesional","IT-SW-05-03","Mensual por servicios prestados",160000,1,1,"COP"]
["Control Online SASControl Online ServicioIT-SW-05-04","IT-SW-05-04Control Online Servicio",null,"Control Online SAS","IT-SW-05-04","Control Online Servicio","Control Online SAS","COP","N/A","Configuración y parametrización de los Productos ","Hora","Serv","Servicio","Zona 2","Sitio","Profesional","IT-SW-05-04",null,220000,1,1,"COP"]
["Control Online SASControl Online ServicioIT-SW-05-05","IT-SW-05-05Control Online Servicio",null,"Control Online SAS","IT-SW-05-05","Control Online Servicio","Control Online SAS","COP","N/A","Configuración y parametrización de los Productos ","Hora","Serv","Servicio","Zona 3","Remoto","Profesional","IT-SW-05-05","Mensual por servicios prestados",160000,1,1,"COP"]
["Control Online SASControl Online ServicioIT-SW-05-06","IT-SW-05-06Control Online Servicio",null,"Control Online SAS","IT-SW-05-06","Control Online Servicio","Control Online SAS","COP","N/A","Configuración y parametrización de los Productos ","Hora","Serv","Servicio","Zona 3","Sitio","Profesional","IT-SW-05-06",null,280000,1,1,"COP"]
["Control Online SASControl Online ServicioIT-SW-06-01","IT-SW-06-01Control Online Servicio",null,"Control Online SAS","IT-SW-06-01","Control Online Servicio","Control Online SAS","COP","N/A","Gerente de cuenta (soporte) ","Mes","Serv","Servicio","Zona 1","Sitio","Profesional","IT-SW-06-01","Mensual por servicios prestados",12000000,1,1,"COP"]
["Control Online SASControl Online ServicioIT-SW-06-02","IT-SW-06-02Control Online Servicio",null,"Control Online SAS","IT-SW-06-02","Control Online Servicio","Control Online SAS","COP","N/A","Gerente de cuenta (soporte) ","Mes","Serv","Servicio","Zona 2","Sitio","Profesional","IT-SW-06-02","Mensual por servicios prestados",12000000,1,1,"COP"]
["Control Online SASControl Online ServicioIT-SW-06-03","IT-SW-06-03Control Online Servicio",null,"Control Online SAS","IT-SW-06-03","Control Online Servicio","Control Online SAS","COP","N/A","Gerente de cuenta (soporte) ","Mes","Serv","Servicio","Zona 3","Sitio","Profesional","IT-SW-06-03","Mensual por servicios prestados",14000000,1,1,"COP"]
["Control Online SASControl Online ServicioIT-SW-07-01","IT-SW-07-01Control Online Servicio",null,"Control Online SAS","IT-SW-07-01","Control Online Servicio","Control Online SAS","COP","N/A","Instalación de Licencia o Suscripción Anual, o afínes ","Unidad","Serv","Servicio","Zona 1","Remoto","Técnico/Tecnólogo ó Profesional","IT-SW-07-01","Pago Unico",16000000,1,0,"COP"]
["Control Online SASControl Online ServicioIT-SW-07-02","IT-SW-07-02Control Online Servicio",null,"Control Online SAS","IT-SW-07-02","Control Online Servicio","Control Online SAS","COP","N/A","Instalación de Licencia o Suscripción Anual, o afínes ","Unidad","Serv","Servicio","Zona 1","Sitio","Técnico/Tecnólogo ó Profesional","IT-SW-07-02","Pago Unico",19000000,1,1,"COP"]
["Control Online SASControl Online ServicioIT-SW-07-03","IT-SW-07-03Control Online Servicio",null,"Control Online SAS","IT-SW-07-03","Control Online Servicio","Control Online SAS","COP","N/A","Instalación de Licencia o Suscripción Anual, o afínes ","Unidad","Serv","Servicio","Zona 2","Remoto","Técnico/Tecnólogo ó Profesional","IT-SW-07-03","Pago Unico",16000000,1,0,"COP"]
["Control Online SASControl Online ServicioIT-SW-07-04","IT-SW-07-04Control Online Servicio",null,"Control Online SAS","IT-SW-07-04","Control Online Servicio","Control Online SAS","COP","N/A","Instalación de Licencia o Suscripción Anual, o afínes ","Unidad","Serv","Servicio","Zona 2","Sitio","Técnico/Tecnólogo ó Profesional","IT-SW-07-04","Pago Unico",22000000,1,1,"COP"]
["Control Online SASControl Online ServicioIT-SW-07-05","IT-SW-07-05Control Online Servicio",null,"Control Online SAS","IT-SW-07-05","Control Online Servicio","Control Online SAS","COP","N/A","Instalación de Licencia o Suscripción Anual, o afínes ","Unidad","Serv","Servicio","Zona 3","Remoto","Técnico/Tecnólogo ó Profesional","IT-SW-07-05","Pago Unico",16000000,1,0,"COP"]
["Control Online SASControl Online ServicioIT-SW-07-06","IT-SW-07-06Control Online Servicio",null,"Control Online SAS","IT-SW-07-06","Control Online Servicio","Control Online SAS","COP","N/A","Instalación de Licencia o Suscripción Anual, o afínes ","Unidad","Serv","Servicio","Zona 3","Sitio","Técnico/Tecnólogo ó Profesional","IT-SW-07-06","Pago Unico",26000000,1,1,"COP"]
["Control Online SASControl Online ServicioIT-SW-08-01","IT-SW-08-01Control Online Servicio",null,"Control Online SAS","IT-SW-08-01","Control Online Servicio","Control Online SAS","COP","N/A","Migración de información por volumen de datos almacenados ","GB","Serv","Servicio","Zona 1","Remoto","Profesional","IT-SW-08-01","Mensual por servicios prestados",108000,1,1,"COP"]
["Control Online SASControl Online ServicioIT-SW-08-02","IT-SW-08-02Control Online Servicio",null,"Control Online SAS","IT-SW-08-02","Control Online Servicio","Control Online SAS","COP","N/A","Migración de información por volumen de datos almacenados ","GB","Serv","Servicio","Zona 1","Sitio","Profesional","IT-SW-08-02","Mensual por servicios prestados",108000,1,1,"COP"]
["Control Online SASControl Online ServicioIT-SW-08-03","IT-SW-08-03Control Online Servicio",null,"Control Online SAS","IT-SW-08-03","Control Online Servicio","Control Online SAS","COP","N/A","Migración de información por volumen de datos almacenados ","GB","Serv","Servicio","Zona 2","Remoto","Profesional","IT-SW-08-03","Mensual por servicios prestados",108000,1,1,"COP"]
["Control Online SASControl Online ServicioIT-SW-08-04","IT-SW-08-04Control Online Servicio",null,"Control Online SAS","IT-SW-08-04","Control Online Servicio","Control Online SAS","COP","N/A","Migración de información por volumen de datos almacenados ","GB","Serv","Servicio","Zona 2","Sitio","Profesional","IT-SW-08-04","Mensual por servicios prestados",108000,1,1,"COP"]
["Control Online SASControl Online ServicioIT-SW-08-05","IT-SW-08-05Control Online Servicio",null,"Control Online SAS","IT-SW-08-05","Control Online Servicio","Control Online SAS","COP","N/A","Migración de información por volumen de datos almacenados ","GB","Serv","Servicio","Zona 3","Remoto","Profesional","IT-SW-08-05","Mensual por servicios prestados",108000,1,1,"COP"]
["Control Online SASControl Online ServicioIT-SW-08-06","IT-SW-08-06Control Online Servicio",null,"Control Online SAS","IT-SW-08-06","Control Online Servicio","Control Online SAS","COP","N/A","Migración de información por volumen de datos almacenados ","GB","Serv","Servicio","Zona 3","Sitio","Profesional","IT-SW-08-06","Mensual por servicios prestados",108000,1,1,"COP"]
["Control Online SASControl Online ServicioIT-SW-09-01","IT-SW-09-01Control Online Servicio",null,"Control Online SAS","IT-SW-09-01","Control Online Servicio","Control Online SAS","COP","N/A","Soporte técnico en sitio ","Mes","Serv","Servicio","Zona 1","Sitio","Técnico/Tecnólogo ó Profesional","IT-SW-09-01","Mensual por servicios prestados",108000,1,1,"COP"]
["Control Online SASControl Online ServicioIT-SW-09-02","IT-SW-09-02Control Online Servicio",null,"Control Online SAS","IT-SW-09-02","Control Online Servicio","Control Online SAS","COP","N/A","Soporte técnico en sitio ","Mes","Serv","Servicio","Zona 2","Sitio","Técnico/Tecnólogo ó Profesional","IT-SW-09-02","Mensual por servicios prestados",9000000,1,1,"COP"]
["Control Online SASControl Online ServicioIT-SW-09-03","IT-SW-09-03Control Online Servicio",null,"Control Online SAS","IT-SW-09-03","Control Online Servicio","Control Online SAS","COP","N/A","Soporte técnico en sitio ","Mes","Serv","Servicio","Zona 3","Sitio","Técnico/Tecnólogo ó Profesional","IT-SW-09-03","Mensual por servicios prestados",12000000,1,1,"COP"]
["Control Online SASControl Online ServicioIT-SW-10-01","IT-SW-10-01Control Online Servicio",null,"Control Online SAS","IT-SW-10-01","Control Online Servicio","Control Online SAS","COP","N/A","Soporte técnico proactivo ","Hora","Serv","Servicio","Zona 2","Remoto","Técnico/Tecnólogo ó Profesional","IT-SW-10-01","Mensual por servicios prestados",160000,1,1,"COP"]
["Control Online SASControl Online ServicioIT-SW-10-02","IT-SW-10-02Control Online Servicio",null,"Control Online SAS","IT-SW-10-02","Control Online Servicio","Control Online SAS","COP","N/A","Soporte técnico proactivo ","Hora","Serv","Servicio","Zona 2","Sitio","Técnico/Tecnólogo ó Profesional","IT-SW-10-02","Mensual por servicios prestados",180000,1,1,"COP"]
["Control Online SASControl Online ServicioIT-SW-10-03","IT-SW-10-03Control Online Servicio",null,"Control Online SAS","IT-SW-10-03","Control Online Servicio","Control Online SAS","COP","N/A","Soporte técnico proactivo ","Hora","Serv","Servicio","Zona 1","Remoto","Técnico/Tecnólogo ó Profesional","IT-SW-10-03","Mensual por servicios prestados",160000,1,1,"COP"]
["Control Online SASControl Online ServicioIT-SW-10-04","IT-SW-10-04Control Online Servicio",null,"Control Online SAS","IT-SW-10-04","Control Online Servicio","Control Online SAS","COP","N/A","Soporte técnico proactivo ","Hora","Serv","Servicio","Zona 3","Remoto","Técnico/Tecnólogo ó Profesional","IT-SW-10-04","Mensual por servicios prestados",160000,1,1,"COP"]
["Control Online SASControl Online ServicioIT-SW-10-05","IT-SW-10-05Control Online Servicio",null,"Control Online SAS","IT-SW-10-05","Control Online Servicio","Control Online SAS","COP","N/A","Soporte técnico proactivo ","Hora","Serv","Servicio","Zona 3","Sitio","Técnico/Tecnólogo ó Profesional","IT-SW-10-05","Mensual por servicios prestados",220000,1,1,"COP"]
["Control Online SASControl Online ServicioIT-SW-10-06","IT-SW-10-06Control Online Servicio",null,"Control Online SAS","IT-SW-10-06","Control Online Servicio","Control Online SAS","COP","N/A","Soporte técnico proactivo ","Hora","Serv","Servicio","Zona 1","Sitio","Técnico/Tecnólogo ó Profesional","IT-SW-10-06","Mensual por servicios prestados",290000,1,1,"COP"]
["Control Online SASControl Online ServicioIT-SW-11-01","IT-SW-11-01Control Online Servicio",null,"Control Online SAS","IT-SW-11-01","Control Online Servicio","Control Online SAS","COP","N/A","Soporte técnico reactivo ","Hora","Serv","Servicio","Zona 1","Sitio","Técnico/Tecnólogo ó Profesional","IT-SW-11-01","Mensual por servicios prestados",290000,1,1,"COP"]
["Control Online SASControl Online ServicioIT-SW-11-02","IT-SW-11-02Control Online Servicio",null,"Control Online SAS","IT-SW-11-02","Control Online Servicio","Control Online SAS","COP","N/A","Soporte técnico reactivo ","Hora","Serv","Servicio","Zona 2","Remoto","Técnico/Tecnólogo ó Profesional","IT-SW-11-02","Mensual por servicios prestados",160000,1,1,"COP"]
["Control Online SASControl Online ServicioIT-SW-11-03","IT-SW-11-03Control Online Servicio",null,"Control Online SAS","IT-SW-11-03","Control Online Servicio","Control Online SAS","COP","N/A","Soporte técnico reactivo ","Hora","Serv","Servicio","Zona 2","Sitio","Técnico/Tecnólogo ó Profesional","IT-SW-11-03","Mensual por servicios prestados",180000,1,1,"COP"]
["Control Online SASControl Online ServicioIT-SW-11-04","IT-SW-11-04Control Online Servicio",null,"Control Online SAS","IT-SW-11-04","Control Online Servicio","Control Online SAS","COP","N/A","Soporte técnico reactivo ","Hora","Serv","Servicio","Zona 3","Remoto","Técnico/Tecnólogo ó Profesional","IT-SW-11-04","Mensual por servicios prestados",160000,1,1,"COP"]
["Control Online SASControl Online ServicioIT-SW-11-05","IT-SW-11-05Control Online Servicio",null,"Control Online SAS","IT-SW-11-05","Control Online Servicio","Control Online SAS","COP","N/A","Soporte técnico reactivo ","Hora","Serv","Servicio","Zona 3","Sitio","Técnico/Tecnólogo ó Profesional","IT-SW-11-05","Mensual por servicios prestados",290000,1,1,"COP"]
["Control Online SASControl Online ServicioIT-SW-11-06","IT-SW-11-06Control Online Servicio",null,"Control Online SAS","IT-SW-11-06","Control Online Servicio","Control Online SAS","COP","N/A","Soporte técnico reactivo ","Hora","Serv","Servicio","Zona 1","Remoto","Técnico/Tecnólogo ó Profesional","IT-SW-11-06","Mensual por servicios prestados",160000,1,1,"COP"]
["Control Online SAS Control Online ProductoCO-MVU_LV","CO-MVU_LV Control Online Producto",null,"Control Online SAS","CO-MVU_LV"," Control Online Producto","Control Online SAS","COP","N/A","Licencia modulo Ventanilla unica de radicación (presencial de comunicaciones recibidas y enviadas)","Licencia de uso vitalicio","Prod","Producto","Zona (1, 2, 3)","N/A","N/A","CO-MVU_LV","Unico pago",7300000,1,1,"COP"]
["Control Online SAS Control Online ProductoCO-MRG_LV","CO-MRG_LV Control Online Producto",null,"Control Online SAS","CO-MRG_LV"," Control Online Producto","Control Online SAS","COP","N/A","Licencia módulo Radicación y gestión de comunicaciones recibidas, producción de comunicaciones internas y enviadas cero papel, analística de datos Dasboard nivel directivo y gestion por usuario","Licencia de uso vitalicio","Prod","Producto","Zona (1, 2, 3)","N/A","N/A","CO-MRG_LV","Unico pago",1320000,1,1,"COP"]
["Control Online SAS Control Online ProductoCO-MEI_LV","CO-MEI_LV Control Online Producto",null,"Control Online SAS","CO-MEI_LV"," Control Online Producto","Control Online SAS","COP","N/A","Licencia módulo de archivo creación de expediente electrónico, generación de indice electrónico, inventario documental, consulta y préstamos de documentos, transferencias documentales","Licencia de uso vitalicio","Prod","Producto","Zona (1, 2, 3)","N/A","N/A","CO-MEI_LV","Unico pago",2100000,1,1,"COP"]
["Control Online SAS Control Online ProductoCO-SGDEA_LV50","CO-SGDEA_LV50 Control Online Producto",null,"Control Online SAS","CO-SGDEA_LV50"," Control Online Producto","Control Online SAS","COP","N/A","Licencia SGDEA: Solución integral del ciclo de vida del documento: Radicación de comunicaciones recibidas (canal correo electrónico, presencial y web), enviadas, internas, gestion electrónica de documentos y archivo. Hasta 50 usuarios","Licencia de uso vitalicio","Prod","Producto","Zona (1, 2, 3)","N/A","N/A","CO-SGDEA_LV50","Unico pago",178300000,1,1,"COP"]
["Control Online SAS Control Online ProductoCO-SGDEA_LV01","CO-SGDEA_LV01 Control Online Producto",null,"Control Online SAS","CO-SGDEA_LV01"," Control Online Producto","Control Online SAS","COP","N/A","Licencia SGDEA: Solución integral del ciclo de vida del documento: Radicación de comunicaciones recibidas (canal correo electrónico, presencial y web), enviadas, internas, gestion electrónica de documentos y archivo. Usuario Adicional","Licencia de uso vitalicio","Prod","Producto","Zona (1, 2, 3)","N/A","N/A","CO-SGDEA_LV01","Unico pago",3420000,1,1,"COP"]
["Control Online SAS Control Online ProductoCO-SGDEA_SA50","CO-SGDEA_SA50 Control Online Producto",null,"Control Online SAS","CO-SGDEA_SA50"," Control Online Producto","Control Online SAS","COP","N/A","Licencia SGDEA: Solución integral del ciclo de vida del documento: Radicación de comunicaciones recibidas, enviadas, internas, gestion electrónica de documentos y archivo. Hasta 50 usuarios","Suscripción anual","Prod","Producto","Zona (1, 2, 3)","N/A","N/A","CO-SGDEA_SA50","Unico pago",37200000,1,0,"COP"]
["Control Online SAS Control Online ProductoCO-SGDEA_SA01","CO-SGDEA_SA01 Control Online Producto",null,"Control Online SAS","CO-SGDEA_SA01"," Control Online Producto","Control Online SAS","COP","N/A","Licencia SGDEA: Solución integral del ciclo de vida del documento: Radicación de comunicaciones recibidas, enviadas, internas, gestion electrónica de documentos y archivo. Usuario Adicional","Suscripción anual","Prod","Producto","Zona (1, 2, 3)","N/A","N/A","CO-SGDEA_SA01","Unico pago",720000,1,0,"COP"]
["Control Online SAS Control Online ProductoCO-PQW_LV","CO-PQW_LV Control Online Producto",null,"Control Online SAS","CO-PQW_LV"," Control Online Producto","Control Online SAS","COP","N/A","Licencia modulo de PQRSD Web","Licencia de uso vitalicio","Prod","Producto","Zona (1, 2, 3)","N/A","N/A","CO-PQW_LV","Unico pago",140000000,1,1,"COP"]
["Control Online SAS Control Online ProductoCO-PQW_SA","CO-PQW_SA Control Online Producto",null,"Control Online SAS","CO-PQW_SA"," Control Online Producto","Control Online SAS","COP","N/A","Licencia modulo de PQRSD Web","Suscripción anual","Prod","Producto","Zona (1, 2, 3)","N/A","N/A","CO-PQW_SA","Unico pago",36000000,1,0,"COP"]
["Control Online SAS Control Online ProductoCO-PQAPP_LV","CO-PQAPP_LV Control Online Producto",null,"Control Online SAS","CO-PQAPP_LV"," Control Online Producto","Control Online SAS","COP","N/A","Licencia APP PQRSD Móvil","Licencia de uso vitalicio","Prod","Producto","Zona (1, 2, 3)","N/A","N/A","CO-PQAPP_LV","Unico pago",196000000,1,1,"COP"]
["Control Online SAS Control Online ProductoCO-PQAPP_SA","CO-PQAPP_SA Control Online Producto",null,"Control Online SAS","CO-PQAPP_SA"," Control Online Producto","Control Online SAS","COP","N/A","Licencia APP PQRSD Móvil","Suscripción anual","Prod","Producto","Zona (1, 2, 3)","N/A","N/A","CO-PQAPP_SA","Unico pago",39200000,1,0,"COP"]
["Control Online SAS Control Online ProductoCO-PQW_LVAI","CO-PQW_LVAI Control Online Producto",null,"Control Online SAS","CO-PQW_LVAI"," Control Online Producto","Control Online SAS","COP","N/A","Licencia módulo de PQRSD Web, con componente de inteligencia artificial para el reconocimiento de texto, reparto y respuestas automáticas e interoperabilidad con Call Center","Licencia de uso vitalicio","Prod","Producto","Zona (1, 2, 3)","N/A","N/A","CO-PQW_LVAI","Unico pago",580000000,1,1,"COP"]
["Control Online SAS Control Online ProductoCO-PQW_SAAI","CO-PQW_SAAI Control Online Producto",null,"Control Online SAS","CO-PQW_SAAI"," Control Online Producto","Control Online SAS","COP","N/A","Licencia módulo de PQRSD Web, con componente de inteligencia artificial para el reconocimiento de texto, reparto y respuestas automáticas e interoperabilidad con Call Center","Suscripción anual","Prod","Producto","Zona (1, 2, 3)","N/A","N/A","CO-PQW_SAAI","Unico pago",190000000,1,0,"COP"]
["Control Online SAS Control Online ProductoCO-MCTO_LV100","CO-MCTO_LV100 Control Online Producto",null,"Control Online SAS","CO-MCTO_LV100"," Control Online Producto","Control Online SAS","COP","N/A","Licencia módulo de control de procesos contractuales: Solicitud CDP, Aprobación CDP,Nuevo proceso contractual, Elaboración de la minuta, Certificado registro presupuestal, Adición al contrato, Prorroga, Otro si, Suspensiones / Reinicio, Reporte informe de actividades, Informe de supervisión del contrato, Acta de Liquidación del contrato. Hasta 100 usuarios","Licencia de uso vitalicio","Prod","Producto","Zona (1, 2, 3)","N/A","N/A","CO-MCTO_LV100","Unico pago",350000000,1,1,"COP"]
["Control Online SAS Control Online ProductoCO-MCTO_LV001","CO-MCTO_LV001 Control Online Producto",null,"Control Online SAS","CO-MCTO_LV001"," Control Online Producto","Control Online SAS","COP","N/A","Licencia módulo de control de procesos contractuales: Solicitud CDP, Aprobación CDP,Nuevo proceso contractual, Elaboración de la minuta, Certificado registro presupuestal, Adición al contrato, Prorroga, Otro si, Suspensiones / Reinicio, Reporte informe de actividades, Informe de supervisión del contrato, Acta de Liquidación del contrato. Usuario Adicional","Licencia de uso vitalicio","Prod","Producto","Zona (1, 2, 3)","N/A","N/A","CO-MCTO_LV001","Unico pago",1880000,1,1,"COP"]
["Control Online SAS Control Online ProductoCO-MCTO_SA100","CO-MCTO_SA100 Control Online Producto",null,"Control Online SAS","CO-MCTO_SA100"," Control Online Producto","Control Online SAS","COP","N/A","Licencia módulo de control de procesos contractuales: Solicitud CDP, Aprobación CDP,Nuevo proceso contractual, Elaboración de la minuta, Certificado registro presupuestal, Adición al contrato, Prorroga, Otro si, Suspensiones / Reinicio, Reporte informe de actividades, Informe de supervisión del contrato, Acta de Liquidación del contrato. Hasta 100 usuarios","Suscripción anual","Prod","Producto","Zona (1, 2, 3)","N/A","N/A","CO-MCTO_SA100","Unico pago",39500000,1,0,"COP"]
["Control Online SAS Control Online ProductoCO-MCTO_SA001","CO-MCTO_SA001 Control Online Producto",null,"Control Online SAS","CO-MCTO_SA001"," Control Online Producto","Control Online SAS","COP","N/A","Licencia módulo de control de procesos contractuales: Solicitud CDP, Aprobación CDP,Nuevo proceso contractual, Elaboración de la minuta, Certificado registro presupuestal, Adición al contrato, Prorroga, Otro si, Suspensiones / Reinicio, Reporte informe de actividades, Informe de supervisión del contrato, Acta de Liquidación del contrato. Usuario Adicional","Suscripción anual","Prod","Producto","Zona (1, 2, 3)","N/A","N/A","CO-MCTO_SA001","Unico pago",490000,1,0,"COP"]
["NexuraSoftware NexuraIT-SW-01-01","IT-SW-01-01Software Nexura",null,"Nexura","IT-SW-01-01","Software Nexura","Nexura","COP","N/A","Capacitación para usuario final - hasta 10 Personas.  ","Por sesión de capacitación de 4 horas para un grupo de hasta 10 personas.","Serv","Servicio","Zonas (1,2,3)","Remoto","N/A","IT-SW-01-01","Mensual por servicios efectivamente prestados",2400000,1,1,"COP"]
["NexuraSoftware NexuraIT-SW-01-02","IT-SW-01-02Software Nexura",null,"Nexura","IT-SW-01-02","Software Nexura","Nexura","COP","N/A","Capacitación para usuario final - hasta 10 Personas.  ","Por sesión de capacitación de 4 horas para un grupo de hasta 10 personas.","Serv","Servicio","Zona 1","Sitio","N/A","IT-SW-01-02","Mensual por servicios efectivamente prestados",4000000,1,1,"COP"]
["NexuraSoftware NexuraIT-SW-01-03","IT-SW-01-03Software Nexura",null,"Nexura","IT-SW-01-03","Software Nexura","Nexura","COP","N/A","Capacitación para usuario final - hasta 10 Personas.  ","Por sesión de capacitación de 4 horas para un grupo de hasta 10 personas.","Serv","Servicio","Zonas (1,2,3)","Remoto","N/A","IT-SW-01-03","Mensual por servicios efectivamente prestados",2400000,1,1,"COP"]
["NexuraSoftware NexuraIT-SW-01-04","IT-SW-01-04Software Nexura",null,"Nexura","IT-SW-01-04","Software Nexura","Nexura","COP","N/A","Capacitación para usuario final - hasta 10 Personas.  ","Por sesión de capacitación de 4 horas para un grupo de hasta 10 personas.","Serv","Servicio","Zona 2","Sitio","N/A","IT-SW-01-04","Mensual por servicios efectivamente prestados",5000000,1,1,"COP"]
["NexuraSoftware NexuraIT-SW-01-05","IT-SW-01-05Software Nexura",null,"Nexura","IT-SW-01-05","Software Nexura","Nexura","COP","N/A","Capacitación para usuario final - hasta 10 Personas.  ","Por sesión de capacitación de 4 horas para un grupo de hasta 10 personas.","Serv","Servicio","Zonas (1,2,3)","Remoto","N/A","IT-SW-01-05","Mensual por servicios efectivamente prestados",2400000,1,1,"COP"]
["NexuraSoftware NexuraIT-SW-01-06","IT-SW-01-06Software Nexura",null,"Nexura","IT-SW-01-06","Software Nexura","Nexura","COP","N/A","Capacitación para usuario final - hasta 10 Personas.  ","Por sesión de capacitación de 4 horas para un grupo de hasta 10 personas.","Serv","Servicio","Zona 3","Sitio","N/A","IT-SW-01-06","Mensual por servicios efectivamente prestados",6000000,1,1,"COP"]
["NexuraSoftware NexuraIT-SW-02-01","IT-SW-02-01Software Nexura",null,"Nexura","IT-SW-02-01","Software Nexura","Nexura","COP","N/A","Capacitación para usuario final hasta 20 Personas.  ","Por sesión de capacitación de 4 horas para un grupo de hasta 20 personas.","Serv","Servicio","Zona 1","Remoto","N/A","IT-SW-02-01","Mensual por servicios efectivamente prestados",3000000,1,1,"COP"]
["NexuraSoftware NexuraIT-SW-02-02","IT-SW-02-02Software Nexura",null,"Nexura","IT-SW-02-02","Software Nexura","Nexura","COP","N/A","Capacitación para usuario final hasta 20 Personas.  ","Por sesión de capacitación de 4 horas para un grupo de hasta 20 personas.","Serv","Servicio","Zona 1","Sitio","N/A","IT-SW-02-02","Mensual por servicios efectivamente prestados",5000000,1,1,"COP"]
[{"$f":"D1249&F1249&E1249","v":"NexuraSoftware NexuraIT-SW-02-03"},{"$f":"E1249&F1249","v":"IT-SW-02-03Software Nexura"},null,"Nexura","IT-SW-02-03","Software Nexura",{"$f":"D1249","v":"Nexura"},"COP","N/A","Capacitación para usuario final hasta 20 Personas.  ","Por sesión de capacitación de 4 horas para un grupo de hasta 20 personas.","Serv","Servicio","Zona 2","Remoto","N/A",{"$f":"+E1249","v":"IT-SW-02-03"},"Mensual por servicios efectivamente prestados",3000000,1,1,"COP"]
["NexuraSoftware NexuraIT-SW-02-04","IT-SW-02-04Software Nexura",null,"Nexura","IT-SW-02-04","Software Nexura","Nexura","COP","N/A","Capacitación para usuario final hasta 20 Personas.  ","Por sesión de capacitación de 4 horas para un grupo de hasta 20 personas.","Serv","Servicio","Zona 2","Sitio","N/A","IT-SW-02-04","Mensual por servicios efectivamente prestados",6000000,1,1,"COP"]
["NexuraSoftware NexuraIT-SW-02-05","IT-SW-02-05Software Nexura",null,"Nexura","IT-SW-02-05","Software Nexura","Nexura","COP","N/A","Capacitación para usuario final hasta 20 Personas.  ","Por sesión de capacitación de 4 horas para un grupo de hasta 20 personas.","Serv","Servicio","Zona 3","Remoto","N/A","IT-SW-02-05","Mensual por servicios efectivamente prestados",3000000,1,1,"COP"]
["NexuraSoftware NexuraIT-SW-02-06","IT-SW-02-06Software Nexura",null,"Nexura","IT-SW-02-06","Software Nexura","Nexura","COP","N/A","Capacitación para usuario final hasta 20 Personas.  ","Por sesión de capacitación de 4 horas para un grupo de hasta 20 personas.","Serv","Servicio","Zona 3","Sitio","N/A","IT-SW-02-06","Mensual por servicios efectivamente prestados",7000000,1,1,"COP"]
["NexuraSoftware NexuraIT-SW-03-01","IT-SW-03-01Software Nexura",null,"Nexura","IT-SW-03-01","Software Nexura","Nexura","COP","N/A","Capacitación para usuario técnico o administrador - hasta 10 Personas.  ","Por sesión de capacitación de 4 horas para un grupo de hasta 10 personas.","Serv","Servicio","Zona 1","Remoto","N/A","IT-SW-03-01","Mensual por servicios efectivamente prestados",2400000,1,1,"COP"]
["NexuraSoftware NexuraIT-SW-03-02","IT-SW-03-02Software Nexura",null,"Nexura","IT-SW-03-02","Software Nexura","Nexura","COP","N/A","Capacitación para usuario técnico o administrador - hasta 10 Personas.  ","Por sesión de capacitación de 4 horas para un grupo de hasta 10 personas.","Serv","Servicio","Zona 1","Sitio","N/A","IT-SW-03-02","Mensual por servicios efectivamente prestados",5000000,1,1,"COP"]
["NexuraSoftware NexuraIT-SW-03-03","IT-SW-03-03Software Nexura",null,"Nexura","IT-SW-03-03","Software Nexura","Nexura","COP","N/A","Capacitación para usuario técnico o administrador - hasta 10 Personas.  ","Por sesión de capacitación de 4 horas para un grupo de hasta 10 personas.","Serv","Servicio","Zona 2","Remoto","N/A","IT-SW-03-03","Mensual por servicios efectivamente prestados",2400000,1,1,"COP"]
["NexuraSoftware NexuraIT-SW-03-04","IT-SW-03-04Software Nexura",null,"Nexura","IT-SW-03-04","Software Nexura","Nexura","COP","N/A","Capacitación para usuario técnico o administrador - hasta 10 Personas.  ","Por sesión de capacitación de 4 horas para un grupo de hasta 10 personas.","Serv","Servicio","Zona 2","Sitio","N/A","IT-SW-03-04","Mensual por servicios efectivamente prestados",6000000,1,1,"COP"]
["NexuraSoftware NexuraIT-SW-03-05","IT-SW-03-05Software Nexura",null,"Nexura","IT-SW-03-05","Software Nexura","Nexura","COP","N/A","Capacitación para usuario técnico o administrador - hasta 10 Personas.  ","Por sesión de capacitación de 4 horas para un grupo de hasta 10 personas.","Serv","Servicio","Zona 3","Remoto","N/A","IT-SW-03-05","Mensual por servicios efectivamente prestados",2400000,1,1,"COP"]
["NexuraSoftware NexuraIT-SW-03-06","IT-SW-03-06Software Nexura",null,"Nexura","IT-SW-03-06","Software Nexura","Nexura","COP","N/A","Capacitación para usuario técnico o administrador - hasta 10 Personas.  ","Por sesión de capacitación de 4 horas para un grupo de hasta 10 personas.","Serv","Servicio","Zona 3","Sitio","N/A","IT-SW-03-06","Mensual por servicios efectivamente prestados",7000000,1,1,"COP"]
["NexuraSoftware NexuraIT-SW-04-01","IT-SW-04-01Software Nexura",null,"Nexura","IT-SW-04-01","Software Nexura","Nexura","COP","N/A","Capacitación para usuario técnico o administrador hasta 20 Personas.  ","Por sesión de capacitación de 4 horas para un grupo de hasta 20 personas.","Serv","Servicio","Zona 1","Remoto","N/A","IT-SW-04-01","Mensual por servicios efectivamente prestados",2400000,1,1,"COP"]
["NexuraSoftware NexuraIT-SW-04-02","IT-SW-04-02Software Nexura",null,"Nexura","IT-SW-04-02","Software Nexura","Nexura","COP","N/A","Capacitación para usuario técnico o administrador hasta 20 Personas.  ","Por sesión de capacitación de 4 horas para un grupo de hasta 20 personas.","Serv","Servicio","Zona 1","Sitio","N/A","IT-SW-04-02","Mensual por servicios efectivamente prestados",6000000,1,1,"COP"]
["NexuraSoftware NexuraIT-SW-04-03","IT-SW-04-03Software Nexura",null,"Nexura","IT-SW-04-03","Software Nexura","Nexura","COP","N/A","Capacitación para usuario técnico o administrador hasta 20 Personas.  ","Por sesión de capacitación de 4 horas para un grupo de hasta 20 personas.","Serv","Servicio","Zona 2","Remoto","N/A","IT-SW-04-03","Mensual por servicios efectivamente prestados",2400000,1,1,"COP"]
["NexuraSoftware NexuraIT-SW-04-04","IT-SW-04-04Software Nexura",null,"Nexura","IT-SW-04-04","Software Nexura","Nexura","COP","N/A","Capacitación para usuario técnico o administrador hasta 20 Personas.  ","Por sesión de capacitación de 4 horas para un grupo de hasta 20 personas.","Serv","Servicio","Zona 2","Sitio","N/A","IT-SW-04-04","Mensual por servicios efectivamente prestados",7000000,1,1,"COP"]
["NexuraSoftware NexuraIT-SW-04-05","IT-SW-04-05Software Nexura",null,"Nexura","IT-SW-04-05","Software Nexura","Nexura","COP","N/A","Capacitación para usuario técnico o administrador hasta 20 Personas.  ","Por sesión de capacitación de 4 horas para un grupo de hasta 20 personas.","Serv","Servicio","Zona 3","Remoto","N/A","IT-SW-04-05","Mensual por servicios efectivamente prestados",2400000,1,1,"COP"]
["NexuraSoftware NexuraIT-SW-04-06","IT-SW-04-06Software Nexura",null,"Nexura","IT-SW-04-06","Software Nexura","Nexura","COP","N/A","Capacitación para usuario técnico o administrador hasta 20 Personas.  ","Por sesión de capacitación de 4 horas para un grupo de hasta 20 personas.","Serv","Servicio","Zona 3","Sitio","N/A","IT-SW-04-06","Mensual por servicios efectivamente prestados",8000000,1,1,"COP"]
["NexuraSoftware NexuraIT-SW-05-01","IT-SW-05-01Software Nexura",null,"Nexura","IT-SW-05-01","Software Nexura","Nexura","COP","N/A","Configuración y parametrización de los Productos ","Hora","Und","Servicio","Zona 1","Remoto","N/A","IT-SW-05-01","Mensual por servicios efectivamente prestados",200000,1,1,"COP"]
["NexuraSoftware NexuraIT-SW-05-02","IT-SW-05-02Software Nexura",null,"Nexura","IT-SW-05-02","Software Nexura","Nexura","COP","N/A","Configuración y parametrización de los Productos ","Hora","Und","Servicio","Zona 1","Sitio","N/A","IT-SW-05-02","Mensual por servicios efectivamente prestados",350000,1,1,"COP"]
["NexuraSoftware NexuraIT-SW-05-03","IT-SW-05-03Software Nexura",null,"Nexura","IT-SW-05-03","Software Nexura","Nexura","COP","N/A","Configuración y parametrización de los Productos ","Hora","Und","Servicio","Zona 2","Remoto","N/A","IT-SW-05-03","Mensual por servicios efectivamente prestados",200000,1,1,"COP"]
["NexuraSoftware NexuraIT-SW-05-04","IT-SW-05-04Software Nexura",null,"Nexura","IT-SW-05-04","Software Nexura","Nexura","COP","N/A","Configuración y parametrización de los Productos ","Hora","Und","Servicio","Zona 2","Sitio","N/A","IT-SW-05-04","Mensual por servicios efectivamente prestados",350000,1,1,"COP"]
["NexuraSoftware NexuraIT-SW-05-05","IT-SW-05-05Software Nexura",null,"Nexura","IT-SW-05-05","Software Nexura","Nexura","COP","N/A","Configuración y parametrización de los Productos ","Hora","Und","Servicio","Zona 3","Remoto","N/A","IT-SW-05-05","Mensual por servicios efectivamente prestados",200000,1,1,"COP"]
["NexuraSoftware NexuraIT-SW-05-06","IT-SW-05-06Software Nexura",null,"Nexura","IT-SW-05-06","Software Nexura","Nexura","COP","N/A","Configuración y parametrización de los Productos ","Hora","Und","Servicio","Zona 3","Sitio","N/A","IT-SW-05-06","Mensual por servicios efectivamente prestados",350000,1,1,"COP"]
["NexuraSoftware NexuraIT-SW-06-01","IT-SW-06-01Software Nexura",null,"Nexura","IT-SW-06-01","Software Nexura","Nexura","COP","N/A","Gerente de cuenta (soporte) ","Mes","Serv","Servicio","Zona 1","Sitio","N/A","IT-SW-06-01","Mensual por servicios efectivamente prestados",22000000,1,1,"COP"]
["NexuraSoftware NexuraIT-SW-06-02","IT-SW-06-02Software Nexura",null,"Nexura","IT-SW-06-02","Software Nexura","Nexura","COP","N/A","Gerente de cuenta (soporte) ","Mes","Serv","Servicio","Zona 2","Sitio","N/A","IT-SW-06-02","Mensual por servicios efectivamente prestados",29000000,1,1,"COP"]
["NexuraSoftware NexuraIT-SW-06-03","IT-SW-06-03Software Nexura",null,"Nexura","IT-SW-06-03","Software Nexura","Nexura","COP","N/A","Gerente de cuenta (soporte) ","Mes","Serv","Servicio","Zona 3","Sitio","N/A","IT-SW-06-03","Mensual por servicios efectivamente prestados",37000000,1,1,"COP"]
["NexuraSoftware NexuraIT-SW-07-01","IT-SW-07-01Software Nexura",null,"Nexura","IT-SW-07-01","Software Nexura","Nexura","COP","N/A","Instalación de Licencia o Suscripción Anual, o afínes ","Unidad","Und","Servicio","Zonas (1,2,3)","Remoto","N/A","IT-SW-07-01","Mensual por servicios efectivamente prestados",4500000,1,1,"COP"]
["NexuraSoftware NexuraIT-SW-07-02","IT-SW-07-02Software Nexura",null,"Nexura","IT-SW-07-02","Software Nexura","Nexura","COP","N/A","Instalación de Licencia o Suscripción Anual, o afínes ","Unidad","Und","Servicio","Zona 1","Sitio","N/A","IT-SW-07-02","Mensual por servicios efectivamente prestados",6000000,1,1,"COP"]
["NexuraSoftware NexuraIT-SW-07-03","IT-SW-07-03Software Nexura",null,"Nexura","IT-SW-07-03","Software Nexura","Nexura","COP","N/A","Instalación de Licencia OnPremise ","Unidad","Und","Servicio","Zonas (1,2,3)","Remoto","N/A","IT-SW-07-03","Mensual por servicios efectivamente prestados",6000000,1,1,"COP"]
["NexuraSoftware NexuraIT-SW-07-04","IT-SW-07-04Software Nexura",null,"Nexura","IT-SW-07-04","Software Nexura","Nexura","COP","N/A","Instalación de Licencia o Suscripción Anual, o afínes ","Unidad","Und","Servicio","Zona 2","Sitio","N/A","IT-SW-07-04","Mensual por servicios efectivamente prestados",6000000,1,1,"COP"]
["NexuraSoftware NexuraIT-SW-07-05","IT-SW-07-05Software Nexura",null,"Nexura","IT-SW-07-05","Software Nexura","Nexura","COP","N/A","Instalación de Licencia OnPremise ","Unidad","Und","Servicio","Zonas (1,2,3)","Sitio","N/A","IT-SW-07-05","Mensual por servicios efectivamente prestados",12000000,1,1,"COP"]
["NexuraSoftware NexuraIT-SW-07-06","IT-SW-07-06Software Nexura",null,"Nexura","IT-SW-07-06","Software Nexura","Nexura","COP","N/A","Instalación de Licencia o Suscripción Anual, o afínes ","Unidad","Und","Servicio","Zona 3","Sitio","N/A","IT-SW-07-06","Mensual por servicios efectivamente prestados",6000000,1,1,"COP"]
["NexuraSoftware NexuraIT-SW-08-01","IT-SW-08-01Software Nexura",null,"Nexura","IT-SW-08-01","Software Nexura","Nexura","COP","N/A","Migración de información por volumen de datos almacenados ","GB","Serv","Servicio","Zona 1","Remoto","N/A","IT-SW-08-01","Mensual por servicios efectivamente prestados",36000,1,1,"COP"]
["NexuraSoftware NexuraIT-SW-08-02","IT-SW-08-02Software Nexura",null,"Nexura","IT-SW-08-02","Software Nexura","Nexura","COP","N/A","Migración de información por volumen de datos almacenados ","GB","Serv","Servicio","Zona 1","Sitio","N/A","IT-SW-08-02","Mensual por servicios efectivamente prestados",72000,1,1,"COP"]
["NexuraSoftware NexuraIT-SW-08-03","IT-SW-08-03Software Nexura",null,"Nexura","IT-SW-08-03","Software Nexura","Nexura","COP","N/A","Migración de información por volumen de datos almacenados ","GB","Serv","Servicio","Zona 2","Remoto","N/A","IT-SW-08-03","Mensual por servicios efectivamente prestados",36000,1,1,"COP"]
["NexuraSoftware NexuraIT-SW-08-04","IT-SW-08-04Software Nexura",null,"Nexura","IT-SW-08-04","Software Nexura","Nexura","COP","N/A","Migración de información por volumen de datos almacenados ","GB","Serv","Servicio","Zona 2","Sitio","N/A","IT-SW-08-04","Mensual por servicios efectivamente prestados",96000,1,1,"COP"]
["NexuraSoftware NexuraIT-SW-08-05","IT-SW-08-05Software Nexura",null,"Nexura","IT-SW-08-05","Software Nexura","Nexura","COP","N/A","Migración de información por volumen de datos almacenados ","GB","Serv","Servicio","Zona 3","Remoto","N/A","IT-SW-08-05","Mensual por servicios efectivamente prestados",36000,1,1,"COP"]
["NexuraSoftware NexuraIT-SW-08-06","IT-SW-08-06Software Nexura",null,"Nexura","IT-SW-08-06","Software Nexura","Nexura","COP","N/A","Migración de información por volumen de datos almacenados ","GB","Serv","Servicio","Zona 3","Sitio","N/A","IT-SW-08-06","Mensual por servicios efectivamente prestados",108000,1,1,"COP"]
["NexuraSoftware NexuraIT-SW-09-01","IT-SW-09-01Software Nexura",null,"Nexura","IT-SW-09-01","Software Nexura","Nexura","COP","N/A","Soporte técnico en sitio ","Mes","Serv","Servicio","Zona 1","Sitio","N/A","IT-SW-09-01","Mensual por servicios efectivamente prestados",20592000,1,1,"COP"]
["NexuraSoftware NexuraIT-SW-09-02","IT-SW-09-02Software Nexura",null,"Nexura","IT-SW-09-02","Software Nexura","Nexura","COP","N/A","Soporte técnico en sitio ","Mes","Serv","Servicio","Zona 2","Sitio","N/A","IT-SW-09-02","Mensual por servicios efectivamente prestados",31152000,1,1,"COP"]
["NexuraSoftware NexuraIT-SW-09-03","IT-SW-09-03Software Nexura",null,"Nexura","IT-SW-09-03","Software Nexura","Nexura","COP","N/A","Soporte técnico en sitio ","Mes","Serv","Servicio","Zona 3","Sitio","N/A","IT-SW-09-03","Mensual por servicios efectivamente prestados",36960000,1,1,"COP"]
["NexuraSoftware NexuraIT-SW-10-01","IT-SW-10-01Software Nexura",null,"Nexura","IT-SW-10-01","Software Nexura","Nexura","COP","N/A","Soporte técnico proactivo ","Hora","Serv","Servicio","Zona 2","Remoto","N/A","IT-SW-10-01","Mensual por servicios efectivamente prestados",160000,1,1,"COP"]
["NexuraSoftware NexuraIT-SW-10-02","IT-SW-10-02Software Nexura",null,"Nexura","IT-SW-10-02","Software Nexura","Nexura","COP","N/A","Soporte técnico proactivo ","Hora","Serv","Servicio","Zona 2","Sitio","N/A","IT-SW-10-02","Mensual por servicios efectivamente prestados",250000,1,1,"COP"]
["NexuraSoftware NexuraIT-SW-10-03","IT-SW-10-03Software Nexura",null,"Nexura","IT-SW-10-03","Software Nexura","Nexura","COP","N/A","Soporte técnico proactivo ","Hora","Serv","Servicio","Zona 1","Remoto","N/A","IT-SW-10-03","Mensual por servicios efectivamente prestados",158000,1,1,"COP"]
["NexuraSoftware NexuraIT-SW-10-04","IT-SW-10-04Software Nexura",null,"Nexura","IT-SW-10-04","Software Nexura","Nexura","COP","N/A","Soporte técnico proactivo ","Hora","Serv","Servicio","Zona 3","Remoto","N/A","IT-SW-10-04","Mensual por servicios efectivamente prestados",160000,1,1,"COP"]
["NexuraSoftware NexuraIT-SW-10-05","IT-SW-10-05Software Nexura",null,"Nexura","IT-SW-10-05","Software Nexura","Nexura","COP","N/A","Soporte técnico proactivo ","Hora","Serv","Servicio","Zona 3","Sitio","N/A","IT-SW-10-05","Mensual por servicios efectivamente prestados",300000,1,1,"COP"]
["NexuraSoftware NexuraIT-SW-10-06","IT-SW-10-06Software Nexura",null,"Nexura","IT-SW-10-06","Software Nexura","Nexura","COP","N/A","Soporte técnico proactivo ","Hora","Serv","Servicio","Zona 1","Sitio","N/A","IT-SW-10-06","Mensual por servicios efectivamente prestados",200000,1,1,"COP"]
["NexuraSoftware NexuraIT-SW-11-01","IT-SW-11-01Software Nexura",null,"Nexura","IT-SW-11-01","Software Nexura","Nexura","COP","N/A","Soporte técnico reactivo ","Hora","Serv","Servicio","Zona 1","Sitio","N/A","IT-SW-11-01","Mensual por servicios efectivamente prestados",180000,1,1,"COP"]
["NexuraSoftware NexuraIT-SW-11-02","IT-SW-11-02Software Nexura",null,"Nexura","IT-SW-11-02","Software Nexura","Nexura","COP","N/A","Soporte técnico reactivo ","Hora","Serv","Servicio","Zona 2","Remoto","N/A","IT-SW-11-02","Mensual por servicios efectivamente prestados",160000,1,1,"COP"]
["NexuraSoftware NexuraIT-SW-11-03","IT-SW-11-03Software Nexura",null,"Nexura","IT-SW-11-03","Software Nexura","Nexura","COP","N/A","Soporte técnico reactivo ","Hora","Serv","Servicio","Zona 2","Sitio","N/A","IT-SW-11-03","Mensual por servicios efectivamente prestados",300000,1,1,"COP"]
["NexuraSoftware NexuraIT-SW-11-04","IT-SW-11-04Software Nexura",null,"Nexura","IT-SW-11-04","Software Nexura","Nexura","COP","N/A","Soporte técnico reactivo ","Hora","Serv","Servicio","Zona 3","Remoto","N/A","IT-SW-11-04","Mensual por servicios efectivamente prestados",160000,1,1,"COP"]
["NexuraSoftware NexuraIT-SW-11-05","IT-SW-11-05Software Nexura",null,"Nexura","IT-SW-11-05","Software Nexura","Nexura","COP","N/A","Soporte técnico reactivo ","Hora","Serv","Servicio","Zona 3","Sitio","N/A","IT-SW-11-05","Mensual por servicios efectivamente prestados",300000,1,1,"COP"]
["NexuraSoftware NexuraIT-SW-11-06","IT-SW-11-06Software Nexura",null,"Nexura","IT-SW-11-06","Software Nexura","Nexura","COP","N/A","Soporte técnico reactivo ","Hora","Serv","Servicio","Zona 1","Remoto","N/A","IT-SW-11-06","Mensual por servicios efectivamente prestados",160000,1,1,"COP"]
["NexuraSoftware NexuraNX-11-01","NX-11-01Software Nexura",null,"Nexura","NX-11-01","Software Nexura","Nexura","COP","N/A","Licencia Gfiles Enterprise OnPremise - hasta 100 usuarios ","Unidad","Und","Producto ","Zonas (1,2,3)","N/A ","N/A","NX-11-01","One time ",240000000,1,1,"COP"]
["NexuraSoftware NexuraNX-11-02","NX-11-02Software Nexura",null,"Nexura","NX-11-02","Software Nexura","Nexura","COP","N/A","Licencia Gfiles Enterprise OnPremise - Usuario adicional ","Unidad","Und","Producto ","Zonas (1,2,3)","N/A ","N/A","NX-11-02","One time ",1000000,1,1,"COP"]
["NexuraSoftware NexuraNX-11-03","NX-11-03Software Nexura",null,"Nexura","NX-11-03","Software Nexura","Nexura","COP","N/A","Soporte Gfiles Enterprise OnPremise -  Anual (30% valor licenciado)","Unidad","Und","Servicio","Zonas (1,2,3)","N/A ","N/A","NX-11-03","Anual ",80000000,1,1,"COP"]
["NexuraSoftware NexuraNX-11-04","NX-11-04Software Nexura",null,"Nexura","NX-11-04","Software Nexura","Nexura","COP","N/A","Licencia Gfiles Cloud Enterprise - Mensual hasta 100 usuarios ","Unidad","Und","Producto ","Zonas (1,2,3)","N/A ","N/A","NX-11-04","Mensual ",7500000,1,0,"COP"]
["NexuraSoftware NexuraNX-11-05","NX-11-05Software Nexura",null,"Nexura","NX-11-05","Software Nexura","Nexura","COP","N/A","Licencia Gfiles Cloud Enterprise - Anual hasta 100 usuarios ","Unidad","Und","Producto ","Zonas (1,2,3)","N/A ","N/A","NX-11-05","Anual ",90000000,1,0,"COP"]
["NexuraSoftware NexuraNX-11-06","NX-11-06Software Nexura",null,"Nexura","NX-11-06","Software Nexura","Nexura","COP","N/A","Licencia Gfiles Cloud - Mensual por usuario adicional","Unidad","Und","Producto ","Zonas (1,2,3)","N/A ","N/A","NX-11-06","Mensual ",75000,1,0,"COP"]
["NexuraSoftware NexuraNX-11-07","NX-11-07Software Nexura",null,"Nexura","NX-11-07","Software Nexura","Nexura","COP","N/A","Licencia Gfiles Cloud - Anual por usuario adicional ","Unidad","Und","Producto ","Zonas (1,2,3)","N/A ","N/A","NX-11-07","Anual ",900000,1,0,"COP"]
["NexuraSoftware NexuraNX-11-08","NX-11-08Software Nexura",null,"Nexura","NX-11-08","Software Nexura","Nexura","COP","N/A","Storage Gfiles Cloud - Mensual por 100 Gb (almacenamiento y procesamiento)","Unidad","Und","Producto ","Zonas (1,2,3)","N/A ","N/A","NX-11-08","Mensual ",800000,1,0,"COP"]
["NexuraSoftware NexuraNX-11-09","NX-11-09Software Nexura",null,"Nexura","NX-11-09","Software Nexura","Nexura","COP","N/A","Storage Gfiles Cloud - Anual por 100 Gb (almacenamiento y procesamiento)","Unidad","Und","Producto ","Zonas (1,2,3)","N/A ","N/A","NX-11-09","Anual ",9600000,1,0,"COP"]
["NexuraSoftware NexuraNX-22-01","NX-22-01Software Nexura",null,"Nexura","NX-22-01","Software Nexura","Nexura","COP","N/A","Licencia Recaudo Enterprise - Mensual ","Unidad","Und","Producto ","Zonas (1,2,3)","N/A ","N/A","NX-22-01","Mensual ",4000000,1,0,"COP"]
["NexuraSoftware NexuraNX-22-02","NX-22-02Software Nexura",null,"Nexura","NX-22-02","Software Nexura","Nexura","COP","N/A","Licencia Recaudo Enterprise - Anual","Unidad","Und","Producto ","Zonas (1,2,3)","N/A ","N/A","NX-22-02","Anual ",48000000,1,0,"COP"]
["NexuraSoftware NexuraNX-22-03","NX-22-03Software Nexura",null,"Nexura","NX-22-03","Software Nexura","Nexura","COP","N/A","Paquete transaccional adicional (1K)","Unidad","Und","Producto ","Zonas (1,2,3)","N/A ","N/A","NX-22-03","Mensual ",2000000,1,0,"COP"]
[{"$f":"D1313&F1313&E1313","v":"NexuraSoftware NexuraNX-22-04"},{"$f":"E1313&F1313","v":"NX-22-04Software Nexura"},null,"Nexura","NX-22-04","Software Nexura",{"$f":"D1313","v":"Nexura"},"COP","N/A","Paquete transaccional adicional (5K)","Unidad","Und","Producto ","Zonas (1,2,3)","N/A ","N/A",{"$f":"+E1313","v":"NX-22-04"},"Anual ",10000000,1,0,"COP"]
["NexuraSoftware NexuraNX-33-01","NX-33-01Software Nexura",null,"Nexura","NX-33-01","Software Nexura","Nexura","COP","N/A","Licencia Platform Enterprise - Mensual hasta 100 usuarios ","Unidad","Und","Producto ","Zonas (1,2,3)","N/A ","N/A","NX-33-01","Mensual ",8000000,1,0,"COP"]
["NexuraSoftware NexuraNX-33-02","NX-33-02Software Nexura",null,"Nexura","NX-33-02","Software Nexura","Nexura","COP","N/A","Licencia Platform Enterprise - Anual hasta 100 usuarios ","Unidad","Und","Producto ","Zonas (1,2,3)","N/A ","N/A","NX-33-02","Anual ",90000000,1,0,"COP"]
["NexuraSoftware NexuraNX-33-03","NX-33-03Software Nexura",null,"Nexura","NX-33-03","Software Nexura","Nexura","COP","N/A","Licencia Platform - Mensual por usuario adicional","Unidad","Und","Producto ","Zonas (1,2,3)","N/A ","N/A","NX-33-03","Mensual ",75000,1,0,"COP"]
["NexuraSoftware NexuraNX-33-04","NX-33-04Software Nexura",null,"Nexura","NX-33-04","Software Nexura","Nexura","COP","N/A","Licencia Platform - Anual por usuario adicional ","Unidad","Und","Producto ","Zonas (1,2,3)","N/A ","N/A","NX-33-04","Anual ",900000,1,0,"COP"]
["NexuraSoftware NexuraNX-33-05","NX-33-05Software Nexura",null,"Nexura","NX-33-05","Software Nexura","Nexura","COP","N/A","Licencia Platform - Perpetua hasta 10 usuarios ","Unidad","Und","Producto ","Zonas (1,2,3)","N/A ","N/A","NX-33-05","One time ",28000000,1,1,"COP"]
["NexuraSoftware NexuraNX-33-06","NX-33-06Software Nexura",null,"Nexura","NX-33-06","Software Nexura","Nexura","COP","N/A","Licencia Platform - Perpetua por usuario adicional ","Unidad","Und","Producto ","Zonas (1,2,3)","N/A ","N/A","NX-33-06","One time ",2500000,1,1,"COP"]
["NexuraSoftware NexuraNX-33-07","NX-33-07Software Nexura",null,"Nexura","NX-33-07","Software Nexura","Nexura","COP","N/A","Paquete transaccional adicional (1K)","Unidad","Und","Producto ","Zonas (1,2,3)","N/A ","N/A","NX-33-07","Mensual ",3000000,1,0,"COP"]
["NexuraSoftware NexuraNX-33-08","NX-33-08Software Nexura",null,"Nexura","NX-33-08","Software Nexura","Nexura","COP","N/A","Paquete transaccional adicional (3K)","Unidad","Und","Producto ","Zonas (1,2,3)","N/A ","N/A","NX-33-08","Anual ",9000000,1,0,"COP"]
["NexuraSoftware NexuraNX-33-09","NX-33-09Software Nexura",null,"Nexura","NX-33-09","Software Nexura","Nexura","COP","N/A","Paquete transaccional adicional (5K)","Unidad","Und","Producto ","Zonas (1,2,3)","N/A ","N/A","NX-33-09","Anual ",15000000,1,0,"COP"]
["NexuraSoftware NexuraNX-44-01","NX-44-01Software Nexura",null,"Nexura","NX-44-01","Software Nexura","Nexura","COP","N/A","Licencia Bpm Enterprise - Anual hasta 100 usuarios ","Unidad","Und","Producto ","Zonas (1,2,3)","N/A ","N/A","NX-44-01","Anual ",96000000,1,0,"COP"]
["NexuraSoftware NexuraNX-44-02","NX-44-02Software Nexura",null,"Nexura","NX-44-02","Software Nexura","Nexura","COP","N/A","Licencia Bpm - Anual por usuario adicional ","Unidad","Und","Producto ","Zonas (1,2,3)","N/A ","N/A","NX-44-02","Anual ",960000,1,0,"COP"]
["NexuraSoftware NexuraNX-55-01","NX-55-01Software Nexura",null,"Nexura","NX-55-01","Software Nexura","Nexura","COP","N/A","Licencia Trámites Gov.co - Mensual ","Unidad","Und","Producto ","Zonas (1,2,3)","N/A ","N/A","NX-55-01","Mensual ",2900000,1,0,"COP"]
["NexuraSoftware NexuraNX-55-02","NX-55-02Software Nexura",null,"Nexura","NX-55-02","Software Nexura","Nexura","COP","N/A","Licencia Trámites Gov.co - Anual","Unidad","Und","Producto ","Zonas (1,2,3)","N/A ","N/A","NX-55-02","Anual ",34800000,1,0,"COP"]
["NexuraSoftware NexuraNX-55-03","NX-55-03Software Nexura",null,"Nexura","NX-55-03","Software Nexura","Nexura","COP","N/A","Licencia Trámites Gov.co - Hasta 100 usuarios - Perpetuidad ","Unidad","Und","Producto ","Zonas (1,2,3)","N/A ","N/A","NX-55-03","One time ",90000000,1,1,"COP"]
["NexuraSoftware NexuraNX-55-04","NX-55-04Software Nexura",null,"Nexura","NX-55-04","Software Nexura","Nexura","COP","N/A","Licencia Trámites Gov.co - Usuario adicional - Perpetuidad ","Unidad","Und","Producto ","Zonas (1,2,3)","N/A ","N/A","NX-55-04","One time ",900000,1,1,"COP"]
["NexuraSoftware NexuraNX-55-04-01","NX-55-04-01Software Nexura",null,"Nexura","NX-55-04-01","Software Nexura","Nexura","COP","N/A","Soporte Trámites Gov.co - Hasta 100 usuarios - Anual (30% del valor licenciado)","Unidad","Und","Producto ","Zonas (1,2,3)","N/A ","N/A","NX-55-04-01","Anual ",27000000,1,1,"COP"]
["NexuraSoftware NexuraNX-55-05","NX-55-05Software Nexura",null,"Nexura","NX-55-05","Software Nexura","Nexura","COP","N/A","Paquete transaccional adicional (1K)","Unidad","Und","Producto ","Zonas (1,2,3)","N/A ","N/A","NX-55-05","Mensual ",2000000,1,0,"COP"]
["NexuraSoftware NexuraNX-55-06","NX-55-06Software Nexura",null,"Nexura","NX-55-06","Software Nexura","Nexura","COP","N/A","Paquete transaccional adicional (5K)","Unidad","Und","Producto ","Zonas (1,2,3)","N/A ","N/A","NX-55-06","Anual ",10000000,1,0,"COP"]
["NexuraSoftware NexuraNX-66-01","NX-66-01Software Nexura",null,"Nexura","NX-66-01","Software Nexura","Nexura","COP","N/A","Licencia App Transaccional - Mensual ","Unidad","Und","Producto ","Zonas (1,2,3)","N/A ","N/A","NX-66-01","Mensual ",3000000,1,0,"COP"]
["NexuraSoftware NexuraNX-66-02","NX-66-02Software Nexura",null,"Nexura","NX-66-02","Software Nexura","Nexura","COP","N/A","Licencia App Transaccional - Anual","Unidad","Und","Producto ","Zonas (1,2,3)","N/A ","N/A","NX-66-02","Anual ",36000000,1,0,"COP"]
["NexuraSoftware NexuraNX-66-03","NX-66-03Software Nexura",null,"Nexura","NX-66-03","Software Nexura","Nexura","COP","N/A","Paquete transaccional adicional (1K)","Unidad","Und","Producto ","Zonas (1,2,3)","N/A ","N/A","NX-66-03","Mensual ",2000000,1,0,"COP"]
["NexuraSoftware NexuraNX-66-04","NX-66-04Software Nexura",null,"Nexura","NX-66-04","Software Nexura","Nexura","COP","N/A","Paquete transaccional adicional (5K)","Unidad","Und","Producto ","Zonas (1,2,3)","N/A ","N/A","NX-66-04","Anual ",10000000,1,0,"COP"]
["NexuraSoftware NexuraNX-77-01","NX-77-01Software Nexura",null,"Nexura","NX-77-01","Software Nexura","Nexura","COP","N/A","Licencia Enterprise Security - Anual hasta 100 usuarios ","Unidad","Und","Producto ","Zonas (1,2,3)","N/A ","N/A","NX-77-01","Anual ",84000000,1,0,"COP"]
["NexuraSoftware NexuraNX-77-02","NX-77-02Software Nexura",null,"Nexura","NX-77-02","Software Nexura","Nexura","COP","N/A","Licencia Enterprise Security - Anual por usuario adicional ","Unidad","Und","Producto ","Zonas (1,2,3)","N/A ","N/A","NX-77-02","Anual ",1000000,1,0,"COP"]
["NexuraSoftware NexuraNX-77-04","NX-77-04Software Nexura",null,"Nexura","NX-77-04","Software Nexura","Nexura","COP","N/A","Licencia Enterprise Security - Perpetuidad hasta 10 usuarios ","Unidad","Und","Producto ","Zonas (1,2,3)","N/A ","N/A","NX-77-04","One Time ",25000000,1,1,"COP"]
["NexuraSoftware NexuraNX-77-04-01","NX-77-04-01Software Nexura",null,"Nexura","NX-77-04-01","Software Nexura","Nexura","COP","N/A","Licencia Enterprise Security - Perpetuidad usuario adicional  ","Unidad","Und","Producto ","Zonas (1,2,3)","N/A ","N/A","NX-77-04-01","One Time ",2500000,1,1,"COP"]
["NexuraSoftware NexuraNX-88-01","NX-88-01Software Nexura",null,"Nexura","NX-88-01","Software Nexura","Nexura","COP","N/A","Licencia Registro Enterprise - Mensual hasta 100 usuarios ","Unidad","Und","Producto ","Zonas (1,2,3)","N/A ","N/A","NX-88-01","Mensual ",12500000,1,0,"COP"]
["NexuraSoftware NexuraNX-88-02","NX-88-02Software Nexura",null,"Nexura","NX-88-02","Software Nexura","Nexura","COP","N/A","Licencia Registro Enterprise - Anual hasta 100 usuarios ","Unidad","Und","Producto ","Zonas (1,2,3)","N/A ","N/A","NX-88-02","Anual ",150000000,1,0,"COP"]
["NexuraSoftware NexuraNX-88-03","NX-88-03Software Nexura",null,"Nexura","NX-88-03","Software Nexura","Nexura","COP","N/A","Licencia Registro - Mensual por usuario adicional","Unidad","Und","Producto ","Zonas (1,2,3)","N/A ","N/A","NX-88-03","Mensual ",125000,1,0,"COP"]
["NexuraSoftware NexuraNX-88-04","NX-88-04Software Nexura",null,"Nexura","NX-88-04","Software Nexura","Nexura","COP","N/A","Licencia Registro - Anual por usuario adicional ","Unidad","Und","Producto ","Zonas (1,2,3)","N/A ","N/A","NX-88-04","Anual ",1500000,1,0,"COP"]
["NexuraSoftware NexuraNX-99-01","NX-99-01Software Nexura",null,"Nexura","NX-99-01","Software Nexura","Nexura","COP","N/A","Licencia Estampillas Enterprise - Mensual hasta 100 usuarios ","Unidad","Und","Producto ","Zonas (1,2,3)","N/A ","N/A","NX-99-01","Mensual ",10000000,1,0,"COP"]
["NexuraSoftware NexuraNX-99-02","NX-99-02Software Nexura",null,"Nexura","NX-99-02","Software Nexura","Nexura","COP","N/A","Licencia Estampillas Enterprise - Anual hasta 100 usuarios ","Unidad","Und","Producto ","Zonas (1,2,3)","N/A ","N/A","NX-99-02","Anual ",120000000,1,0,"COP"]
["NexuraSoftware NexuraNX-99-03","NX-99-03Software Nexura",null,"Nexura","NX-99-03","Software Nexura","Nexura","COP","N/A","Licencia Estampillas - Mensual por usuario adicional","Unidad","Und","Producto ","Zonas (1,2,3)","N/A ","N/A","NX-99-03","Mensual ",125000,1,0,"COP"]
["NexuraSoftware NexuraNX-99-04","NX-99-04Software Nexura",null,"Nexura","NX-99-04","Software Nexura","Nexura","COP","N/A","Licencia Estampillas - Anual por usuario adicional ","Unidad","Und","Producto ","Zonas (1,2,3)","N/A ","N/A","NX-99-04","Anual ",1500000,1,0,"COP"]
["TECNOPROCESOSSoftware CIEIT-SW-01-01","IT-SW-01-01Software CIE",null,"TECNOPROCESOS","IT-SW-01-01","Software CIE","TECNOPROCESOS","COP","N/A","Capacitación para usuario final - hasta 10 Personas.  ","Por sesión de capacitación de 4 horas para un grupo de hasta 10 personas.","Serv","Servicio","Zona 1","Remoto","Capacitador","IT-SW-01-01","UNICO PAGO",12960000,1,1,"COP"]
["TECNOPROCESOSSoftware CIEIT-SW-01-02","IT-SW-01-02Software CIE",null,"TECNOPROCESOS","IT-SW-01-02","Software CIE","TECNOPROCESOS","COP","N/A","Capacitación para usuario final - hasta 10 Personas.  ","Por sesión de capacitación de 4 horas para un grupo de hasta 10 personas.","Serv","Servicio","Zona 1","Sitio","Capacitador","IT-SW-01-02","UNICO PAGO",12960000,1,1,"COP"]
["TECNOPROCESOSSoftware CIEIT-SW-01-03","IT-SW-01-03Software CIE",null,"TECNOPROCESOS","IT-SW-01-03","Software CIE","TECNOPROCESOS","COP","N/A","Capacitación para usuario final - hasta 10 Personas.  ","Por sesión de capacitación de 4 horas para un grupo de hasta 10 personas.","Serv","Servicio","Zona 2","Remoto","Capacitador","IT-SW-01-03","UNICO PAGO",12960000,1,1,"COP"]
["TECNOPROCESOSSoftware CIEIT-SW-01-04","IT-SW-01-04Software CIE",null,"TECNOPROCESOS","IT-SW-01-04","Software CIE","TECNOPROCESOS","COP","N/A","Capacitación para usuario final - hasta 10 Personas.  ","Por sesión de capacitación de 4 horas para un grupo de hasta 10 personas.","Serv","Servicio","Zona 2","Sitio","Capacitador","IT-SW-01-04","UNICO PAGO",12960000,1,1,"COP"]
["TECNOPROCESOSSoftware CIEIT-SW-01-05","IT-SW-01-05Software CIE",null,"TECNOPROCESOS","IT-SW-01-05","Software CIE","TECNOPROCESOS","COP","N/A","Capacitación para usuario final - hasta 10 Personas.  ","Por sesión de capacitación de 4 horas para un grupo de hasta 10 personas.","Serv","Servicio","Zona 3","Remoto","Capacitador","IT-SW-01-05","UNICO PAGO",12960000,1,1,"COP"]
["TECNOPROCESOSSoftware CIEIT-SW-01-06","IT-SW-01-06Software CIE",null,"TECNOPROCESOS","IT-SW-01-06","Software CIE","TECNOPROCESOS","COP","N/A","Capacitación para usuario final - hasta 10 Personas.  ","Por sesión de capacitación de 4 horas para un grupo de hasta 10 personas.","Serv","Servicio","Zona 3","Sitio","Capacitador","IT-SW-01-06","UNICO PAGO",12960000,1,1,"COP"]
["TECNOPROCESOSSoftware CIEIT-SW-02-01","IT-SW-02-01Software CIE",null,"TECNOPROCESOS","IT-SW-02-01","Software CIE","TECNOPROCESOS","COP","N/A","Capacitación para usuario final hasta 20 Personas.  ","Por sesión de capacitación de 4 horas para un grupo de hasta 20 personas.","Serv","Servicio","Zona 1","Remoto","Capacitador","IT-SW-02-01","UNICO PAGO",25920000,1,1,"COP"]
["TECNOPROCESOSSoftware CIEIT-SW-02-02","IT-SW-02-02Software CIE",null,"TECNOPROCESOS","IT-SW-02-02","Software CIE","TECNOPROCESOS","COP","N/A","Capacitación para usuario final hasta 20 Personas.  ","Por sesión de capacitación de 4 horas para un grupo de hasta 20 personas.","Serv","Servicio","Zona 1","Sitio","Capacitador","IT-SW-02-02","UNICO PAGO",25920000,1,1,"COP"]
["TECNOPROCESOSSoftware CIEIT-SW-02-03","IT-SW-02-03Software CIE",null,"TECNOPROCESOS","IT-SW-02-03","Software CIE","TECNOPROCESOS","COP","N/A","Capacitación para usuario final hasta 20 Personas.  ","Por sesión de capacitación de 4 horas para un grupo de hasta 20 personas.","Serv","Servicio","Zona 2","Remoto","Capacitador","IT-SW-02-03","UNICO PAGO",25920000,1,1,"COP"]
["TECNOPROCESOSSoftware CIEIT-SW-02-04","IT-SW-02-04Software CIE",null,"TECNOPROCESOS","IT-SW-02-04","Software CIE","TECNOPROCESOS","COP","N/A","Capacitación para usuario final hasta 20 Personas.  ","Por sesión de capacitación de 4 horas para un grupo de hasta 20 personas.","Serv","Servicio","Zona 2","Sitio","Capacitador","IT-SW-02-04","UNICO PAGO",25920000,1,1,"COP"]
["TECNOPROCESOSSoftware CIEIT-SW-02-05","IT-SW-02-05Software CIE",null,"TECNOPROCESOS","IT-SW-02-05","Software CIE","TECNOPROCESOS","COP","N/A","Capacitación para usuario final hasta 20 Personas.  ","Por sesión de capacitación de 4 horas para un grupo de hasta 20 personas.","Serv","Servicio","Zona 3","Remoto","Capacitador","IT-SW-02-05","UNICO PAGO",25920000,1,1,"COP"]
["TECNOPROCESOSSoftware CIEIT-SW-02-06","IT-SW-02-06Software CIE",null,"TECNOPROCESOS","IT-SW-02-06","Software CIE","TECNOPROCESOS","COP","N/A","Capacitación para usuario final hasta 20 Personas.  ","Por sesión de capacitación de 4 horas para un grupo de hasta 20 personas.","Serv","Servicio","Zona 3","Sitio","Capacitador","IT-SW-02-06","UNICO PAGO",25920000,1,1,"COP"]
["TECNOPROCESOSSoftware CIEIT-SW-03-01","IT-SW-03-01Software CIE",null,"TECNOPROCESOS","IT-SW-03-01","Software CIE","TECNOPROCESOS","COP","N/A","Capacitación para usuario técnico o administrador - hasta 10 Personas.  ","Por sesión de capacitación de 4 horas para un grupo de hasta 10 personas.","Serv","Servicio","Zona 1","Remoto","Capacitador","IT-SW-03-01","UNICO PAGO",12960000,1,1,"COP"]
["TECNOPROCESOSSoftware CIEIT-SW-03-02","IT-SW-03-02Software CIE",null,"TECNOPROCESOS","IT-SW-03-02","Software CIE","TECNOPROCESOS","COP","N/A","Capacitación para usuario técnico o administrador - hasta 10 Personas.  ","Por sesión de capacitación de 4 horas para un grupo de hasta 10 personas.","Serv","Servicio","Zona 1","Sitio","Capacitador","IT-SW-03-02","UNICO PAGO",12960000,1,1,"COP"]
["TECNOPROCESOSSoftware CIEIT-SW-03-03","IT-SW-03-03Software CIE",null,"TECNOPROCESOS","IT-SW-03-03","Software CIE","TECNOPROCESOS","COP","N/A","Capacitación para usuario técnico o administrador - hasta 10 Personas.  ","Por sesión de capacitación de 4 horas para un grupo de hasta 10 personas.","Serv","Servicio","Zona 2","Remoto","Capacitador","IT-SW-03-03","UNICO PAGO",12960000,1,1,"COP"]
["TECNOPROCESOSSoftware CIEIT-SW-03-04","IT-SW-03-04Software CIE",null,"TECNOPROCESOS","IT-SW-03-04","Software CIE","TECNOPROCESOS","COP","N/A","Capacitación para usuario técnico o administrador - hasta 10 Personas.  ","Por sesión de capacitación de 4 horas para un grupo de hasta 10 personas.","Serv","Servicio","Zona 2","Sitio","Capacitador","IT-SW-03-04","UNICO PAGO",12960000,1,1,"COP"]
["TECNOPROCESOSSoftware CIEIT-SW-03-05","IT-SW-03-05Software CIE",null,"TECNOPROCESOS","IT-SW-03-05","Software CIE","TECNOPROCESOS","COP","N/A","Capacitación para usuario técnico o administrador - hasta 10 Personas.  ","Por sesión de capacitación de 4 horas para un grupo de hasta 10 personas.","Serv","Servicio","Zona 3","Remoto","Capacitador","IT-SW-03-05","UNICO PAGO",12960000,1,1,"COP"]
["TECNOPROCESOSSoftware CIEIT-SW-03-06","IT-SW-03-06Software CIE",null,"TECNOPROCESOS","IT-SW-03-06","Software CIE","TECNOPROCESOS","COP","N/A","Capacitación para usuario técnico o administrador - hasta 10 Personas.  ","Por sesión de capacitación de 4 horas para un grupo de hasta 10 personas.","Serv","Servicio","Zona 3","Sitio","Capacitador","IT-SW-03-06","UNICO PAGO",12960000,1,1,"COP"]
["TECNOPROCESOSSoftware CIEIT-SW-04-01","IT-SW-04-01Software CIE",null,"TECNOPROCESOS","IT-SW-04-01","Software CIE","TECNOPROCESOS","COP","N/A","Capacitación para usuario técnico o administrador hasta 20 Personas.  ","Por sesión de capacitación de 4 horas para un grupo de hasta 20 personas.","Serv","Servicio","Zona 1","Remoto","Capacitador","IT-SW-04-01","UNICO PAGO",25920000,1,1,"COP"]
["TECNOPROCESOSSoftware CIEIT-SW-04-02","IT-SW-04-02Software CIE",null,"TECNOPROCESOS","IT-SW-04-02","Software CIE","TECNOPROCESOS","COP","N/A","Capacitación para usuario técnico o administrador hasta 20 Personas.  ","Por sesión de capacitación de 4 horas para un grupo de hasta 20 personas.","Serv","Servicio","Zona 1","Sitio","Capacitador","IT-SW-04-02","UNICO PAGO",25920000,1,1,"COP"]
["TECNOPROCESOSSoftware CIEIT-SW-04-03","IT-SW-04-03Software CIE",null,"TECNOPROCESOS","IT-SW-04-03","Software CIE","TECNOPROCESOS","COP","N/A","Capacitación para usuario técnico o administrador hasta 20 Personas.  ","Por sesión de capacitación de 4 horas para un grupo de hasta 20 personas.","Serv","Servicio","Zona 2","Remoto","Capacitador","IT-SW-04-03","UNICO PAGO",25920000,1,1,"COP"]
["TECNOPROCESOSSoftware CIEIT-SW-04-04","IT-SW-04-04Software CIE",null,"TECNOPROCESOS","IT-SW-04-04","Software CIE","TECNOPROCESOS","COP","N/A","Capacitación para usuario técnico o administrador hasta 20 Personas.  ","Por sesión de capacitación de 4 horas para un grupo de hasta 20 personas.","Serv","Servicio","Zona 2","Sitio","Capacitador","IT-SW-04-04","UNICO PAGO",25920000,1,1,"COP"]
["TECNOPROCESOSSoftware CIEIT-SW-04-05","IT-SW-04-05Software CIE",null,"TECNOPROCESOS","IT-SW-04-05","Software CIE","TECNOPROCESOS","COP","N/A","Capacitación para usuario técnico o administrador hasta 20 Personas.  ","Por sesión de capacitación de 4 horas para un grupo de hasta 20 personas.","Serv","Servicio","Zona 3","Remoto","Capacitador","IT-SW-04-05","UNICO PAGO",25920000,1,1,"COP"]
["TECNOPROCESOSSoftware CIEIT-SW-04-06","IT-SW-04-06Software CIE",null,"TECNOPROCESOS","IT-SW-04-06","Software CIE","TECNOPROCESOS","COP","N/A","Capacitación para usuario técnico o administrador hasta 20 Personas.  ","Por sesión de capacitación de 4 horas para un grupo de hasta 20 personas.","Serv","Servicio","Zona 3","Sitio","Capacitador","IT-SW-04-06","UNICO PAGO",25920000,1,1,"COP"]
["TECNOPROCESOSSoftware CIEIT-SW-05-01","IT-SW-05-01Software CIE",null,"TECNOPROCESOS","IT-SW-05-01","Software CIE","TECNOPROCESOS","COP","N/A","Configuración y parametrización de los Productos ","Hora","Serv","Servicio","Zona 1","Remoto","Profesional","IT-SW-05-01","MENSUAL POR SERVICIOS EFECTIVAMENTE PRESTADOS",1490000,1,1,"COP"]
["TECNOPROCESOSSoftware CIEIT-SW-05-02","IT-SW-05-02Software CIE",null,"TECNOPROCESOS","IT-SW-05-02","Software CIE","TECNOPROCESOS","COP","N/A","Configuración y parametrización de los Productos ","Hora","Serv","Servicio","Zona 1","Sitio","Profesional","IT-SW-05-02","MES VENCIDO",1490000,1,1,"COP"]
["TECNOPROCESOSSoftware CIEIT-SW-05-03","IT-SW-05-03Software CIE",null,"TECNOPROCESOS","IT-SW-05-03","Software CIE","TECNOPROCESOS","COP","N/A","Configuración y parametrización de los Productos ","Hora","Serv","Servicio","Zona 2","Remoto","Profesional","IT-SW-05-03","MENSUAL POR SERVICIOS EFECTIVAMENTE PRESTADOS",1490000,1,1,"COP"]
["TECNOPROCESOSSoftware CIEIT-SW-05-04","IT-SW-05-04Software CIE",null,"TECNOPROCESOS","IT-SW-05-04","Software CIE","TECNOPROCESOS","COP","N/A","Configuración y parametrización de los Productos ","Hora","Serv","Servicio","Zona 2","Sitio","Profesional","IT-SW-05-04","MES VENCIDO",1490000,1,1,"COP"]
["TECNOPROCESOSSoftware CIEIT-SW-05-05","IT-SW-05-05Software CIE",null,"TECNOPROCESOS","IT-SW-05-05","Software CIE","TECNOPROCESOS","COP","N/A","Configuración y parametrización de los Productos ","Hora","Serv","Servicio","Zona 3","Remoto","Profesional","IT-SW-05-05","MENSUAL POR SERVICIOS EFECTIVAMENTE PRESTADOS",1490000,1,1,"COP"]
[{"$f":"D1377&F1377&E1377","v":"TECNOPROCESOSSoftware CIEIT-SW-05-06"},{"$f":"E1377&F1377","v":"IT-SW-05-06Software CIE"},null,"TECNOPROCESOS","IT-SW-05-06","Software CIE",{"$f":"D1377","v":"TECNOPROCESOS"},"COP","N/A","Configuración y parametrización de los Productos ","Hora","Serv","Servicio","Zona 3","Sitio","Profesional",{"$f":"+E1377","v":"IT-SW-05-06"},"MES VENCIDO",1490000,1,1,"COP"]
["TECNOPROCESOSSoftware CIEIT-SW-06-01","IT-SW-06-01Software CIE",null,"TECNOPROCESOS","IT-SW-06-01","Software CIE","TECNOPROCESOS","COP","N/A","Gerente de cuenta (soporte) ","Mes","Serv","Servicio","Zona 1","Sitio","Profesional","IT-SW-06-01","MES VENCIDO",21825000,1,1,"COP"]
["TECNOPROCESOSSoftware CIEIT-SW-06-02","IT-SW-06-02Software CIE",null,"TECNOPROCESOS","IT-SW-06-02","Software CIE","TECNOPROCESOS","COP","N/A","Gerente de cuenta (soporte) ","Mes","Serv","Servicio","Zona 2","Sitio","Profesional","IT-SW-06-02","MES VENCIDO",21825000,1,1,"COP"]
["TECNOPROCESOSSoftware CIEIT-SW-06-03","IT-SW-06-03Software CIE",null,"TECNOPROCESOS","IT-SW-06-03","Software CIE","TECNOPROCESOS","COP","N/A","Gerente de cuenta (soporte) ","Mes","Serv","Servicio","Zona 3","Sitio","Profesional","IT-SW-06-03","MES VENCIDO",21825000,1,1,"COP"]
["TECNOPROCESOSSoftware CIEIT-SW-07-01","IT-SW-07-01Software CIE",null,"TECNOPROCESOS","IT-SW-07-01","Software CIE","TECNOPROCESOS","COP","N/A","Instalación de Licencia o Suscripción Anual, o afínes ","Unidad","Serv","Servicio","Zona 1","Remoto","Técnico/Tecnólogo ó Profesional","IT-SW-07-01","SUSCRIPCION ANUAL",121500000,1,1,"COP"]
["TECNOPROCESOSSoftware CIEIT-SW-07-02","IT-SW-07-02Software CIE",null,"TECNOPROCESOS","IT-SW-07-02","Software CIE","TECNOPROCESOS","COP","N/A","Instalación de Licencia o Suscripción Anual, o afínes ","Unidad","Serv","Servicio","Zona 1","Sitio","Técnico/Tecnólogo ó Profesional","IT-SW-07-02","SUSCRIPCION ANUAL",121500000,1,1,"COP"]
["TECNOPROCESOSSoftware CIEIT-SW-07-03","IT-SW-07-03Software CIE",null,"TECNOPROCESOS","IT-SW-07-03","Software CIE","TECNOPROCESOS","COP","N/A","Instalación de Licencia o Suscripción Anual, o afínes ","Unidad","Serv","Servicio","Zona 2","Remoto","Técnico/Tecnólogo ó Profesional","IT-SW-07-03","SUSCRIPCION ANUAL",121500000,1,1,"COP"]
["TECNOPROCESOSSoftware CIEIT-SW-07-04","IT-SW-07-04Software CIE",null,"TECNOPROCESOS","IT-SW-07-04","Software CIE","TECNOPROCESOS","COP","N/A","Instalación de Licencia o Suscripción Anual, o afínes ","Unidad","Serv","Servicio","Zona 2","Sitio","Técnico/Tecnólogo ó Profesional","IT-SW-07-04","SUSCRIPCION ANUAL",121500000,1,1,"COP"]
["TECNOPROCESOSSoftware CIEIT-SW-07-05","IT-SW-07-05Software CIE",null,"TECNOPROCESOS","IT-SW-07-05","Software CIE","TECNOPROCESOS","COP","N/A","Instalación de Licencia o Suscripción Anual, o afínes ","Unidad","Serv","Servicio","Zona 3","Remoto","Técnico/Tecnólogo ó Profesional","IT-SW-07-05","SUSCRIPCION ANUAL",121500000,1,1,"COP"]
["TECNOPROCESOSSoftware CIEIT-SW-07-06","IT-SW-07-06Software CIE",null,"TECNOPROCESOS","IT-SW-07-06","Software CIE","TECNOPROCESOS","COP","N/A","Instalación de Licencia o Suscripción Anual, o afínes ","Unidad","Serv","Servicio","Zona 3","Sitio","Técnico/Tecnólogo ó Profesional","IT-SW-07-06","SUSCRIPCION ANUAL",121500000,1,1,"COP"]
["TECNOPROCESOSSoftware CIEIT-SW-08-01","IT-SW-08-01Software CIE",null,"TECNOPROCESOS","IT-SW-08-01","Software CIE","TECNOPROCESOS","COP","N/A","Migración de información por volumen de datos almacenados ","GB","Serv","Servicio","Zona 1","Remoto","Profesional","IT-SW-08-01","MENSUAL POR SERVICIOS EFECTIVAMENTE PRESTADOS",48500000.000000007,1,1,"COP"]
["TECNOPROCESOSSoftware CIEIT-SW-08-02","IT-SW-08-02Software CIE",null,"TECNOPROCESOS","IT-SW-08-02","Software CIE","TECNOPROCESOS","COP","N/A","Migración de información por volumen de datos almacenados ","GB","Serv","Servicio","Zona 1","Sitio","Profesional","IT-SW-08-02","MES VENCIDO",48500000.000000007,1,1,"COP"]
["TECNOPROCESOSSoftware CIEIT-SW-08-03","IT-SW-08-03Software CIE",null,"TECNOPROCESOS","IT-SW-08-03","Software CIE","TECNOPROCESOS","COP","N/A","Migración de información por volumen de datos almacenados ","GB","Serv","Servicio","Zona 2","Remoto","Profesional","IT-SW-08-03","MENSUAL POR SERVICIOS EFECTIVAMENTE PRESTADOS",48500000.000000007,1,1,"COP"]
["TECNOPROCESOSSoftware CIEIT-SW-08-04","IT-SW-08-04Software CIE",null,"TECNOPROCESOS","IT-SW-08-04","Software CIE","TECNOPROCESOS","COP","N/A","Migración de información por volumen de datos almacenados ","GB","Serv","Servicio","Zona 2","Sitio","Profesional","IT-SW-08-04","MES VENCIDO",48500000.000000007,1,1,"COP"]
["TECNOPROCESOSSoftware CIEIT-SW-08-05","IT-SW-08-05Software CIE",null,"TECNOPROCESOS","IT-SW-08-05","Software CIE","TECNOPROCESOS","COP","N/A","Migración de información por volumen de datos almacenados ","GB","Serv","Servicio","Zona 3","Remoto","Profesional","IT-SW-08-05","MENSUAL POR SERVICIOS EFECTIVAMENTE PRESTADOS",48500000.000000007,1,1,"COP"]
["TECNOPROCESOSSoftware CIEIT-SW-08-06","IT-SW-08-06Software CIE",null,"TECNOPROCESOS","IT-SW-08-06","Software CIE","TECNOPROCESOS","COP","N/A","Migración de información por volumen de datos almacenados ","GB","Serv","Servicio","Zona 3","Sitio","Profesional","IT-SW-08-06","MES VENCIDO",48500000.000000007,1,1,"COP"]
["TECNOPROCESOSSoftware CIEIT-SW-09-01","IT-SW-09-01Software CIE",null,"TECNOPROCESOS","IT-SW-09-01","Software CIE","TECNOPROCESOS","COP","N/A","Soporte técnico en sitio ","Mes","Serv","Servicio","Zona 1","Sitio","Técnico/Tecnólogo ó Profesional","IT-SW-09-01","MES VENCIDO",11250000,1,1,"COP"]
["TECNOPROCESOSSoftware CIEIT-SW-09-02","IT-SW-09-02Software CIE",null,"TECNOPROCESOS","IT-SW-09-02","Software CIE","TECNOPROCESOS","COP","N/A","Soporte técnico en sitio ","Mes","Serv","Servicio","Zona 2","Sitio","Técnico/Tecnólogo ó Profesional","IT-SW-09-02","MES VENCIDO",11250000,1,1,"COP"]
["TECNOPROCESOSSoftware CIEIT-SW-09-03","IT-SW-09-03Software CIE",null,"TECNOPROCESOS","IT-SW-09-03","Software CIE","TECNOPROCESOS","COP","N/A","Soporte técnico en sitio ","Mes","Serv","Servicio","Zona 3","Sitio","Técnico/Tecnólogo ó Profesional","IT-SW-09-03","MES VENCIDO",11250000,1,1,"COP"]
["TECNOPROCESOSSoftware CIEIT-SW-10-01","IT-SW-10-01Software CIE",null,"TECNOPROCESOS","IT-SW-10-01","Software CIE","TECNOPROCESOS","COP","N/A","Soporte técnico proactivo ","Hora","Serv","Servicio","Zona 2","Remoto","Técnico/Tecnólogo ó Profesional","IT-SW-10-01","MENSUAL POR SERVICIOS EFECTIVAMENTE PRESTADOS",470000,1,1,"COP"]
["TECNOPROCESOSSoftware CIEIT-SW-10-02","IT-SW-10-02Software CIE",null,"TECNOPROCESOS","IT-SW-10-02","Software CIE","TECNOPROCESOS","COP","N/A","Soporte técnico proactivo ","Hora","Serv","Servicio","Zona 2","Sitio","Técnico/Tecnólogo ó Profesional","IT-SW-10-02","MENSUAL POR SERVICIOS EFECTIVAMENTE PRESTADOS",470000,1,1,"COP"]
["TECNOPROCESOSSoftware CIEIT-SW-10-03","IT-SW-10-03Software CIE",null,"TECNOPROCESOS","IT-SW-10-03","Software CIE","TECNOPROCESOS","COP","N/A","Soporte técnico proactivo ","Hora","Serv","Servicio","Zona 1","Remoto","Técnico/Tecnólogo ó Profesional","IT-SW-10-03","MENSUAL POR SERVICIOS EFECTIVAMENTE PRESTADOS",470000,1,1,"COP"]
["TECNOPROCESOSSoftware CIEIT-SW-10-04","IT-SW-10-04Software CIE",null,"TECNOPROCESOS","IT-SW-10-04","Software CIE","TECNOPROCESOS","COP","N/A","Soporte técnico proactivo ","Hora","Serv","Servicio","Zona 3","Remoto","Técnico/Tecnólogo ó Profesional","IT-SW-10-04","MENSUAL POR SERVICIOS EFECTIVAMENTE PRESTADOS",470000,1,1,"COP"]
["TECNOPROCESOSSoftware CIEIT-SW-10-05","IT-SW-10-05Software CIE",null,"TECNOPROCESOS","IT-SW-10-05","Software CIE","TECNOPROCESOS","COP","N/A","Soporte técnico proactivo ","Hora","Serv","Servicio","Zona 3","Sitio","Técnico/Tecnólogo ó Profesional","IT-SW-10-05","MENSUAL POR SERVICIOS EFECTIVAMENTE PRESTADOS",470000,1,1,"COP"]
["TECNOPROCESOSSoftware CIEIT-SW-10-06","IT-SW-10-06Software CIE",null,"TECNOPROCESOS","IT-SW-10-06","Software CIE","TECNOPROCESOS","COP","N/A","Soporte técnico proactivo ","Hora","Serv","Servicio","Zona 1","Sitio","Técnico/Tecnólogo ó Profesional","IT-SW-10-06","MENSUAL POR SERVICIOS EFECTIVAMENTE PRESTADOS",470000,1,1,"COP"]
["TECNOPROCESOSSoftware CIEIT-SW-11-01","IT-SW-11-01Software CIE",null,"TECNOPROCESOS","IT-SW-11-01","Software CIE","TECNOPROCESOS","COP","N/A","Soporte técnico reactivo ","Hora","Serv","Servicio","Zona 1","Sitio","Técnico/Tecnólogo ó Profesional","IT-SW-11-01","MENSUAL POR SERVICIOS EFECTIVAMENTE PRESTADOS",750000.00000000012,1,1,"COP"]
["TECNOPROCESOSSoftware CIEIT-SW-11-02","IT-SW-11-02Software CIE",null,"TECNOPROCESOS","IT-SW-11-02","Software CIE","TECNOPROCESOS","COP","N/A","Soporte técnico reactivo ","Hora","Serv","Servicio","Zona 2","Remoto","Técnico/Tecnólogo ó Profesional","IT-SW-11-02","MENSUAL POR SERVICIOS EFECTIVAMENTE PRESTADOS",750000.00000000012,1,1,"COP"]
["TECNOPROCESOSSoftware CIEIT-SW-11-03","IT-SW-11-03Software CIE",null,"TECNOPROCESOS","IT-SW-11-03","Software CIE","TECNOPROCESOS","COP","N/A","Soporte técnico reactivo ","Hora","Serv","Servicio","Zona 2","Sitio","Técnico/Tecnólogo ó Profesional","IT-SW-11-03","MENSUAL POR SERVICIOS EFECTIVAMENTE PRESTADOS",750000.00000000012,1,1,"COP"]
["TECNOPROCESOSSoftware CIEIT-SW-11-04","IT-SW-11-04Software CIE",null,"TECNOPROCESOS","IT-SW-11-04","Software CIE","TECNOPROCESOS","COP","N/A","Soporte técnico reactivo ","Hora","Serv","Servicio","Zona 3","Remoto","Técnico/Tecnólogo ó Profesional","IT-SW-11-04","MENSUAL POR SERVICIOS EFECTIVAMENTE PRESTADOS",750000.00000000012,1,1,"COP"]
["TECNOPROCESOSSoftware CIEIT-SW-11-05","IT-SW-11-05Software CIE",null,"TECNOPROCESOS","IT-SW-11-05","Software CIE","TECNOPROCESOS","COP","N/A","Soporte técnico reactivo ","Hora","Serv","Servicio","Zona 3","Sitio","Técnico/Tecnólogo ó Profesional","IT-SW-11-05","MENSUAL POR SERVICIOS EFECTIVAMENTE PRESTADOS",750000.00000000012,1,1,"COP"]
["TECNOPROCESOSSoftware CIEIT-SW-11-06","IT-SW-11-06Software CIE",null,"TECNOPROCESOS","IT-SW-11-06","Software CIE","TECNOPROCESOS","COP","N/A","Soporte técnico reactivo ","Hora","Serv","Servicio","Zona 1","Remoto","Técnico/Tecnólogo ó Profesional","IT-SW-11-06","MENSUAL POR SERVICIOS EFECTIVAMENTE PRESTADOS",750000.00000000012,1,1,"COP"]
["Digital Ware SASSoftware Digital Ware SASON-OP-SU-P-05","ON-OP-SU-P-05Software Digital Ware SAS",null,"Digital Ware SAS","ON-OP-SU-P-05","Software Digital Ware SAS","Digital Ware SAS","COP","N/A","LICENCIA USUARIOS EXTERNOS SGDEA ONPREMISE ","Paq x 50 usuarios","Prod","Producto","Zonas (1,2,3)","Remoto y/o fisico","N/A","ON-OP-SU-P-05","One Time",130000000,1,1,"COP"]
["Digital Ware SASSoftware Digital Ware SASSA-KC-NM-P-09","SA-KC-NM-P-09Software Digital Ware SAS",null,"Digital Ware SAS","SA-KC-NM-P-09","Software Digital Ware SAS","Digital Ware SAS","COP","N/A","SaaS KACTUS-HCM SELF SERVICE (hasta 300 empleados) Incluye actualizacion y Mantenimeinto ","Paq x 300 empleados","Serv","Servicio","Zonas (1,2,3)","Remoto y/o fisico","N/A","SA-KC-NM-P-09","Suscripción mensual con pago mensual vencido",15000000,1,0,"COP"]
["SAP ColombiaOn prem Classic SAP SolutionsSAP-7003012","SAP-7003012On prem Classic SAP Solutions",null,"SAP Colombia","SAP-7003012","On prem Classic SAP Solutions","SAP Colombia","USD","N/A","SAP Professional User",1,"Und","Licencia","N/A","N/A","N/A","SAP-7003012","Forma de pago estandar a 30 dias",4800,1,1,"USD"]
["SAP ColombiaOn prem Classic SAP SolutionsSAP-7003013","SAP-7003013On prem Classic SAP Solutions",null,"SAP Colombia","SAP-7003013","On prem Classic SAP Solutions","SAP Colombia","USD","N/A","SAP Developer User",1,"Und","Licencia","N/A","N/A","N/A","SAP-7003013","Forma de pago estandar a 30 dias",9000,1,1,"USD"]
["SAP ColombiaOn prem Classic SAP SolutionsSAP-7003015","SAP-7003015On prem Classic SAP Solutions",null,"SAP Colombia","SAP-7003015","On prem Classic SAP Solutions","SAP Colombia","USD","N/A","SAP Employee User",1,"Und","Licencia","N/A","N/A","N/A","SAP-7003015","Forma de pago estandar a 30 dias",600,1,1,"USD"]
["SAP ColombiaOn prem Classic SAP SolutionsSAP-7003016","SAP-7003016On prem Classic SAP Solutions",null,"SAP Colombia","SAP-7003016","On prem Classic SAP Solutions","SAP Colombia","USD","N/A","SAP Employee Self-Service User",1,"Und","Licencia","N/A","N/A","N/A","SAP-7003016","Forma de pago estandar a 30 dias",188,1,1,"USD"]
["SAP ColombiaOn prem Classic SAP SolutionsSAP-7009705","SAP-7009705On prem Classic SAP Solutions",null,"SAP Colombia","SAP-7009705","On prem Classic SAP Solutions","SAP Colombia","USD","N/A","SAP Learning User",1,"Und","Licencia","N/A","N/A","N/A","SAP-7009705","Forma de pago estandar a 30 dias",60,1,1,"USD"]
["SAP ColombiaOn prem Classic SAP SolutionsSAP-7010204","SAP-7010204On prem Classic SAP Solutions",null,"SAP Colombia","SAP-7010204","On prem Classic SAP Solutions","SAP Colombia","USD","N/A","SAP Retail User",1,"Und","Licencia","N/A","N/A","N/A","SAP-7010204","Forma de pago estandar a 30 dias",900,1,1,"USD"]
["SAP ColombiaOn prem Classic SAP SolutionsSAP-7011043","SAP-7011043On prem Classic SAP Solutions",null,"SAP Colombia","SAP-7011043","On prem Classic SAP Solutions","SAP Colombia","USD","N/A","SAP Employee Self-Service Core User",1,"Und","Licencia","N/A","N/A","N/A","SAP-7011043","Forma de pago estandar a 30 dias",90,1,1,"USD"]
["SAP ColombiaOn prem Classic SAP SolutionsSAP-7011045","SAP-7011045On prem Classic SAP Solutions",null,"SAP Colombia","SAP-7011045","On prem Classic SAP Solutions","SAP Colombia","USD","N/A","SAP Manager Self-Service User",1,"Und","Licencia","N/A","N/A","N/A","SAP-7011045","Forma de pago estandar a 30 dias",900,1,1,"USD"]
["SAP ColombiaOn prem Classic SAP SolutionsSAP-7011618","SAP-7011618On prem Classic SAP Solutions",null,"SAP Colombia","SAP-7011618","On prem Classic SAP Solutions","SAP Colombia","USD","N/A","SAP Logistics User",1,"Und","Licencia","N/A","N/A","N/A","SAP-7011618","Forma de pago estandar a 30 dias",1350,1,1,"USD"]
["SAP ColombiaOn prem Classic SAP SolutionsSAP-7017376","SAP-7017376On prem Classic SAP Solutions",null,"SAP Colombia","SAP-7017376","On prem Classic SAP Solutions","SAP Colombia","USD","N/A","SAP Industry Portfolio User",1,"Und","Licencia","N/A","N/A","N/A","SAP-7017376","Forma de pago estandar a 30 dias",1800,1,1,"USD"]
["SAP ColombiaOn prem Classic SAP SolutionsSAP-7017377","SAP-7017377On prem Classic SAP Solutions",null,"SAP Colombia","SAP-7017377","On prem Classic SAP Solutions","SAP Colombia","USD","N/A","SAP Project User",1,"Und","Licencia","N/A","N/A","N/A","SAP-7017377","Forma de pago estandar a 30 dias",1350,1,1,"USD"]
["SAP ColombiaOn prem Classic SAP SolutionsSAP-7017378","SAP-7017378On prem Classic SAP Solutions",null,"SAP Colombia","SAP-7017378","On prem Classic SAP Solutions","SAP Colombia","USD","N/A","SAP Worker User",1,"Und","Licencia","N/A","N/A","N/A","SAP-7017378","Forma de pago estandar a 30 dias",900,1,1,"USD"]
["SAP ColombiaOn prem Classic SAP SolutionsSAP-7018053","SAP-7018053On prem Classic SAP Solutions",null,"SAP Colombia","SAP-7018053","On prem Classic SAP Solutions","SAP Colombia","USD","N/A","SAP Platform User",1,"Und","Licencia","N/A","N/A","N/A","SAP-7018053","Forma de pago estandar a 30 dias",1950,1,1,"USD"]
["SAP ColombiaOn prem Classic SAP SolutionsSAP-7018395","SAP-7018395On prem Classic SAP Solutions",null,"SAP Colombia","SAP-7018395","On prem Classic SAP Solutions","SAP Colombia","USD","N/A","SAP Business Partner User",1,"Und","Licencia","N/A","N/A","N/A","SAP-7018395","Forma de pago estandar a 30 dias",1800,1,1,"USD"]
["SAP ColombiaOn prem Classic SAP SolutionsSAP-7017254","SAP-7017254On prem Classic SAP Solutions",null,"SAP Colombia","SAP-7017254","On prem Classic SAP Solutions","SAP Colombia","USD","N/A","SAP Shared Service Framework for finance and accounting",100000000,"Und","Licencia","N/A","N/A","N/A","SAP-7017254","Forma de pago estandar a 30 dias",22500,1,1,"USD"]
["SAP ColombiaOn prem Classic SAP SolutionsSAP-7020279-1","SAP-7020279-1On prem Classic SAP Solutions",null,"SAP Colombia","SAP-7020279-1","On prem Classic SAP Solutions","SAP Colombia","USD","N/A","SAP Digital Access, up to 1000 units",1000,"Und","Licencia","N/A","N/A","N/A","SAP-7020279-1","Forma de pago estandar a 30 dias",750,1,1,"USD"]
["SAP ColombiaOn prem Classic SAP SolutionsSAP-7020279-2","SAP-7020279-2On prem Classic SAP Solutions",null,"SAP Colombia","SAP-7020279-2","On prem Classic SAP Solutions","SAP Colombia","USD","N/A","SAP Digital Access, 1001 to 5000 units",1000,"Und","Licencia","N/A","N/A","N/A","SAP-7020279-2","Forma de pago estandar a 30 dias",600,1,1,"USD"]
["SAP ColombiaOn prem Classic SAP SolutionsSAP-7020279-3","SAP-7020279-3On prem Classic SAP Solutions",null,"SAP Colombia","SAP-7020279-3","On prem Classic SAP Solutions","SAP Colombia","USD","N/A","SAP Digital Access, 5001 to 10000 units",1000,"Und","Licencia","N/A","N/A","N/A","SAP-7020279-3","Forma de pago estandar a 30 dias",525,1,1,"USD"]
["SAP ColombiaOn prem Classic SAP SolutionsSAP-7020279-4","SAP-7020279-4On prem Classic SAP Solutions",null,"SAP Colombia","SAP-7020279-4","On prem Classic SAP Solutions","SAP Colombia","USD","N/A","SAP Digital Access, 10001 to 15000 units",1000,"Und","Licencia","N/A","N/A","N/A","SAP-7020279-4","Forma de pago estandar a 30 dias",450,1,1,"USD"]
["SAP ColombiaOn prem Classic SAP SolutionsSAP-7020279-5","SAP-7020279-5On prem Classic SAP Solutions",null,"SAP Colombia","SAP-7020279-5","On prem Classic SAP Solutions","SAP Colombia","USD","N/A","SAP Digital Access, 15001 to 30000 units",1000,"Und","Licencia","N/A","N/A","N/A","SAP-7020279-5","Forma de pago estandar a 30 dias",375,1,1,"USD"]
["SAP ColombiaOn prem Classic SAP SolutionsSAP-7020279-6","SAP-7020279-6On prem Classic SAP Solutions",null,"SAP Colombia","SAP-7020279-6","On prem Classic SAP Solutions","SAP Colombia","USD","N/A","SAP Digital Access, 30001 to 60000 units",1000,"Und","Licencia","N/A","N/A","N/A","SAP-7020279-6","Forma de pago estandar a 30 dias",300,1,1,"USD"]
["SAP ColombiaOn prem Classic SAP SolutionsSAP-7020279-7","SAP-7020279-7On prem Classic SAP Solutions",null,"SAP Colombia","SAP-7020279-7","On prem Classic SAP Solutions","SAP Colombia","USD","N/A","SAP Digital Access, 60001 to 100000 units",1000,"Und","Licencia","N/A","N/A","N/A","SAP-7020279-7","Forma de pago estandar a 30 dias",225,1,1,"USD"]
["SAP ColombiaOn prem Classic SAP SolutionsSAP-7020279-8","SAP-7020279-8On prem Classic SAP Solutions",null,"SAP Colombia","SAP-7020279-8","On prem Classic SAP Solutions","SAP Colombia","USD","N/A","SAP Digital Access, above              100000 units",1000,"Und","Licencia","N/A","N/A","N/A","SAP-7020279-8","Forma de pago estandar a 30 dias",165,1,1,"USD"]
["SAP ColombiaOn prem Classic SAP SolutionsSAP-ERP_PACKAGE","SAP-ERP_PACKAGEOn prem Classic SAP Solutions",null,"SAP Colombia","SAP-ERP_PACKAGE","On prem Classic SAP Solutions","SAP Colombia","USD","N/A","SAP ERP Foundation Starter",1,"Und","Licencia","N/A","N/A","N/A","SAP-ERP_PACKAGE","Forma de pago estandar a 30 dias",0,1,1,"USD"]
["SAP ColombiaOn prem Classic SAP SolutionsSAP-7018767","SAP-7018767On prem Classic SAP Solutions",null,"SAP Colombia","SAP-7018767","On prem Classic SAP Solutions","SAP Colombia","USD","N/A","SAP Advanced Trade Management Analytics",100000000,"Und","Licencia","N/A","N/A","N/A","SAP-7018767","Forma de pago estandar a 30 dias",97500,1,1,"USD"]
["SAP ColombiaOn prem Classic SAP SolutionsSAP-7020200","SAP-7020200On prem Classic SAP Solutions",null,"SAP Colombia","SAP-7020200","On prem Classic SAP Solutions","SAP Colombia","USD","N/A","SAP Advanced Trade Management Analytics, version for SAP BW/4HANA",100000000,"Und","Licencia","N/A","N/A","N/A","SAP-7020200","Forma de pago estandar a 30 dias",97500,1,1,"USD"]
["SAP ColombiaOn prem Classic SAP SolutionsSAP-7020201","SAP-7020201On prem Classic SAP Solutions",null,"SAP Colombia","SAP-7020201","On prem Classic SAP Solutions","SAP Colombia","USD","N/A","SAP Customer Business Planning, version for SAP BW/4HANA",100000000,"Und","Licencia","N/A","N/A","N/A","SAP-7020201","Forma de pago estandar a 30 dias",120000,1,1,"USD"]
["SAP ColombiaOn prem Classic SAP SolutionsSAP-7020202","SAP-7020202On prem Classic SAP Solutions",null,"SAP Colombia","SAP-7020202","On prem Classic SAP Solutions","SAP Colombia","USD","N/A","SAP Trade Promotion Planning and Management, version for SAP BW/4HANA",100000000,"Und","Licencia","N/A","N/A","N/A","SAP-7020202","Forma de pago estandar a 30 dias",142500,1,1,"USD"]
["SAP ColombiaOn prem Classic SAP SolutionsSAP-7020282-1","SAP-7020282-1On prem Classic SAP Solutions",null,"SAP Colombia","SAP-7020282-1","On prem Classic SAP Solutions","SAP Colombia","USD","N/A","SAP Solution Sales Configuration, on-premise edition, up to 20 units",50000000,"Und","Licencia","N/A","N/A","N/A","SAP-7020282-1","Forma de pago estandar a 30 dias",480000,1,1,"USD"]
["SAP ColombiaOn prem Classic SAP SolutionsSAP-7020282-2","SAP-7020282-2On prem Classic SAP Solutions",null,"SAP Colombia","SAP-7020282-2","On prem Classic SAP Solutions","SAP Colombia","USD","N/A","SAP Solution Sales Configuration, on-premise edition, above                  20 units",50000000,"Und","Licencia","N/A","N/A","N/A","SAP-7020282-2","Forma de pago estandar a 30 dias",240000,1,1,"USD"]
["SAP ColombiaOn prem Classic SAP SolutionsSAP-7020283-3","SAP-7020283-3On prem Classic SAP Solutions",null,"SAP Colombia","SAP-7020283-3","On prem Classic SAP Solutions","SAP Colombia","USD","N/A","SAP Product Configuration, on-premise edition, up to 20 units",50000000,"Und","Licencia","N/A","N/A","N/A","SAP-7020283-3","Forma de pago estandar a 30 dias",240000,1,1,"USD"]
[{"$f":"D1441&F1441&E1441","v":"SAP ColombiaOn prem Classic SAP SolutionsSAP-7020283-4"},{"$f":"E1441&F1441","v":"SAP-7020283-4On prem Classic SAP Solutions"},null,"SAP Colombia","SAP-7020283-4","On prem Classic SAP Solutions",{"$f":"D1441","v":"SAP Colombia"},"USD","N/A","SAP Product Configuration, on-premise edition, above                  20 units",50000000,"Und","Licencia","N/A","N/A","N/A",{"$f":"+E1441","v":"SAP-7020283-4"},"Forma de pago estandar a 30 dias",120000,1,1,"USD"]
["SAP ColombiaOn prem Classic SAP SolutionsSAP-7020383","SAP-7020383On prem Classic SAP Solutions",null,"SAP Colombia","SAP-7020383","On prem Classic SAP Solutions","SAP Colombia","USD","N/A","SAP Customer Business Planning",100000000,"Und","Licencia","N/A","N/A","N/A","SAP-7020383","Forma de pago estandar a 30 dias",120000,1,1,"USD"]
["SAP ColombiaOn prem Classic SAP SolutionsSAP-7020384","SAP-7020384On prem Classic SAP Solutions",null,"SAP Colombia","SAP-7020384","On prem Classic SAP Solutions","SAP Colombia","USD","N/A","SAP Trade Promotion Planning and Management",100000000,"Und","Licencia","N/A","N/A","N/A","SAP-7020384","Forma de pago estandar a 30 dias",142500,1,1,"USD"]
["SAP ColombiaOn prem Classic SAP SolutionsSAP-7009037","SAP-7009037On prem Classic SAP Solutions",null,"SAP Colombia","SAP-7009037","On prem Classic SAP Solutions","SAP Colombia","USD","N/A","SAP Product and REACH Compliance",100,"Und","Licencia","N/A","N/A","N/A","SAP-7009037","Forma de pago estandar a 30 dias",15000,1,1,"USD"]
["SAP ColombiaOn prem Classic SAP SolutionsSAP-7010170","SAP-7010170On prem Classic SAP Solutions",null,"SAP Colombia","SAP-7010170","On prem Classic SAP Solutions","SAP Colombia","USD","N/A","SAP Product Safety",100,"Und","Licencia","N/A","N/A","N/A","SAP-7010170","Forma de pago estandar a 30 dias",15000,1,1,"USD"]
["SAP ColombiaOn prem Classic SAP SolutionsSAP-7015835","SAP-7015835On prem Classic SAP Solutions",null,"SAP Colombia","SAP-7015835","On prem Classic SAP Solutions","SAP Colombia","USD","N/A","SAP Enterprise Integration for Work Manager mobile app",1,"Und","Licencia","N/A","N/A","N/A","SAP-7015835","Forma de pago estandar a 30 dias",4950,1,1,"USD"]
["SAP ColombiaOn prem Classic SAP SolutionsSAP-7017264","SAP-7017264On prem Classic SAP Solutions",null,"SAP Colombia","SAP-7017264","On prem Classic SAP Solutions","SAP Colombia","USD","N/A","SAP Manufacturing Execution, small plants",1,"Und","Licencia","N/A","N/A","N/A","SAP-7017264","Forma de pago estandar a 30 dias",420000,1,1,"USD"]
["SAP ColombiaOn prem Classic SAP SolutionsSAP-7017265","SAP-7017265On prem Classic SAP Solutions",null,"SAP Colombia","SAP-7017265","On prem Classic SAP Solutions","SAP Colombia","USD","N/A","SAP Manufacturing Execution, medium plants",1,"Und","Licencia","N/A","N/A","N/A","SAP-7017265","Forma de pago estandar a 30 dias",1050000,1,1,"USD"]
["SAP ColombiaOn prem Classic SAP SolutionsSAP-7017266","SAP-7017266On prem Classic SAP Solutions",null,"SAP Colombia","SAP-7017266","On prem Classic SAP Solutions","SAP Colombia","USD","N/A","SAP Manufacturing Execution, large plants",1,"Und","Licencia","N/A","N/A","N/A","SAP-7017266","Forma de pago estandar a 30 dias",2700000,1,1,"USD"]
["SAP ColombiaOn prem Classic SAP SolutionsSAP-7017267","SAP-7017267On prem Classic SAP Solutions",null,"SAP Colombia","SAP-7017267","On prem Classic SAP Solutions","SAP Colombia","USD","N/A","SAP Manufacturing Integration and Intelligence, small plants",1,"Und","Licencia","N/A","N/A","N/A","SAP-7017267","Forma de pago estandar a 30 dias",75000,1,1,"USD"]
["SAP ColombiaOn prem Classic SAP SolutionsSAP-7017268","SAP-7017268On prem Classic SAP Solutions",null,"SAP Colombia","SAP-7017268","On prem Classic SAP Solutions","SAP Colombia","USD","N/A","SAP Manufacturing Integration and Intelligence, medium plants",1,"Und","Licencia","N/A","N/A","N/A","SAP-7017268","Forma de pago estandar a 30 dias",270000,1,1,"USD"]
["SAP ColombiaOn prem Classic SAP SolutionsSAP-7017269","SAP-7017269On prem Classic SAP Solutions",null,"SAP Colombia","SAP-7017269","On prem Classic SAP Solutions","SAP Colombia","USD","N/A","SAP Manufacturing Integration and Intelligence, large plants",1,"Und","Licencia","N/A","N/A","N/A","SAP-7017269","Forma de pago estandar a 30 dias",600000,1,1,"USD"]
["SAP ColombiaOn prem Classic SAP SolutionsSAP-7017275","SAP-7017275On prem Classic SAP Solutions",null,"SAP Colombia","SAP-7017275","On prem Classic SAP Solutions","SAP Colombia","USD","N/A","SAP Multiresource Scheduling",1,"Und","Licencia","N/A","N/A","N/A","SAP-7017275","Forma de pago estandar a 30 dias",600,1,1,"USD"]
["SAP ColombiaOn prem Classic SAP SolutionsSAP-7017343","SAP-7017343On prem Classic SAP Solutions",null,"SAP Colombia","SAP-7017343","On prem Classic SAP Solutions","SAP Colombia","USD","N/A","SAP Demand Planning",500000000,"Und","Licencia","N/A","N/A","N/A","SAP-7017343","Forma de pago estandar a 30 dias",150000,1,1,"USD"]
["SAP ColombiaOn prem Classic SAP SolutionsSAP-7017344","SAP-7017344On prem Classic SAP Solutions",null,"SAP Colombia","SAP-7017344","On prem Classic SAP Solutions","SAP Colombia","USD","N/A","SAP Supply Network Planning",500000000,"Und","Licencia","N/A","N/A","N/A","SAP-7017344","Forma de pago estandar a 30 dias",225000,1,1,"USD"]
["SAP ColombiaOn prem Classic SAP SolutionsSAP-7017346","SAP-7017346On prem Classic SAP Solutions",null,"SAP Colombia","SAP-7017346","On prem Classic SAP Solutions","SAP Colombia","USD","N/A","SAP Global Available-to-Promise",500000000,"Und","Licencia","N/A","N/A","N/A","SAP-7017346","Forma de pago estandar a 30 dias",187500,1,1,"USD"]
["SAP ColombiaOn prem Classic SAP SolutionsSAP-7017349","SAP-7017349On prem Classic SAP Solutions",null,"SAP Colombia","SAP-7017349","On prem Classic SAP Solutions","SAP Colombia","USD","N/A","SAP Extended Manufacturing",500000000,"Und","Licencia","N/A","N/A","N/A","SAP-7017349","Forma de pago estandar a 30 dias",315000,1,1,"USD"]
["SAP ColombiaOn prem Classic SAP SolutionsSAP-7017350","SAP-7017350On prem Classic SAP Solutions",null,"SAP Colombia","SAP-7017350","On prem Classic SAP Solutions","SAP Colombia","USD","N/A","SAP Supply Network Collaboration",500000000,"Und","Licencia","N/A","N/A","N/A","SAP-7017350","Forma de pago estandar a 30 dias",300000,1,1,"USD"]
["SAP ColombiaOn prem Classic SAP SolutionsSAP-7017355","SAP-7017355On prem Classic SAP Solutions",null,"SAP Colombia","SAP-7017355","On prem Classic SAP Solutions","SAP Colombia","USD","N/A","Global Batch Traceability",250000000,"Und","Licencia","N/A","N/A","N/A","SAP-7017355","Forma de pago estandar a 30 dias",187500,1,1,"USD"]
["SAP ColombiaOn prem Classic SAP SolutionsSAP-7017925","SAP-7017925On prem Classic SAP Solutions",null,"SAP Colombia","SAP-7017925","On prem Classic SAP Solutions","SAP Colombia","USD","N/A","SAP Engineering Control Center professional",1,"Und","Licencia","N/A","N/A","N/A","SAP-7017925","Forma de pago estandar a 30 dias",1500,1,1,"USD"]
["SAP ColombiaOn prem Classic SAP SolutionsSAP-7018494","SAP-7018494On prem Classic SAP Solutions",null,"SAP Colombia","SAP-7018494","On prem Classic SAP Solutions","SAP Colombia","USD","N/A","SAP EHS Management, Health and Safety Management",100,"Und","Licencia","N/A","N/A","N/A","SAP-7018494","Forma de pago estandar a 30 dias",9000,1,1,"USD"]
["SAP ColombiaOn prem Classic SAP SolutionsSAP-7018541","SAP-7018541On prem Classic SAP Solutions",null,"SAP Colombia","SAP-7018541","On prem Classic SAP Solutions","SAP Colombia","USD","N/A","SAP 3D Visual Enterprise Generator",1,"Und","Licencia","N/A","N/A","N/A","SAP-7018541","Forma de pago estandar a 30 dias",150000,1,1,"USD"]
["SAP ColombiaOn prem Classic SAP SolutionsSAP-7019967","SAP-7019967On prem Classic SAP Solutions",null,"SAP Colombia","SAP-7019967","On prem Classic SAP Solutions","SAP Colombia","USD","N/A","SAP Product Lifecycle Costing",250000000,"Und","Licencia","N/A","N/A","N/A","SAP-7019967","Forma de pago estandar a 30 dias",225000,1,1,"USD"]
["SAP ColombiaOn prem Classic SAP SolutionsSAP-7020094","SAP-7020094On prem Classic SAP Solutions",null,"SAP Colombia","SAP-7020094","On prem Classic SAP Solutions","SAP Colombia","USD","N/A","SAP Demand Signal Management, version for SAP BW/4HANA",500000000,"Und","Licencia","N/A","N/A","N/A","SAP-7020094","Forma de pago estandar a 30 dias",262500,1,1,"USD"]
["SAP ColombiaOn prem Classic SAP SolutionsSAP-7020289-1","SAP-7020289-1On prem Classic SAP Solutions",null,"SAP Colombia","SAP-7020289-1","On prem Classic SAP Solutions","SAP Colombia","USD","N/A","SAP Extended Warehouse Management, up to 5 units",5000,"Und","Licencia","N/A","N/A","N/A","SAP-7020289-1","Forma de pago estandar a 30 dias",270000,1,1,"USD"]
["SAP ColombiaOn prem Classic SAP SolutionsSAP-7020289-2","SAP-7020289-2On prem Classic SAP Solutions",null,"SAP Colombia","SAP-7020289-2","On prem Classic SAP Solutions","SAP Colombia","USD","N/A","SAP Extended Warehouse Management, 6 to 20 units",5000,"Und","Licencia","N/A","N/A","N/A","SAP-7020289-2","Forma de pago estandar a 30 dias",240000,1,1,"USD"]
["SAP ColombiaOn prem Classic SAP SolutionsSAP-7020289-3","SAP-7020289-3On prem Classic SAP Solutions",null,"SAP Colombia","SAP-7020289-3","On prem Classic SAP Solutions","SAP Colombia","USD","N/A","SAP Extended Warehouse Management, 21 to 50 units",5000,"Und","Licencia","N/A","N/A","N/A","SAP-7020289-3","Forma de pago estandar a 30 dias",202500,1,1,"USD"]
["SAP ColombiaOn prem Classic SAP SolutionsSAP-7020289-4","SAP-7020289-4On prem Classic SAP Solutions",null,"SAP Colombia","SAP-7020289-4","On prem Classic SAP Solutions","SAP Colombia","USD","N/A","SAP Extended Warehouse Management, 51 to 100 units",5000,"Und","Licencia","N/A","N/A","N/A","SAP-7020289-4","Forma de pago estandar a 30 dias",172500,1,1,"USD"]
["SAP ColombiaOn prem Classic SAP SolutionsSAP-7020289-5","SAP-7020289-5On prem Classic SAP Solutions",null,"SAP Colombia","SAP-7020289-5","On prem Classic SAP Solutions","SAP Colombia","USD","N/A","SAP Extended Warehouse Management, above                 100 units",5000,"Und","Licencia","N/A","N/A","N/A","SAP-7020289-5","Forma de pago estandar a 30 dias",142500,1,1,"USD"]
["SAP ColombiaOn prem Classic SAP SolutionsSAP-7020602","SAP-7020602On prem Classic SAP Solutions",null,"SAP Colombia","SAP-7020602","On prem Classic SAP Solutions","SAP Colombia","USD","N/A","SAP Corporate Serialization, base package",1,"Und","Licencia","N/A","N/A","N/A","SAP-7020602","Forma de pago estandar a 30 dias",750000,1,1,"USD"]
["SAP ColombiaOn prem Classic SAP SolutionsSAP-7020603-1","SAP-7020603-1On prem Classic SAP Solutions",null,"SAP Colombia","SAP-7020603-1","On prem Classic SAP Solutions","SAP Colombia","USD","N/A","SAP Corporate Serialization, up to 10 units",1000000,"Und","Licencia","N/A","N/A","N/A","SAP-7020603-1","Forma de pago estandar a 30 dias",75000,1,1,"USD"]
["SAP ColombiaOn prem Classic SAP SolutionsSAP-7020603-2","SAP-7020603-2On prem Classic SAP Solutions",null,"SAP Colombia","SAP-7020603-2","On prem Classic SAP Solutions","SAP Colombia","USD","N/A","SAP Corporate Serialization, 11 to 100 units",1000000,"Und","Licencia","N/A","N/A","N/A","SAP-7020603-2","Forma de pago estandar a 30 dias",37500,1,1,"USD"]
["SAP ColombiaOn prem Classic SAP SolutionsSAP-7020603-3","SAP-7020603-3On prem Classic SAP Solutions",null,"SAP Colombia","SAP-7020603-3","On prem Classic SAP Solutions","SAP Colombia","USD","N/A","SAP Corporate Serialization, 101 to 500 units",1000000,"Und","Licencia","N/A","N/A","N/A","SAP-7020603-3","Forma de pago estandar a 30 dias",22500,1,1,"USD"]
["SAP ColombiaOn prem Classic SAP SolutionsSAP-7020603-4","SAP-7020603-4On prem Classic SAP Solutions",null,"SAP Colombia","SAP-7020603-4","On prem Classic SAP Solutions","SAP Colombia","USD","N/A","SAP Corporate Serialization, 501 to 1000 units",1000000,"Und","Licencia","N/A","N/A","N/A","SAP-7020603-4","Forma de pago estandar a 30 dias",15000,1,1,"USD"]
["SAP ColombiaOn prem Classic SAP SolutionsSAP-7020603-5","SAP-7020603-5On prem Classic SAP Solutions",null,"SAP Colombia","SAP-7020603-5","On prem Classic SAP Solutions","SAP Colombia","USD","N/A","SAP Corporate Serialization, above                1000 units",1000000,"Und","Licencia","N/A","N/A","N/A","SAP-7020603-5","Forma de pago estandar a 30 dias",11250,1,1,"USD"]
["SAP ColombiaOn prem Classic SAP SolutionsSAP-7020640","SAP-7020640On prem Classic SAP Solutions",null,"SAP Colombia","SAP-7020640","On prem Classic SAP Solutions","SAP Colombia","USD","N/A","PLM system integration for SAP ERP",1,"Und","Licencia","N/A","N/A","N/A","SAP-7020640","Forma de pago estandar a 30 dias",1500,1,1,"USD"]
["SAP ColombiaOn prem Classic SAP SolutionsSAP-7001164","SAP-7001164On prem Classic SAP Solutions",null,"SAP Colombia","SAP-7001164","On prem Classic SAP Solutions","SAP Colombia","USD","N/A","SAP Real Estate Management, residential property mgmt",1000,"Und","Licencia","N/A","N/A","N/A","SAP-7001164","Forma de pago estandar a 30 dias",18000,1,1,"USD"]
["SAP ColombiaOn prem Classic SAP SolutionsSAP-7009814","SAP-7009814On prem Classic SAP Solutions",null,"SAP Colombia","SAP-7009814","On prem Classic SAP Solutions","SAP Colombia","USD","N/A","SAP Financial Closing cockpit",500,"Und","Licencia","N/A","N/A","N/A","SAP-7009814","Forma de pago estandar a 30 dias",18750,1,1,"USD"]
["SAP ColombiaOn prem Classic SAP SolutionsSAP-7016968","SAP-7016968On prem Classic SAP Solutions",null,"SAP Colombia","SAP-7016968","On prem Classic SAP Solutions","SAP Colombia","USD","N/A","SAP Treasury and Risk Management",100000000,"Und","Licencia","N/A","N/A","N/A","SAP-7016968","Forma de pago estandar a 30 dias",15000,1,1,"USD"]
["SAP ColombiaOn prem Classic SAP SolutionsSAP-7017299","SAP-7017299On prem Classic SAP Solutions",null,"SAP Colombia","SAP-7017299","On prem Classic SAP Solutions","SAP Colombia","USD","N/A","SAP Single Sign-On",50,"Und","Licencia","N/A","N/A","N/A","SAP-7017299","Forma de pago estandar a 30 dias",2625,1,1,"USD"]
["SAP ColombiaOn prem Classic SAP SolutionsSAP-7017576","SAP-7017576On prem Classic SAP Solutions",null,"SAP Colombia","SAP-7017576","On prem Classic SAP Solutions","SAP Colombia","USD","N/A","SAP Process Control",1,"Und","Licencia","N/A","N/A","N/A","SAP-7017576","Forma de pago estandar a 30 dias",5550,1,1,"USD"]
["SAP ColombiaOn prem Classic SAP SolutionsSAP-7017586","SAP-7017586On prem Classic SAP Solutions",null,"SAP Colombia","SAP-7017586","On prem Classic SAP Solutions","SAP Colombia","USD","N/A","SAP Electronic Invoicing f. Brazil (NFE - Inbound)",520000,"Und","Licencia","N/A","N/A","N/A","SAP-7017586","Forma de pago estandar a 30 dias",1178,1,1,"USD"]
["SAP ColombiaOn prem Classic SAP SolutionsSAP-7017587","SAP-7017587On prem Classic SAP Solutions",null,"SAP Colombia","SAP-7017587","On prem Classic SAP Solutions","SAP Colombia","USD","N/A","SAP Electronic Invoicing f. Brazil (NFE - Outbound)",7800000,"Und","Licencia","N/A","N/A","N/A","SAP-7017587","Forma de pago estandar a 30 dias",1950,1,1,"USD"]
["SAP ColombiaOn prem Classic SAP SolutionsSAP-7018256","SAP-7018256On prem Classic SAP Solutions",null,"SAP Colombia","SAP-7018256","On prem Classic SAP Solutions","SAP Colombia","USD","N/A","SAP Access Control",100,"Und","Licencia","N/A","N/A","N/A","SAP-7018256","Forma de pago estandar a 30 dias",37350,1,1,"USD"]
["SAP ColombiaOn prem Classic SAP SolutionsSAP-7018260","SAP-7018260On prem Classic SAP Solutions",null,"SAP Colombia","SAP-7018260","On prem Classic SAP Solutions","SAP Colombia","USD","N/A","SAP Enterprise Threat Detection",1,"Und","Licencia","N/A","N/A","N/A","SAP-7018260","Forma de pago estandar a 30 dias",180,1,1,"USD"]
["SAP ColombiaOn prem Classic SAP SolutionsSAP-7018261a","SAP-7018261aOn prem Classic SAP Solutions",null,"SAP Colombia","SAP-7018261a","On prem Classic SAP Solutions","SAP Colombia","USD","N/A","SAP Billing and Revenue Innovation Management, up to 10 units",50000000,"Und","Licencia","N/A","N/A","N/A","SAP-7018261a","Forma de pago estandar a 30 dias",825000,1,1,"USD"]
["SAP ColombiaOn prem Classic SAP SolutionsSAP-7018261b","SAP-7018261bOn prem Classic SAP Solutions",null,"SAP Colombia","SAP-7018261b","On prem Classic SAP Solutions","SAP Colombia","USD","N/A","SAP Billing and Revenue Innovation Management, 11 to 30 units",50000000,"Und","Licencia","N/A","N/A","N/A","SAP-7018261b","Forma de pago estandar a 30 dias",660000,1,1,"USD"]
["SAP ColombiaOn prem Classic SAP SolutionsSAP-7018261c","SAP-7018261cOn prem Classic SAP Solutions",null,"SAP Colombia","SAP-7018261c","On prem Classic SAP Solutions","SAP Colombia","USD","N/A","SAP Billing and Revenue Innovation Management, above                  30 units",50000000,"Und","Licencia","N/A","N/A","N/A","SAP-7018261c","Forma de pago estandar a 30 dias",330000,1,1,"USD"]
["SAP ColombiaOn prem Classic SAP SolutionsSAP-7018508","SAP-7018508On prem Classic SAP Solutions",null,"SAP Colombia","SAP-7018508","On prem Classic SAP Solutions","SAP Colombia","USD","N/A","SAP Receivables Management",100000000,"Und","Licencia","N/A","N/A","N/A","SAP-7018508","Forma de pago estandar a 30 dias",12750,1,1,"USD"]
["SAP ColombiaOn prem Classic SAP SolutionsSAP-7018537","SAP-7018537On prem Classic SAP Solutions",null,"SAP Colombia","SAP-7018537","On prem Classic SAP Solutions","SAP Colombia","USD","N/A","SAP Bank Communication Management",100000000,"Und","Licencia","N/A","N/A","N/A","SAP-7018537","Forma de pago estandar a 30 dias",7500,1,1,"USD"]
["SAP ColombiaOn prem Classic SAP SolutionsSAP-7018603","SAP-7018603On prem Classic SAP Solutions",null,"SAP Colombia","SAP-7018603","On prem Classic SAP Solutions","SAP Colombia","USD","N/A","SAP Identity Management",100,"Und","Licencia","N/A","N/A","N/A","SAP-7018603","Forma de pago estandar a 30 dias",5250,1,1,"USD"]
["SAP ColombiaOn prem Classic SAP SolutionsSAP-7018993","SAP-7018993On prem Classic SAP Solutions",null,"SAP Colombia","SAP-7018993","On prem Classic SAP Solutions","SAP Colombia","USD","N/A","SAP Tax Declaration Framework for Brazil",10000000,"Und","Licencia","N/A","N/A","N/A","SAP-7018993","Forma de pago estandar a 30 dias",8250,1,1,"USD"]
["SAP ColombiaOn prem Classic SAP SolutionsSAP-7019418","SAP-7019418On prem Classic SAP Solutions",null,"SAP Colombia","SAP-7019418","On prem Classic SAP Solutions","SAP Colombia","USD","N/A","SAP Billing and Revenue Innovation Management, CRM and convergent charging components",1,"Und","Licencia","N/A","N/A","N/A","SAP-7019418","Forma de pago estandar a 30 dias",1500,1,1,"USD"]
["SAP ColombiaOn prem Classic SAP SolutionsSAP-7020169","SAP-7020169On prem Classic SAP Solutions",null,"SAP Colombia","SAP-7020169","On prem Classic SAP Solutions","SAP Colombia","USD","N/A","SAP Asset Retirement Obligation Management",100000000,"Und","Licencia","N/A","N/A","N/A","SAP-7020169","Forma de pago estandar a 30 dias",225000,1,1,"USD"]
["SAP ColombiaOn prem Classic SAP SolutionsSAP-7020293-1","SAP-7020293-1On prem Classic SAP Solutions",null,"SAP Colombia","SAP-7020293-1","On prem Classic SAP Solutions","SAP Colombia","USD","N/A","SAP ERP connector for SAP Cash Application, up to 20 units",10000,"Und","Licencia","N/A","N/A","N/A","SAP-7020293-1","Forma de pago estandar a 30 dias",6600,1,1,"USD"]
["SAP ColombiaOn prem Classic SAP SolutionsSAP-7020293-2","SAP-7020293-2On prem Classic SAP Solutions",null,"SAP Colombia","SAP-7020293-2","On prem Classic SAP Solutions","SAP Colombia","USD","N/A","SAP ERP connector for SAP Cash Application, 21 to 50 units",10000,"Und","Licencia","N/A","N/A","N/A","SAP-7020293-2","Forma de pago estandar a 30 dias",5700,1,1,"USD"]
["SAP ColombiaOn prem Classic SAP SolutionsSAP-7020293-3","SAP-7020293-3On prem Classic SAP Solutions",null,"SAP Colombia","SAP-7020293-3","On prem Classic SAP Solutions","SAP Colombia","USD","N/A","SAP ERP connector for SAP Cash Application, 51 to 100 units",10000,"Und","Licencia","N/A","N/A","N/A","SAP-7020293-3","Forma de pago estandar a 30 dias",4800,1,1,"USD"]
["SAP ColombiaOn prem Classic SAP SolutionsSAP-7020293-4","SAP-7020293-4On prem Classic SAP Solutions",null,"SAP Colombia","SAP-7020293-4","On prem Classic SAP Solutions","SAP Colombia","USD","N/A","SAP ERP connector for SAP Cash Application, above                 100 units",10000,"Und","Licencia","N/A","N/A","N/A","SAP-7020293-4","Forma de pago estandar a 30 dias",4050,1,1,"USD"]
["SAP ColombiaOn prem Classic SAP SolutionsSAP-7020294-5","SAP-7020294-5On prem Classic SAP Solutions",null,"SAP Colombia","SAP-7020294-5","On prem Classic SAP Solutions","SAP Colombia","USD","N/A","SAP ERP, add-on for invoice and reporting compliance for Angola, up to 25 units",10000000,"Und","Licencia","N/A","N/A","N/A","SAP-7020294-5","Forma de pago estandar a 30 dias",6750,1,1,"USD"]
["SAP ColombiaOn prem Classic SAP SolutionsSAP-7020294-6","SAP-7020294-6On prem Classic SAP Solutions",null,"SAP Colombia","SAP-7020294-6","On prem Classic SAP Solutions","SAP Colombia","USD","N/A","SAP ERP, add-on for invoice and reporting compliance for Angola, 26 to 100 units",10000000,"Und","Licencia","N/A","N/A","N/A","SAP-7020294-6","Forma de pago estandar a 30 dias",5625,1,1,"USD"]
["SAP ColombiaOn prem Classic SAP SolutionsSAP-7020294-7","SAP-7020294-7On prem Classic SAP Solutions",null,"SAP Colombia","SAP-7020294-7","On prem Classic SAP Solutions","SAP Colombia","USD","N/A","SAP ERP, add-on for invoice and reporting compliance for Angola, above                 100 units",10000000,"Und","Licencia","N/A","N/A","N/A","SAP-7020294-7","Forma de pago estandar a 30 dias",4500,1,1,"USD"]
["SAP ColombiaOn prem Classic SAP SolutionsSAP-7020442","SAP-7020442On prem Classic SAP Solutions",null,"SAP Colombia","SAP-7020442","On prem Classic SAP Solutions","SAP Colombia","USD","N/A","SAP GTS edition for HANA, Bundle",500000000,"Und","Licencia","N/A","N/A","N/A","SAP-7020442","Forma de pago estandar a 30 dias",547500,1,1,"USD"]
["SAP ColombiaOn prem Classic SAP SolutionsSAP-7020619","SAP-7020619On prem Classic SAP Solutions",null,"SAP Colombia","SAP-7020619","On prem Classic SAP Solutions","SAP Colombia","USD","N/A","SAP GTS edition for HANA, Export",500000000,"Und","Licencia","N/A","N/A","N/A","SAP-7020619","Forma de pago estandar a 30 dias",226500,1,1,"USD"]
["SAP ColombiaOn prem Classic SAP SolutionsSAP-7020620","SAP-7020620On prem Classic SAP Solutions",null,"SAP Colombia","SAP-7020620","On prem Classic SAP Solutions","SAP Colombia","USD","N/A","SAP GTS edition for HANA, Import",500000000,"Und","Licencia","N/A","N/A","N/A","SAP-7020620","Forma de pago estandar a 30 dias",291000,1,1,"USD"]
[{"$f":"D1505&F1505&E1505","v":"SAP ColombiaOn prem Classic SAP SolutionsSAP-7020621"},{"$f":"E1505&F1505","v":"SAP-7020621On prem Classic SAP Solutions"},null,"SAP Colombia","SAP-7020621","On prem Classic SAP Solutions",{"$f":"D1505","v":"SAP Colombia"},"USD","N/A","SAP GTS edition for HANA, Trade Preferences",500000000,"Und","Licencia","N/A","N/A","N/A",{"$f":"+E1505","v":"SAP-7020621"},"Forma de pago estandar a 30 dias",258000,1,1,"USD"]
["SAP ColombiaOn prem Classic SAP SolutionsSAP-7017373","SAP-7017373On prem Classic SAP Solutions",null,"SAP Colombia","SAP-7017373","On prem Classic SAP Solutions","SAP Colombia","USD","N/A","SAP Payroll Processing",500,"Und","Licencia","N/A","N/A","N/A","SAP-7017373","Forma de pago estandar a 30 dias",11250,1,1,"USD"]
["SAP ColombiaOn prem Classic SAP SolutionsSAP-7019299","SAP-7019299On prem Classic SAP Solutions",null,"SAP Colombia","SAP-7019299","On prem Classic SAP Solutions","SAP Colombia","USD","N/A","SAP ERP Travel management component",1,"Und","Licencia","N/A","N/A","N/A","SAP-7019299","Forma de pago estandar a 30 dias",150,1,1,"USD"]
["SAP ColombiaOn prem Classic SAP SolutionsSAP-7020472","SAP-7020472On prem Classic SAP Solutions",null,"SAP Colombia","SAP-7020472","On prem Classic SAP Solutions","SAP Colombia","USD","N/A","SAP Core HCM Component",1,"Und","Licencia","N/A","N/A","N/A","SAP-7020472","Forma de pago estandar a 30 dias",150,1,1,"USD"]
["SAP ColombiaOn prem Classic SAP SolutionsSAP-7020473","SAP-7020473On prem Classic SAP Solutions",null,"SAP Colombia","SAP-7020473","On prem Classic SAP Solutions","SAP Colombia","USD","N/A","SAP Time Tracking Component",1,"Und","Licencia","N/A","N/A","N/A","SAP-7020473","Forma de pago estandar a 30 dias",75,1,1,"USD"]
["SAP ColombiaOn prem Classic SAP SolutionsSAP-7011638","SAP-7011638On prem Classic SAP Solutions",null,"SAP Colombia","SAP-7011638","On prem Classic SAP Solutions","SAP Colombia","USD","N/A","SAP Extended Procurement",1000000,"Und","Licencia","N/A","N/A","N/A","SAP-7011638","Forma de pago estandar a 30 dias",1500,1,1,"USD"]
["SAP ColombiaOn prem Classic SAP SolutionsSAP-7017263a","SAP-7017263aOn prem Classic SAP Solutions",null,"SAP Colombia","SAP-7017263a","On prem Classic SAP Solutions","SAP Colombia","USD","N/A","SAP Supplier Lifecycle Management, up to 200 units",1000000,"Und","Licencia","N/A","N/A","N/A","SAP-7017263a","Forma de pago estandar a 30 dias",750,1,1,"USD"]
["SAP ColombiaOn prem Classic SAP SolutionsSAP-7017263b","SAP-7017263bOn prem Classic SAP Solutions",null,"SAP Colombia","SAP-7017263b","On prem Classic SAP Solutions","SAP Colombia","USD","N/A","SAP Supplier Lifecycle Management, above                 200 units",1000000,"Und","Licencia","N/A","N/A","N/A","SAP-7017263b","Forma de pago estandar a 30 dias",450,1,1,"USD"]
["SAP ColombiaOn prem Classic SAP SolutionsSAP-7017551","SAP-7017551On prem Classic SAP Solutions",null,"SAP Colombia","SAP-7017551","On prem Classic SAP Solutions","SAP Colombia","USD","N/A","SAP Extended Procurement, Public Sector and Regulated Industries extension",1000000,"Und","Licencia","N/A","N/A","N/A","SAP-7017551","Forma de pago estandar a 30 dias",450,1,1,"USD"]
["SAP ColombiaOn prem Classic SAP SolutionsSAP-7009402","SAP-7009402On prem Classic SAP Solutions",null,"SAP Colombia","SAP-7009402","On prem Classic SAP Solutions","SAP Colombia","USD","N/A","SAP Ambulatory Care Management for HC",10000,"Und","Licencia","N/A","N/A","N/A","SAP-7009402","Forma de pago estandar a 30 dias",10500,1,1,"USD"]
["SAP ColombiaOn prem Classic SAP SolutionsSAP-7020435","SAP-7020435On prem Classic SAP Solutions",null,"SAP Colombia","SAP-7020435","On prem Classic SAP Solutions","SAP Colombia","USD","N/A","SAP Patient Management for HC",10000,"Und","Licencia","N/A","N/A","N/A","SAP-7020435","Forma de pago estandar a 30 dias",45000,1,1,"USD"]
["SAP ColombiaOn prem Classic SAP SolutionsSAP-7018168","SAP-7018168On prem Classic SAP Solutions",null,"SAP Colombia","SAP-7018168","On prem Classic SAP Solutions","SAP Colombia","USD","N/A","SAP Advanced Track and Trace for Pharmaceuticals – country version USA",1,"Und","Licencia","N/A","N/A","N/A","SAP-7018168","Forma de pago estandar a 30 dias",75000,1,1,"USD"]
["SAP ColombiaOn prem Classic SAP SolutionsSAP-7018169","SAP-7018169On prem Classic SAP Solutions",null,"SAP Colombia","SAP-7018169","On prem Classic SAP Solutions","SAP Colombia","USD","N/A","SAP Advanced Track and Trace for Pharmaceuticals – country version Argentina",1,"Und","Licencia","N/A","N/A","N/A","SAP-7018169","Forma de pago estandar a 30 dias",75000,1,1,"USD"]
["SAP ColombiaOn prem Classic SAP SolutionsSAP-7018170","SAP-7018170On prem Classic SAP Solutions",null,"SAP Colombia","SAP-7018170","On prem Classic SAP Solutions","SAP Colombia","USD","N/A","SAP Advanced Track and Trace for Pharmaceuticals – country version China",1,"Und","Licencia","N/A","N/A","N/A","SAP-7018170","Forma de pago estandar a 30 dias",75000,1,1,"USD"]
["SAP ColombiaOn prem Classic SAP SolutionsSAP-7018171","SAP-7018171On prem Classic SAP Solutions",null,"SAP Colombia","SAP-7018171","On prem Classic SAP Solutions","SAP Colombia","USD","N/A","SAP Advanced Track and Trace for Pharmaceuticals – country version Turkey",1,"Und","Licencia","N/A","N/A","N/A","SAP-7018171","Forma de pago estandar a 30 dias",75000,1,1,"USD"]
["SAP ColombiaOn prem Classic SAP SolutionsSAP-7018795","SAP-7018795On prem Classic SAP Solutions",null,"SAP Colombia","SAP-7018795","On prem Classic SAP Solutions","SAP Colombia","USD","N/A","SAP Advanced Track and Trace for Pharmaceuticals - country version South Korea",1,"Und","Licencia","N/A","N/A","N/A","SAP-7018795","Forma de pago estandar a 30 dias",75000,1,1,"USD"]
["SAP ColombiaOn prem Classic SAP SolutionsSAP-7018796","SAP-7018796On prem Classic SAP Solutions",null,"SAP Colombia","SAP-7018796","On prem Classic SAP Solutions","SAP Colombia","USD","N/A","SAP Advanced Track and Trace for Pharmaceuticals - country version India",1,"Und","Licencia","N/A","N/A","N/A","SAP-7018796","Forma de pago estandar a 30 dias",75000,1,1,"USD"]
["SAP ColombiaOn prem Classic SAP SolutionsSAP-7019117","SAP-7019117On prem Classic SAP Solutions",null,"SAP Colombia","SAP-7019117","On prem Classic SAP Solutions","SAP Colombia","USD","N/A","SAP Advanced Track and Trace for Pharmaceuticals - country version European Union",1,"Und","Licencia","N/A","N/A","N/A","SAP-7019117","Forma de pago estandar a 30 dias",75000,1,1,"USD"]
["SAP ColombiaOn prem Classic SAP SolutionsSAP-7019726","SAP-7019726On prem Classic SAP Solutions",null,"SAP Colombia","SAP-7019726","On prem Classic SAP Solutions","SAP Colombia","USD","N/A","SAP Advanced Track and Trace for Pharmaceuticals, cross-industry option for Russian regulatory reporting",1,"Und","Licencia","N/A","N/A","N/A","SAP-7019726","Forma de pago estandar a 30 dias",75000,1,1,"USD"]
["SAP ColombiaOn prem Classic SAP SolutionsSAP-7020253","SAP-7020253On prem Classic SAP Solutions",null,"SAP Colombia","SAP-7020253","On prem Classic SAP Solutions","SAP Colombia","USD","N/A","SAP Advanced Track and Trace for Pharmaceuticals – base package",10000000,"Und","Licencia","N/A","N/A","N/A","SAP-7020253","Forma de pago estandar a 30 dias",225000,1,1,"USD"]
["SAP ColombiaOn prem Classic SAP SolutionsSAP-7018523","SAP-7018523On prem Classic SAP Solutions",null,"SAP Colombia","SAP-7018523","On prem Classic SAP Solutions","SAP Colombia","USD","N/A","SAP Tax, Benefits, and Payment Processing for Public Sector",10000,"Und","Licencia","N/A","N/A","N/A","SAP-7018523","Forma de pago estandar a 30 dias",37500,1,1,"USD"]
["SAP ColombiaOn prem Classic SAP SolutionsSAP-7019230","SAP-7019230On prem Classic SAP Solutions",null,"SAP Colombia","SAP-7019230","On prem Classic SAP Solutions","SAP Colombia","USD","N/A","SAP Tax, Benefits, and Payment Processing for Public Sector for CRM",1,"Und","Licencia","N/A","N/A","N/A","SAP-7019230","Forma de pago estandar a 30 dias",1500,1,1,"USD"]
["SAP ColombiaOn prem Classic SAP SolutionsSAP-7009240a","SAP-7009240aOn prem Classic SAP Solutions",null,"SAP Colombia","SAP-7009240a","On prem Classic SAP Solutions","SAP Colombia","USD","N/A","SAP Merchandising for Retail, up to 5000 units",1000000,"Und","Licencia","N/A","N/A","N/A","SAP-7009240a","Forma de pago estandar a 30 dias",1500,1,1,"USD"]
["SAP ColombiaOn prem Classic SAP SolutionsSAP-7009240b","SAP-7009240bOn prem Classic SAP Solutions",null,"SAP Colombia","SAP-7009240b","On prem Classic SAP Solutions","SAP Colombia","USD","N/A","SAP Merchandising for Retail, above                5000 units",1000000,"Und","Licencia","N/A","N/A","N/A","SAP-7009240b","Forma de pago estandar a 30 dias",300,1,1,"USD"]
["SAP ColombiaOn prem Classic SAP SolutionsSAP-7016283a","SAP-7016283aOn prem Classic SAP Solutions",null,"SAP Colombia","SAP-7016283a","On prem Classic SAP Solutions","SAP Colombia","USD","N/A","SAP Customer Activity Repository, up to 5000 units",1000000,"Und","Licencia","N/A","N/A","N/A","SAP-7016283a","Forma de pago estandar a 30 dias",1013,1,1,"USD"]
["SAP ColombiaOn prem Classic SAP SolutionsSAP-7016283b","SAP-7016283bOn prem Classic SAP Solutions",null,"SAP Colombia","SAP-7016283b","On prem Classic SAP Solutions","SAP Colombia","USD","N/A","SAP Customer Activity Repository, 5001 to 10000 units",1000000,"Und","Licencia","N/A","N/A","N/A","SAP-7016283b","Forma de pago estandar a 30 dias",563,1,1,"USD"]
["SAP ColombiaOn prem Classic SAP SolutionsSAP-7016283c","SAP-7016283cOn prem Classic SAP Solutions",null,"SAP Colombia","SAP-7016283c","On prem Classic SAP Solutions","SAP Colombia","USD","N/A","SAP Customer Activity Repository, above               10000 units",1000000,"Und","Licencia","N/A","N/A","N/A","SAP-7016283c","Forma de pago estandar a 30 dias",180,1,1,"USD"]
["SAP ColombiaOn prem Classic SAP SolutionsSAP-7016284a","SAP-7016284aOn prem Classic SAP Solutions",null,"SAP Colombia","SAP-7016284a","On prem Classic SAP Solutions","SAP Colombia","USD","N/A","SAP Promotion Management, add-on for SAP Customer Activity Repository, up to 5000 units",1000000,"Und","Licencia","N/A","N/A","N/A","SAP-7016284a","Forma de pago estandar a 30 dias",1050,1,1,"USD"]
["SAP ColombiaOn prem Classic SAP SolutionsSAP-7016284b","SAP-7016284bOn prem Classic SAP Solutions",null,"SAP Colombia","SAP-7016284b","On prem Classic SAP Solutions","SAP Colombia","USD","N/A","SAP Promotion Management, add-on for SAP Customer Activity Repository, 5001 to 10000 units",1000000,"Und","Licencia","N/A","N/A","N/A","SAP-7016284b","Forma de pago estandar a 30 dias",675,1,1,"USD"]
["SAP ColombiaOn prem Classic SAP SolutionsSAP-7016284c","SAP-7016284cOn prem Classic SAP Solutions",null,"SAP Colombia","SAP-7016284c","On prem Classic SAP Solutions","SAP Colombia","USD","N/A","SAP Promotion Management, add-on for SAP Customer Activity Repository, above               10000 units",1000000,"Und","Licencia","N/A","N/A","N/A","SAP-7016284c","Forma de pago estandar a 30 dias",450,1,1,"USD"]
["SAP ColombiaOn prem Classic SAP SolutionsSAP-7017897","SAP-7017897On prem Classic SAP Solutions",null,"SAP Colombia","SAP-7017897","On prem Classic SAP Solutions","SAP Colombia","USD","N/A","SAP Assortment Planning, add-on for SAP Customer Activity Repository",1000000,"Und","Licencia","N/A","N/A","N/A","SAP-7017897","Forma de pago estandar a 30 dias",1200,1,1,"USD"]
["SAP ColombiaOn prem Classic SAP SolutionsSAP-7018484","SAP-7018484On prem Classic SAP Solutions",null,"SAP Colombia","SAP-7018484","On prem Classic SAP Solutions","SAP Colombia","USD","N/A","SAP Merchandise Planning, add-on for SAP Customer Activity Repository",1000000,"Und","Licencia","N/A","N/A","N/A","SAP-7018484","Forma de pago estandar a 30 dias",1200,1,1,"USD"]
["SAP ColombiaOn prem Classic SAP SolutionsSAP-7018887a","SAP-7018887aOn prem Classic SAP Solutions",null,"SAP Colombia","SAP-7018887a","On prem Classic SAP Solutions","SAP Colombia","USD","N/A","SAP Customer Activity Repository, omnichannel price and promotion service, up to 1000 units",1000000,"Und","Licencia","N/A","N/A","N/A","SAP-7018887a","Forma de pago estandar a 30 dias",1500,1,1,"USD"]
["SAP ColombiaOn prem Classic SAP SolutionsSAP-7018887b","SAP-7018887bOn prem Classic SAP Solutions",null,"SAP Colombia","SAP-7018887b","On prem Classic SAP Solutions","SAP Colombia","USD","N/A","SAP Customer Activity Repository, omnichannel price and promotion service, 1001 to 5000 units",1000000,"Und","Licencia","N/A","N/A","N/A","SAP-7018887b","Forma de pago estandar a 30 dias",150,1,1,"USD"]
["SAP ColombiaOn prem Classic SAP SolutionsSAP-7018887c","SAP-7018887cOn prem Classic SAP Solutions",null,"SAP Colombia","SAP-7018887c","On prem Classic SAP Solutions","SAP Colombia","USD","N/A","SAP Customer Activity Repository, omnichannel price and promotion service, above                5000 units",1000000,"Und","Licencia","N/A","N/A","N/A","SAP-7018887c","Forma de pago estandar a 30 dias",38,1,1,"USD"]
["SAP ColombiaOn prem Classic SAP SolutionsSAP-7019074","SAP-7019074On prem Classic SAP Solutions",null,"SAP Colombia","SAP-7019074","On prem Classic SAP Solutions","SAP Colombia","USD","N/A","SAP Forecasting and Replenishment, fresh product add-on",1000000,"Und","Licencia","N/A","N/A","N/A","SAP-7019074","Forma de pago estandar a 30 dias",525,1,1,"USD"]
["SAP ColombiaOn prem Classic SAP SolutionsSAP-7020231","SAP-7020231On prem Classic SAP Solutions",null,"SAP Colombia","SAP-7020231","On prem Classic SAP Solutions","SAP Colombia","USD","N/A","SAP Allocation Management, add-on for SAP Customer Activity Repository",1000000,"Und","Licencia","N/A","N/A","N/A","SAP-7020231","Forma de pago estandar a 30 dias",1200,1,1,"USD"]
["SAP ColombiaOn prem Classic SAP SolutionsSAP-7020254","SAP-7020254On prem Classic SAP Solutions",null,"SAP Colombia","SAP-7020254","On prem Classic SAP Solutions","SAP Colombia","USD","N/A","SAP Forecasting and Replenishment",1000000,"Und","Licencia","N/A","N/A","N/A","SAP-7020254","Forma de pago estandar a 30 dias",1500,1,1,"USD"]
["SAP ColombiaOn prem Classic SAP SolutionsSAP-7020438","SAP-7020438On prem Classic SAP Solutions",null,"SAP Colombia","SAP-7020438","On prem Classic SAP Solutions","SAP Colombia","USD","N/A","SAP Replenishment Planning, add-on for SAP Customer Activity Repository",1000000,"Und","Licencia","N/A","N/A","N/A","SAP-7020438","Forma de pago estandar a 30 dias",1200,1,1,"USD"]
["SAP ColombiaOn prem Classic SAP SolutionsSAP-7020776","SAP-7020776On prem Classic SAP Solutions",null,"SAP Colombia","SAP-7020776","On prem Classic SAP Solutions","SAP Colombia","USD","N/A","SAP Customer Checkout",1,"Und","Licencia","N/A","N/A","N/A","SAP-7020776","Forma de pago estandar a 30 dias",1485,1,1,"USD"]
["SAP ColombiaOn prem Classic SAP SolutionsSAP-7019212","SAP-7019212On prem Classic SAP Solutions",null,"SAP Colombia","SAP-7019212","On prem Classic SAP Solutions","SAP Colombia","USD","N/A","SAP Enable Now, author option",1,"Und","Licencia","N/A","N/A","N/A","SAP-7019212","Forma de pago estandar a 30 dias",12000,1,1,"USD"]
["SAP ColombiaOn prem Classic SAP SolutionsSAP-7019213","SAP-7019213On prem Classic SAP Solutions",null,"SAP Colombia","SAP-7019213","On prem Classic SAP Solutions","SAP Colombia","USD","N/A","SAP Enable Now, consumption option",1,"Und","Licencia","N/A","N/A","N/A","SAP-7019213","Forma de pago estandar a 30 dias",225,1,1,"USD"]
["SAP ColombiaOn prem Classic SAP SolutionsSAP-7011533","SAP-7011533On prem Classic SAP Solutions",null,"SAP Colombia","SAP-7011533","On prem Classic SAP Solutions","SAP Colombia","USD","N/A","SAP Test Data Migration Server",300,"Und","Licencia","N/A","N/A","N/A","SAP-7011533","Forma de pago estandar a 30 dias",33750,1,1,"USD"]
["SAP ColombiaOn prem Classic SAP SolutionsSAP-7019502","SAP-7019502On prem Classic SAP Solutions",null,"SAP Colombia","SAP-7019502","On prem Classic SAP Solutions","SAP Colombia","USD","N/A","SAP Code Vulnerability Analyzer",5,"Und","Licencia","N/A","N/A","N/A","SAP-7019502","Forma de pago estandar a 30 dias",375000,1,1,"USD"]
["SAP ColombiaOn prem Classic SAP SolutionsSAP-7019670","SAP-7019670On prem Classic SAP Solutions",null,"SAP Colombia","SAP-7019670","On prem Classic SAP Solutions","SAP Colombia","USD","N/A","SAP ERP, limited runtime edition",1,"Und","Licencia","N/A","N/A","N/A","SAP-7019670","Forma de pago estandar a 30 dias",8250,1,1,"USD"]
["SAP ColombiaOn prem Classic SAP SolutionsSAP-7020023","SAP-7020023On prem Classic SAP Solutions",null,"SAP Colombia","SAP-7020023","On prem Classic SAP Solutions","SAP Colombia","USD","N/A","SAP BusinessObjects Enterprise (user)",1,"Und","Licencia","N/A","N/A","N/A","SAP-7020023","Forma de pago estandar a 30 dias",2250,1,1,"USD"]
["SAP ColombiaOn prem Classic SAP SolutionsSAP-7020024","SAP-7020024On prem Classic SAP Solutions",null,"SAP Colombia","SAP-7020024","On prem Classic SAP Solutions","SAP Colombia","USD","N/A","SAP BusinessObjects Enterprise (CS)",10,"Und","Licencia","N/A","N/A","N/A","SAP-7020024","Forma de pago estandar a 30 dias",72000,1,1,"USD"]
["SAP ColombiaOn prem Classic SAP SolutionsSAP-7020031","SAP-7020031On prem Classic SAP Solutions",null,"SAP Colombia","SAP-7020031","On prem Classic SAP Solutions","SAP Colombia","USD","N/A","SAP BusinessObjects Web Intelligence (user)",1,"Und","Licencia","N/A","N/A","N/A","SAP-7020031","Forma de pago estandar a 30 dias",1625,1,1,"USD"]
["SAP ColombiaOn prem Classic SAP SolutionsSAP-7020032","SAP-7020032On prem Classic SAP Solutions",null,"SAP Colombia","SAP-7020032","On prem Classic SAP Solutions","SAP Colombia","USD","N/A","SAP BusinessObjects Web Intelligence (CS)",10,"Und","Licencia","N/A","N/A","N/A","SAP-7020032","Forma de pago estandar a 30 dias",52000,1,1,"USD"]
["SAP ColombiaOn prem Classic SAP SolutionsSAP-7017727","SAP-7017727On prem Classic SAP Solutions",null,"SAP Colombia","SAP-7017727","On prem Classic SAP Solutions","SAP Colombia","USD","N/A","SAP Business Planning and Consolidation, version for SAP NetWeaver, professional edition",1,"Und","Licencia","N/A","N/A","N/A","SAP-7017727","Forma de pago estandar a 30 dias",15000,1,1,"USD"]
["SAP ColombiaOn prem Classic SAP SolutionsSAP-7017728","SAP-7017728On prem Classic SAP Solutions",null,"SAP Colombia","SAP-7017728","On prem Classic SAP Solutions","SAP Colombia","USD","N/A","SAP Business Planning and Consolidation, version for SAP NetWeaver, standard edition",1,"Und","Licencia","N/A","N/A","N/A","SAP-7017728","Forma de pago estandar a 30 dias",5250,1,1,"USD"]
["SAP ColombiaOn prem Classic SAP SolutionsSAP-7017731","SAP-7017731On prem Classic SAP Solutions",null,"SAP Colombia","SAP-7017731","On prem Classic SAP Solutions","SAP Colombia","USD","N/A","SAP Business Planning and Consolidation, version for SAP NetWeaver (planning only), professional edition",1,"Und","Licencia","N/A","N/A","N/A","SAP-7017731","Forma de pago estandar a 30 dias",9750,1,1,"USD"]
["SAP ColombiaOn prem Classic SAP SolutionsSAP-7017732","SAP-7017732On prem Classic SAP Solutions",null,"SAP Colombia","SAP-7017732","On prem Classic SAP Solutions","SAP Colombia","USD","N/A","SAP Business Planning and Consolidation, version for SAP NetWeaver (planning only), standard edition",1,"Und","Licencia","N/A","N/A","N/A","SAP-7017732","Forma de pago estandar a 30 dias",3000,1,1,"USD"]
["SAP ColombiaOn prem Classic SAP SolutionsSAP-7018587","SAP-7018587On prem Classic SAP Solutions",null,"SAP Colombia","SAP-7018587","On prem Classic SAP Solutions","SAP Colombia","USD","N/A","SAP Disclosure Management, professional edition",1,"Und","Licencia","N/A","N/A","N/A","SAP-7018587","Forma de pago estandar a 30 dias",15450,1,1,"USD"]
["SAP ColombiaOn prem Classic SAP SolutionsSAP-7018363","SAP-7018363On prem Classic SAP Solutions",null,"SAP Colombia","SAP-7018363","On prem Classic SAP Solutions","SAP Colombia","USD","N/A","SAP Adaptive Server Platform, Database Always-on Option",1,"Und","Licencia","N/A","N/A","N/A","SAP-7018363","Forma de pago estandar a 30 dias",34950,1,1,"USD"]
["SAP ColombiaOn prem Classic SAP SolutionsSAP-7018364","SAP-7018364On prem Classic SAP Solutions",null,"SAP Colombia","SAP-7018364","On prem Classic SAP Solutions","SAP Colombia","USD","N/A","SAP Adaptive Server Platform, Workload Analyzer Option",1,"Und","Licencia","N/A","N/A","N/A","SAP-7018364","Forma de pago estandar a 30 dias",15750,1,1,"USD"]
["SAP ColombiaOn prem Classic SAP SolutionsSAP-7018421","SAP-7018421On prem Classic SAP Solutions",null,"SAP Colombia","SAP-7018421","On prem Classic SAP Solutions","SAP Colombia","USD","N/A","SAP Adaptive Server Platform",1,"Und","Licencia","N/A","N/A","N/A","SAP-7018421","Forma de pago estandar a 30 dias",67500,1,1,"USD"]
["SAP ColombiaOn prem Classic SAP SolutionsSAP-7020334-1","SAP-7020334-1On prem Classic SAP Solutions",null,"SAP Colombia","SAP-7020334-1","On prem Classic SAP Solutions","SAP Colombia","USD","N/A","SAP HANA, active/active read-enabled option, up to 10 units",64,"Und","Licencia","N/A","N/A","N/A","SAP-7020334-1","Forma de pago estandar a 30 dias",40000,1,1,"USD"]
["SAP ColombiaOn prem Classic SAP SolutionsSAP-7020334-2","SAP-7020334-2On prem Classic SAP Solutions",null,"SAP Colombia","SAP-7020334-2","On prem Classic SAP Solutions","SAP Colombia","USD","N/A","SAP HANA, active/active read-enabled option, 11 to 20 units",64,"Und","Licencia","N/A","N/A","N/A","SAP-7020334-2","Forma de pago estandar a 30 dias",33250,1,1,"USD"]
["SAP ColombiaOn prem Classic SAP SolutionsSAP-7020334-3","SAP-7020334-3On prem Classic SAP Solutions",null,"SAP Colombia","SAP-7020334-3","On prem Classic SAP Solutions","SAP Colombia","USD","N/A","SAP HANA, active/active read-enabled option, 21 to 50 units",64,"Und","Licencia","N/A","N/A","N/A","SAP-7020334-3","Forma de pago estandar a 30 dias",20000,1,1,"USD"]
["SAP ColombiaOn prem Classic SAP SolutionsSAP-7020334-4","SAP-7020334-4On prem Classic SAP Solutions",null,"SAP Colombia","SAP-7020334-4","On prem Classic SAP Solutions","SAP Colombia","USD","N/A","SAP HANA, active/active read-enabled option, 51 to 100 units",64,"Und","Licencia","N/A","N/A","N/A","SAP-7020334-4","Forma de pago estandar a 30 dias",13250,1,1,"USD"]
["SAP ColombiaOn prem Classic SAP SolutionsSAP-7020334-5","SAP-7020334-5On prem Classic SAP Solutions",null,"SAP Colombia","SAP-7020334-5","On prem Classic SAP Solutions","SAP Colombia","USD","N/A","SAP HANA, active/active read-enabled option, 101 to 250 units",64,"Und","Licencia","N/A","N/A","N/A","SAP-7020334-5","Forma de pago estandar a 30 dias",8250,1,1,"USD"]
["SAP ColombiaOn prem Classic SAP SolutionsSAP-7020334-6","SAP-7020334-6On prem Classic SAP Solutions",null,"SAP Colombia","SAP-7020334-6","On prem Classic SAP Solutions","SAP Colombia","USD","N/A","SAP HANA, active/active read-enabled option, above                 250 units",64,"Und","Licencia","N/A","N/A","N/A","SAP-7020334-6","Forma de pago estandar a 30 dias",5000,1,1,"USD"]
["SAP ColombiaOn prem Classic SAP SolutionsSAP-7020464-7","SAP-7020464-7On prem Classic SAP Solutions",null,"SAP Colombia","SAP-7020464-7","On prem Classic SAP Solutions","SAP Colombia","USD","N/A","SAP HANA, enterprise edition, up to 10 units",64,"Und","Licencia","N/A","N/A","N/A","SAP-7020464-7","Forma de pago estandar a 30 dias",120000,1,1,"USD"]
[{"$f":"D1569&F1569&E1569","v":"SAP ColombiaOn prem Classic SAP SolutionsSAP-7020464-8"},{"$f":"E1569&F1569","v":"SAP-7020464-8On prem Classic SAP Solutions"},null,"SAP Colombia","SAP-7020464-8","On prem Classic SAP Solutions",{"$f":"D1569","v":"SAP Colombia"},"USD","N/A","SAP HANA, enterprise edition, 11 to 20 units",64,"Und","Licencia","N/A","N/A","N/A",{"$f":"+E1569","v":"SAP-7020464-8"},"Forma de pago estandar a 30 dias",100000,1,1,"USD"]
["SAP ColombiaOn prem Classic SAP SolutionsSAP-7020464-9","SAP-7020464-9On prem Classic SAP Solutions",null,"SAP Colombia","SAP-7020464-9","On prem Classic SAP Solutions","SAP Colombia","USD","N/A","SAP HANA, enterprise edition, 21 to 50 units",64,"Und","Licencia","N/A","N/A","N/A","SAP-7020464-9","Forma de pago estandar a 30 dias",60000,1,1,"USD"]
["SAP ColombiaOn prem Classic SAP SolutionsSAP-7020464-10","SAP-7020464-10On prem Classic SAP Solutions",null,"SAP Colombia","SAP-7020464-10","On prem Classic SAP Solutions","SAP Colombia","USD","N/A","SAP HANA, enterprise edition, 51 to 100 units",64,"Und","Licencia","N/A","N/A","N/A","SAP-7020464-10","Forma de pago estandar a 30 dias",40000,1,1,"USD"]
["SAP ColombiaOn prem Classic SAP SolutionsSAP-7020464-11","SAP-7020464-11On prem Classic SAP Solutions",null,"SAP Colombia","SAP-7020464-11","On prem Classic SAP Solutions","SAP Colombia","USD","N/A","SAP HANA, enterprise edition, 101 to 250 units",64,"Und","Licencia","N/A","N/A","N/A","SAP-7020464-11","Forma de pago estandar a 30 dias",25000,1,1,"USD"]
["SAP ColombiaOn prem Classic SAP SolutionsSAP-7020464-12","SAP-7020464-12On prem Classic SAP Solutions",null,"SAP Colombia","SAP-7020464-12","On prem Classic SAP Solutions","SAP Colombia","USD","N/A","SAP HANA, enterprise edition, above                 250 units",64,"Und","Licencia","N/A","N/A","N/A","SAP-7020464-12","Forma de pago estandar a 30 dias",15000,1,1,"USD"]
["SAP ColombiaOn prem Classic SAP SolutionsSAP-7011267","SAP-7011267On prem Classic SAP Solutions",null,"SAP Colombia","SAP-7011267","On prem Classic SAP Solutions","SAP Colombia","USD","N/A","SAP ASE Runtime Edition",1,"Und","Licencia","N/A","N/A","N/A","SAP-7011267","Forma de pago estandar a 30 dias",8,1,1,"USD"]
["SAP ColombiaOn prem Classic SAP SolutionsSAP-7019083","SAP-7019083On prem Classic SAP Solutions",null,"SAP Colombia","SAP-7019083","On prem Classic SAP Solutions","SAP Colombia","USD","N/A","SAP HANA, active/active read-enabled option for HANA runtime, New/Subsequent",1,"Und","Licencia","N/A","N/A","N/A","SAP-7019083","Forma de pago estandar a 30 dias",5,1,1,"USD"]
["SAP ColombiaOn prem Classic SAP SolutionsSAP-7019084","SAP-7019084On prem Classic SAP Solutions",null,"SAP Colombia","SAP-7019084","On prem Classic SAP Solutions","SAP Colombia","USD","N/A","SAP HANA, active/active read-enabled option for HANA runtime, Install Base",1,"Und","Licencia","N/A","N/A","N/A","SAP-7019084","Forma de pago estandar a 30 dias",5,1,1,"USD"]
["SAP ColombiaOn prem Classic SAP SolutionsSAP-7020465","SAP-7020465On prem Classic SAP Solutions",null,"SAP Colombia","SAP-7020465","On prem Classic SAP Solutions","SAP Colombia","USD","N/A","SAP HANA, runtime edition for SAP BW - Install Base",1,"Und","Licencia","N/A","N/A","N/A","SAP-7020465","Forma de pago estandar a 30 dias",0,1,1,"USD"]
["SAP ColombiaOn prem Classic SAP SolutionsSAP-7020466","SAP-7020466On prem Classic SAP Solutions",null,"SAP Colombia","SAP-7020466","On prem Classic SAP Solutions","SAP Colombia","USD","N/A","SAP HANA, runtime edition for SAP BW - New/Subsequent",1,"Und","Licencia","N/A","N/A","N/A","SAP-7020466","Forma de pago estandar a 30 dias",8,1,1,"USD"]
["SAP ColombiaOn prem Classic SAP SolutionsSAP-7020467","SAP-7020467On prem Classic SAP Solutions",null,"SAP Colombia","SAP-7020467","On prem Classic SAP Solutions","SAP Colombia","USD","N/A","SAP HANA, runtime edition for applications & SAP BW - Install Base",1,"Und","Licencia","N/A","N/A","N/A","SAP-7020467","Forma de pago estandar a 30 dias",0,1,1,"USD"]
["SAP ColombiaOn prem Classic SAP SolutionsSAP-7020468","SAP-7020468On prem Classic SAP Solutions",null,"SAP Colombia","SAP-7020468","On prem Classic SAP Solutions","SAP Colombia","USD","N/A","SAP HANA, runtime edition for applications & SAP BW - New/Subsequent",1,"Und","Licencia","N/A","N/A","N/A","SAP-7020468","Forma de pago estandar a 30 dias",15,1,1,"USD"]
["SAP ColombiaOn prem Classic SAP SolutionsSAP-7020469","SAP-7020469On prem Classic SAP Solutions",null,"SAP Colombia","SAP-7020469","On prem Classic SAP Solutions","SAP Colombia","USD","N/A","SAP HANA, runtime edition for applications & SAP BW - Install Base Partial",1,"Und","Licencia","N/A","N/A","N/A","SAP-7020469","Forma de pago estandar a 30 dias",0,1,1,"USD"]
["SAP ColombiaOn prem Classic SAP SolutionsSAP-7020470","SAP-7020470On prem Classic SAP Solutions",null,"SAP Colombia","SAP-7020470","On prem Classic SAP Solutions","SAP Colombia","USD","N/A","SAP HANA, runtime edition for applications & SAP BW - New/Subsequent Partial",1,"Und","Licencia","N/A","N/A","N/A","SAP-7020470","Forma de pago estandar a 30 dias",15,1,1,"USD"]
["SAP ColombiaOn prem Classic SAP SolutionsSAP-7020471","SAP-7020471On prem Classic SAP Solutions",null,"SAP Colombia","SAP-7020471","On prem Classic SAP Solutions","SAP Colombia","USD","N/A","SAP HANA, Limited Runtime edition for Applications – HANA Apps Only",1,"Und","Licencia","N/A","N/A","N/A","SAP-7020471","Forma de pago estandar a 30 dias",15,1,1,"USD"]
["SAP ColombiaOn prem Classic SAP SolutionsSAP-7009506","SAP-7009506On prem Classic SAP Solutions",null,"SAP Colombia","SAP-7009506","On prem Classic SAP Solutions","SAP Colombia","USD","N/A","SAP NetWeaver OpenHub",1,"Und","Licencia","N/A","N/A","N/A","SAP-7009506","Forma de pago estandar a 30 dias",375000,1,1,"USD"]
["SAP ColombiaOn prem Classic SAP SolutionsSAP-7009523","SAP-7009523On prem Classic SAP Solutions",null,"SAP Colombia","SAP-7009523","On prem Classic SAP Solutions","SAP Colombia","USD","N/A","SAP NetWeaver Foundation for Third Party Applications, user based",1,"Und","Licencia","N/A","N/A","N/A","SAP-7009523","Forma de pago estandar a 30 dias",675,1,1,"USD"]
["SAP ColombiaOn prem Classic SAP SolutionsSAP-7015920","SAP-7015920On prem Classic SAP Solutions",null,"SAP Colombia","SAP-7015920","On prem Classic SAP Solutions","SAP Colombia","USD","N/A","SAP Process Orchestration",1,"Und","Licencia","N/A","N/A","N/A","SAP-7015920","Forma de pago estandar a 30 dias",120000,1,1,"USD"]
["SAP ColombiaOn prem Classic SAP SolutionsSAP-7015924","SAP-7015924On prem Classic SAP Solutions",null,"SAP Colombia","SAP-7015924","On prem Classic SAP Solutions","SAP Colombia","USD","N/A","SAP NetWeaver Foundation for Third Party Applications, core based",1,"Und","Licencia","N/A","N/A","N/A","SAP-7015924","Forma de pago estandar a 30 dias",45000,1,1,"USD"]
["SAP ColombiaOn prem Classic SAP SolutionsSAP-7018942a","SAP-7018942aOn prem Classic SAP Solutions",null,"SAP Colombia","SAP-7018942a","On prem Classic SAP Solutions","SAP Colombia","USD","N/A","SAP Document and Reporting Compliance, on-premise edition, up to 5 units",5000,"Und","Licencia","N/A","N/A","N/A","SAP-7018942a","Forma de pago estandar a 30 dias",15000,1,1,"USD"]
["SAP ColombiaOn prem Classic SAP SolutionsSAP-7018942b","SAP-7018942bOn prem Classic SAP Solutions",null,"SAP Colombia","SAP-7018942b","On prem Classic SAP Solutions","SAP Colombia","USD","N/A","SAP Document and Reporting Compliance, on-premise edition, 6 to 25 units",5000,"Und","Licencia","N/A","N/A","N/A","SAP-7018942b","Forma de pago estandar a 30 dias",10500,1,1,"USD"]
["SAP ColombiaOn prem Classic SAP SolutionsSAP-7018942c","SAP-7018942cOn prem Classic SAP Solutions",null,"SAP Colombia","SAP-7018942c","On prem Classic SAP Solutions","SAP Colombia","USD","N/A","SAP Document and Reporting Compliance, on-premise edition, above                  25 units",5000,"Und","Licencia","N/A","N/A","N/A","SAP-7018942c","Forma de pago estandar a 30 dias",4500,1,1,"USD"]
["SAP ColombiaOn prem Classic SAP SolutionsSAP-7018996","SAP-7018996On prem Classic SAP Solutions",null,"SAP Colombia","SAP-7018996","On prem Classic SAP Solutions","SAP Colombia","USD","N/A","SAP Landscape Management",1,"Und","Licencia","N/A","N/A","N/A","SAP-7018996","Forma de pago estandar a 30 dias",30000,1,1,"USD"]
["SAP ColombiaOn prem Classic SAP SolutionsSAP-7020286-1","SAP-7020286-1On prem Classic SAP Solutions",null,"SAP Colombia","SAP-7020286-1","On prem Classic SAP Solutions","SAP Colombia","USD","N/A","SAP Focused Run, perpetual option, up to 250 units",1,"Und","Licencia","N/A","N/A","N/A","SAP-7020286-1","Forma de pago estandar a 30 dias",3750,1,1,"USD"]
["SAP ColombiaOn prem Classic SAP SolutionsSAP-7020286-2","SAP-7020286-2On prem Classic SAP Solutions",null,"SAP Colombia","SAP-7020286-2","On prem Classic SAP Solutions","SAP Colombia","USD","N/A","SAP Focused Run, perpetual option, 251 to 500 units",1,"Und","Licencia","N/A","N/A","N/A","SAP-7020286-2","Forma de pago estandar a 30 dias",3600,1,1,"USD"]
["SAP ColombiaOn prem Classic SAP SolutionsSAP-7020286-3","SAP-7020286-3On prem Classic SAP Solutions",null,"SAP Colombia","SAP-7020286-3","On prem Classic SAP Solutions","SAP Colombia","USD","N/A","SAP Focused Run, perpetual option, 501 to 750 units",1,"Und","Licencia","N/A","N/A","N/A","SAP-7020286-3","Forma de pago estandar a 30 dias",3450,1,1,"USD"]
["SAP ColombiaOn prem Classic SAP SolutionsSAP-7020286-4","SAP-7020286-4On prem Classic SAP Solutions",null,"SAP Colombia","SAP-7020286-4","On prem Classic SAP Solutions","SAP Colombia","USD","N/A","SAP Focused Run, perpetual option, 751 to 1000 units",1,"Und","Licencia","N/A","N/A","N/A","SAP-7020286-4","Forma de pago estandar a 30 dias",3300,1,1,"USD"]
["SAP ColombiaOn prem Classic SAP SolutionsSAP-7020286-5","SAP-7020286-5On prem Classic SAP Solutions",null,"SAP Colombia","SAP-7020286-5","On prem Classic SAP Solutions","SAP Colombia","USD","N/A","SAP Focused Run, perpetual option, above                1000 units",1,"Und","Licencia","N/A","N/A","N/A","SAP-7020286-5","Forma de pago estandar a 30 dias",3150,1,1,"USD"]
["SAP ColombiaOn prem Classic SAP SolutionsSAP-7020287-6","SAP-7020287-6On prem Classic SAP Solutions",null,"SAP Colombia","SAP-7020287-6","On prem Classic SAP Solutions","SAP Colombia","USD","N/A","SAP Application Interface Framework, up to 50 units",1000000,"Und","Licencia","N/A","N/A","N/A","SAP-7020287-6","Forma de pago estandar a 30 dias",150000,1,1,"USD"]
["SAP ColombiaOn prem Classic SAP SolutionsSAP-7020287-7","SAP-7020287-7On prem Classic SAP Solutions",null,"SAP Colombia","SAP-7020287-7","On prem Classic SAP Solutions","SAP Colombia","USD","N/A","SAP Application Interface Framework, 51 to 100 units",1000000,"Und","Licencia","N/A","N/A","N/A","SAP-7020287-7","Forma de pago estandar a 30 dias",135000,1,1,"USD"]
["SAP ColombiaOn prem Classic SAP SolutionsSAP-7020287-8","SAP-7020287-8On prem Classic SAP Solutions",null,"SAP Colombia","SAP-7020287-8","On prem Classic SAP Solutions","SAP Colombia","USD","N/A","SAP Application Interface Framework, above                 100 units",1000000,"Und","Licencia","N/A","N/A","N/A","SAP-7020287-8","Forma de pago estandar a 30 dias",127500,1,1,"USD"]
["SAP ColombiaOn prem Classic SAP SolutionsSAP-7011491","SAP-7011491On prem Classic SAP Solutions",null,"SAP Colombia","SAP-7011491","On prem Classic SAP Solutions","SAP Colombia","USD","N/A","SAP Enterprise Master Data Management",5000,"Und","Licencia","N/A","N/A","N/A","SAP-7011491","Forma de pago estandar a 30 dias",150000,1,1,"USD"]
["SAP ColombiaOn prem Classic SAP SolutionsSAP-7017596","SAP-7017596On prem Classic SAP Solutions",null,"SAP Colombia","SAP-7017596","On prem Classic SAP Solutions","SAP Colombia","USD","N/A","SAP Data Services",1,"Und","Licencia","N/A","N/A","N/A","SAP-7017596","Forma de pago estandar a 30 dias",93750,1,1,"USD"]
["SAP ColombiaOn prem Classic SAP SolutionsSAP-7017597","SAP-7017597On prem Classic SAP Solutions",null,"SAP Colombia","SAP-7017597","On prem Classic SAP Solutions","SAP Colombia","USD","N/A","SAP Information Steward",1,"Und","Licencia","N/A","N/A","N/A","SAP-7017597","Forma de pago estandar a 30 dias",93750,1,1,"USD"]
["SAP ColombiaOn prem Classic SAP SolutionsSAP-7017652","SAP-7017652On prem Classic SAP Solutions",null,"SAP Colombia","SAP-7017652","On prem Classic SAP Solutions","SAP Colombia","USD","N/A","SAP PowerDesigner EnterpriseArchitect",1,"Und","Licencia","N/A","N/A","N/A","SAP-7017652","Forma de pago estandar a 30 dias",18000,1,1,"USD"]
["SAP ColombiaOn prem Classic SAP SolutionsSAP-7018629","SAP-7018629On prem Classic SAP Solutions",null,"SAP Colombia","SAP-7018629","On prem Classic SAP Solutions","SAP Colombia","USD","N/A","SAP Landscape Transformation, enterprise edition",1,"Und","Licencia","N/A","N/A","N/A","SAP-7018629","Forma de pago estandar a 30 dias",270000,1,1,"USD"]
["SAP ColombiaOn prem Classic SAP SolutionsSAP-7018995","SAP-7018995On prem Classic SAP Solutions",null,"SAP Colombia","SAP-7018995","On prem Classic SAP Solutions","SAP Colombia","USD","N/A","SAP Information Lifecycle Management",1,"Und","Licencia","N/A","N/A","N/A","SAP-7018995","Forma de pago estandar a 30 dias",300000,1,1,"USD"]
["SAP ColombiaOn prem Classic SAP SolutionsSAP-7020026","SAP-7020026On prem Classic SAP Solutions",null,"SAP Colombia","SAP-7020026","On prem Classic SAP Solutions","SAP Colombia","USD","N/A","SAP Data Services, enterprise edition",1,"Und","Licencia","N/A","N/A","N/A","SAP-7020026","Forma de pago estandar a 30 dias",100000,1,1,"USD"]
["SAP ColombiaOn prem Classic SAP SolutionsSAP-7020027","SAP-7020027On prem Classic SAP Solutions",null,"SAP Colombia","SAP-7020027","On prem Classic SAP Solutions","SAP Colombia","USD","N/A","SAP Data Integrator, premium edition",1,"Und","Licencia","N/A","N/A","N/A","SAP-7020027","Forma de pago estandar a 30 dias",50000,1,1,"USD"]
["SAP ColombiaOn prem Classic SAP SolutionsSAP-7020288-1","SAP-7020288-1On prem Classic SAP Solutions",null,"SAP Colombia","SAP-7020288-1","On prem Classic SAP Solutions","SAP Colombia","USD","N/A","SAP Data Intelligence, up to 10 units",64,"Und","Licencia","N/A","N/A","N/A","SAP-7020288-1","Forma de pago estandar a 30 dias",202500,1,1,"USD"]
["SAP ColombiaOn prem Classic SAP SolutionsSAP-7020288-2","SAP-7020288-2On prem Classic SAP Solutions",null,"SAP Colombia","SAP-7020288-2","On prem Classic SAP Solutions","SAP Colombia","USD","N/A","SAP Data Intelligence, 11 to 50 units",64,"Und","Licencia","N/A","N/A","N/A","SAP-7020288-2","Forma de pago estandar a 30 dias",187500,1,1,"USD"]
["SAP ColombiaOn prem Classic SAP SolutionsSAP-7020288-3","SAP-7020288-3On prem Classic SAP Solutions",null,"SAP Colombia","SAP-7020288-3","On prem Classic SAP Solutions","SAP Colombia","USD","N/A","SAP Data Intelligence, above                  50 units",64,"Und","Licencia","N/A","N/A","N/A","SAP-7020288-3","Forma de pago estandar a 30 dias",150000,1,1,"USD"]
["SAP ColombiaOn prem Classic SAP SolutionsSAP-7001128","SAP-7001128On prem Classic SAP Solutions",null,"SAP Colombia","SAP-7001128","On prem Classic SAP Solutions","SAP Colombia","USD","N/A","SAP Standard Support","N/A","Und","Licencia","N/A","N/A","N/A","SAP-7001128","Forma de pago estandar a 30 dias",19,1,1,"USD"]
["SAP ColombiaOn prem Classic SAP SolutionsSAP-7003650-1","SAP-7003650-1On prem Classic SAP Solutions",null,"SAP Colombia","SAP-7003650-1","On prem Classic SAP Solutions","SAP Colombia","USD","N/A","SAP Enterprise Support","N/A","Und","Licencia","N/A","N/A","N/A","SAP-7003650-1","Forma de pago estandar a 30 dias",22,1,1,"USD"]
["SAP ColombiaOn prem Classic SAP SolutionsSAP-7008440","SAP-7008440On prem Classic SAP Solutions",null,"SAP Colombia","SAP-7008440","On prem Classic SAP Solutions","SAP Colombia","USD","N/A","SAP Product Support for Large Enterprises","N/A","Und","Licencia","N/A","N/A","N/A","SAP-7008440","Forma de pago estandar a 30 dias",17,1,1,"USD"]
["SAP ColombiaOn prem Classic SAP SolutionsSAP-7018656","SAP-7018656On prem Classic SAP Solutions",null,"SAP Colombia","SAP-7018656","On prem Classic SAP Solutions","SAP Colombia","USD","N/A","SAP Preferred Care, on-premise edition (SAP Enterprise Support)","N/A","Und","Licencia","N/A","N/A","N/A","SAP-7018656","Forma de pago estandar a 30 dias",1,1,1,"USD"]
["SAP ColombiaOn prem Classic SAP SolutionsSAP-7018657","SAP-7018657On prem Classic SAP Solutions",null,"SAP Colombia","SAP-7018657","On prem Classic SAP Solutions","SAP Colombia","USD","N/A","SAP Preferred Care, on-premise edition (SAP Prod. Supp. for Lrg. Ent.)","N/A","Und","Licencia","N/A","N/A","N/A","SAP-7018657","Forma de pago estandar a 30 dias",2,1,1,"USD"]
["SAP ColombiaOn prem Classic SAP SolutionsSAP-7011057","SAP-7011057On prem Classic SAP Solutions",null,"SAP Colombia","SAP-7011057","On prem Classic SAP Solutions","SAP Colombia","USD","N/A","SAP Bank Communication Management, option for multisystem payment consolidation",1,"Und","Licencia","N/A","N/A","N/A","SAP-7011057","Forma de pago estandar a 30 dias",225000,1,1,"USD"]
["SAP ColombiaOn prem Classic SAP SolutionsSAP-7020110","SAP-7020110On prem Classic SAP Solutions",null,"SAP Colombia","SAP-7020110","On prem Classic SAP Solutions","SAP Colombia","USD","N/A","SAP ERP, add-on for Polish SAF-T regulatory requirements",50000000,"Und","Licencia","N/A","N/A","N/A","SAP-7020110","Forma de pago estandar a 30 dias",30000,1,1,"USD"]
["SAP ColombiaOn prem Classic SAP SolutionsSAP-7020167","SAP-7020167On prem Classic SAP Solutions",null,"SAP Colombia","SAP-7020167","On prem Classic SAP Solutions","SAP Colombia","USD","N/A","UI data protection masking",1000,"Und","Licencia","N/A","N/A","N/A","SAP-7020167","Forma de pago estandar a 30 dias",150000,1,1,"USD"]
["SAP ColombiaOn prem Classic SAP SolutionsSAP-7020168","SAP-7020168On prem Classic SAP Solutions",null,"SAP Colombia","SAP-7020168","On prem Classic SAP Solutions","SAP Colombia","USD","N/A","UI data protection logging",1000,"Und","Licencia","N/A","N/A","N/A","SAP-7020168","Forma de pago estandar a 30 dias",225000,1,1,"USD"]
["SAP ColombiaOn prem Classic SAP SolutionsSAP-7020413","SAP-7020413On prem Classic SAP Solutions",null,"SAP Colombia","SAP-7020413","On prem Classic SAP Solutions","SAP Colombia","USD","N/A","SAP Treasury and Risk Management, impairment accounting extension for expected losses",1000000000,"Und","Licencia","N/A","N/A","N/A","SAP-7020413","Forma de pago estandar a 30 dias",24000,1,1,"USD"]
["SAP ColombiaOn prem Classic SAP SolutionsSAP-7010818","SAP-7010818On prem Classic SAP Solutions",null,"SAP Colombia","SAP-7010818","On prem Classic SAP Solutions","SAP Colombia","USD","N/A","RCS package for Standard Support Cust.",1,"Und","Licencia","N/A","N/A","N/A","SAP-7010818","Forma de pago estandar a 30 dias",19,1,1,"USD"]
["SAP ColombiaOn prem Classic SAP SolutionsSAP-7010819","SAP-7010819On prem Classic SAP Solutions",null,"SAP Colombia","SAP-7010819","On prem Classic SAP Solutions","SAP Colombia","USD","N/A","RCS package for Enterprise Support Cust.",1,"Und","Licencia","N/A","N/A","N/A","SAP-7010819","Forma de pago estandar a 30 dias",22,1,1,"USD"]
["SAP ColombiaOn prem Classic SAP SolutionsSAP-7010820","SAP-7010820On prem Classic SAP Solutions",null,"SAP Colombia","SAP-7010820","On prem Classic SAP Solutions","SAP Colombia","USD","N/A","RCS package for PSLE Support Customers",1,"Und","Licencia","N/A","N/A","N/A","SAP-7010820","Forma de pago estandar a 30 dias",17,1,1,"USD"]
["SAP ColombiaOn prem Classic SAP SolutionsSAP-7002299","SAP-7002299On prem Classic SAP Solutions",null,"SAP Colombia","SAP-7002299","On prem Classic SAP Solutions","SAP Colombia","USD","N/A","SAP Business One Professional User",1,"Und","Licencia","N/A","N/A","N/A","SAP-7002299","Forma de pago estandar a 30 dias",2700,1,1,"USD"]
["SAP ColombiaOn prem Classic SAP SolutionsSAP-7011026","SAP-7011026On prem Classic SAP Solutions",null,"SAP Colombia","SAP-7011026","On prem Classic SAP Solutions","SAP Colombia","USD","N/A","SAP Business One Starter Package User",1,"Und","Licencia","N/A","N/A","N/A","SAP-7011026","Forma de pago estandar a 30 dias",1140,1,1,"USD"]
["SAP ColombiaOn prem Classic SAP SolutionsSAP-7015819","SAP-7015819On prem Classic SAP Solutions",null,"SAP Colombia","SAP-7015819","On prem Classic SAP Solutions","SAP Colombia","USD","N/A","SAP Business One Indirect Access, user-based",1,"Und","Licencia","N/A","N/A","N/A","SAP-7015819","Forma de pago estandar a 30 dias",250,1,1,"USD"]
["SAP ColombiaOn prem Classic SAP SolutionsSAP-7018121","SAP-7018121On prem Classic SAP Solutions",null,"SAP Colombia","SAP-7018121","On prem Classic SAP Solutions","SAP Colombia","USD","N/A","SAP Business One Limited User",1,"Und","Licencia","N/A","N/A","N/A","SAP-7018121","Forma de pago estandar a 30 dias",1400,1,1,"USD"]
["SAP ColombiaOn prem Classic SAP SolutionsSAP-7018662","SAP-7018662On prem Classic SAP Solutions",null,"SAP Colombia","SAP-7018662","On prem Classic SAP Solutions","SAP Colombia","USD","N/A","SAP Business One Mobile Application User",1,"Und","Licencia","N/A","N/A","N/A","SAP-7018662","Forma de pago estandar a 30 dias",450,1,1,"USD"]
["SAP ColombiaOn prem Classic SAP SolutionsSAP-7011027","SAP-7011027On prem Classic SAP Solutions",null,"SAP Colombia","SAP-7011027","On prem Classic SAP Solutions","SAP Colombia","USD","N/A","SAP B1 Starter Package User to SAP B1 Professional User",1,"Und","Licencia","N/A","N/A","N/A","SAP-7011027","Forma de pago estandar a 30 dias",1610,1,1,"USD"]
["SAP ColombiaOn prem Classic SAP SolutionsSAP-7018122","SAP-7018122On prem Classic SAP Solutions",null,"SAP Colombia","SAP-7018122","On prem Classic SAP Solutions","SAP Colombia","USD","N/A","SAP B1 Limited to SAP B1 Professional User",1,"Und","Licencia","N/A","N/A","N/A","SAP-7018122","Forma de pago estandar a 30 dias",1350,1,1,"USD"]
["SAP ColombiaOn prem Classic SAP SolutionsSAP-7018123","SAP-7018123On prem Classic SAP Solutions",null,"SAP Colombia","SAP-7018123","On prem Classic SAP Solutions","SAP Colombia","USD","N/A","SAP B1 Starter Package User to SAP B1 Limited User",1,"Und","Licencia","N/A","N/A","N/A","SAP-7018123","Forma de pago estandar a 30 dias",360,1,1,"USD"]
["SAP ColombiaOn prem Classic SAP SolutionsSAP-7012048","SAP-7012048On prem Classic SAP Solutions",null,"SAP Colombia","SAP-7012048","On prem Classic SAP Solutions","SAP Colombia","USD","N/A","SAP Crystal Reports for SAP Business One",1,"Und","Licencia","N/A","N/A","N/A","SAP-7012048","Forma de pago estandar a 30 dias",479,1,1,"USD"]
[{"$f":"D1633&F1633&E1633","v":"SAP ColombiaOn prem Classic SAP SolutionsSAP-7015905"},{"$f":"E1633&F1633","v":"SAP-7015905On prem Classic SAP Solutions"},null,"SAP Colombia","SAP-7015905","On prem Classic SAP Solutions",{"$f":"D1633","v":"SAP Colombia"},"USD","N/A","Intercompany Integration Solution for SAP Business One",1,"Und","Licencia","N/A","N/A","N/A",{"$f":"+E1633","v":"SAP-7015905"},"Forma de pago estandar a 30 dias",350,1,1,"USD"]
["SAP ColombiaOn prem Classic SAP SolutionsSAP-7020176","SAP-7020176On prem Classic SAP Solutions",null,"SAP Colombia","SAP-7020176","On prem Classic SAP Solutions","SAP Colombia","USD","N/A","SAP Business One Indirect access by non-employees",1,"Und","Licencia","N/A","N/A","N/A","SAP-7020176","Forma de pago estandar a 30 dias",1500,1,1,"USD"]
["SAP ColombiaOn prem Classic SAP SolutionsSAP-7018149","SAP-7018149On prem Classic SAP Solutions",null,"SAP Colombia","SAP-7018149","On prem Classic SAP Solutions","SAP Colombia","USD","N/A","SAP Business One Engine for SAP HANA",64,"Und","Licencia","N/A","N/A","N/A","SAP-7018149","Forma de pago estandar a 30 dias",2000,1,1,"USD"]
["SAP ColombiaOn prem Classic SAP SolutionsSAP-7011042","SAP-7011042On prem Classic SAP Solutions",null,"SAP Colombia","SAP-7011042","On prem Classic SAP Solutions","SAP Colombia","USD","N/A","SAP Business One Support (direct)",1,"Und","Licencia","N/A","N/A","N/A","SAP-7011042","Forma de pago estandar a 30 dias",18,1,1,"USD"]
["SAP ColombiaOn prem Classic SAP SolutionsSAP-7019217 ","SAP-7019217 On prem Classic SAP Solutions",null,"SAP Colombia","SAP-7019217 ","On prem Classic SAP Solutions","SAP Colombia","USD","N/A","SAP BusinessObjects Enterprise, premium",10,"Und","Licencia","N/A","N/A","N/A","SAP-7019217 ","Forma de pago estandar a 30 dias",770000,1,1,"USD"]
["SAP ColombiaOn prem Classic SAP SolutionsSAP-7018066","SAP-7018066On prem Classic SAP Solutions",null,"SAP Colombia","SAP-7018066","On prem Classic SAP Solutions","SAP Colombia","USD","N/A","SAP HANA, RT ed Applic & BW-new/subsq",1,"Und","Licencia","N/A","N/A","N/A","SAP-7018066","Forma de pago estandar a 30 dias",0,1,1,"USD"]
["SAP ColombiaOn prem Classic SAP SolutionsSAP-7003650-2","SAP-7003650-2On prem Classic SAP Solutions",null,"SAP Colombia","SAP-7003650-2","On prem Classic SAP Solutions","SAP Colombia","USD","N/A","SAP Enterprise Support",1,"Serv","Soporte","N/A","N/A","N/A","SAP-7003650-2","Forma de pago estandar a 30 dias",22,1,1,"USD"]
["SAP ColombiaOnpremS4&Native HANASolutionsSAP-7018538","SAP-7018538OnpremS4&Native HANASolutions",null,"SAP Colombia","SAP-7018538","OnpremS4&Native HANASolutions","SAP Colombia","USD","N/A","SAP S/4HANA Enterprise Management for ERP customers",1,"Und","Licencia","N/A","N/A","N/A","SAP-7018538","Forma de pago estandar a 30 dias",13500,1,1,"USD"]
["SAP ColombiaOnpremS4&Native HANASolutionsSAP-7018652","SAP-7018652OnpremS4&Native HANASolutions",null,"SAP Colombia","SAP-7018652","OnpremS4&Native HANASolutions","SAP Colombia","USD","N/A","SAP S/4HANA Enterprise Management for Professional use",1,"Und","Licencia","N/A","N/A","N/A","SAP-7018652","Forma de pago estandar a 30 dias",5250,1,1,"USD"]
["SAP ColombiaOnpremS4&Native HANASolutionsSAP-7018653","SAP-7018653OnpremS4&Native HANASolutions",null,"SAP Colombia","SAP-7018653","OnpremS4&Native HANASolutions","SAP Colombia","USD","N/A","SAP S/4HANA Enterprise Management for Productivity use",1,"Und","Licencia","N/A","N/A","N/A","SAP-7018653","Forma de pago estandar a 30 dias",450,1,1,"USD"]
["SAP ColombiaOnpremS4&Native HANASolutionsSAP-7018654","SAP-7018654OnpremS4&Native HANASolutions",null,"SAP Colombia","SAP-7018654","OnpremS4&Native HANASolutions","SAP Colombia","USD","N/A","SAP S/4HANA Enterprise Management for Functional use",1,"Und","Licencia","N/A","N/A","N/A","SAP-7018654","Forma de pago estandar a 30 dias",1800,1,1,"USD"]
["SAP ColombiaOnpremS4&Native HANASolutionsSAP-7018682","SAP-7018682OnpremS4&Native HANASolutions",null,"SAP Colombia","SAP-7018682","OnpremS4&Native HANASolutions","SAP Colombia","USD","N/A","SAP S/4HANA, Developer access",1,"Und","Licencia","N/A","N/A","N/A","SAP-7018682","Forma de pago estandar a 30 dias",9000,1,1,"USD"]
["SAP ColombiaOnpremS4&Native HANASolutionsSAP-7020280-1","SAP-7020280-1OnpremS4&Native HANASolutions",null,"SAP Colombia","SAP-7020280-1","OnpremS4&Native HANASolutions","SAP Colombia","USD","N/A","SAP S/4HANA Digital Access, up to 1000 units",1000,"Und","Licencia","N/A","N/A","N/A","SAP-7020280-1","Forma de pago estandar a 30 dias",750,1,1,"USD"]
["SAP ColombiaOnpremS4&Native HANASolutionsSAP-7020280-2","SAP-7020280-2OnpremS4&Native HANASolutions",null,"SAP Colombia","SAP-7020280-2","OnpremS4&Native HANASolutions","SAP Colombia","USD","N/A","SAP S/4HANA Digital Access, 1001 to 5000 units",1000,"Und","Licencia","N/A","N/A","N/A","SAP-7020280-2","Forma de pago estandar a 30 dias",600,1,1,"USD"]
["SAP ColombiaOnpremS4&Native HANASolutionsSAP-7020280-3","SAP-7020280-3OnpremS4&Native HANASolutions",null,"SAP Colombia","SAP-7020280-3","OnpremS4&Native HANASolutions","SAP Colombia","USD","N/A","SAP S/4HANA Digital Access, 5001 to 10000 units",1000,"Und","Licencia","N/A","N/A","N/A","SAP-7020280-3","Forma de pago estandar a 30 dias",525,1,1,"USD"]
["SAP ColombiaOnpremS4&Native HANASolutionsSAP-7020280-4","SAP-7020280-4OnpremS4&Native HANASolutions",null,"SAP Colombia","SAP-7020280-4","OnpremS4&Native HANASolutions","SAP Colombia","USD","N/A","SAP S/4HANA Digital Access, 10001 to 15000 units",1000,"Und","Licencia","N/A","N/A","N/A","SAP-7020280-4","Forma de pago estandar a 30 dias",450,1,1,"USD"]
["SAP ColombiaOnpremS4&Native HANASolutionsSAP-7020280-5","SAP-7020280-5OnpremS4&Native HANASolutions",null,"SAP Colombia","SAP-7020280-5","OnpremS4&Native HANASolutions","SAP Colombia","USD","N/A","SAP S/4HANA Digital Access, 15001 to 30000 units",1000,"Und","Licencia","N/A","N/A","N/A","SAP-7020280-5","Forma de pago estandar a 30 dias",375,1,1,"USD"]
["SAP ColombiaOnpremS4&Native HANASolutionsSAP-7020280-6","SAP-7020280-6OnpremS4&Native HANASolutions",null,"SAP Colombia","SAP-7020280-6","OnpremS4&Native HANASolutions","SAP Colombia","USD","N/A","SAP S/4HANA Digital Access, 30001 to 60000 units",1000,"Und","Licencia","N/A","N/A","N/A","SAP-7020280-6","Forma de pago estandar a 30 dias",300,1,1,"USD"]
["SAP ColombiaOnpremS4&Native HANASolutionsSAP-7020280-7","SAP-7020280-7OnpremS4&Native HANASolutions",null,"SAP Colombia","SAP-7020280-7","OnpremS4&Native HANASolutions","SAP Colombia","USD","N/A","SAP S/4HANA Digital Access, 60001 to 100000 units",1000,"Und","Licencia","N/A","N/A","N/A","SAP-7020280-7","Forma de pago estandar a 30 dias",225,1,1,"USD"]
["SAP ColombiaOnpremS4&Native HANASolutionsSAP-7020280-8","SAP-7020280-8OnpremS4&Native HANASolutions",null,"SAP Colombia","SAP-7020280-8","OnpremS4&Native HANASolutions","SAP Colombia","USD","N/A","SAP S/4HANA Digital Access, above              100000 units",1000,"Und","Licencia","N/A","N/A","N/A","SAP-7020280-8","Forma de pago estandar a 30 dias",165,1,1,"USD"]
["SAP ColombiaOnpremS4&Native HANASolutionsSAP-7020187","SAP-7020187OnpremS4&Native HANASolutions",null,"SAP Colombia","SAP-7020187","OnpremS4&Native HANASolutions","SAP Colombia","USD","N/A","SAP Solution Sales Configuration for SAP S/4HANA",1,"Und","Licencia","N/A","N/A","N/A","SAP-7020187","Forma de pago estandar a 30 dias",3000,1,1,"USD"]
["SAP ColombiaOnpremS4&Native HANASolutionsSAP-7018939","SAP-7018939OnpremS4&Native HANASolutions",null,"SAP Colombia","SAP-7018939","OnpremS4&Native HANASolutions","SAP Colombia","USD","N/A","SAP Engineering Control Center for SAP S/4HANA, standard edition",1,"Und","Licencia","N/A","N/A","N/A","SAP-7018939","Forma de pago estandar a 30 dias",1200,1,1,"USD"]
["SAP ColombiaOnpremS4&Native HANASolutionsSAP-7018940","SAP-7018940OnpremS4&Native HANASolutions",null,"SAP Colombia","SAP-7018940","OnpremS4&Native HANASolutions","SAP Colombia","USD","N/A","SAP Engineering Control Center for SAP S/4HANA, professional edition",1,"Und","Licencia","N/A","N/A","N/A","SAP-7018940","Forma de pago estandar a 30 dias",1950,1,1,"USD"]
["SAP ColombiaOnpremS4&Native HANASolutionsSAP-7019169","SAP-7019169OnpremS4&Native HANASolutions",null,"SAP Colombia","SAP-7019169","OnpremS4&Native HANASolutions","SAP Colombia","USD","N/A","SAP Work Clearance Management for SAP S/4HANA",80000,"Und","Licencia","N/A","N/A","N/A","SAP-7019169","Forma de pago estandar a 30 dias",82500,1,1,"USD"]
["SAP ColombiaOnpremS4&Native HANASolutionsSAP-7019479","SAP-7019479OnpremS4&Native HANASolutions",null,"SAP Colombia","SAP-7019479","OnpremS4&Native HANASolutions","SAP Colombia","USD","N/A","SAP Agricultural Contract Management for SAP S/4HANA",10000000,"Und","Licencia","N/A","N/A","N/A","SAP-7019479","Forma de pago estandar a 30 dias",12300,1,1,"USD"]
["SAP ColombiaOnpremS4&Native HANASolutionsSAP-7019509","SAP-7019509OnpremS4&Native HANASolutions",null,"SAP Colombia","SAP-7019509","OnpremS4&Native HANASolutions","SAP Colombia","USD","N/A","SAP S/4HANA Manufacturing for production engineering and operations, professional edition",1,"Und","Licencia","N/A","N/A","N/A","SAP-7019509","Forma de pago estandar a 30 dias",12000,1,1,"USD"]
["SAP ColombiaOnpremS4&Native HANASolutionsSAP-7019516","SAP-7019516OnpremS4&Native HANASolutions",null,"SAP Colombia","SAP-7019516","OnpremS4&Native HANASolutions","SAP Colombia","USD","N/A","SAP S/4HANA for Advanced Variant Configuration, standard",1,"Und","Licencia","N/A","N/A","N/A","SAP-7019516","Forma de pago estandar a 30 dias",3000,1,1,"USD"]
["SAP ColombiaOnpremS4&Native HANASolutionsSAP-7019517","SAP-7019517OnpremS4&Native HANASolutions",null,"SAP Colombia","SAP-7019517","OnpremS4&Native HANASolutions","SAP Colombia","USD","N/A","SAP S/4HANA for Advanced Variant Configuration, professional",1,"Und","Licencia","N/A","N/A","N/A","SAP-7019517","Forma de pago estandar a 30 dias",67500,1,1,"USD"]
["SAP ColombiaOnpremS4&Native HANASolutionsSAP-7019529","SAP-7019529OnpremS4&Native HANASolutions",null,"SAP Colombia","SAP-7019529","OnpremS4&Native HANASolutions","SAP Colombia","USD","N/A","SAP S/4HANA for product compliance",50000000,"Und","Licencia","N/A","N/A","N/A","SAP-7019529","Forma de pago estandar a 30 dias",22500,1,1,"USD"]
["SAP ColombiaOnpremS4&Native HANASolutionsSAP-7019872","SAP-7019872OnpremS4&Native HANASolutions",null,"SAP Colombia","SAP-7019872","OnpremS4&Native HANASolutions","SAP Colombia","USD","N/A","SAP S/4HANA Manufacturing for planning and scheduling",100000000,"Und","Licencia","N/A","N/A","N/A","SAP-7019872","Forma de pago estandar a 30 dias",60000,1,1,"USD"]
["SAP ColombiaOnpremS4&Native HANASolutionsSAP-7019874","SAP-7019874OnpremS4&Native HANASolutions",null,"SAP Colombia","SAP-7019874","OnpremS4&Native HANASolutions","SAP Colombia","USD","N/A","SAP S/4HANA Advanced Available-to-Promise",250000000,"Und","Licencia","N/A","N/A","N/A","SAP-7019874","Forma de pago estandar a 30 dias",112500,1,1,"USD"]
["SAP ColombiaOnpremS4&Native HANASolutionsSAP-7019985","SAP-7019985OnpremS4&Native HANASolutions",null,"SAP Colombia","SAP-7019985","OnpremS4&Native HANASolutions","SAP Colombia","USD","N/A","SAP Transportation Management for T&L for SAP S/4HANA",2500000,"Und","Licencia","N/A","N/A","N/A","SAP-7019985","Forma de pago estandar a 30 dias",9600,1,1,"USD"]
["SAP ColombiaOnpremS4&Native HANASolutionsSAP-7020093","SAP-7020093OnpremS4&Native HANASolutions",null,"SAP Colombia","SAP-7020093","OnpremS4&Native HANASolutions","SAP Colombia","USD","N/A","SAP product data management integration to SAP S/4HANA",1,"Und","Licencia","N/A","N/A","N/A","SAP-7020093","Forma de pago estandar a 30 dias",1950,1,1,"USD"]
["SAP ColombiaOnpremS4&Native HANASolutionsSAP-7020210","SAP-7020210OnpremS4&Native HANASolutions",null,"SAP Colombia","SAP-7020210","OnpremS4&Native HANASolutions","SAP Colombia","USD","N/A","SAP S/4HANA for commodity management for physical contracts",10000000,"Und","Licencia","N/A","N/A","N/A","SAP-7020210","Forma de pago estandar a 30 dias",12300,1,1,"USD"]
["SAP ColombiaOnpremS4&Native HANASolutionsSAP-7020213","SAP-7020213OnpremS4&Native HANASolutions",null,"SAP Colombia","SAP-7020213","OnpremS4&Native HANASolutions","SAP Colombia","USD","N/A","SAP S/4HANA Enterprise Portfolio and Project Management, standard",1,"Und","Licencia","N/A","N/A","N/A","SAP-7020213","Forma de pago estandar a 30 dias",2250,1,1,"USD"]
["SAP ColombiaOnpremS4&Native HANASolutionsSAP-7020214","SAP-7020214OnpremS4&Native HANASolutions",null,"SAP Colombia","SAP-7020214","OnpremS4&Native HANASolutions","SAP Colombia","USD","N/A","SAP S/4HANA Enterprise Portfolio and Project Management, professional",1,"Und","Licencia","N/A","N/A","N/A","SAP-7020214","Forma de pago estandar a 30 dias",6750,1,1,"USD"]
["SAP ColombiaOnpremS4&Native HANASolutionsSAP-7020295-1","SAP-7020295-1OnpremS4&Native HANASolutions",null,"SAP Colombia","SAP-7020295-1","OnpremS4&Native HANASolutions","SAP Colombia","USD","N/A","SAP S/4HANA Asset Management for EHS incident management, up to 50 units",100,"Und","Licencia","N/A","N/A","N/A","SAP-7020295-1","Forma de pago estandar a 30 dias",11250,1,1,"USD"]
["SAP ColombiaOnpremS4&Native HANASolutionsSAP-7020295-2","SAP-7020295-2OnpremS4&Native HANASolutions",null,"SAP Colombia","SAP-7020295-2","OnpremS4&Native HANASolutions","SAP Colombia","USD","N/A","SAP S/4HANA Asset Management for EHS incident management, 51 to 300 units",100,"Und","Licencia","N/A","N/A","N/A","SAP-7020295-2","Forma de pago estandar a 30 dias",10500,1,1,"USD"]
["SAP ColombiaOnpremS4&Native HANASolutionsSAP-7020295-3","SAP-7020295-3OnpremS4&Native HANASolutions",null,"SAP Colombia","SAP-7020295-3","OnpremS4&Native HANASolutions","SAP Colombia","USD","N/A","SAP S/4HANA Asset Management for EHS incident management, above                 300 units",100,"Und","Licencia","N/A","N/A","N/A","SAP-7020295-3","Forma de pago estandar a 30 dias",9750,1,1,"USD"]
["SAP ColombiaOnpremS4&Native HANASolutionsSAP-7020296-1","SAP-7020296-1OnpremS4&Native HANASolutions",null,"SAP Colombia","SAP-7020296-1","OnpremS4&Native HANASolutions","SAP Colombia","USD","N/A","SAP S/4HANA Asset Management for EHS health and safety management, up to 50 units",100,"Und","Licencia","N/A","N/A","N/A","SAP-7020296-1","Forma de pago estandar a 30 dias",11250,1,1,"USD"]
["SAP ColombiaOnpremS4&Native HANASolutionsSAP-7020296-2","SAP-7020296-2OnpremS4&Native HANASolutions",null,"SAP Colombia","SAP-7020296-2","OnpremS4&Native HANASolutions","SAP Colombia","USD","N/A","SAP S/4HANA Asset Management for EHS health and safety management, 51 to 300 units",100,"Und","Licencia","N/A","N/A","N/A","SAP-7020296-2","Forma de pago estandar a 30 dias",10500,1,1,"USD"]
["SAP ColombiaOnpremS4&Native HANASolutionsSAP-7020296-3","SAP-7020296-3OnpremS4&Native HANASolutions",null,"SAP Colombia","SAP-7020296-3","OnpremS4&Native HANASolutions","SAP Colombia","USD","N/A","SAP S/4HANA Asset Management for EHS health and safety management, above                 300 units",100,"Und","Licencia","N/A","N/A","N/A","SAP-7020296-3","Forma de pago estandar a 30 dias",9750,1,1,"USD"]
["SAP ColombiaOnpremS4&Native HANASolutionsSAP-7020297-1","SAP-7020297-1OnpremS4&Native HANASolutions",null,"SAP Colombia","SAP-7020297-1","OnpremS4&Native HANASolutions","SAP Colombia","USD","N/A","SAP S/4HANA Supply Chain for extended warehouse management, up to 5 units",5000,"Und","Licencia","N/A","N/A","N/A","SAP-7020297-1","Forma de pago estandar a 30 dias",270000,1,1,"USD"]
["SAP ColombiaOnpremS4&Native HANASolutionsSAP-7020297-2","SAP-7020297-2OnpremS4&Native HANASolutions",null,"SAP Colombia","SAP-7020297-2","OnpremS4&Native HANASolutions","SAP Colombia","USD","N/A","SAP S/4HANA Supply Chain for extended warehouse management, 6 to 20 units",5000,"Und","Licencia","N/A","N/A","N/A","SAP-7020297-2","Forma de pago estandar a 30 dias",240000,1,1,"USD"]
["SAP ColombiaOnpremS4&Native HANASolutionsSAP-7020297-3","SAP-7020297-3OnpremS4&Native HANASolutions",null,"SAP Colombia","SAP-7020297-3","OnpremS4&Native HANASolutions","SAP Colombia","USD","N/A","SAP S/4HANA Supply Chain for extended warehouse management, 21 to 50 units",5000,"Und","Licencia","N/A","N/A","N/A","SAP-7020297-3","Forma de pago estandar a 30 dias",202500,1,1,"USD"]
["SAP ColombiaOnpremS4&Native HANASolutionsSAP-7020297-4","SAP-7020297-4OnpremS4&Native HANASolutions",null,"SAP Colombia","SAP-7020297-4","OnpremS4&Native HANASolutions","SAP Colombia","USD","N/A","SAP S/4HANA Supply Chain for extended warehouse management, 51 to 100 units",5000,"Und","Licencia","N/A","N/A","N/A","SAP-7020297-4","Forma de pago estandar a 30 dias",172500,1,1,"USD"]
["SAP ColombiaOnpremS4&Native HANASolutionsSAP-7020297-5","SAP-7020297-5OnpremS4&Native HANASolutions",null,"SAP Colombia","SAP-7020297-5","OnpremS4&Native HANASolutions","SAP Colombia","USD","N/A","SAP S/4HANA Supply Chain for extended warehouse management, above                 100 units",5000,"Und","Licencia","N/A","N/A","N/A","SAP-7020297-5","Forma de pago estandar a 30 dias",142500,1,1,"USD"]
["SAP ColombiaOnpremS4&Native HANASolutionsSAP-7020300-1","SAP-7020300-1OnpremS4&Native HANASolutions",null,"SAP Colombia","SAP-7020300-1","OnpremS4&Native HANASolutions","SAP Colombia","USD","N/A","SAP S/4HANA Asset Management for EHS environment mgmt, up to 50 units",100,"Und","Licencia","N/A","N/A","N/A","SAP-7020300-1","Forma de pago estandar a 30 dias",11250,1,1,"USD"]
["SAP ColombiaOnpremS4&Native HANASolutionsSAP-7020300-2","SAP-7020300-2OnpremS4&Native HANASolutions",null,"SAP Colombia","SAP-7020300-2","OnpremS4&Native HANASolutions","SAP Colombia","USD","N/A","SAP S/4HANA Asset Management for EHS environment mgmt, 51 to 300 units",100,"Und","Licencia","N/A","N/A","N/A","SAP-7020300-2","Forma de pago estandar a 30 dias",10500,1,1,"USD"]
["SAP ColombiaOnpremS4&Native HANASolutionsSAP-7020300-3","SAP-7020300-3OnpremS4&Native HANASolutions",null,"SAP Colombia","SAP-7020300-3","OnpremS4&Native HANASolutions","SAP Colombia","USD","N/A","SAP S/4HANA Asset Management for EHS environment mgmt, above                 300 units",100,"Und","Licencia","N/A","N/A","N/A","SAP-7020300-3","Forma de pago estandar a 30 dias",9750,1,1,"USD"]
["SAP ColombiaOnpremS4&Native HANASolutionsSAP-7020301-1","SAP-7020301-1OnpremS4&Native HANASolutions",null,"SAP Colombia","SAP-7020301-1","OnpremS4&Native HANASolutions","SAP Colombia","USD","N/A","SAP S/4HANA Asset Management for resource scheduling, up to 200 units",1,"Und","Licencia","N/A","N/A","N/A","SAP-7020301-1","Forma de pago estandar a 30 dias",825,1,1,"USD"]
["SAP ColombiaOnpremS4&Native HANASolutionsSAP-7020301-2","SAP-7020301-2OnpremS4&Native HANASolutions",null,"SAP Colombia","SAP-7020301-2","OnpremS4&Native HANASolutions","SAP Colombia","USD","N/A","SAP S/4HANA Asset Management for resource scheduling, 201 to 1000 units",1,"Und","Licencia","N/A","N/A","N/A","SAP-7020301-2","Forma de pago estandar a 30 dias",675,1,1,"USD"]
["SAP ColombiaOnpremS4&Native HANASolutionsSAP-7020301-3","SAP-7020301-3OnpremS4&Native HANASolutions",null,"SAP Colombia","SAP-7020301-3","OnpremS4&Native HANASolutions","SAP Colombia","USD","N/A","SAP S/4HANA Asset Management for resource scheduling, above                1000 units",1,"Und","Licencia","N/A","N/A","N/A","SAP-7020301-3","Forma de pago estandar a 30 dias",638,1,1,"USD"]
["SAP ColombiaOnpremS4&Native HANASolutionsSAP-7020303-1","SAP-7020303-1OnpremS4&Native HANASolutions",null,"SAP Colombia","SAP-7020303-1","OnpremS4&Native HANASolutions","SAP Colombia","USD","N/A","SAP S/4HANA Supply Chain for Transportation Charge Management, up to 75 units",2500000,"Und","Licencia","N/A","N/A","N/A","SAP-7020303-1","Forma de pago estandar a 30 dias",56250,1,1,"USD"]
["SAP ColombiaOnpremS4&Native HANASolutionsSAP-7020303-2","SAP-7020303-2OnpremS4&Native HANASolutions",null,"SAP Colombia","SAP-7020303-2","OnpremS4&Native HANASolutions","SAP Colombia","USD","N/A","SAP S/4HANA Supply Chain for Transportation Charge Management, 76 to 125 units",2500000,"Und","Licencia","N/A","N/A","N/A","SAP-7020303-2","Forma de pago estandar a 30 dias",52500,1,1,"USD"]
["SAP ColombiaOnpremS4&Native HANASolutionsSAP-7020303-3","SAP-7020303-3OnpremS4&Native HANASolutions",null,"SAP Colombia","SAP-7020303-3","OnpremS4&Native HANASolutions","SAP Colombia","USD","N/A","SAP S/4HANA Supply Chain for Transportation Charge Management, 126 to 200 units",2500000,"Und","Licencia","N/A","N/A","N/A","SAP-7020303-3","Forma de pago estandar a 30 dias",45000,1,1,"USD"]
["SAP ColombiaOnpremS4&Native HANASolutionsSAP-7020303-4","SAP-7020303-4OnpremS4&Native HANASolutions",null,"SAP Colombia","SAP-7020303-4","OnpremS4&Native HANASolutions","SAP Colombia","USD","N/A","SAP S/4HANA Supply Chain for Transportation Charge Management, above                 200 units",2500000,"Und","Licencia","N/A","N/A","N/A","SAP-7020303-4","Forma de pago estandar a 30 dias",40500,1,1,"USD"]
["SAP ColombiaOnpremS4&Native HANASolutionsSAP-7020305-1","SAP-7020305-1OnpremS4&Native HANASolutions",null,"SAP Colombia","SAP-7020305-1","OnpremS4&Native HANASolutions","SAP Colombia","USD","N/A","SAP S/4HANA Supply Chain for Transportation Planning & Execution, up to 75 units",2500000,"Und","Licencia","N/A","N/A","N/A","SAP-7020305-1","Forma de pago estandar a 30 dias",67500,1,1,"USD"]
["SAP ColombiaOnpremS4&Native HANASolutionsSAP-7020305-2","SAP-7020305-2OnpremS4&Native HANASolutions",null,"SAP Colombia","SAP-7020305-2","OnpremS4&Native HANASolutions","SAP Colombia","USD","N/A","SAP S/4HANA Supply Chain for Transportation Planning & Execution, 76 to 125 units",2500000,"Und","Licencia","N/A","N/A","N/A","SAP-7020305-2","Forma de pago estandar a 30 dias",60000,1,1,"USD"]
["SAP ColombiaOnpremS4&Native HANASolutionsSAP-7020305-3","SAP-7020305-3OnpremS4&Native HANASolutions",null,"SAP Colombia","SAP-7020305-3","OnpremS4&Native HANASolutions","SAP Colombia","USD","N/A","SAP S/4HANA Supply Chain for Transportation Planning & Execution, 126 to 200 units",2500000,"Und","Licencia","N/A","N/A","N/A","SAP-7020305-3","Forma de pago estandar a 30 dias",56250,1,1,"USD"]
["SAP ColombiaOnpremS4&Native HANASolutionsSAP-7020305-4","SAP-7020305-4OnpremS4&Native HANASolutions",null,"SAP Colombia","SAP-7020305-4","OnpremS4&Native HANASolutions","SAP Colombia","USD","N/A","SAP S/4HANA Supply Chain for Transportation Planning & Execution, above                 200 units",2500000,"Und","Licencia","N/A","N/A","N/A","SAP-7020305-4","Forma de pago estandar a 30 dias",49500,1,1,"USD"]
["SAP ColombiaOnpremS4&Native HANASolutionsSAP-7020308-1","SAP-7020308-1OnpremS4&Native HANASolutions",null,"SAP Colombia","SAP-7020308-1","OnpremS4&Native HANASolutions","SAP Colombia","USD","N/A","SAP Yard Logistics for SAP S/4HANA, up to 5 units",5000,"Und","Licencia","N/A","N/A","N/A","SAP-7020308-1","Forma de pago estandar a 30 dias",92700,1,1,"USD"]
["SAP ColombiaOnpremS4&Native HANASolutionsSAP-7020308-2","SAP-7020308-2OnpremS4&Native HANASolutions",null,"SAP Colombia","SAP-7020308-2","OnpremS4&Native HANASolutions","SAP Colombia","USD","N/A","SAP Yard Logistics for SAP S/4HANA, 6 to 50 units",5000,"Und","Licencia","N/A","N/A","N/A","SAP-7020308-2","Forma de pago estandar a 30 dias",54075,1,1,"USD"]
["SAP ColombiaOnpremS4&Native HANASolutionsSAP-7020308-3","SAP-7020308-3OnpremS4&Native HANASolutions",null,"SAP Colombia","SAP-7020308-3","OnpremS4&Native HANASolutions","SAP Colombia","USD","N/A","SAP Yard Logistics for SAP S/4HANA, 51 to 200 units",5000,"Und","Licencia","N/A","N/A","N/A","SAP-7020308-3","Forma de pago estandar a 30 dias",30900,1,1,"USD"]
[{"$f":"D1697&F1697&E1697","v":"SAP ColombiaOnpremS4&Native HANASolutionsSAP-7020308-4"},{"$f":"E1697&F1697","v":"SAP-7020308-4OnpremS4&Native HANASolutions"},null,"SAP Colombia","SAP-7020308-4","OnpremS4&Native HANASolutions",{"$f":"D1697","v":"SAP Colombia"},"USD","N/A","SAP Yard Logistics for SAP S/4HANA, 201 to 450 units",5000,"Und","Licencia","N/A","N/A","N/A",{"$f":"+E1697","v":"SAP-7020308-4"},"Forma de pago estandar a 30 dias",20085,1,1,"USD"]
["SAP ColombiaOnpremS4&Native HANASolutionsSAP-7020308-5","SAP-7020308-5OnpremS4&Native HANASolutions",null,"SAP Colombia","SAP-7020308-5","OnpremS4&Native HANASolutions","SAP Colombia","USD","N/A","SAP Yard Logistics for SAP S/4HANA, above                 450 units",5000,"Und","Licencia","N/A","N/A","N/A","SAP-7020308-5","Forma de pago estandar a 30 dias",14678,1,1,"USD"]
["SAP ColombiaOnpremS4&Native HANASolutionsSAP-7020310-1","SAP-7020310-1OnpremS4&Native HANASolutions",null,"SAP Colombia","SAP-7020310-1","OnpremS4&Native HANASolutions","SAP Colombia","USD","N/A","SAP S/4HANA for Management of Change, up to 50 units",100,"Und","Licencia","N/A","N/A","N/A","SAP-7020310-1","Forma de pago estandar a 30 dias",11250,1,1,"USD"]
["SAP ColombiaOnpremS4&Native HANASolutionsSAP-7020310-2","SAP-7020310-2OnpremS4&Native HANASolutions",null,"SAP Colombia","SAP-7020310-2","OnpremS4&Native HANASolutions","SAP Colombia","USD","N/A","SAP S/4HANA for Management of Change, 51 to 300 units",100,"Und","Licencia","N/A","N/A","N/A","SAP-7020310-2","Forma de pago estandar a 30 dias",10500,1,1,"USD"]
["SAP ColombiaOnpremS4&Native HANASolutionsSAP-7020310-3","SAP-7020310-3OnpremS4&Native HANASolutions",null,"SAP Colombia","SAP-7020310-3","OnpremS4&Native HANASolutions","SAP Colombia","USD","N/A","SAP S/4HANA for Management of Change, above                 300 units",100,"Und","Licencia","N/A","N/A","N/A","SAP-7020310-3","Forma de pago estandar a 30 dias",9750,1,1,"USD"]
["SAP ColombiaOnpremS4&Native HANASolutionsSAP-7020311-1","SAP-7020311-1OnpremS4&Native HANASolutions",null,"SAP Colombia","SAP-7020311-1","OnpremS4&Native HANASolutions","SAP Colombia","USD","N/A","SAP S/4HANA, bulk transportation extension for SAP Agricultural Contract Management, up to 75 units",2500000,"Und","Licencia","N/A","N/A","N/A","SAP-7020311-1","Forma de pago estandar a 30 dias",40500,1,1,"USD"]
["SAP ColombiaOnpremS4&Native HANASolutionsSAP-7020311-2","SAP-7020311-2OnpremS4&Native HANASolutions",null,"SAP Colombia","SAP-7020311-2","OnpremS4&Native HANASolutions","SAP Colombia","USD","N/A","SAP S/4HANA, bulk transportation extension for SAP Agricultural Contract Management, 76 to 125 units",2500000,"Und","Licencia","N/A","N/A","N/A","SAP-7020311-2","Forma de pago estandar a 30 dias",36000,1,1,"USD"]
["SAP ColombiaOnpremS4&Native HANASolutionsSAP-7020311-3","SAP-7020311-3OnpremS4&Native HANASolutions",null,"SAP Colombia","SAP-7020311-3","OnpremS4&Native HANASolutions","SAP Colombia","USD","N/A","SAP S/4HANA, bulk transportation extension for SAP Agricultural Contract Management, 126 to 200 units",2500000,"Und","Licencia","N/A","N/A","N/A","SAP-7020311-3","Forma de pago estandar a 30 dias",33750,1,1,"USD"]
["SAP ColombiaOnpremS4&Native HANASolutionsSAP-7020311-4","SAP-7020311-4OnpremS4&Native HANASolutions",null,"SAP Colombia","SAP-7020311-4","OnpremS4&Native HANASolutions","SAP Colombia","USD","N/A","SAP S/4HANA, bulk transportation extension for SAP Agricultural Contract Management, above                 200 units",2500000,"Und","Licencia","N/A","N/A","N/A","SAP-7020311-4","Forma de pago estandar a 30 dias",30000,1,1,"USD"]
["SAP ColombiaOnpremS4&Native HANASolutionsSAP-7020393","SAP-7020393OnpremS4&Native HANASolutions",null,"SAP Colombia","SAP-7020393","OnpremS4&Native HANASolutions","SAP Colombia","USD","N/A","SAP S/4HANA Supply Chain for extended service parts planning",250000000,"Und","Licencia","N/A","N/A","N/A","SAP-7020393","Forma de pago estandar a 30 dias",112500,1,1,"USD"]
["SAP ColombiaOnpremS4&Native HANASolutionsSAP-7020410-1","SAP-7020410-1OnpremS4&Native HANASolutions",null,"SAP Colombia","SAP-7020410-1","OnpremS4&Native HANASolutions","SAP Colombia","USD","N/A","last mile distribution component for SAP Direct Distribution, up to 10 units",100000,"Und","Licencia","N/A","N/A","N/A","SAP-7020410-1","Forma de pago estandar a 30 dias",187500,1,1,"USD"]
["SAP ColombiaOnpremS4&Native HANASolutionsSAP-7020410-2","SAP-7020410-2OnpremS4&Native HANASolutions",null,"SAP Colombia","SAP-7020410-2","OnpremS4&Native HANASolutions","SAP Colombia","USD","N/A","last mile distribution component for SAP Direct Distribution, 11 to 20 units",100000,"Und","Licencia","N/A","N/A","N/A","SAP-7020410-2","Forma de pago estandar a 30 dias",180000,1,1,"USD"]
["SAP ColombiaOnpremS4&Native HANASolutionsSAP-7020410-3","SAP-7020410-3OnpremS4&Native HANASolutions",null,"SAP Colombia","SAP-7020410-3","OnpremS4&Native HANASolutions","SAP Colombia","USD","N/A","last mile distribution component for SAP Direct Distribution, 21 to 70 units",100000,"Und","Licencia","N/A","N/A","N/A","SAP-7020410-3","Forma de pago estandar a 30 dias",172500,1,1,"USD"]
["SAP ColombiaOnpremS4&Native HANASolutionsSAP-7020410-4","SAP-7020410-4OnpremS4&Native HANASolutions",null,"SAP Colombia","SAP-7020410-4","OnpremS4&Native HANASolutions","SAP Colombia","USD","N/A","last mile distribution component for SAP Direct Distribution, 71 to 300 units",100000,"Und","Licencia","N/A","N/A","N/A","SAP-7020410-4","Forma de pago estandar a 30 dias",165000,1,1,"USD"]
["SAP ColombiaOnpremS4&Native HANASolutionsSAP-7020410-5","SAP-7020410-5OnpremS4&Native HANASolutions",null,"SAP Colombia","SAP-7020410-5","OnpremS4&Native HANASolutions","SAP Colombia","USD","N/A","last mile distribution component for SAP Direct Distribution, above                 300 units",100000,"Und","Licencia","N/A","N/A","N/A","SAP-7020410-5","Forma de pago estandar a 30 dias",150000,1,1,"USD"]
["SAP ColombiaOnpremS4&Native HANASolutionsSAP-7020510-6","SAP-7020510-6OnpremS4&Native HANASolutions",null,"SAP Colombia","SAP-7020510-6","OnpremS4&Native HANASolutions","SAP Colombia","USD","N/A","SAP S/4HANA for manufacturing logistics, up to 5 units",5000,"Und","Licencia","N/A","N/A","N/A","SAP-7020510-6","Forma de pago estandar a 30 dias",337500,1,1,"USD"]
["SAP ColombiaOnpremS4&Native HANASolutionsSAP-7020510-7","SAP-7020510-7OnpremS4&Native HANASolutions",null,"SAP Colombia","SAP-7020510-7","OnpremS4&Native HANASolutions","SAP Colombia","USD","N/A","SAP S/4HANA for manufacturing logistics, 6 to 20 units",5000,"Und","Licencia","N/A","N/A","N/A","SAP-7020510-7","Forma de pago estandar a 30 dias",300000,1,1,"USD"]
["SAP ColombiaOnpremS4&Native HANASolutionsSAP-7020510-8","SAP-7020510-8OnpremS4&Native HANASolutions",null,"SAP Colombia","SAP-7020510-8","OnpremS4&Native HANASolutions","SAP Colombia","USD","N/A","SAP S/4HANA for manufacturing logistics, 21 to 50 units",5000,"Und","Licencia","N/A","N/A","N/A","SAP-7020510-8","Forma de pago estandar a 30 dias",255000,1,1,"USD"]
["SAP ColombiaOnpremS4&Native HANASolutionsSAP-7020510-9","SAP-7020510-9OnpremS4&Native HANASolutions",null,"SAP Colombia","SAP-7020510-9","OnpremS4&Native HANASolutions","SAP Colombia","USD","N/A","SAP S/4HANA for manufacturing logistics, 51 to 100 units",5000,"Und","Licencia","N/A","N/A","N/A","SAP-7020510-9","Forma de pago estandar a 30 dias",217500,1,1,"USD"]
["SAP ColombiaOnpremS4&Native HANASolutionsSAP-7020510-10","SAP-7020510-10OnpremS4&Native HANASolutions",null,"SAP Colombia","SAP-7020510-10","OnpremS4&Native HANASolutions","SAP Colombia","USD","N/A","SAP S/4HANA for manufacturing logistics, above                 100 units",5000,"Und","Licencia","N/A","N/A","N/A","SAP-7020510-10","Forma de pago estandar a 30 dias",180000,1,1,"USD"]
["SAP ColombiaOnpremS4&Native HANASolutionsSAP-7020512","SAP-7020512OnpremS4&Native HANASolutions",null,"SAP Colombia","SAP-7020512","OnpremS4&Native HANASolutions","SAP Colombia","USD","N/A","SAP S/4HANA R&D for Enterprise Product Engineering, standard edition",1,"Und","Licencia","N/A","N/A","N/A","SAP-7020512","Forma de pago estandar a 30 dias",2250,1,1,"USD"]
["SAP ColombiaOnpremS4&Native HANASolutionsSAP-7020513","SAP-7020513OnpremS4&Native HANASolutions",null,"SAP Colombia","SAP-7020513","OnpremS4&Native HANASolutions","SAP Colombia","USD","N/A","SAP S/4HANA R&D for Enterprise Product Formulation, standard edition",1,"Und","Licencia","N/A","N/A","N/A","SAP-7020513","Forma de pago estandar a 30 dias",2250,1,1,"USD"]
["SAP ColombiaOnpremS4&Native HANASolutionsSAP-7020608","SAP-7020608OnpremS4&Native HANASolutions",null,"SAP Colombia","SAP-7020608","OnpremS4&Native HANASolutions","SAP Colombia","USD","N/A","SAP Spatial Asset Management for SAP S/4HANA",1,"Und","Licencia","N/A","N/A","N/A","SAP-7020608","Forma de pago estandar a 30 dias",1800,1,1,"USD"]
["SAP ColombiaOnpremS4&Native HANASolutionsSAP-7020609","SAP-7020609OnpremS4&Native HANASolutions",null,"SAP Colombia","SAP-7020609","OnpremS4&Native HANASolutions","SAP Colombia","USD","N/A","SAP S/4HANA R&D for Enterprise Product Formulation, professional edition",1,"Und","Licencia","N/A","N/A","N/A","SAP-7020609","Forma de pago estandar a 30 dias",9750,1,1,"USD"]
["SAP ColombiaOnpremS4&Native HANASolutionsSAP-7020610","SAP-7020610OnpremS4&Native HANASolutions",null,"SAP Colombia","SAP-7020610","OnpremS4&Native HANASolutions","SAP Colombia","USD","N/A","SAP S/4HANA R&D for Enterprise Product Engineering, professional edition",1,"Und","Licencia","N/A","N/A","N/A","SAP-7020610","Forma de pago estandar a 30 dias",9750,1,1,"USD"]
["SAP ColombiaOnpremS4&Native HANASolutionsSAP-7020639","SAP-7020639OnpremS4&Native HANASolutions",null,"SAP Colombia","SAP-7020639","OnpremS4&Native HANASolutions","SAP Colombia","USD","N/A","PLM system integration for SAP S/4HANA",1,"Und","Licencia","N/A","N/A","N/A","SAP-7020639","Forma de pago estandar a 30 dias",1500,1,1,"USD"]
["SAP ColombiaOnpremS4&Native HANASolutionsSAP-7020681","SAP-7020681OnpremS4&Native HANASolutions",null,"SAP Colombia","SAP-7020681","OnpremS4&Native HANASolutions","SAP Colombia","USD","N/A","SAP S/4HANA Supply Chain for supply & demand segmentation",250000000,"Und","Licencia","N/A","N/A","N/A","SAP-7020681","Forma de pago estandar a 30 dias",150000,1,1,"USD"]
["SAP ColombiaOnpremS4&Native HANASolutionsSAP-7020682","SAP-7020682OnpremS4&Native HANASolutions",null,"SAP Colombia","SAP-7020682","OnpremS4&Native HANASolutions","SAP Colombia","USD","N/A","SAP S/4HANA Manufacturing for production engineering and operations, standard edition",1,"Und","Licencia","N/A","N/A","N/A","SAP-7020682","Forma de pago estandar a 30 dias",6000,1,1,"USD"]
["SAP ColombiaOnpremS4&Native HANASolutionsSAP-7020785-1","SAP-7020785-1OnpremS4&Native HANASolutions",null,"SAP Colombia","SAP-7020785-1","OnpremS4&Native HANASolutions","SAP Colombia","USD","N/A","SAP S/4HANA for asset inspection and checklist management, up to 150 units",1,"Und","Licencia","N/A","N/A","N/A","SAP-7020785-1","Forma de pago estandar a 30 dias",1500,1,1,"USD"]
["SAP ColombiaOnpremS4&Native HANASolutionsSAP-7020785-2","SAP-7020785-2OnpremS4&Native HANASolutions",null,"SAP Colombia","SAP-7020785-2","OnpremS4&Native HANASolutions","SAP Colombia","USD","N/A","SAP S/4HANA for asset inspection and checklist management, 151 to 250 units",1,"Und","Licencia","N/A","N/A","N/A","SAP-7020785-2","Forma de pago estandar a 30 dias",1350,1,1,"USD"]
["SAP ColombiaOnpremS4&Native HANASolutionsSAP-7020785-3","SAP-7020785-3OnpremS4&Native HANASolutions",null,"SAP Colombia","SAP-7020785-3","OnpremS4&Native HANASolutions","SAP Colombia","USD","N/A","SAP S/4HANA for asset inspection and checklist management, 251 to 500 units",1,"Und","Licencia","N/A","N/A","N/A","SAP-7020785-3","Forma de pago estandar a 30 dias",1200,1,1,"USD"]
["SAP ColombiaOnpremS4&Native HANASolutionsSAP-7020785-4","SAP-7020785-4OnpremS4&Native HANASolutions",null,"SAP Colombia","SAP-7020785-4","OnpremS4&Native HANASolutions","SAP Colombia","USD","N/A","SAP S/4HANA for asset inspection and checklist management, 501 to 1500 units",1,"Und","Licencia","N/A","N/A","N/A","SAP-7020785-4","Forma de pago estandar a 30 dias",1050,1,1,"USD"]
["SAP ColombiaOnpremS4&Native HANASolutionsSAP-7020785-5","SAP-7020785-5OnpremS4&Native HANASolutions",null,"SAP Colombia","SAP-7020785-5","OnpremS4&Native HANASolutions","SAP Colombia","USD","N/A","SAP S/4HANA for asset inspection and checklist management, 1501 to 3000 units",1,"Und","Licencia","N/A","N/A","N/A","SAP-7020785-5","Forma de pago estandar a 30 dias",900,1,1,"USD"]
["SAP ColombiaOnpremS4&Native HANASolutionsSAP-7020785-6","SAP-7020785-6OnpremS4&Native HANASolutions",null,"SAP Colombia","SAP-7020785-6","OnpremS4&Native HANASolutions","SAP Colombia","USD","N/A","SAP S/4HANA for asset inspection and checklist management, above                3000 units",1,"Und","Licencia","N/A","N/A","N/A","SAP-7020785-6","Forma de pago estandar a 30 dias",750,1,1,"USD"]
["SAP ColombiaOnpremS4&Native HANASolutionsSAP-7020789-7","SAP-7020789-7OnpremS4&Native HANASolutions",null,"SAP Colombia","SAP-7020789-7","OnpremS4&Native HANASolutions","SAP Colombia","USD","N/A","SAP S/4HANA livestock procurement, up to 1500 units",300,"Und","Licencia","N/A","N/A","N/A","SAP-7020789-7","Forma de pago estandar a 30 dias",3000,1,1,"USD"]
["SAP ColombiaOnpremS4&Native HANASolutionsSAP-7020789-8","SAP-7020789-8OnpremS4&Native HANASolutions",null,"SAP Colombia","SAP-7020789-8","OnpremS4&Native HANASolutions","SAP Colombia","USD","N/A","SAP S/4HANA livestock procurement, 1501 to 5000 units",300,"Und","Licencia","N/A","N/A","N/A","SAP-7020789-8","Forma de pago estandar a 30 dias",2925,1,1,"USD"]
["SAP ColombiaOnpremS4&Native HANASolutionsSAP-7020789-9","SAP-7020789-9OnpremS4&Native HANASolutions",null,"SAP Colombia","SAP-7020789-9","OnpremS4&Native HANASolutions","SAP Colombia","USD","N/A","SAP S/4HANA livestock procurement, 5001 to 10000 units",300,"Und","Licencia","N/A","N/A","N/A","SAP-7020789-9","Forma de pago estandar a 30 dias",2850,1,1,"USD"]
["SAP ColombiaOnpremS4&Native HANASolutionsSAP-7020789-10","SAP-7020789-10OnpremS4&Native HANASolutions",null,"SAP Colombia","SAP-7020789-10","OnpremS4&Native HANASolutions","SAP Colombia","USD","N/A","SAP S/4HANA livestock procurement, 10001 to 20000 units",300,"Und","Licencia","N/A","N/A","N/A","SAP-7020789-10","Forma de pago estandar a 30 dias",2700,1,1,"USD"]
["SAP ColombiaOnpremS4&Native HANASolutionsSAP-7020789-11","SAP-7020789-11OnpremS4&Native HANASolutions",null,"SAP Colombia","SAP-7020789-11","OnpremS4&Native HANASolutions","SAP Colombia","USD","N/A","SAP S/4HANA livestock procurement, 20001 to 60000 units",300,"Und","Licencia","N/A","N/A","N/A","SAP-7020789-11","Forma de pago estandar a 30 dias",2550,1,1,"USD"]
["SAP ColombiaOnpremS4&Native HANASolutionsSAP-7020789-12","SAP-7020789-12OnpremS4&Native HANASolutions",null,"SAP Colombia","SAP-7020789-12","OnpremS4&Native HANASolutions","SAP Colombia","USD","N/A","SAP S/4HANA livestock procurement, above               60000 units",300,"Und","Licencia","N/A","N/A","N/A","SAP-7020789-12","Forma de pago estandar a 30 dias",2400,1,1,"USD"]
["SAP ColombiaOnpremS4&Native HANASolutionsSAP-7018701","SAP-7018701OnpremS4&Native HANASolutions",null,"SAP Colombia","SAP-7018701","OnpremS4&Native HANASolutions","SAP Colombia","USD","N/A","SAP Process Control for SAP S/4HANA",1,"Und","Licencia","N/A","N/A","N/A","SAP-7018701","Forma de pago estandar a 30 dias",6105,1,1,"USD"]
["SAP ColombiaOnpremS4&Native HANASolutionsSAP-7018702","SAP-7018702OnpremS4&Native HANASolutions",null,"SAP Colombia","SAP-7018702","OnpremS4&Native HANASolutions","SAP Colombia","USD","N/A","SAP Risk Management for SAP S/4HANA",1,"Und","Licencia","N/A","N/A","N/A","SAP-7018702","Forma de pago estandar a 30 dias",4455,1,1,"USD"]
["SAP ColombiaOnpremS4&Native HANASolutionsSAP-7018703","SAP-7018703OnpremS4&Native HANASolutions",null,"SAP Colombia","SAP-7018703","OnpremS4&Native HANASolutions","SAP Colombia","USD","N/A","SAP Access Control for SAP S/4HANA",100,"Und","Licencia","N/A","N/A","N/A","SAP-7018703","Forma de pago estandar a 30 dias",41085,1,1,"USD"]
["SAP ColombiaOnpremS4&Native HANASolutionsSAP-7018705a","SAP-7018705aOnpremS4&Native HANASolutions",null,"SAP Colombia","SAP-7018705a","OnpremS4&Native HANASolutions","SAP Colombia","USD","N/A","SAP S/4HANA for convergent invoicing, up to 10 units",50000000,"Und","Licencia","N/A","N/A","N/A","SAP-7018705a","Forma de pago estandar a 30 dias",231000,1,1,"USD"]
["SAP ColombiaOnpremS4&Native HANASolutionsSAP-7018705b","SAP-7018705bOnpremS4&Native HANASolutions",null,"SAP Colombia","SAP-7018705b","OnpremS4&Native HANASolutions","SAP Colombia","USD","N/A","SAP S/4HANA for convergent invoicing, 11 to 30 units",50000000,"Und","Licencia","N/A","N/A","N/A","SAP-7018705b","Forma de pago estandar a 30 dias",181500,1,1,"USD"]
["SAP ColombiaOnpremS4&Native HANASolutionsSAP-7018705c","SAP-7018705cOnpremS4&Native HANASolutions",null,"SAP Colombia","SAP-7018705c","OnpremS4&Native HANASolutions","SAP Colombia","USD","N/A","SAP S/4HANA for convergent invoicing, above                  30 units",50000000,"Und","Licencia","N/A","N/A","N/A","SAP-7018705c","Forma de pago estandar a 30 dias",90750,1,1,"USD"]
["SAP ColombiaOnpremS4&Native HANASolutionsSAP-7019061","SAP-7019061OnpremS4&Native HANASolutions",null,"SAP Colombia","SAP-7019061","OnpremS4&Native HANASolutions","SAP Colombia","USD","N/A","SAP Business Integrity Screening for S/4HANA",500000000,"Und","Licencia","N/A","N/A","N/A","SAP-7019061","Forma de pago estandar a 30 dias",306000,1,1,"USD"]
["SAP ColombiaOnpremS4&Native HANASolutionsSAP-7019072","SAP-7019072OnpremS4&Native HANASolutions",null,"SAP Colombia","SAP-7019072","OnpremS4&Native HANASolutions","SAP Colombia","USD","N/A","SAP Tax Compliance for SAP S/4HANA",500000000,"Und","Licencia","N/A","N/A","N/A","SAP-7019072","Forma de pago estandar a 30 dias",322500,1,1,"USD"]
["SAP ColombiaOnpremS4&Native HANASolutionsSAP-7019092","SAP-7019092OnpremS4&Native HANASolutions",null,"SAP Colombia","SAP-7019092","OnpremS4&Native HANASolutions","SAP Colombia","USD","N/A","SAP Audit Management for SAP S/4HANA",1,"Und","Licencia","N/A","N/A","N/A","SAP-7019092","Forma de pago estandar a 30 dias",6300,1,1,"USD"]
["SAP ColombiaOnpremS4&Native HANASolutionsSAP-7019222","SAP-7019222OnpremS4&Native HANASolutions",null,"SAP Colombia","SAP-7019222","OnpremS4&Native HANASolutions","SAP Colombia","USD","N/A","SAP Electronic Invoicing f. Brazil (NFE - Inbound) for SAP S/4HANA",520000,"Und","Licencia","N/A","N/A","N/A","SAP-7019222","Forma de pago estandar a 30 dias",1236,1,1,"USD"]
["SAP ColombiaOnpremS4&Native HANASolutionsSAP-7019413","SAP-7019413OnpremS4&Native HANASolutions",null,"SAP Colombia","SAP-7019413","OnpremS4&Native HANASolutions","SAP Colombia","USD","N/A","SAP S/4HANA Financial Closing cockpit",500,"Und","Licencia","N/A","N/A","N/A","SAP-7019413","Forma de pago estandar a 30 dias",18750,1,1,"USD"]
["SAP ColombiaOnpremS4&Native HANASolutionsSAP-7019443a","SAP-7019443aOnpremS4&Native HANASolutions",null,"SAP Colombia","SAP-7019443a","OnpremS4&Native HANASolutions","SAP Colombia","USD","N/A","SAP S/4HANA for billing and revenue innovation management, up to 10 units",50000000,"Und","Licencia","N/A","N/A","N/A","SAP-7019443a","Forma de pago estandar a 30 dias",907500,1,1,"USD"]
["SAP ColombiaOnpremS4&Native HANASolutionsSAP-7019443b","SAP-7019443bOnpremS4&Native HANASolutions",null,"SAP Colombia","SAP-7019443b","OnpremS4&Native HANASolutions","SAP Colombia","USD","N/A","SAP S/4HANA for billing and revenue innovation management, 11 to 30 units",50000000,"Und","Licencia","N/A","N/A","N/A","SAP-7019443b","Forma de pago estandar a 30 dias",726000,1,1,"USD"]
["SAP ColombiaOnpremS4&Native HANASolutionsSAP-7019443c","SAP-7019443cOnpremS4&Native HANASolutions",null,"SAP Colombia","SAP-7019443c","OnpremS4&Native HANASolutions","SAP Colombia","USD","N/A","SAP S/4HANA for billing and revenue innovation management, above                  30 units",50000000,"Und","Licencia","N/A","N/A","N/A","SAP-7019443c","Forma de pago estandar a 30 dias",363000,1,1,"USD"]
["SAP ColombiaOnpremS4&Native HANASolutionsSAP-7019444a","SAP-7019444aOnpremS4&Native HANASolutions",null,"SAP Colombia","SAP-7019444a","OnpremS4&Native HANASolutions","SAP Colombia","USD","N/A","SAP S/4HANA for customer financial management, up to 10 units",50000000,"Und","Licencia","N/A","N/A","N/A","SAP-7019444a","Forma de pago estandar a 30 dias",437250,1,1,"USD"]
["SAP ColombiaOnpremS4&Native HANASolutionsSAP-7019444b","SAP-7019444bOnpremS4&Native HANASolutions",null,"SAP Colombia","SAP-7019444b","OnpremS4&Native HANASolutions","SAP Colombia","USD","N/A","SAP S/4HANA for customer financial management, 11 to 30 units",50000000,"Und","Licencia","N/A","N/A","N/A","SAP-7019444b","Forma de pago estandar a 30 dias",354750,1,1,"USD"]
["SAP ColombiaOnpremS4&Native HANASolutionsSAP-7019444c","SAP-7019444cOnpremS4&Native HANASolutions",null,"SAP Colombia","SAP-7019444c","OnpremS4&Native HANASolutions","SAP Colombia","USD","N/A","SAP S/4HANA for customer financial management, above                  30 units",50000000,"Und","Licencia","N/A","N/A","N/A","SAP-7019444c","Forma de pago estandar a 30 dias",173250,1,1,"USD"]
["SAP ColombiaOnpremS4&Native HANASolutionsSAP-7019474","SAP-7019474OnpremS4&Native HANASolutions",null,"SAP Colombia","SAP-7019474","OnpremS4&Native HANASolutions","SAP Colombia","USD","N/A","SAP S/4HANA Finance for central finance foundation",1000000000,"Und","Licencia","N/A","N/A","N/A","SAP-7019474","Forma de pago estandar a 30 dias",555000,1,1,"USD"]
["SAP ColombiaOnpremS4&Native HANASolutionsSAP-7019480","SAP-7019480OnpremS4&Native HANASolutions",null,"SAP Colombia","SAP-7019480","OnpremS4&Native HANASolutions","SAP Colombia","USD","N/A","SAP Commodity Risk Management for SAP S/4HANA",10000000,"Und","Licencia","N/A","N/A","N/A","SAP-7019480","Forma de pago estandar a 30 dias",5550,1,1,"USD"]
["SAP ColombiaOnpremS4&Native HANASolutionsSAP-7019741","SAP-7019741OnpremS4&Native HANASolutions",null,"SAP Colombia","SAP-7019741","OnpremS4&Native HANASolutions","SAP Colombia","USD","N/A","SAP Shared Service Framework for S/4HANA",10000,"Und","Licencia","N/A","N/A","N/A","SAP-7019741","Forma de pago estandar a 30 dias",30000,1,1,"USD"]
["SAP ColombiaOnpremS4&Native HANASolutionsSAP-7019958","SAP-7019958OnpremS4&Native HANASolutions",null,"SAP Colombia","SAP-7019958","OnpremS4&Native HANASolutions","SAP Colombia","USD","N/A","UI data protection masking for SAP S/4HANA",1000,"Und","Licencia","N/A","N/A","N/A","SAP-7019958","Forma de pago estandar a 30 dias",150000,1,1,"USD"]
["SAP ColombiaOnpremS4&Native HANASolutionsSAP-7019974","SAP-7019974OnpremS4&Native HANASolutions",null,"SAP Colombia","SAP-7019974","OnpremS4&Native HANASolutions","SAP Colombia","USD","N/A","UI data protection logging for SAP S/4HANA",1000,"Und","Licencia","N/A","N/A","N/A","SAP-7019974","Forma de pago estandar a 30 dias",225000,1,1,"USD"]
["SAP ColombiaOnpremS4&Native HANASolutionsSAP-7020151","SAP-7020151OnpremS4&Native HANASolutions",null,"SAP Colombia","SAP-7020151","OnpremS4&Native HANASolutions","SAP Colombia","USD","N/A","SAP S/4HANA for asset retirement obligation Management",100000000,"Und","Licencia","N/A","N/A","N/A","SAP-7020151","Forma de pago estandar a 30 dias",240000,1,1,"USD"]
["SAP ColombiaOnpremS4&Native HANASolutionsSAP-7020232","SAP-7020232OnpremS4&Native HANASolutions",null,"SAP Colombia","SAP-7020232","OnpremS4&Native HANASolutions","SAP Colombia","USD","N/A","SAP S/4HANA for Group Reporting",25,"Und","Licencia","N/A","N/A","N/A","SAP-7020232","Forma de pago estandar a 30 dias",300000,1,1,"USD"]
[{"$f":"D1761&F1761&E1761","v":"SAP ColombiaOnpremS4&Native HANASolutionsSAP-7020274"},{"$f":"E1761&F1761","v":"SAP-7020274OnpremS4&Native HANASolutions"},null,"SAP Colombia","SAP-7020274","OnpremS4&Native HANASolutions",{"$f":"D1761","v":"SAP Colombia"},"USD","N/A","SAP Electronic Invoicing f. Brazil (NFE - Outbound) for SAP S/4HANA",7800000,"Und","Licencia","N/A","N/A","N/A",{"$f":"+E1761","v":"SAP-7020274"},"Forma de pago estandar a 30 dias",2048,1,1,"USD"]
["SAP ColombiaOnpremS4&Native HANASolutionsSAP-7020302-1","SAP-7020302-1OnpremS4&Native HANASolutions",null,"SAP Colombia","SAP-7020302-1","OnpremS4&Native HANASolutions","SAP Colombia","USD","N/A","SAP S/4HANA Finance for cash management, up to 10 units",100000000,"Und","Licencia","N/A","N/A","N/A","SAP-7020302-1","Forma de pago estandar a 30 dias",22500,1,1,"USD"]
["SAP ColombiaOnpremS4&Native HANASolutionsSAP-7020302-2","SAP-7020302-2OnpremS4&Native HANASolutions",null,"SAP Colombia","SAP-7020302-2","OnpremS4&Native HANASolutions","SAP Colombia","USD","N/A","SAP S/4HANA Finance for cash management, 11 to 50 units",100000000,"Und","Licencia","N/A","N/A","N/A","SAP-7020302-2","Forma de pago estandar a 30 dias",18000,1,1,"USD"]
["SAP ColombiaOnpremS4&Native HANASolutionsSAP-7020302-3","SAP-7020302-3OnpremS4&Native HANASolutions",null,"SAP Colombia","SAP-7020302-3","OnpremS4&Native HANASolutions","SAP Colombia","USD","N/A","SAP S/4HANA Finance for cash management, 51 to 100 units",100000000,"Und","Licencia","N/A","N/A","N/A","SAP-7020302-3","Forma de pago estandar a 30 dias",15000,1,1,"USD"]
["SAP ColombiaOnpremS4&Native HANASolutionsSAP-7020302-4","SAP-7020302-4OnpremS4&Native HANASolutions",null,"SAP Colombia","SAP-7020302-4","OnpremS4&Native HANASolutions","SAP Colombia","USD","N/A","SAP S/4HANA Finance for cash management, 101 to 200 units",100000000,"Und","Licencia","N/A","N/A","N/A","SAP-7020302-4","Forma de pago estandar a 30 dias",12000,1,1,"USD"]
["SAP ColombiaOnpremS4&Native HANASolutionsSAP-7020302-5","SAP-7020302-5OnpremS4&Native HANASolutions",null,"SAP Colombia","SAP-7020302-5","OnpremS4&Native HANASolutions","SAP Colombia","USD","N/A","SAP S/4HANA Finance for cash management, 201 to 500 units",100000000,"Und","Licencia","N/A","N/A","N/A","SAP-7020302-5","Forma de pago estandar a 30 dias",9000,1,1,"USD"]
["SAP ColombiaOnpremS4&Native HANASolutionsSAP-7020302-6","SAP-7020302-6OnpremS4&Native HANASolutions",null,"SAP Colombia","SAP-7020302-6","OnpremS4&Native HANASolutions","SAP Colombia","USD","N/A","SAP S/4HANA Finance for cash management, 501 to 1000 units",100000000,"Und","Licencia","N/A","N/A","N/A","SAP-7020302-6","Forma de pago estandar a 30 dias",7500,1,1,"USD"]
["SAP ColombiaOnpremS4&Native HANASolutionsSAP-7020302-7","SAP-7020302-7OnpremS4&Native HANASolutions",null,"SAP Colombia","SAP-7020302-7","OnpremS4&Native HANASolutions","SAP Colombia","USD","N/A","SAP S/4HANA Finance for cash management, above                1000 units",100000000,"Und","Licencia","N/A","N/A","N/A","SAP-7020302-7","Forma de pago estandar a 30 dias",6000,1,1,"USD"]
["SAP ColombiaOnpremS4&Native HANASolutionsSAP-7020304-1","SAP-7020304-1OnpremS4&Native HANASolutions",null,"SAP Colombia","SAP-7020304-1","OnpremS4&Native HANASolutions","SAP Colombia","USD","N/A","SAP S/4HANA Finance for in-house cash, up to 50 units",100000000,"Und","Licencia","N/A","N/A","N/A","SAP-7020304-1","Forma de pago estandar a 30 dias",9000,1,1,"USD"]
["SAP ColombiaOnpremS4&Native HANASolutionsSAP-7020304-2","SAP-7020304-2OnpremS4&Native HANASolutions",null,"SAP Colombia","SAP-7020304-2","OnpremS4&Native HANASolutions","SAP Colombia","USD","N/A","SAP S/4HANA Finance for in-house cash, 51 to 200 units",100000000,"Und","Licencia","N/A","N/A","N/A","SAP-7020304-2","Forma de pago estandar a 30 dias",8250,1,1,"USD"]
["SAP ColombiaOnpremS4&Native HANASolutionsSAP-7020304-3","SAP-7020304-3OnpremS4&Native HANASolutions",null,"SAP Colombia","SAP-7020304-3","OnpremS4&Native HANASolutions","SAP Colombia","USD","N/A","SAP S/4HANA Finance for in-house cash, 201 to 500 units",100000000,"Und","Licencia","N/A","N/A","N/A","SAP-7020304-3","Forma de pago estandar a 30 dias",7500,1,1,"USD"]
["SAP ColombiaOnpremS4&Native HANASolutionsSAP-7020304-4","SAP-7020304-4OnpremS4&Native HANASolutions",null,"SAP Colombia","SAP-7020304-4","OnpremS4&Native HANASolutions","SAP Colombia","USD","N/A","SAP S/4HANA Finance for in-house cash, 501 to 1000 units",100000000,"Und","Licencia","N/A","N/A","N/A","SAP-7020304-4","Forma de pago estandar a 30 dias",6750,1,1,"USD"]
["SAP ColombiaOnpremS4&Native HANASolutionsSAP-7020304-5","SAP-7020304-5OnpremS4&Native HANASolutions",null,"SAP Colombia","SAP-7020304-5","OnpremS4&Native HANASolutions","SAP Colombia","USD","N/A","SAP S/4HANA Finance for in-house cash, above                1000 units",100000000,"Und","Licencia","N/A","N/A","N/A","SAP-7020304-5","Forma de pago estandar a 30 dias",6000,1,1,"USD"]
["SAP ColombiaOnpremS4&Native HANASolutionsSAP-7020306-1","SAP-7020306-1OnpremS4&Native HANASolutions",null,"SAP Colombia","SAP-7020306-1","OnpremS4&Native HANASolutions","SAP Colombia","USD","N/A","SAP S/4HANA Finance for treasury and risk management, up to 50 units",100000000,"Und","Licencia","N/A","N/A","N/A","SAP-7020306-1","Forma de pago estandar a 30 dias",18000,1,1,"USD"]
["SAP ColombiaOnpremS4&Native HANASolutionsSAP-7020306-2","SAP-7020306-2OnpremS4&Native HANASolutions",null,"SAP Colombia","SAP-7020306-2","OnpremS4&Native HANASolutions","SAP Colombia","USD","N/A","SAP S/4HANA Finance for treasury and risk management, 51 to 200 units",100000000,"Und","Licencia","N/A","N/A","N/A","SAP-7020306-2","Forma de pago estandar a 30 dias",17250,1,1,"USD"]
["SAP ColombiaOnpremS4&Native HANASolutionsSAP-7020306-3","SAP-7020306-3OnpremS4&Native HANASolutions",null,"SAP Colombia","SAP-7020306-3","OnpremS4&Native HANASolutions","SAP Colombia","USD","N/A","SAP S/4HANA Finance for treasury and risk management, 201 to 500 units",100000000,"Und","Licencia","N/A","N/A","N/A","SAP-7020306-3","Forma de pago estandar a 30 dias",16500,1,1,"USD"]
["SAP ColombiaOnpremS4&Native HANASolutionsSAP-7020306-4","SAP-7020306-4OnpremS4&Native HANASolutions",null,"SAP Colombia","SAP-7020306-4","OnpremS4&Native HANASolutions","SAP Colombia","USD","N/A","SAP S/4HANA Finance for treasury and risk management, 501 to 1000 units",100000000,"Und","Licencia","N/A","N/A","N/A","SAP-7020306-4","Forma de pago estandar a 30 dias",15750,1,1,"USD"]
["SAP ColombiaOnpremS4&Native HANASolutionsSAP-7020306-5","SAP-7020306-5OnpremS4&Native HANASolutions",null,"SAP Colombia","SAP-7020306-5","OnpremS4&Native HANASolutions","SAP Colombia","USD","N/A","SAP S/4HANA Finance for treasury and risk management, above                1000 units",100000000,"Und","Licencia","N/A","N/A","N/A","SAP-7020306-5","Forma de pago estandar a 30 dias",14250,1,1,"USD"]
["SAP ColombiaOnpremS4&Native HANASolutionsSAP-7020307-1","SAP-7020307-1OnpremS4&Native HANASolutions",null,"SAP Colombia","SAP-7020307-1","OnpremS4&Native HANASolutions","SAP Colombia","USD","N/A","SAP Real Estate Management for SAP S/4HANA, residential property management option, up to 50 units",1000,"Und","Licencia","N/A","N/A","N/A","SAP-7020307-1","Forma de pago estandar a 30 dias",22500,1,1,"USD"]
["SAP ColombiaOnpremS4&Native HANASolutionsSAP-7020307-2","SAP-7020307-2OnpremS4&Native HANASolutions",null,"SAP Colombia","SAP-7020307-2","OnpremS4&Native HANASolutions","SAP Colombia","USD","N/A","SAP Real Estate Management for SAP S/4HANA, residential property management option, 51 to 100 units",1000,"Und","Licencia","N/A","N/A","N/A","SAP-7020307-2","Forma de pago estandar a 30 dias",21000,1,1,"USD"]
["SAP ColombiaOnpremS4&Native HANASolutionsSAP-7020307-3","SAP-7020307-3OnpremS4&Native HANASolutions",null,"SAP Colombia","SAP-7020307-3","OnpremS4&Native HANASolutions","SAP Colombia","USD","N/A","SAP Real Estate Management for SAP S/4HANA, residential property management option, above                 100 units",1000,"Und","Licencia","N/A","N/A","N/A","SAP-7020307-3","Forma de pago estandar a 30 dias",19500,1,1,"USD"]
["SAP ColombiaOnpremS4&Native HANASolutionsSAP-7020309-1","SAP-7020309-1OnpremS4&Native HANASolutions",null,"SAP Colombia","SAP-7020309-1","OnpremS4&Native HANASolutions","SAP Colombia","USD","N/A","SAP S/4HANA Finance for receivables management, up to 10 units",100000000,"Und","Licencia","N/A","N/A","N/A","SAP-7020309-1","Forma de pago estandar a 30 dias",18000,1,1,"USD"]
["SAP ColombiaOnpremS4&Native HANASolutionsSAP-7020309-2","SAP-7020309-2OnpremS4&Native HANASolutions",null,"SAP Colombia","SAP-7020309-2","OnpremS4&Native HANASolutions","SAP Colombia","USD","N/A","SAP S/4HANA Finance for receivables management, 11 to 100 units",100000000,"Und","Licencia","N/A","N/A","N/A","SAP-7020309-2","Forma de pago estandar a 30 dias",16500,1,1,"USD"]
["SAP ColombiaOnpremS4&Native HANASolutionsSAP-7020309-3","SAP-7020309-3OnpremS4&Native HANASolutions",null,"SAP Colombia","SAP-7020309-3","OnpremS4&Native HANASolutions","SAP Colombia","USD","N/A","SAP S/4HANA Finance for receivables management, 101 to 500 units",100000000,"Und","Licencia","N/A","N/A","N/A","SAP-7020309-3","Forma de pago estandar a 30 dias",15000,1,1,"USD"]
["SAP ColombiaOnpremS4&Native HANASolutionsSAP-7020309-4","SAP-7020309-4OnpremS4&Native HANASolutions",null,"SAP Colombia","SAP-7020309-4","OnpremS4&Native HANASolutions","SAP Colombia","USD","N/A","SAP S/4HANA Finance for receivables management, above                 500 units",100000000,"Und","Licencia","N/A","N/A","N/A","SAP-7020309-4","Forma de pago estandar a 30 dias",13500,1,1,"USD"]
["SAP ColombiaOnpremS4&Native HANASolutionsSAP-7020312-1","SAP-7020312-1OnpremS4&Native HANASolutions",null,"SAP Colombia","SAP-7020312-1","OnpremS4&Native HANASolutions","SAP Colombia","USD","N/A","SAP S/4HANA Finance for cash management, version for China, up to 10 units",100000000,"Und","Licencia","N/A","N/A","N/A","SAP-7020312-1","Forma de pago estandar a 30 dias",28125,1,1,"USD"]
["SAP ColombiaOnpremS4&Native HANASolutionsSAP-7020312-2","SAP-7020312-2OnpremS4&Native HANASolutions",null,"SAP Colombia","SAP-7020312-2","OnpremS4&Native HANASolutions","SAP Colombia","USD","N/A","SAP S/4HANA Finance for cash management, version for China, 11 to 50 units",100000000,"Und","Licencia","N/A","N/A","N/A","SAP-7020312-2","Forma de pago estandar a 30 dias",22500,1,1,"USD"]
["SAP ColombiaOnpremS4&Native HANASolutionsSAP-7020312-3","SAP-7020312-3OnpremS4&Native HANASolutions",null,"SAP Colombia","SAP-7020312-3","OnpremS4&Native HANASolutions","SAP Colombia","USD","N/A","SAP S/4HANA Finance for cash management, version for China, 51 to 100 units",100000000,"Und","Licencia","N/A","N/A","N/A","SAP-7020312-3","Forma de pago estandar a 30 dias",18750,1,1,"USD"]
["SAP ColombiaOnpremS4&Native HANASolutionsSAP-7020312-4","SAP-7020312-4OnpremS4&Native HANASolutions",null,"SAP Colombia","SAP-7020312-4","OnpremS4&Native HANASolutions","SAP Colombia","USD","N/A","SAP S/4HANA Finance for cash management, version for China, 101 to 200 units",100000000,"Und","Licencia","N/A","N/A","N/A","SAP-7020312-4","Forma de pago estandar a 30 dias",15000,1,1,"USD"]
["SAP ColombiaOnpremS4&Native HANASolutionsSAP-7020312-5","SAP-7020312-5OnpremS4&Native HANASolutions",null,"SAP Colombia","SAP-7020312-5","OnpremS4&Native HANASolutions","SAP Colombia","USD","N/A","SAP S/4HANA Finance for cash management, version for China, 201 to 500 units",100000000,"Und","Licencia","N/A","N/A","N/A","SAP-7020312-5","Forma de pago estandar a 30 dias",11250,1,1,"USD"]
["SAP ColombiaOnpremS4&Native HANASolutionsSAP-7020312-6","SAP-7020312-6OnpremS4&Native HANASolutions",null,"SAP Colombia","SAP-7020312-6","OnpremS4&Native HANASolutions","SAP Colombia","USD","N/A","SAP S/4HANA Finance for cash management, version for China, 501 to 1000 units",100000000,"Und","Licencia","N/A","N/A","N/A","SAP-7020312-6","Forma de pago estandar a 30 dias",9375,1,1,"USD"]
["SAP ColombiaOnpremS4&Native HANASolutionsSAP-7020312-7","SAP-7020312-7OnpremS4&Native HANASolutions",null,"SAP Colombia","SAP-7020312-7","OnpremS4&Native HANASolutions","SAP Colombia","USD","N/A","SAP S/4HANA Finance for cash management, version for China, above                1000 units",100000000,"Und","Licencia","N/A","N/A","N/A","SAP-7020312-7","Forma de pago estandar a 30 dias",7500,1,1,"USD"]
["SAP ColombiaOnpremS4&Native HANASolutionsSAP-7020314-1","SAP-7020314-1OnpremS4&Native HANASolutions",null,"SAP Colombia","SAP-7020314-1","OnpremS4&Native HANASolutions","SAP Colombia","USD","N/A","SAP S/4HANA for accounting integration, up to 10 units",10000,"Und","Licencia","N/A","N/A","N/A","SAP-7020314-1","Forma de pago estandar a 30 dias",150000,1,1,"USD"]
["SAP ColombiaOnpremS4&Native HANASolutionsSAP-7020314-2","SAP-7020314-2OnpremS4&Native HANASolutions",null,"SAP Colombia","SAP-7020314-2","OnpremS4&Native HANASolutions","SAP Colombia","USD","N/A","SAP S/4HANA for accounting integration, 11 to 30 units",10000,"Und","Licencia","N/A","N/A","N/A","SAP-7020314-2","Forma de pago estandar a 30 dias",112500,1,1,"USD"]
["SAP ColombiaOnpremS4&Native HANASolutionsSAP-7020314-3","SAP-7020314-3OnpremS4&Native HANASolutions",null,"SAP Colombia","SAP-7020314-3","OnpremS4&Native HANASolutions","SAP Colombia","USD","N/A","SAP S/4HANA for accounting integration, above                  30 units",10000,"Und","Licencia","N/A","N/A","N/A","SAP-7020314-3","Forma de pago estandar a 30 dias",97500,1,1,"USD"]
["SAP ColombiaOnpremS4&Native HANASolutionsSAP-7020315-1","SAP-7020315-1OnpremS4&Native HANASolutions",null,"SAP Colombia","SAP-7020315-1","OnpremS4&Native HANASolutions","SAP Colombia","USD","N/A","SAP S/4HANA Finance for advanced payment management​, up to 10 units",100000000,"Und","Licencia","N/A","N/A","N/A","SAP-7020315-1","Forma de pago estandar a 30 dias",22500,1,1,"USD"]
["SAP ColombiaOnpremS4&Native HANASolutionsSAP-7020315-2","SAP-7020315-2OnpremS4&Native HANASolutions",null,"SAP Colombia","SAP-7020315-2","OnpremS4&Native HANASolutions","SAP Colombia","USD","N/A","SAP S/4HANA Finance for advanced payment management​, 11 to 50 units",100000000,"Und","Licencia","N/A","N/A","N/A","SAP-7020315-2","Forma de pago estandar a 30 dias",18000,1,1,"USD"]
["SAP ColombiaOnpremS4&Native HANASolutionsSAP-7020315-3","SAP-7020315-3OnpremS4&Native HANASolutions",null,"SAP Colombia","SAP-7020315-3","OnpremS4&Native HANASolutions","SAP Colombia","USD","N/A","SAP S/4HANA Finance for advanced payment management​, 51 to 100 units",100000000,"Und","Licencia","N/A","N/A","N/A","SAP-7020315-3","Forma de pago estandar a 30 dias",15000,1,1,"USD"]
["SAP ColombiaOnpremS4&Native HANASolutionsSAP-7020315-4","SAP-7020315-4OnpremS4&Native HANASolutions",null,"SAP Colombia","SAP-7020315-4","OnpremS4&Native HANASolutions","SAP Colombia","USD","N/A","SAP S/4HANA Finance for advanced payment management​, 101 to 200 units",100000000,"Und","Licencia","N/A","N/A","N/A","SAP-7020315-4","Forma de pago estandar a 30 dias",12000,1,1,"USD"]
["SAP ColombiaOnpremS4&Native HANASolutionsSAP-7020315-5","SAP-7020315-5OnpremS4&Native HANASolutions",null,"SAP Colombia","SAP-7020315-5","OnpremS4&Native HANASolutions","SAP Colombia","USD","N/A","SAP S/4HANA Finance for advanced payment management​, 201 to 500 units",100000000,"Und","Licencia","N/A","N/A","N/A","SAP-7020315-5","Forma de pago estandar a 30 dias",9000,1,1,"USD"]
["SAP ColombiaOnpremS4&Native HANASolutionsSAP-7020315-6","SAP-7020315-6OnpremS4&Native HANASolutions",null,"SAP Colombia","SAP-7020315-6","OnpremS4&Native HANASolutions","SAP Colombia","USD","N/A","SAP S/4HANA Finance for advanced payment management​, 501 to 1000 units",100000000,"Und","Licencia","N/A","N/A","N/A","SAP-7020315-6","Forma de pago estandar a 30 dias",7500,1,1,"USD"]
["SAP ColombiaOnpremS4&Native HANASolutionsSAP-7020315-7","SAP-7020315-7OnpremS4&Native HANASolutions",null,"SAP Colombia","SAP-7020315-7","OnpremS4&Native HANASolutions","SAP Colombia","USD","N/A","SAP S/4HANA Finance for advanced payment management​, above                1000 units",100000000,"Und","Licencia","N/A","N/A","N/A","SAP-7020315-7","Forma de pago estandar a 30 dias",6000,1,1,"USD"]
["SAP ColombiaOnpremS4&Native HANASolutionsSAP-7020317-1","SAP-7020317-1OnpremS4&Native HANASolutions",null,"SAP Colombia","SAP-7020317-1","OnpremS4&Native HANASolutions","SAP Colombia","USD","N/A","SAP S/4HANA Finance for invoice and reporting compliance for Angola, up to 25 units",10000000,"Und","Licencia","N/A","N/A","N/A","SAP-7020317-1","Forma de pago estandar a 30 dias",6750,1,1,"USD"]
["SAP ColombiaOnpremS4&Native HANASolutionsSAP-7020317-2","SAP-7020317-2OnpremS4&Native HANASolutions",null,"SAP Colombia","SAP-7020317-2","OnpremS4&Native HANASolutions","SAP Colombia","USD","N/A","SAP S/4HANA Finance for invoice and reporting compliance for Angola, 26 to 100 units",10000000,"Und","Licencia","N/A","N/A","N/A","SAP-7020317-2","Forma de pago estandar a 30 dias",5625,1,1,"USD"]
["SAP ColombiaOnpremS4&Native HANASolutionsSAP-7020317-3","SAP-7020317-3OnpremS4&Native HANASolutions",null,"SAP Colombia","SAP-7020317-3","OnpremS4&Native HANASolutions","SAP Colombia","USD","N/A","SAP S/4HANA Finance for invoice and reporting compliance for Angola, above                 100 units",10000000,"Und","Licencia","N/A","N/A","N/A","SAP-7020317-3","Forma de pago estandar a 30 dias",4500,1,1,"USD"]
["SAP ColombiaOnpremS4&Native HANASolutionsSAP-7020488-1","SAP-7020488-1OnpremS4&Native HANASolutions",null,"SAP Colombia","SAP-7020488-1","OnpremS4&Native HANASolutions","SAP Colombia","USD","N/A","SAP S/4HANA, financial posting gateway, 8 to 10 units",100000000,"Und","Licencia","N/A","N/A","N/A","SAP-7020488-1","Forma de pago estandar a 30 dias",37500,1,1,"USD"]
["SAP ColombiaOnpremS4&Native HANASolutionsSAP-7020488-2","SAP-7020488-2OnpremS4&Native HANASolutions",null,"SAP Colombia","SAP-7020488-2","OnpremS4&Native HANASolutions","SAP Colombia","USD","N/A","SAP S/4HANA, financial posting gateway, 11 to 50 units",100000000,"Und","Licencia","N/A","N/A","N/A","SAP-7020488-2","Forma de pago estandar a 30 dias",30000,1,1,"USD"]
["SAP ColombiaOnpremS4&Native HANASolutionsSAP-7020488-3","SAP-7020488-3OnpremS4&Native HANASolutions",null,"SAP Colombia","SAP-7020488-3","OnpremS4&Native HANASolutions","SAP Colombia","USD","N/A","SAP S/4HANA, financial posting gateway, 51 to 100 units",100000000,"Und","Licencia","N/A","N/A","N/A","SAP-7020488-3","Forma de pago estandar a 30 dias",26250,1,1,"USD"]
["SAP ColombiaOnpremS4&Native HANASolutionsSAP-7020488-4","SAP-7020488-4OnpremS4&Native HANASolutions",null,"SAP Colombia","SAP-7020488-4","OnpremS4&Native HANASolutions","SAP Colombia","USD","N/A","SAP S/4HANA, financial posting gateway, 101 to 250 units",100000000,"Und","Licencia","N/A","N/A","N/A","SAP-7020488-4","Forma de pago estandar a 30 dias",18750,1,1,"USD"]
["SAP ColombiaOnpremS4&Native HANASolutionsSAP-7020488-5","SAP-7020488-5OnpremS4&Native HANASolutions",null,"SAP Colombia","SAP-7020488-5","OnpremS4&Native HANASolutions","SAP Colombia","USD","N/A","SAP S/4HANA, financial posting gateway, above                 250 units",100000000,"Und","Licencia","N/A","N/A","N/A","SAP-7020488-5","Forma de pago estandar a 30 dias",12000,1,1,"USD"]
["SAP ColombiaOnpremS4&Native HANASolutionsSAP-7020500-1","SAP-7020500-1OnpremS4&Native HANASolutions",null,"SAP Colombia","SAP-7020500-1","OnpremS4&Native HANASolutions","SAP Colombia","USD","N/A","SAP S/4HANA contract, lease and real estate management, up to 50 units",100,"Und","Licencia","N/A","N/A","N/A","SAP-7020500-1","Forma de pago estandar a 30 dias",12000,1,1,"USD"]
["SAP ColombiaOnpremS4&Native HANASolutionsSAP-7020500-2","SAP-7020500-2OnpremS4&Native HANASolutions",null,"SAP Colombia","SAP-7020500-2","OnpremS4&Native HANASolutions","SAP Colombia","USD","N/A","SAP S/4HANA contract, lease and real estate management, 51 to 150 units",100,"Und","Licencia","N/A","N/A","N/A","SAP-7020500-2","Forma de pago estandar a 30 dias",10500,1,1,"USD"]
["SAP ColombiaOnpremS4&Native HANASolutionsSAP-7020500-3","SAP-7020500-3OnpremS4&Native HANASolutions",null,"SAP Colombia","SAP-7020500-3","OnpremS4&Native HANASolutions","SAP Colombia","USD","N/A","SAP S/4HANA contract, lease and real estate management, 151 to 1500 units",100,"Und","Licencia","N/A","N/A","N/A","SAP-7020500-3","Forma de pago estandar a 30 dias",6000,1,1,"USD"]
["SAP ColombiaOnpremS4&Native HANASolutionsSAP-7020500-4","SAP-7020500-4OnpremS4&Native HANASolutions",null,"SAP Colombia","SAP-7020500-4","OnpremS4&Native HANASolutions","SAP Colombia","USD","N/A","SAP S/4HANA contract, lease and real estate management, 1501 to 5000 units",100,"Und","Licencia","N/A","N/A","N/A","SAP-7020500-4","Forma de pago estandar a 30 dias",3000,1,1,"USD"]
["SAP ColombiaOnpremS4&Native HANASolutionsSAP-7020500-5","SAP-7020500-5OnpremS4&Native HANASolutions",null,"SAP Colombia","SAP-7020500-5","OnpremS4&Native HANASolutions","SAP Colombia","USD","N/A","SAP S/4HANA contract, lease and real estate management, above                5000 units",100,"Und","Licencia","N/A","N/A","N/A","SAP-7020500-5","Forma de pago estandar a 30 dias",1200,1,1,"USD"]
["SAP ColombiaOnpremS4&Native HANASolutionsSAP-7020617-1","SAP-7020617-1OnpremS4&Native HANASolutions",null,"SAP Colombia","SAP-7020617-1","OnpremS4&Native HANASolutions","SAP Colombia","USD","N/A","SAP Document and Reporting Compliance for S/4HANA, up to 2 units",1,"Und","Licencia","N/A","N/A","N/A","SAP-7020617-1","Forma de pago estandar a 30 dias",27000,1,1,"USD"]
["SAP ColombiaOnpremS4&Native HANASolutionsSAP-7020617-2","SAP-7020617-2OnpremS4&Native HANASolutions",null,"SAP Colombia","SAP-7020617-2","OnpremS4&Native HANASolutions","SAP Colombia","USD","N/A","SAP Document and Reporting Compliance for S/4HANA, 3 to 10 units",1,"Und","Licencia","N/A","N/A","N/A","SAP-7020617-2","Forma de pago estandar a 30 dias",24750,1,1,"USD"]
["SAP ColombiaOnpremS4&Native HANASolutionsSAP-7020617-3","SAP-7020617-3OnpremS4&Native HANASolutions",null,"SAP Colombia","SAP-7020617-3","OnpremS4&Native HANASolutions","SAP Colombia","USD","N/A","SAP Document and Reporting Compliance for S/4HANA, 11 to 100 units",1,"Und","Licencia","N/A","N/A","N/A","SAP-7020617-3","Forma de pago estandar a 30 dias",22500,1,1,"USD"]
["SAP ColombiaOnpremS4&Native HANASolutionsSAP-7020617-4","SAP-7020617-4OnpremS4&Native HANASolutions",null,"SAP Colombia","SAP-7020617-4","OnpremS4&Native HANASolutions","SAP Colombia","USD","N/A","SAP Document and Reporting Compliance for S/4HANA, 101 to 500 units",1,"Und","Licencia","N/A","N/A","N/A","SAP-7020617-4","Forma de pago estandar a 30 dias",21750,1,1,"USD"]
["SAP ColombiaOnpremS4&Native HANASolutionsSAP-7020617-5","SAP-7020617-5OnpremS4&Native HANASolutions",null,"SAP Colombia","SAP-7020617-5","OnpremS4&Native HANASolutions","SAP Colombia","USD","N/A","SAP Document and Reporting Compliance for S/4HANA, above                 500 units",1,"Und","Licencia","N/A","N/A","N/A","SAP-7020617-5","Forma de pago estandar a 30 dias",18000,1,1,"USD"]
["SAP ColombiaOnpremS4&Native HANASolutionsSAP-7020281-1","SAP-7020281-1OnpremS4&Native HANASolutions",null,"SAP Colombia","SAP-7020281-1","OnpremS4&Native HANASolutions","SAP Colombia","USD","N/A","SAP S/4HANA for central procurement, up to 500 units",10000000,"Und","Licencia","N/A","N/A","N/A","SAP-7020281-1","Forma de pago estandar a 30 dias",19500,1,1,"USD"]
["SAP ColombiaOnpremS4&Native HANASolutionsSAP-7020281-2","SAP-7020281-2OnpremS4&Native HANASolutions",null,"SAP Colombia","SAP-7020281-2","OnpremS4&Native HANASolutions","SAP Colombia","USD","N/A","SAP S/4HANA for central procurement, 501 to 1000 units",10000000,"Und","Licencia","N/A","N/A","N/A","SAP-7020281-2","Forma de pago estandar a 30 dias",18000,1,1,"USD"]
["SAP ColombiaOnpremS4&Native HANASolutionsSAP-7020281-3","SAP-7020281-3OnpremS4&Native HANASolutions",null,"SAP Colombia","SAP-7020281-3","OnpremS4&Native HANASolutions","SAP Colombia","USD","N/A","SAP S/4HANA for central procurement, 1001 to 2000 units",10000000,"Und","Licencia","N/A","N/A","N/A","SAP-7020281-3","Forma de pago estandar a 30 dias",16500,1,1,"USD"]
["SAP ColombiaOnpremS4&Native HANASolutionsSAP-7020281-4","SAP-7020281-4OnpremS4&Native HANASolutions",null,"SAP Colombia","SAP-7020281-4","OnpremS4&Native HANASolutions","SAP Colombia","USD","N/A","SAP S/4HANA for central procurement, above                2000 units",10000000,"Und","Licencia","N/A","N/A","N/A","SAP-7020281-4","Forma de pago estandar a 30 dias",15000,1,1,"USD"]
[{"$f":"D1825&F1825&E1825","v":"SAP ColombiaOnpremS4&Native HANASolutionsSAP-7020318-1"},{"$f":"E1825&F1825","v":"SAP-7020318-1OnpremS4&Native HANASolutions"},null,"SAP Colombia","SAP-7020318-1","OnpremS4&Native HANASolutions",{"$f":"D1825","v":"SAP Colombia"},"USD","N/A","SAP S/4HANA for Enterprise Contract Management, up to 5000 units",1,"Und","Licencia","N/A","N/A","N/A",{"$f":"+E1825","v":"SAP-7020318-1"},"Forma de pago estandar a 30 dias",18,1,1,"USD"]
["SAP ColombiaOnpremS4&Native HANASolutionsSAP-7020318-2","SAP-7020318-2OnpremS4&Native HANASolutions",null,"SAP Colombia","SAP-7020318-2","OnpremS4&Native HANASolutions","SAP Colombia","USD","N/A","SAP S/4HANA for Enterprise Contract Management, 5001 to 20000 units",1,"Und","Licencia","N/A","N/A","N/A","SAP-7020318-2","Forma de pago estandar a 30 dias",15,1,1,"USD"]
["SAP ColombiaOnpremS4&Native HANASolutionsSAP-7020318-3","SAP-7020318-3OnpremS4&Native HANASolutions",null,"SAP Colombia","SAP-7020318-3","OnpremS4&Native HANASolutions","SAP Colombia","USD","N/A","SAP S/4HANA for Enterprise Contract Management, 20001 to 50000 units",1,"Und","Licencia","N/A","N/A","N/A","SAP-7020318-3","Forma de pago estandar a 30 dias",12,1,1,"USD"]
["SAP ColombiaOnpremS4&Native HANASolutionsSAP-7020318-4","SAP-7020318-4OnpremS4&Native HANASolutions",null,"SAP Colombia","SAP-7020318-4","OnpremS4&Native HANASolutions","SAP Colombia","USD","N/A","SAP S/4HANA for Enterprise Contract Management, 50001 to 100000 units",1,"Und","Licencia","N/A","N/A","N/A","SAP-7020318-4","Forma de pago estandar a 30 dias",9,1,1,"USD"]
["SAP ColombiaOnpremS4&Native HANASolutionsSAP-7020318-5","SAP-7020318-5OnpremS4&Native HANASolutions",null,"SAP Colombia","SAP-7020318-5","OnpremS4&Native HANASolutions","SAP Colombia","USD","N/A","SAP S/4HANA for Enterprise Contract Management, above              100000 units",1,"Und","Licencia","N/A","N/A","N/A","SAP-7020318-5","Forma de pago estandar a 30 dias",6.75,1,1,"USD"]
["SAP ColombiaOnpremS4&Native HANASolutionsSAP-7020618-6","SAP-7020618-6OnpremS4&Native HANASolutions",null,"SAP Colombia","SAP-7020618-6","OnpremS4&Native HANASolutions","SAP Colombia","USD","N/A","SAP S/4HANA for product sourcing, 10 to 25 units",1,"Und","Licencia","N/A","N/A","N/A","SAP-7020618-6","Forma de pago estandar a 30 dias",20625,1,1,"USD"]
["SAP ColombiaOnpremS4&Native HANASolutionsSAP-7020618-7","SAP-7020618-7OnpremS4&Native HANASolutions",null,"SAP Colombia","SAP-7020618-7","OnpremS4&Native HANASolutions","SAP Colombia","USD","N/A","SAP S/4HANA for product sourcing, 26 to 55 units",1,"Und","Licencia","N/A","N/A","N/A","SAP-7020618-7","Forma de pago estandar a 30 dias",15000,1,1,"USD"]
["SAP ColombiaOnpremS4&Native HANASolutionsSAP-7020618-8","SAP-7020618-8OnpremS4&Native HANASolutions",null,"SAP Colombia","SAP-7020618-8","OnpremS4&Native HANASolutions","SAP Colombia","USD","N/A","SAP S/4HANA for product sourcing, 56 to 150 units",1,"Und","Licencia","N/A","N/A","N/A","SAP-7020618-8","Forma de pago estandar a 30 dias",12750,1,1,"USD"]
["SAP ColombiaOnpremS4&Native HANASolutionsSAP-7020618-9","SAP-7020618-9OnpremS4&Native HANASolutions",null,"SAP Colombia","SAP-7020618-9","OnpremS4&Native HANASolutions","SAP Colombia","USD","N/A","SAP S/4HANA for product sourcing, 151 to 275 units",1,"Und","Licencia","N/A","N/A","N/A","SAP-7020618-9","Forma de pago estandar a 30 dias",8625,1,1,"USD"]
["SAP ColombiaOnpremS4&Native HANASolutionsSAP-7020618-10","SAP-7020618-10OnpremS4&Native HANASolutions",null,"SAP Colombia","SAP-7020618-10","OnpremS4&Native HANASolutions","SAP Colombia","USD","N/A","SAP S/4HANA for product sourcing, 276 to 500 units",1,"Und","Licencia","N/A","N/A","N/A","SAP-7020618-10","Forma de pago estandar a 30 dias",6188,1,1,"USD"]
["SAP ColombiaOnpremS4&Native HANASolutionsSAP-7020618-11","SAP-7020618-11OnpremS4&Native HANASolutions",null,"SAP Colombia","SAP-7020618-11","OnpremS4&Native HANASolutions","SAP Colombia","USD","N/A","SAP S/4HANA for product sourcing, 501 to 1000 units",1,"Und","Licencia","N/A","N/A","N/A","SAP-7020618-11","Forma de pago estandar a 30 dias",4125,1,1,"USD"]
["SAP ColombiaOnpremS4&Native HANASolutionsSAP-7020618-12","SAP-7020618-12OnpremS4&Native HANASolutions",null,"SAP Colombia","SAP-7020618-12","OnpremS4&Native HANASolutions","SAP Colombia","USD","N/A","SAP S/4HANA for product sourcing, 1001 to 1500 units",1,"Und","Licencia","N/A","N/A","N/A","SAP-7020618-12","Forma de pago estandar a 30 dias",2513,1,1,"USD"]
["SAP ColombiaOnpremS4&Native HANASolutionsSAP-7020618-13","SAP-7020618-13OnpremS4&Native HANASolutions",null,"SAP Colombia","SAP-7020618-13","OnpremS4&Native HANASolutions","SAP Colombia","USD","N/A","SAP S/4HANA for product sourcing, above                1500 units",1,"Und","Licencia","N/A","N/A","N/A","SAP-7020618-13","Forma de pago estandar a 30 dias",1950,1,1,"USD"]
["SAP ColombiaOnpremS4&Native HANASolutionsSAP-7018809","SAP-7018809OnpremS4&Native HANASolutions",null,"SAP Colombia","SAP-7018809","OnpremS4&Native HANASolutions","SAP Colombia","USD","N/A","SAP S/4HANA Automotive for vehicle sales management",10000,"Und","Licencia","N/A","N/A","N/A","SAP-7018809","Forma de pago estandar a 30 dias",33000,1,1,"USD"]
["SAP ColombiaOnpremS4&Native HANASolutionsSAP-7020332-1","SAP-7020332-1OnpremS4&Native HANASolutions",null,"SAP Colombia","SAP-7020332-1","OnpremS4&Native HANASolutions","SAP Colombia","USD","N/A","SAP Reserve for Bad Debts for SAP S/4HANA, up to 10 units",10000,"Und","Licencia","N/A","N/A","N/A","SAP-7020332-1","Forma de pago estandar a 30 dias",90000,1,1,"USD"]
["SAP ColombiaOnpremS4&Native HANASolutionsSAP-7020332-2","SAP-7020332-2OnpremS4&Native HANASolutions",null,"SAP Colombia","SAP-7020332-2","OnpremS4&Native HANASolutions","SAP Colombia","USD","N/A","SAP Reserve for Bad Debts for SAP S/4HANA, 11 to 50 units",10000,"Und","Licencia","N/A","N/A","N/A","SAP-7020332-2","Forma de pago estandar a 30 dias",67500,1,1,"USD"]
["SAP ColombiaOnpremS4&Native HANASolutionsSAP-7020332-3","SAP-7020332-3OnpremS4&Native HANASolutions",null,"SAP Colombia","SAP-7020332-3","OnpremS4&Native HANASolutions","SAP Colombia","USD","N/A","SAP Reserve for Bad Debts for SAP S/4HANA, 51 to 200 units",10000,"Und","Licencia","N/A","N/A","N/A","SAP-7020332-3","Forma de pago estandar a 30 dias",45000,1,1,"USD"]
["SAP ColombiaOnpremS4&Native HANASolutionsSAP-7020332-4","SAP-7020332-4OnpremS4&Native HANASolutions",null,"SAP Colombia","SAP-7020332-4","OnpremS4&Native HANASolutions","SAP Colombia","USD","N/A","SAP Reserve for Bad Debts for SAP S/4HANA, above                 200 units",10000,"Und","Licencia","N/A","N/A","N/A","SAP-7020332-4","Forma de pago estandar a 30 dias",22500,1,1,"USD"]
["SAP ColombiaOnpremS4&Native HANASolutionsSAP-7019957","SAP-7019957OnpremS4&Native HANASolutions",null,"SAP Colombia","SAP-7019957","OnpremS4&Native HANASolutions","SAP Colombia","USD","N/A","SAP S/4HANA for extended warehouse management, explosives management edition",5000,"Und","Licencia","N/A","N/A","N/A","SAP-7019957","Forma de pago estandar a 30 dias",300000,1,1,"USD"]
["SAP ColombiaOnpremS4&Native HANASolutionsSAP-7020193","SAP-7020193OnpremS4&Native HANASolutions",null,"SAP Colombia","SAP-7020193","OnpremS4&Native HANASolutions","SAP Colombia","USD","N/A","SAP S/4HANA Defense & Security",1,"Und","Licencia","N/A","N/A","N/A","SAP-7020193","Forma de pago estandar a 30 dias",1200,1,1,"USD"]
["SAP ColombiaOnpremS4&Native HANASolutionsSAP-7020084","SAP-7020084OnpremS4&Native HANASolutions",null,"SAP Colombia","SAP-7020084","OnpremS4&Native HANASolutions","SAP Colombia","USD","N/A","SAP Student Lifecycle Management for SAP S/4HANA",1,"Und","Licencia","N/A","N/A","N/A","SAP-7020084","Forma de pago estandar a 30 dias",32,1,1,"USD"]
["SAP ColombiaOnpremS4&Native HANASolutionsSAP-7020344-1","SAP-7020344-1OnpremS4&Native HANASolutions",null,"SAP Colombia","SAP-7020344-1","OnpremS4&Native HANASolutions","SAP Colombia","USD","N/A","SAP S/4HANA Insurance for reinsurance management, assumed risks, up to 1500 units",1000000,"Und","Licencia","N/A","N/A","N/A","SAP-7020344-1","Forma de pago estandar a 30 dias",8700,1,1,"USD"]
["SAP ColombiaOnpremS4&Native HANASolutionsSAP-7020344-2","SAP-7020344-2OnpremS4&Native HANASolutions",null,"SAP Colombia","SAP-7020344-2","OnpremS4&Native HANASolutions","SAP Colombia","USD","N/A","SAP S/4HANA Insurance for reinsurance management, assumed risks, 1501 to 2000 units",1000000,"Und","Licencia","N/A","N/A","N/A","SAP-7020344-2","Forma de pago estandar a 30 dias",8250,1,1,"USD"]
["SAP ColombiaOnpremS4&Native HANASolutionsSAP-7020344-3","SAP-7020344-3OnpremS4&Native HANASolutions",null,"SAP Colombia","SAP-7020344-3","OnpremS4&Native HANASolutions","SAP Colombia","USD","N/A","SAP S/4HANA Insurance for reinsurance management, assumed risks, 2001 to 3000 units",1000000,"Und","Licencia","N/A","N/A","N/A","SAP-7020344-3","Forma de pago estandar a 30 dias",7500,1,1,"USD"]
["SAP ColombiaOnpremS4&Native HANASolutionsSAP-7020344-4","SAP-7020344-4OnpremS4&Native HANASolutions",null,"SAP Colombia","SAP-7020344-4","OnpremS4&Native HANASolutions","SAP Colombia","USD","N/A","SAP S/4HANA Insurance for reinsurance management, assumed risks, 3001 to 4000 units",1000000,"Und","Licencia","N/A","N/A","N/A","SAP-7020344-4","Forma de pago estandar a 30 dias",6750,1,1,"USD"]
["SAP ColombiaOnpremS4&Native HANASolutionsSAP-7020344-5","SAP-7020344-5OnpremS4&Native HANASolutions",null,"SAP Colombia","SAP-7020344-5","OnpremS4&Native HANASolutions","SAP Colombia","USD","N/A","SAP S/4HANA Insurance for reinsurance management, assumed risks, 4001 to 6000 units",1000000,"Und","Licencia","N/A","N/A","N/A","SAP-7020344-5","Forma de pago estandar a 30 dias",6000,1,1,"USD"]
["SAP ColombiaOnpremS4&Native HANASolutionsSAP-7020344-6","SAP-7020344-6OnpremS4&Native HANASolutions",null,"SAP Colombia","SAP-7020344-6","OnpremS4&Native HANASolutions","SAP Colombia","USD","N/A","SAP S/4HANA Insurance for reinsurance management, assumed risks, above                6000 units",1000000,"Und","Licencia","N/A","N/A","N/A","SAP-7020344-6","Forma de pago estandar a 30 dias",5250,1,1,"USD"]
["SAP ColombiaOnpremS4&Native HANASolutionsSAP-7020345-1","SAP-7020345-1OnpremS4&Native HANASolutions",null,"SAP Colombia","SAP-7020345-1","OnpremS4&Native HANASolutions","SAP Colombia","USD","N/A","SAP S/4HANA Insurance for reinsurance management, ceded risks, up to 1500 units",1000000,"Und","Licencia","N/A","N/A","N/A","SAP-7020345-1","Forma de pago estandar a 30 dias",7125,1,1,"USD"]
["SAP ColombiaOnpremS4&Native HANASolutionsSAP-7020345-2","SAP-7020345-2OnpremS4&Native HANASolutions",null,"SAP Colombia","SAP-7020345-2","OnpremS4&Native HANASolutions","SAP Colombia","USD","N/A","SAP S/4HANA Insurance for reinsurance management, ceded risks, 1501 to 2000 units",1000000,"Und","Licencia","N/A","N/A","N/A","SAP-7020345-2","Forma de pago estandar a 30 dias",6750,1,1,"USD"]
["SAP ColombiaOnpremS4&Native HANASolutionsSAP-7020345-3","SAP-7020345-3OnpremS4&Native HANASolutions",null,"SAP Colombia","SAP-7020345-3","OnpremS4&Native HANASolutions","SAP Colombia","USD","N/A","SAP S/4HANA Insurance for reinsurance management, ceded risks, 2001 to 3000 units",1000000,"Und","Licencia","N/A","N/A","N/A","SAP-7020345-3","Forma de pago estandar a 30 dias",6000,1,1,"USD"]
["SAP ColombiaOnpremS4&Native HANASolutionsSAP-7020345-4","SAP-7020345-4OnpremS4&Native HANASolutions",null,"SAP Colombia","SAP-7020345-4","OnpremS4&Native HANASolutions","SAP Colombia","USD","N/A","SAP S/4HANA Insurance for reinsurance management, ceded risks, 3001 to 4000 units",1000000,"Und","Licencia","N/A","N/A","N/A","SAP-7020345-4","Forma de pago estandar a 30 dias",5250,1,1,"USD"]
["SAP ColombiaOnpremS4&Native HANASolutionsSAP-7020345-5","SAP-7020345-5OnpremS4&Native HANASolutions",null,"SAP Colombia","SAP-7020345-5","OnpremS4&Native HANASolutions","SAP Colombia","USD","N/A","SAP S/4HANA Insurance for reinsurance management, ceded risks, 4001 to 6000 units",1000000,"Und","Licencia","N/A","N/A","N/A","SAP-7020345-5","Forma de pago estandar a 30 dias",4500,1,1,"USD"]
["SAP ColombiaOnpremS4&Native HANASolutionsSAP-7020345-6","SAP-7020345-6OnpremS4&Native HANASolutions",null,"SAP Colombia","SAP-7020345-6","OnpremS4&Native HANASolutions","SAP Colombia","USD","N/A","SAP S/4HANA Insurance for reinsurance management, ceded risks, above                6000 units",1000000,"Und","Licencia","N/A","N/A","N/A","SAP-7020345-6","Forma de pago estandar a 30 dias",3750,1,1,"USD"]
["SAP ColombiaOnpremS4&Native HANASolutionsSAP-7020411","SAP-7020411OnpremS4&Native HANASolutions",null,"SAP Colombia","SAP-7020411","OnpremS4&Native HANASolutions","SAP Colombia","USD","N/A","SAP S/4HANA for Financial Asset Management",1000000000,"Und","Licencia","N/A","N/A","N/A","SAP-7020411","Forma de pago estandar a 30 dias",75000,1,1,"USD"]
["SAP ColombiaOnpremS4&Native HANASolutionsSAP-7019041","SAP-7019041OnpremS4&Native HANASolutions",null,"SAP Colombia","SAP-7019041","OnpremS4&Native HANASolutions","SAP Colombia","USD","N/A","SAP S/4HANA Oil & Gas for upstream contracts management",10000,"Und","Licencia","N/A","N/A","N/A","SAP-7019041","Forma de pago estandar a 30 dias",63750,1,1,"USD"]
["SAP ColombiaOnpremS4&Native HANASolutionsSAP-7019043","SAP-7019043OnpremS4&Native HANASolutions",null,"SAP Colombia","SAP-7019043","OnpremS4&Native HANASolutions","SAP Colombia","USD","N/A","SAP S/4HANA Oil & Gas for hydrocarbon supply and primary distribution",10000,"Und","Licencia","N/A","N/A","N/A","SAP-7019043","Forma de pago estandar a 30 dias",123750,1,1,"USD"]
["SAP ColombiaOnpremS4&Native HANASolutionsSAP-7019044","SAP-7019044OnpremS4&Native HANASolutions",null,"SAP Colombia","SAP-7019044","OnpremS4&Native HANASolutions","SAP Colombia","USD","N/A","SAP S/4HANA Oil & Gas for hydrocarbon management",10000,"Und","Licencia","N/A","N/A","N/A","SAP-7019044","Forma de pago estandar a 30 dias",63750,1,1,"USD"]
["SAP ColombiaOnpremS4&Native HANASolutionsSAP-7019210","SAP-7019210OnpremS4&Native HANASolutions",null,"SAP Colombia","SAP-7019210","OnpremS4&Native HANASolutions","SAP Colombia","USD","N/A","SAP S/4HANA Oil & Gas for secondary distribution management",10000,"Und","Licencia","N/A","N/A","N/A","SAP-7019210","Forma de pago estandar a 30 dias",247500,1,1,"USD"]
["SAP ColombiaOnpremS4&Native HANASolutionsSAP-7019211","SAP-7019211OnpremS4&Native HANASolutions",null,"SAP Colombia","SAP-7019211","OnpremS4&Native HANASolutions","SAP Colombia","USD","N/A","SAP S/4HANA Oil & Gas for retail fuel network operations",10000,"Und","Licencia","N/A","N/A","N/A","SAP-7019211","Forma de pago estandar a 30 dias",247500,1,1,"USD"]
["SAP ColombiaOnpremS4&Native HANASolutionsSAP-7020163","SAP-7020163OnpremS4&Native HANASolutions",null,"SAP Colombia","SAP-7020163","OnpremS4&Native HANASolutions","SAP Colombia","USD","N/A","SAP S/4HANA Oil & Gas for upstream hydrocarbon accounting and management",10000,"Und","Licencia","N/A","N/A","N/A","SAP-7020163","Forma de pago estandar a 30 dias",183750,1,1,"USD"]
["SAP ColombiaOnpremS4&Native HANASolutionsSAP-7019229","SAP-7019229OnpremS4&Native HANASolutions",null,"SAP Colombia","SAP-7019229","OnpremS4&Native HANASolutions","SAP Colombia","USD","N/A","SAP Tax, Benefits, and Payment Processing for Public Sector for S/4HANA",10000,"Und","Licencia","N/A","N/A","N/A","SAP-7019229","Forma de pago estandar a 30 dias",45000,1,1,"USD"]
["SAP ColombiaOnpremS4&Native HANASolutionsSAP-7019982","SAP-7019982OnpremS4&Native HANASolutions",null,"SAP Colombia","SAP-7019982","OnpremS4&Native HANASolutions","SAP Colombia","USD","N/A","SAP S/4HANA Public Sector for tax, social services and payment processing",10000,"Und","Licencia","N/A","N/A","N/A","SAP-7019982","Forma de pago estandar a 30 dias",45000,1,1,"USD"]
["SAP ColombiaOnpremS4&Native HANASolutionsSAP-7020514","SAP-7020514OnpremS4&Native HANASolutions",null,"SAP Colombia","SAP-7020514","OnpremS4&Native HANASolutions","SAP Colombia","USD","N/A","SAP S/4HANA for behavioral insights",10000,"Und","Licencia","N/A","N/A","N/A","SAP-7020514","Forma de pago estandar a 30 dias",15000,1,1,"USD"]
["SAP ColombiaOnpremS4&Native HANASolutionsSAP-7020604a","SAP-7020604aOnpremS4&Native HANASolutions",null,"SAP Colombia","SAP-7020604a","OnpremS4&Native HANASolutions","SAP Colombia","USD","N/A","SAP Event Management on SAP S/4HANA, up to 10 units",100000,"Und","Licencia","N/A","N/A","N/A","SAP-7020604a","Forma de pago estandar a 30 dias",187500,1,1,"USD"]
["SAP ColombiaOnpremS4&Native HANASolutionsSAP-7020604b","SAP-7020604bOnpremS4&Native HANASolutions",null,"SAP Colombia","SAP-7020604b","OnpremS4&Native HANASolutions","SAP Colombia","USD","N/A","SAP Event Management on SAP S/4HANA, above                  10 units",100000,"Und","Licencia","N/A","N/A","N/A","SAP-7020604b","Forma de pago estandar a 30 dias",3750,1,1,"USD"]
["SAP ColombiaOnpremS4&Native HANASolutionsSAP-7020313-1","SAP-7020313-1OnpremS4&Native HANASolutions",null,"SAP Colombia","SAP-7020313-1","OnpremS4&Native HANASolutions","SAP Colombia","USD","N/A","SAP S/4HANA Retail for merchandise management, up to 1000 units",1000000,"Und","Licencia","N/A","N/A","N/A","SAP-7020313-1","Forma de pago estandar a 30 dias",4500,1,1,"USD"]
["SAP ColombiaOnpremS4&Native HANASolutionsSAP-7020313-2","SAP-7020313-2OnpremS4&Native HANASolutions",null,"SAP Colombia","SAP-7020313-2","OnpremS4&Native HANASolutions","SAP Colombia","USD","N/A","SAP S/4HANA Retail for merchandise management, 1001 to 5000 units",1000000,"Und","Licencia","N/A","N/A","N/A","SAP-7020313-2","Forma de pago estandar a 30 dias",3300,1,1,"USD"]
["SAP ColombiaOnpremS4&Native HANASolutionsSAP-7020313-3","SAP-7020313-3OnpremS4&Native HANASolutions",null,"SAP Colombia","SAP-7020313-3","OnpremS4&Native HANASolutions","SAP Colombia","USD","N/A","SAP S/4HANA Retail for merchandise management, 5001 to 10000 units",1000000,"Und","Licencia","N/A","N/A","N/A","SAP-7020313-3","Forma de pago estandar a 30 dias",2100,1,1,"USD"]
["SAP ColombiaOnpremS4&Native HANASolutionsSAP-7020313-4","SAP-7020313-4OnpremS4&Native HANASolutions",null,"SAP Colombia","SAP-7020313-4","OnpremS4&Native HANASolutions","SAP Colombia","USD","N/A","SAP S/4HANA Retail for merchandise management, 10001 to 20000 units",1000000,"Und","Licencia","N/A","N/A","N/A","SAP-7020313-4","Forma de pago estandar a 30 dias",1350,1,1,"USD"]
["SAP ColombiaOnpremS4&Native HANASolutionsSAP-7020313-5","SAP-7020313-5OnpremS4&Native HANASolutions",null,"SAP Colombia","SAP-7020313-5","OnpremS4&Native HANASolutions","SAP Colombia","USD","N/A","SAP S/4HANA Retail for merchandise management, above               20000 units",1000000,"Und","Licencia","N/A","N/A","N/A","SAP-7020313-5","Forma de pago estandar a 30 dias",600,1,1,"USD"]
["SAP ColombiaOnpremS4&Native HANASolutionsSAP-7020316-6","SAP-7020316-6OnpremS4&Native HANASolutions",null,"SAP Colombia","SAP-7020316-6","OnpremS4&Native HANASolutions","SAP Colombia","USD","N/A","SAP S/4HANA for fashion and vertical business, up to 1000 units",1000000,"Und","Licencia","N/A","N/A","N/A","SAP-7020316-6","Forma de pago estandar a 30 dias",2250,1,1,"USD"]
["SAP ColombiaOnpremS4&Native HANASolutionsSAP-7020316-7","SAP-7020316-7OnpremS4&Native HANASolutions",null,"SAP Colombia","SAP-7020316-7","OnpremS4&Native HANASolutions","SAP Colombia","USD","N/A","SAP S/4HANA for fashion and vertical business, 1001 to 5000 units",1000000,"Und","Licencia","N/A","N/A","N/A","SAP-7020316-7","Forma de pago estandar a 30 dias",1800,1,1,"USD"]
["SAP ColombiaOnpremS4&Native HANASolutionsSAP-7020316-8","SAP-7020316-8OnpremS4&Native HANASolutions",null,"SAP Colombia","SAP-7020316-8","OnpremS4&Native HANASolutions","SAP Colombia","USD","N/A","SAP S/4HANA for fashion and vertical business, 5001 to 10000 units",1000000,"Und","Licencia","N/A","N/A","N/A","SAP-7020316-8","Forma de pago estandar a 30 dias",1725,1,1,"USD"]
["SAP ColombiaOnpremS4&Native HANASolutionsSAP-7020316-9","SAP-7020316-9OnpremS4&Native HANASolutions",null,"SAP Colombia","SAP-7020316-9","OnpremS4&Native HANASolutions","SAP Colombia","USD","N/A","SAP S/4HANA for fashion and vertical business, 10001 to 20000 units",1000000,"Und","Licencia","N/A","N/A","N/A","SAP-7020316-9","Forma de pago estandar a 30 dias",1575,1,1,"USD"]
["SAP ColombiaOnpremS4&Native HANASolutionsSAP-7020316-10","SAP-7020316-10OnpremS4&Native HANASolutions",null,"SAP Colombia","SAP-7020316-10","OnpremS4&Native HANASolutions","SAP Colombia","USD","N/A","SAP S/4HANA for fashion and vertical business, above               20000 units",1000000,"Und","Licencia","N/A","N/A","N/A","SAP-7020316-10","Forma de pago estandar a 30 dias",1500,1,1,"USD"]
["SAP ColombiaOnpremS4&Native HANASolutionsSAP-7020352","SAP-7020352OnpremS4&Native HANASolutions",null,"SAP Colombia","SAP-7020352","OnpremS4&Native HANASolutions","SAP Colombia","USD","N/A","SAP S/4HANA for energy utilities meter data management and operations",1000,"Und","Licencia","N/A","N/A","N/A","SAP-7020352","Forma de pago estandar a 30 dias",7500,1,1,"USD"]
["SAP ColombiaOnpremS4&Native HANASolutionsSAP-7020353","SAP-7020353OnpremS4&Native HANASolutions",null,"SAP Colombia","SAP-7020353","OnpremS4&Native HANASolutions","SAP Colombia","USD","N/A","SAP S/4HANA for energy utilities bill-to-cash management",1000,"Und","Licencia","N/A","N/A","N/A","SAP-7020353","Forma de pago estandar a 30 dias",9000,1,1,"USD"]
["SAP ColombiaOnpremS4&Native HANASolutionsSAP-7020354","SAP-7020354OnpremS4&Native HANASolutions",null,"SAP Colombia","SAP-7020354","OnpremS4&Native HANASolutions","SAP Colombia","USD","N/A","SAP S/4HANA for water utilities meter data management and operations",1000,"Und","Licencia","N/A","N/A","N/A","SAP-7020354","Forma de pago estandar a 30 dias",4125,1,1,"USD"]
["SAP ColombiaOnpremS4&Native HANASolutionsSAP-7020355","SAP-7020355OnpremS4&Native HANASolutions",null,"SAP Colombia","SAP-7020355","OnpremS4&Native HANASolutions","SAP Colombia","USD","N/A","SAP S/4HANA for water utilities bill-to-cash management",1000,"Und","Licencia","N/A","N/A","N/A","SAP-7020355","Forma de pago estandar a 30 dias",5775,1,1,"USD"]
["SAP ColombiaOnpremS4&Native HANASolutionsSAP-7020357","SAP-7020357OnpremS4&Native HANASolutions",null,"SAP Colombia","SAP-7020357","OnpremS4&Native HANASolutions","SAP Colombia","USD","N/A","S/4HANA Utilities for customer engagement, basic CIC edition",1000,"Und","Licencia","N/A","N/A","N/A","SAP-7020357","Forma de pago estandar a 30 dias",900,1,1,"USD"]
["SAP ColombiaOnpremS4&Native HANASolutionsSAP-7020358","SAP-7020358OnpremS4&Native HANASolutions",null,"SAP Colombia","SAP-7020358","OnpremS4&Native HANASolutions","SAP Colombia","USD","N/A","S/4HANA Utilities for customer engagement, enterprise edition",1000,"Und","Licencia","N/A","N/A","N/A","SAP-7020358","Forma de pago estandar a 30 dias",3000,1,1,"USD"]
["SAP ColombiaOnpremS4&Native HANASolutionsSAP-7020359","SAP-7020359OnpremS4&Native HANASolutions",null,"SAP Colombia","SAP-7020359","OnpremS4&Native HANASolutions","SAP Colombia","USD","N/A","SAP S/4HANA Utilities for EEG billing of German electricity",1000,"Und","Licencia","N/A","N/A","N/A","SAP-7020359","Forma de pago estandar a 30 dias",1650,1,1,"USD"]
["SAP ColombiaOnpremS4&Native HANASolutionsSAP-7020360","SAP-7020360OnpremS4&Native HANASolutions",null,"SAP Colombia","SAP-7020360","OnpremS4&Native HANASolutions","SAP Colombia","USD","N/A","SAP S/4 HANA Utilities for intelligent metering of German energy",1000,"Und","Licencia","N/A","N/A","N/A","SAP-7020360","Forma de pago estandar a 30 dias",3750,1,1,"USD"]
["SAP ColombiaOnpremS4&Native HANASolutionsSAP-7020362","SAP-7020362OnpremS4&Native HANASolutions",null,"SAP Colombia","SAP-7020362","OnpremS4&Native HANASolutions","SAP Colombia","USD","N/A","SAP S/4HANA Utilities master data updates option for Germany",1000,"Und","Licencia","N/A","N/A","N/A","SAP-7020362","Forma de pago estandar a 30 dias",4350,1,1,"USD"]
[{"$f":"D1889&F1889&E1889","v":"SAP ColombiaOnpremS4&Native HANASolutionsSAP-7018868"},{"$f":"E1889&F1889","v":"SAP-7018868OnpremS4&Native HANASolutions"},null,"SAP Colombia","SAP-7018868","OnpremS4&Native HANASolutions",{"$f":"D1889","v":"SAP Colombia"},"USD","N/A","SAP Business Planning and Consolidation, add-on for S/4HANA",1,"Und","Licencia","N/A","N/A","N/A","SAP-7018868","Forma de pago estandar a 30 dias",1500,1,1,"USD"]
["SAP ColombiaOnpremS4&Native HANASolutionsSAP-7019816","SAP-7019816OnpremS4&Native HANASolutions",null,"SAP Colombia","SAP-7019816","OnpremS4&Native HANASolutions","SAP Colombia","USD","N/A","SAP OpenHub for S/4 HANA",1,"Und","Licencia","N/A","N/A","N/A",{"$f":"+E1890","v":"SAP-7019816"},"Forma de pago estandar a 30 dias",375000,1,1,"USD"]
["SAP ColombiaOnpremS4&Native HANASolutionsSAP-7018847","SAP-7018847OnpremS4&Native HANASolutions",null,"SAP Colombia","SAP-7018847","OnpremS4&Native HANASolutions","SAP Colombia","USD","N/A","SAP Master Data Governance for SAP S/4HANA, financials option",5000,"Und","Licencia","N/A","N/A","N/A","SAP-7018847","Forma de pago estandar a 30 dias",157500,1,1,"USD"]
["SAP ColombiaOnpremS4&Native HANASolutionsSAP-7018848","SAP-7018848OnpremS4&Native HANASolutions",null,"SAP Colombia","SAP-7018848","OnpremS4&Native HANASolutions","SAP Colombia","USD","N/A","SAP Master Data Governance for SAP S/4HANA, suppliers option",5000,"Und","Licencia","N/A","N/A","N/A","SAP-7018848","Forma de pago estandar a 30 dias",118125,1,1,"USD"]
["SAP ColombiaOnpremS4&Native HANASolutionsSAP-7018849","SAP-7018849OnpremS4&Native HANASolutions",null,"SAP Colombia","SAP-7018849","OnpremS4&Native HANASolutions","SAP Colombia","USD","N/A","SAP Master Data Governance for SAP S/4HANA, customers option",10000,"Und","Licencia","N/A","N/A","N/A","SAP-7018849","Forma de pago estandar a 30 dias",118125,1,1,"USD"]
["SAP ColombiaOnpremS4&Native HANASolutionsSAP-7018850","SAP-7018850OnpremS4&Native HANASolutions",null,"SAP Colombia","SAP-7018850","OnpremS4&Native HANASolutions","SAP Colombia","USD","N/A","SAP Master Data Governance for SAP S/4HANA, products option",10000,"Und","Licencia","N/A","N/A","N/A","SAP-7018850","Forma de pago estandar a 30 dias",118125,1,1,"USD"]
["SAP ColombiaOnpremS4&Native HANASolutionsSAP-7018851","SAP-7018851OnpremS4&Native HANASolutions",null,"SAP Colombia","SAP-7018851","OnpremS4&Native HANASolutions","SAP Colombia","USD","N/A","SAP Master Data Governance for SAP S/4HANA, custom option",10000,"Und","Licencia","N/A","N/A","N/A","SAP-7018851","Forma de pago estandar a 30 dias",118125,1,1,"USD"]
["SAP ColombiaOnpremS4&Native HANASolutionsSAP-7018852","SAP-7018852OnpremS4&Native HANASolutions",null,"SAP Colombia","SAP-7018852","OnpremS4&Native HANASolutions","SAP Colombia","USD","N/A","SAP Enterprise Master Data Governance for SAP S/4HANA",5000,"Und","Licencia","N/A","N/A","N/A","SAP-7018852","Forma de pago estandar a 30 dias",157500,1,1,"USD"]
["SAP ColombiaOnpremS4&Native HANASolutionsSAP-7019841","SAP-7019841OnpremS4&Native HANASolutions",null,"SAP Colombia","SAP-7019841","OnpremS4&Native HANASolutions","SAP Colombia","USD","N/A","SAP MDG f SAP S/4HANA, consumers opt",75000,"Und","Licencia","N/A","N/A","N/A","SAP-7019841","Forma de pago estandar a 30 dias",118125,1,1,"USD"]
["SAP ColombiaOnpremS4&Native HANASolutionsSAP-7020165","SAP-7020165OnpremS4&Native HANASolutions",null,"SAP Colombia","SAP-7020165","OnpremS4&Native HANASolutions","SAP Colombia","USD","N/A","SAP Information Lifecycle Management for SAP S/4HANA",1,"Und","Licencia","N/A","N/A","N/A","SAP-7020165","Forma de pago estandar a 30 dias",315000,1,1,"USD"]
["SAP ColombiaOnpremS4&Native HANASolutionsSAP-7019540","SAP-7019540OnpremS4&Native HANASolutions",null,"SAP Colombia","SAP-7019540","OnpremS4&Native HANASolutions","SAP Colombia","USD","N/A","prepayment for utilities for SAP S/4HANA",1000,"Und","Licencia","N/A","N/A","N/A","SAP-7019540","Forma de pago estandar a 30 dias",12750,1,1,"USD"]
["SAP ColombiaOnpremS4&Native HANASolutionsSAP-7019541","SAP-7019541OnpremS4&Native HANASolutions",null,"SAP Colombia","SAP-7019541","OnpremS4&Native HANASolutions","SAP Colombia","USD","N/A","market process management for utilities for SAP S/4HANA",1000,"Und","Licencia","N/A","N/A","N/A","SAP-7019541","Forma de pago estandar a 30 dias",1125,1,1,"USD"]
["SAP ColombiaOnpremS4&Native HANASolutionsSAP-7019694","SAP-7019694OnpremS4&Native HANASolutions",null,"SAP Colombia","SAP-7019694","OnpremS4&Native HANASolutions","SAP Colombia","USD","N/A","intercompany data exchange for Swiss electricity and gas utilities for SAP S/4HANA",1000,"Und","Licencia","N/A","N/A","N/A","SAP-7019694","Forma de pago estandar a 30 dias",4275,1,1,"USD"]
["SAP ColombiaOnpremS4&Native HANASolutionsSAP-7020087","SAP-7020087OnpremS4&Native HANASolutions",null,"SAP Colombia","SAP-7020087","OnpremS4&Native HANASolutions","SAP Colombia","USD","N/A","Real estate development lifecycle management for SAP S/4HANA",1,"Und","Licencia","N/A","N/A","N/A","SAP-7020087","Forma de pago estandar a 30 dias",825000,1,1,"USD"]
["SAP ColombiaOnpremS4&Native HANASolutionsSAP-7020276-1","SAP-7020276-1OnpremS4&Native HANASolutions",null,"SAP Colombia","SAP-7020276-1","OnpremS4&Native HANASolutions","SAP Colombia","USD","N/A","SAP Transportation Management, order to cash for container shipping liners for SAP S/4HANA, up to 2500 units",2500000,"Und","Licencia","N/A","N/A","N/A","SAP-7020276-1","Forma de pago estandar a 30 dias",12450,1,1,"USD"]
["SAP ColombiaOnpremS4&Native HANASolutionsSAP-7020276-2","SAP-7020276-2OnpremS4&Native HANASolutions",null,"SAP Colombia","SAP-7020276-2","OnpremS4&Native HANASolutions","SAP Colombia","USD","N/A","SAP Transportation Management, order to cash for container shipping liners for SAP S/4HANA, above                2500 units",2500000,"Und","Licencia","N/A","N/A","N/A","SAP-7020276-2","Forma de pago estandar a 30 dias",6225,1,1,"USD"]
["SAP ColombiaOnpremS4&Native HANASolutionsSAP-7020277-3","SAP-7020277-3OnpremS4&Native HANASolutions",null,"SAP Colombia","SAP-7020277-3","OnpremS4&Native HANASolutions","SAP Colombia","USD","N/A","SAP Transportation Management, lead to agreement for container shipping liners for SAP S/4HANA, up to 2500 units",2500000,"Und","Licencia","N/A","N/A","N/A","SAP-7020277-3","Forma de pago estandar a 30 dias",12450,1,1,"USD"]
["SAP ColombiaOnpremS4&Native HANASolutionsSAP-7020277-4","SAP-7020277-4OnpremS4&Native HANASolutions",null,"SAP Colombia","SAP-7020277-4","OnpremS4&Native HANASolutions","SAP Colombia","USD","N/A","SAP Transportation Management, lead to agreement for container shipping liners for SAP S/4HANA, above                2500 units",2500000,"Und","Licencia","N/A","N/A","N/A","SAP-7020277-4","Forma de pago estandar a 30 dias",6225,1,1,"USD"]
["SAP ColombiaOnpremS4&Native HANASolutionsSAP-7020278-5","SAP-7020278-5OnpremS4&Native HANASolutions",null,"SAP Colombia","SAP-7020278-5","OnpremS4&Native HANASolutions","SAP Colombia","USD","N/A","SAP Transportation Management, network and operations for container shipping liners for SAP S/4HANA, up to 2500 units",2500000,"Und","Licencia","N/A","N/A","N/A","SAP-7020278-5","Forma de pago estandar a 30 dias",39000,1,1,"USD"]
["SAP ColombiaOnpremS4&Native HANASolutionsSAP-7020278-6","SAP-7020278-6OnpremS4&Native HANASolutions",null,"SAP Colombia","SAP-7020278-6","OnpremS4&Native HANASolutions","SAP Colombia","USD","N/A","SAP Transportation Management, network and operations for container shipping liners for SAP S/4HANA, above                2500 units",2500000,"Und","Licencia","N/A","N/A","N/A","SAP-7020278-6","Forma de pago estandar a 30 dias",18750,1,1,"USD"]
["SAP ColombiaOnpremS4&Native HANASolutionsSAP-7020361","SAP-7020361OnpremS4&Native HANASolutions",null,"SAP Colombia","SAP-7020361","OnpremS4&Native HANASolutions","SAP Colombia","USD","N/A","SAP S/4HANA Utilities for German billing enhancements",1000,"Und","Licencia","N/A","N/A","N/A","SAP-7020361","Forma de pago estandar a 30 dias",1275,1,1,"USD"]
["SAP ColombiaOnpremS4&Native HANASolutionsSAP-7020414","SAP-7020414OnpremS4&Native HANASolutions",null,"SAP Colombia","SAP-7020414","OnpremS4&Native HANASolutions","SAP Colombia","USD","N/A","SAP Treasury and Risk Management, impairment accounting extension for expected losses for SAP S/4HANA",1000000000,"Und","Licencia","N/A","N/A","N/A","SAP-7020414","Forma de pago estandar a 30 dias",24000,1,1,"USD"]
["SAP ColombiaOnpremS4&Native HANASolutionsSAP-7020251","SAP-7020251OnpremS4&Native HANASolutions",null,"SAP Colombia","SAP-7020251","OnpremS4&Native HANASolutions","SAP Colombia","USD","N/A","SAP Transportation Resource Planning",2500000,"Und","Licencia","N/A","N/A","N/A","SAP-7020251","Forma de pago estandar a 30 dias",22500,1,1,"USD"]
["SAP ColombiaOnpremS4&Native HANASolutionsSAP-7020252","SAP-7020252OnpremS4&Native HANASolutions",null,"SAP Colombia","SAP-7020252","OnpremS4&Native HANASolutions","SAP Colombia","USD","N/A","SAP Transportation Resource Planning for T&L",2500000,"Und","Licencia","N/A","N/A","N/A","SAP-7020252","Forma de pago estandar a 30 dias",4500,1,1,"USD"]
["SAP ColombiaOnpremS4&Native HANASolutionsSAP-7020284-1","SAP-7020284-1OnpremS4&Native HANASolutions",null,"SAP Colombia","SAP-7020284-1","OnpremS4&Native HANASolutions","SAP Colombia","USD","N/A","SAP BW/4HANA, up to 16 units",64,"Und","Licencia","N/A","N/A","N/A","SAP-7020284-1","Forma de pago estandar a 30 dias",45000,1,1,"USD"]
["SAP ColombiaOnpremS4&Native HANASolutionsSAP-7020284-2","SAP-7020284-2OnpremS4&Native HANASolutions",null,"SAP Colombia","SAP-7020284-2","OnpremS4&Native HANASolutions","SAP Colombia","USD","N/A","SAP BW/4HANA, 17 to 64 units",64,"Und","Licencia","N/A","N/A","N/A","SAP-7020284-2","Forma de pago estandar a 30 dias",30000,1,1,"USD"]
["SAP ColombiaOnpremS4&Native HANASolutionsSAP-7020284-3","SAP-7020284-3OnpremS4&Native HANASolutions",null,"SAP Colombia","SAP-7020284-3","OnpremS4&Native HANASolutions","SAP Colombia","USD","N/A","SAP BW/4HANA, 65 to 320 units",64,"Und","Licencia","N/A","N/A","N/A","SAP-7020284-3","Forma de pago estandar a 30 dias",22500,1,1,"USD"]
["SAP ColombiaOnpremS4&Native HANASolutionsSAP-7020284-4","SAP-7020284-4OnpremS4&Native HANASolutions",null,"SAP Colombia","SAP-7020284-4","OnpremS4&Native HANASolutions","SAP Colombia","USD","N/A","SAP BW/4HANA, 321 to 800 units",64,"Und","Licencia","N/A","N/A","N/A","SAP-7020284-4","Forma de pago estandar a 30 dias",15000,1,1,"USD"]
["SAP ColombiaOnpremS4&Native HANASolutionsSAP-7020284-5","SAP-7020284-5OnpremS4&Native HANASolutions",null,"SAP Colombia","SAP-7020284-5","OnpremS4&Native HANASolutions","SAP Colombia","USD","N/A","SAP BW/4HANA, above                 800 units",64,"Und","Licencia","N/A","N/A","N/A","SAP-7020284-5","Forma de pago estandar a 30 dias",12000,1,1,"USD"]
["SAP ColombiaOnpremS4&Native HANASolutionsSAP-7019372","SAP-7019372OnpremS4&Native HANASolutions",null,"SAP Colombia","SAP-7019372","OnpremS4&Native HANASolutions","SAP Colombia","USD","N/A","SAP Business Planning and Consolidation, version for SAP BW/4HANA, professional edition",1,"Und","Licencia","N/A","N/A","N/A","SAP-7019372","Forma de pago estandar a 30 dias",16500,1,1,"USD"]
["SAP ColombiaOnpremS4&Native HANASolutionsSAP-7019373","SAP-7019373OnpremS4&Native HANASolutions",null,"SAP Colombia","SAP-7019373","OnpremS4&Native HANASolutions","SAP Colombia","USD","N/A","SAP Business Planning and Consolidation, version for SAP BW/4HANA, standard edition",1,"Und","Licencia","N/A","N/A","N/A","SAP-7019373","Forma de pago estandar a 30 dias",6750,1,1,"USD"]
["SAP ColombiaOnpremS4&Native HANASolutionsSAP-7019374","SAP-7019374OnpremS4&Native HANASolutions",null,"SAP Colombia","SAP-7019374","OnpremS4&Native HANASolutions","SAP Colombia","USD","N/A","SAP Business Planning and Consolidation, version for SAP BW/4HANA (planning only), professional edition",1,"Und","Licencia","N/A","N/A","N/A","SAP-7019374","Forma de pago estandar a 30 dias",11250,1,1,"USD"]
["SAP ColombiaOnpremS4&Native HANASolutionsSAP-7019375","SAP-7019375OnpremS4&Native HANASolutions",null,"SAP Colombia","SAP-7019375","OnpremS4&Native HANASolutions","SAP Colombia","USD","N/A","SAP Business Planning and Consolidation, version for SAP BW/4HANA (planning only), standard edition",1,"Und","Licencia","N/A","N/A","N/A","SAP-7019375","Forma de pago estandar a 30 dias",4500,1,1,"USD"]
["SAP ColombiaOnpremS4&Native HANASolutionsSAP-7020285-1","SAP-7020285-1OnpremS4&Native HANASolutions",null,"SAP Colombia","SAP-7020285-1","OnpremS4&Native HANASolutions","SAP Colombia","USD","N/A","SAP Profitability and Performance Management, up to 20 units",100000000,"Und","Licencia","N/A","N/A","N/A","SAP-7020285-1","Forma de pago estandar a 30 dias",105000,1,1,"USD"]
["SAP ColombiaOnpremS4&Native HANASolutionsSAP-7020285-2","SAP-7020285-2OnpremS4&Native HANASolutions",null,"SAP Colombia","SAP-7020285-2","OnpremS4&Native HANASolutions","SAP Colombia","USD","N/A","SAP Profitability and Performance Management, 21 to 50 units",100000000,"Und","Licencia","N/A","N/A","N/A","SAP-7020285-2","Forma de pago estandar a 30 dias",75000,1,1,"USD"]
["SAP ColombiaOnpremS4&Native HANASolutionsSAP-7020285-3","SAP-7020285-3OnpremS4&Native HANASolutions",null,"SAP Colombia","SAP-7020285-3","OnpremS4&Native HANASolutions","SAP Colombia","USD","N/A","SAP Profitability and Performance Management, 51 to 100 units",100000000,"Und","Licencia","N/A","N/A","N/A","SAP-7020285-3","Forma de pago estandar a 30 dias",52500,1,1,"USD"]
["SAP ColombiaOnpremS4&Native HANASolutionsSAP-7020285-4","SAP-7020285-4OnpremS4&Native HANASolutions",null,"SAP Colombia","SAP-7020285-4","OnpremS4&Native HANASolutions","SAP Colombia","USD","N/A","SAP Profitability and Performance Management, 101 to 500 units",100000000,"Und","Licencia","N/A","N/A","N/A","SAP-7020285-4","Forma de pago estandar a 30 dias",37500,1,1,"USD"]
["SAP ColombiaOnpremS4&Native HANASolutionsSAP-7020285-5","SAP-7020285-5OnpremS4&Native HANASolutions",null,"SAP Colombia","SAP-7020285-5","OnpremS4&Native HANASolutions","SAP Colombia","USD","N/A","SAP Profitability and Performance Management, above                 500 units",100000000,"Und","Licencia","N/A","N/A","N/A","SAP-7020285-5","Forma de pago estandar a 30 dias",30000,1,1,"USD"]
["SAP ColombiaOnpremS4&Native HANASolutionsSAP-7018286","SAP-7018286OnpremS4&Native HANASolutions",null,"SAP Colombia","SAP-7018286","OnpremS4&Native HANASolutions","SAP Colombia","USD","N/A","SAP Sales Insights for Retail",1,"Und","Licencia","N/A","N/A","N/A","SAP-7018286","Forma de pago estandar a 30 dias",375000,1,1,"USD"]
[{"$f":"D1928&F1928&E1928","v":"SAP ColombiaOnpremS4&Native HANASolutionsSAP-7020382"},{"$f":"E1928&F1928","v":"SAP-7020382OnpremS4&Native HANASolutions"},null,"SAP Colombia","SAP-7020382","OnpremS4&Native HANASolutions",{"$f":"D1928","v":"SAP Colombia"},"USD","N/A","retail promotion analyzer",1,"Und","Licencia","N/A","N/A","N/A","SAP-7020382","Forma de pago estandar a 30 dias",1125000,1,1,"USD"]
[{"$f":"D1929&F1929&E1929","v":"STEFANINI SYSMAN SASSTEFANINI SYSMAN SAS_AdministrativoIT-SW-01-01"},{"$f":"E1929&F1929","v":"IT-SW-01-01STEFANINI SYSMAN SAS_Administrativo"},null,"STEFANINI SYSMAN SAS","IT-SW-01-01","STEFANINI SYSMAN SAS_Administrativo",{"$f":"D1929","v":"STEFANINI SYSMAN SAS"},"COP","N/A","Capacitación para usuario final - hasta 10 Personas.","Por sesión de capacitación de 4 horas para un grupo de hasta 10 personas.","Serv","Servicio","Zona 1","Remoto","Capacitador","IT-SW-01-01","Terminada cada sesión será facturara para pago dentro de los 30 días siguientes",1190000,1,1,"USD"]
[{"$f":"D1930&F1930&E1930","v":"STEFANINI SYSMAN SASSTEFANINI SYSMAN SAS_AdministrativoIT-SW-01-02"},{"$f":"E1930&F1930","v":"IT-SW-01-02STEFANINI SYSMAN SAS_Administrativo"},null,"STEFANINI SYSMAN SAS","IT-SW-01-02","STEFANINI SYSMAN SAS_Administrativo",{"$f":"D1930","v":"STEFANINI SYSMAN SAS"},"COP","N/A","Capacitación para usuario final - hasta 10 Personas.","Por sesión de capacitación de 4 horas para un grupo de hasta 10 personas.","Serv","Servicio","Zona 1","Sitio","Capacitador","IT-SW-01-02","Terminada cada sesión será facturara para pago dentro de los 30 días siguientes",1785000,1,1,"USD"]
[{"$f":"D1931&F1931&E1931","v":"STEFANINI SYSMAN SASSTEFANINI SYSMAN SAS_AdministrativoIT-SW-01-03"},{"$f":"E1931&F1931","v":"IT-SW-01-03STEFANINI SYSMAN SAS_Administrativo"},null,"STEFANINI SYSMAN SAS","IT-SW-01-03","STEFANINI SYSMAN SAS_Administrativo",{"$f":"D1931","v":"STEFANINI SYSMAN SAS"},"COP","N/A","Capacitación para usuario final - hasta 10 Personas.","Por sesión de capacitación de 4 horas para un grupo de hasta 10 personas.","Serv","Servicio","Zona 2","Remoto","Capacitador","IT-SW-01-03","Terminada cada sesión será facturara para pago dentro de los 30 días siguientes",1487500,1,1,"USD"]
[{"$f":"D1932&F1932&E1932","v":"STEFANINI SYSMAN SASSTEFANINI SYSMAN SAS_AdministrativoIT-SW-01-04"},{"$f":"E1932&F1932","v":"IT-SW-01-04STEFANINI SYSMAN SAS_Administrativo"},null,"STEFANINI SYSMAN SAS","IT-SW-01-04","STEFANINI SYSMAN SAS_Administrativo",{"$f":"D1932","v":"STEFANINI SYSMAN SAS"},"COP","N/A","Capacitación para usuario final - hasta 10 Personas.","Por sesión de capacitación de 4 horas para un grupo de hasta 10 personas.","Serv","Servicio","Zona 2","Sitio","Capacitador","IT-SW-01-04","Terminada cada sesión será facturara para pago dentro de los 30 días siguientes",2677500,1,1,"USD"]
[{"$f":"D1933&F1933&E1933","v":"STEFANINI SYSMAN SASSTEFANINI SYSMAN SAS_AdministrativoIT-SW-01-05"},{"$f":"E1933&F1933","v":"IT-SW-01-05STEFANINI SYSMAN SAS_Administrativo"},null,"STEFANINI SYSMAN SAS","IT-SW-01-05","STEFANINI SYSMAN SAS_Administrativo",{"$f":"D1933","v":"STEFANINI SYSMAN SAS"},"COP","N/A","Capacitación para usuario final - hasta 10 Personas.","Por sesión de capacitación de 4 horas para un grupo de hasta 10 personas.","Serv","Servicio","Zona 3","Remoto","Capacitador","IT-SW-01-05","Terminada cada sesión será facturara para pago dentro de los 30 días siguientes",1859375,1,1,"USD"]
[{"$f":"D1934&F1934&E1934","v":"STEFANINI SYSMAN SASSTEFANINI SYSMAN SAS_AdministrativoIT-SW-01-06"},{"$f":"E1934&F1934","v":"IT-SW-01-06STEFANINI SYSMAN SAS_Administrativo"},null,"STEFANINI SYSMAN SAS","IT-SW-01-06","STEFANINI SYSMAN SAS_Administrativo",{"$f":"D1934","v":"STEFANINI SYSMAN SAS"},"COP","N/A","Capacitación para usuario final - hasta 10 Personas.","Por sesión de capacitación de 4 horas para un grupo de hasta 10 personas.","Serv","Servicio","Zona 3","Sitio","Capacitador","IT-SW-01-06","Terminada cada sesión será facturara para pago dentro de los 30 días siguientes",4016250,1,1,"USD"]
[{"$f":"D1935&F1935&E1935","v":"STEFANINI SYSMAN SASSTEFANINI SYSMAN SAS_AdministrativoIT-SW-02-01"},{"$f":"E1935&F1935","v":"IT-SW-02-01STEFANINI SYSMAN SAS_Administrativo"},null,"STEFANINI SYSMAN SAS","IT-SW-02-01","STEFANINI SYSMAN SAS_Administrativo",{"$f":"D1935","v":"STEFANINI SYSMAN SAS"},"COP","N/A","Capacitación para usuario final hasta 20 Personas.","Por sesión de capacitación de 4 horas para un grupo de hasta 20 personas.","Serv","Servicio","Zona 1","Remoto","Capacitador","IT-SW-02-01","Terminada cada sesión será facturara para pago dentro de los 30 días siguientes",1487500,1,1,"USD"]
[{"$f":"D1936&F1936&E1936","v":"STEFANINI SYSMAN SASSTEFANINI SYSMAN SAS_AdministrativoIT-SW-02-02"},{"$f":"E1936&F1936","v":"IT-SW-02-02STEFANINI SYSMAN SAS_Administrativo"},null,"STEFANINI SYSMAN SAS","IT-SW-02-02","STEFANINI SYSMAN SAS_Administrativo",{"$f":"D1936","v":"STEFANINI SYSMAN SAS"},"COP","N/A","Capacitación para usuario final hasta 20 Personas.","Por sesión de capacitación de 4 horas para un grupo de hasta 20 personas.","Serv","Servicio","Zona 1","Sitio","Capacitador","IT-SW-02-02","Terminada cada sesión será facturara para pago dentro de los 30 días siguientes",2231250,1,1,"USD"]
[{"$f":"D1937&F1937&E1937","v":"STEFANINI SYSMAN SASSTEFANINI SYSMAN SAS_AdministrativoIT-SW-02-03"},{"$f":"E1937&F1937","v":"IT-SW-02-03STEFANINI SYSMAN SAS_Administrativo"},null,"STEFANINI SYSMAN SAS","IT-SW-02-03","STEFANINI SYSMAN SAS_Administrativo",{"$f":"D1937","v":"STEFANINI SYSMAN SAS"},"COP","N/A","Capacitación para usuario final hasta 20 Personas.","Por sesión de capacitación de 4 horas para un grupo de hasta 20 personas.","Serv","Servicio","Zona 2","Remoto","Capacitador","IT-SW-02-03","Terminada cada sesión será facturara para pago dentro de los 30 días siguientes",1859375,1,1,"USD"]
[{"$f":"D1938&F1938&E1938","v":"STEFANINI SYSMAN SASSTEFANINI SYSMAN SAS_AdministrativoIT-SW-02-04"},{"$f":"E1938&F1938","v":"IT-SW-02-04STEFANINI SYSMAN SAS_Administrativo"},null,"STEFANINI SYSMAN SAS","IT-SW-02-04","STEFANINI SYSMAN SAS_Administrativo",{"$f":"D1938","v":"STEFANINI SYSMAN SAS"},"COP","N/A","Capacitación para usuario final hasta 20 Personas.","Por sesión de capacitación de 4 horas para un grupo de hasta 20 personas.","Serv","Servicio","Zona 2","Sitio","Capacitador","IT-SW-02-04","Terminada cada sesión será facturara para pago dentro de los 30 días siguientes",3346875,1,1,"USD"]
[{"$f":"D1939&F1939&E1939","v":"STEFANINI SYSMAN SASSTEFANINI SYSMAN SAS_AdministrativoIT-SW-02-05"},{"$f":"E1939&F1939","v":"IT-SW-02-05STEFANINI SYSMAN SAS_Administrativo"},null,"STEFANINI SYSMAN SAS","IT-SW-02-05","STEFANINI SYSMAN SAS_Administrativo",{"$f":"D1939","v":"STEFANINI SYSMAN SAS"},"COP","N/A","Capacitación para usuario final hasta 20 Personas.","Por sesión de capacitación de 4 horas para un grupo de hasta 20 personas.","Serv","Servicio","Zona 3","Remoto","Capacitador","IT-SW-02-05","Terminada cada sesión será facturara para pago dentro de los 30 días siguientes",2324219,1,1,"USD"]
[{"$f":"D1940&F1940&E1940","v":"STEFANINI SYSMAN SASSTEFANINI SYSMAN SAS_AdministrativoIT-SW-02-06"},{"$f":"E1940&F1940","v":"IT-SW-02-06STEFANINI SYSMAN SAS_Administrativo"},null,"STEFANINI SYSMAN SAS","IT-SW-02-06","STEFANINI SYSMAN SAS_Administrativo",{"$f":"D1940","v":"STEFANINI SYSMAN SAS"},"COP","N/A","Capacitación para usuario final hasta 20 Personas.","Por sesión de capacitación de 4 horas para un grupo de hasta 20 personas.","Serv","Servicio","Zona 3","Sitio","Capacitador","IT-SW-02-06","Terminada cada sesión será facturara para pago dentro de los 30 días siguientes",5020313,1,1,"USD"]
[{"$f":"D1941&F1941&E1941","v":"STEFANINI SYSMAN SASSTEFANINI SYSMAN SAS_AdministrativoIT-SW-03-01"},{"$f":"E1941&F1941","v":"IT-SW-03-01STEFANINI SYSMAN SAS_Administrativo"},null,"STEFANINI SYSMAN SAS","IT-SW-03-01","STEFANINI SYSMAN SAS_Administrativo",{"$f":"D1941","v":"STEFANINI SYSMAN SAS"},"COP","N/A","Capacitación para usuario técnico o administrador - hasta 10 Personas.","Por sesión de capacitación de 4 horas para un grupo de hasta 10 personas.","Serv","Servicio","Zona 1","Remoto","Capacitador","IT-SW-03-01","Terminada cada sesión será facturara para pago dentro de los 30 días siguientes",1190000,1,1,"USD"]
[{"$f":"D1942&F1942&E1942","v":"STEFANINI SYSMAN SASSTEFANINI SYSMAN SAS_AdministrativoIT-SW-03-02"},{"$f":"E1942&F1942","v":"IT-SW-03-02STEFANINI SYSMAN SAS_Administrativo"},null,"STEFANINI SYSMAN SAS","IT-SW-03-02","STEFANINI SYSMAN SAS_Administrativo",{"$f":"D1942","v":"STEFANINI SYSMAN SAS"},"COP","N/A","Capacitación para usuario técnico o administrador - hasta 10 Personas.","Por sesión de capacitación de 4 horas para un grupo de hasta 10 personas.","Serv","Servicio","Zona 1","Sitio","Capacitador","IT-SW-03-02","Terminada cada sesión será facturara para pago dentro de los 30 días siguientes",1785000,1,1,"USD"]
[{"$f":"D1943&F1943&E1943","v":"STEFANINI SYSMAN SASSTEFANINI SYSMAN SAS_AdministrativoIT-SW-03-03"},{"$f":"E1943&F1943","v":"IT-SW-03-03STEFANINI SYSMAN SAS_Administrativo"},null,"STEFANINI SYSMAN SAS","IT-SW-03-03","STEFANINI SYSMAN SAS_Administrativo",{"$f":"D1943","v":"STEFANINI SYSMAN SAS"},"COP","N/A","Capacitación para usuario técnico o administrador - hasta 10 Personas.","Por sesión de capacitación de 4 horas para un grupo de hasta 10 personas.","Serv","Servicio","Zona 2","Remoto","Capacitador","IT-SW-03-03","Terminada cada sesión será facturara para pago dentro de los 30 días siguientes",1487500,1,1,"USD"]
[{"$f":"D1944&F1944&E1944","v":"STEFANINI SYSMAN SASSTEFANINI SYSMAN SAS_AdministrativoIT-SW-03-04"},{"$f":"E1944&F1944","v":"IT-SW-03-04STEFANINI SYSMAN SAS_Administrativo"},null,"STEFANINI SYSMAN SAS","IT-SW-03-04","STEFANINI SYSMAN SAS_Administrativo",{"$f":"D1944","v":"STEFANINI SYSMAN SAS"},"COP","N/A","Capacitación para usuario técnico o administrador - hasta 10 Personas.","Por sesión de capacitación de 4 horas para un grupo de hasta 10 personas.","Serv","Servicio","Zona 2","Sitio","Capacitador","IT-SW-03-04","Terminada cada sesión será facturara para pago dentro de los 30 días siguientes",2677500,1,1,"USD"]
[{"$f":"D1945&F1945&E1945","v":"STEFANINI SYSMAN SASSTEFANINI SYSMAN SAS_AdministrativoIT-SW-03-05"},{"$f":"E1945&F1945","v":"IT-SW-03-05STEFANINI SYSMAN SAS_Administrativo"},null,"STEFANINI SYSMAN SAS","IT-SW-03-05","STEFANINI SYSMAN SAS_Administrativo",{"$f":"D1945","v":"STEFANINI SYSMAN SAS"},"COP","N/A","Capacitación para usuario técnico o administrador - hasta 10 Personas.","Por sesión de capacitación de 4 horas para un grupo de hasta 10 personas.","Serv","Servicio","Zona 3","Remoto","Capacitador","IT-SW-03-05","Terminada cada sesión será facturara para pago dentro de los 30 días siguientes",1859375,1,1,"USD"]
[{"$f":"D1946&F1946&E1946","v":"STEFANINI SYSMAN SASSTEFANINI SYSMAN SAS_AdministrativoIT-SW-03-06"},{"$f":"E1946&F1946","v":"IT-SW-03-06STEFANINI SYSMAN SAS_Administrativo"},null,"STEFANINI SYSMAN SAS","IT-SW-03-06","STEFANINI SYSMAN SAS_Administrativo",{"$f":"D1946","v":"STEFANINI SYSMAN SAS"},"COP","N/A","Capacitación para usuario técnico o administrador - hasta 10 Personas.","Por sesión de capacitación de 4 horas para un grupo de hasta 10 personas.","Serv","Servicio","Zona 3","Sitio","Capacitador","IT-SW-03-06","Terminada cada sesión será facturara para pago dentro de los 30 días siguientes",4016250,1,1,"USD"]
[{"$f":"D1947&F1947&E1947","v":"STEFANINI SYSMAN SASSTEFANINI SYSMAN SAS_AdministrativoIT-SW-04-01"},{"$f":"E1947&F1947","v":"IT-SW-04-01STEFANINI SYSMAN SAS_Administrativo"},null,"STEFANINI SYSMAN SAS","IT-SW-04-01","STEFANINI SYSMAN SAS_Administrativo",{"$f":"D1947","v":"STEFANINI SYSMAN SAS"},"COP","N/A","Capacitación para usuario técnico o administrador hasta 20 Personas.","Por sesión de capacitación de 4 horas para un grupo de hasta 20 personas.","Serv","Servicio","Zona 1","Remoto","Capacitador","IT-SW-04-01","Terminada cada sesión será facturara para pago dentro de los 30 días siguientes",1487500,1,1,"USD"]
[{"$f":"D1948&F1948&E1948","v":"STEFANINI SYSMAN SASSTEFANINI SYSMAN SAS_AdministrativoIT-SW-04-02"},{"$f":"E1948&F1948","v":"IT-SW-04-02STEFANINI SYSMAN SAS_Administrativo"},null,"STEFANINI SYSMAN SAS","IT-SW-04-02","STEFANINI SYSMAN SAS_Administrativo",{"$f":"D1948","v":"STEFANINI SYSMAN SAS"},"COP","N/A","Capacitación para usuario técnico o administrador hasta 20 Personas.","Por sesión de capacitación de 4 horas para un grupo de hasta 20 personas.","Serv","Servicio","Zona 1","Sitio","Capacitador","IT-SW-04-02","Terminada cada sesión será facturara para pago dentro de los 30 días siguientes",2231250,1,1,"USD"]
[{"$f":"D1949&F1949&E1949","v":"STEFANINI SYSMAN SASSTEFANINI SYSMAN SAS_AdministrativoIT-SW-04-03"},{"$f":"E1949&F1949","v":"IT-SW-04-03STEFANINI SYSMAN SAS_Administrativo"},null,"STEFANINI SYSMAN SAS","IT-SW-04-03","STEFANINI SYSMAN SAS_Administrativo",{"$f":"D1949","v":"STEFANINI SYSMAN SAS"},"COP","N/A","Capacitación para usuario técnico o administrador hasta 20 Personas.","Por sesión de capacitación de 4 horas para un grupo de hasta 20 personas.","Serv","Servicio","Zona 2","Remoto","Capacitador","IT-SW-04-03","Terminada cada sesión será facturara para pago dentro de los 30 días siguientes",1859375,1,1,"USD"]
[{"$f":"D1950&F1950&E1950","v":"STEFANINI SYSMAN SASSTEFANINI SYSMAN SAS_AdministrativoIT-SW-04-04"},{"$f":"E1950&F1950","v":"IT-SW-04-04STEFANINI SYSMAN SAS_Administrativo"},null,"STEFANINI SYSMAN SAS","IT-SW-04-04","STEFANINI SYSMAN SAS_Administrativo",{"$f":"D1950","v":"STEFANINI SYSMAN SAS"},"COP","N/A","Capacitación para usuario técnico o administrador hasta 20 Personas.","Por sesión de capacitación de 4 horas para un grupo de hasta 20 personas.","Serv","Servicio","Zona 2","Sitio","Capacitador","IT-SW-04-04","Terminada cada sesión será facturara para pago dentro de los 30 días siguientes",3346875,1,1,"USD"]
[{"$f":"D1951&F1951&E1951","v":"STEFANINI SYSMAN SASSTEFANINI SYSMAN SAS_AdministrativoIT-SW-04-05"},{"$f":"E1951&F1951","v":"IT-SW-04-05STEFANINI SYSMAN SAS_Administrativo"},null,"STEFANINI SYSMAN SAS","IT-SW-04-05","STEFANINI SYSMAN SAS_Administrativo",{"$f":"D1951","v":"STEFANINI SYSMAN SAS"},"COP","N/A","Capacitación para usuario técnico o administrador hasta 20 Personas.","Por sesión de capacitación de 4 horas para un grupo de hasta 20 personas.","Serv","Servicio","Zona 3","Remoto","Capacitador","IT-SW-04-05","Terminada cada sesión será facturara para pago dentro de los 30 días siguientes",2324219,1,1,"USD"]
[{"$f":"D1952&F1952&E1952","v":"STEFANINI SYSMAN SASSTEFANINI SYSMAN SAS_AdministrativoIT-SW-04-06"},{"$f":"E1952&F1952","v":"IT-SW-04-06STEFANINI SYSMAN SAS_Administrativo"},null,"STEFANINI SYSMAN SAS","IT-SW-04-06","STEFANINI SYSMAN SAS_Administrativo",{"$f":"D1952","v":"STEFANINI SYSMAN SAS"},"COP","N/A","Capacitación para usuario técnico o administrador hasta 20 Personas.","Por sesión de capacitación de 4 horas para un grupo de hasta 20 personas.","Serv","Servicio","Zona 3","Sitio","Capacitador","IT-SW-04-06","Terminada cada sesión será facturara para pago dentro de los 30 días siguientes",5020313,1,1,"USD"]
[{"$f":"D1953&F1953&E1953","v":"STEFANINI SYSMAN SASSTEFANINI SYSMAN SAS_AdministrativoIT-SW-05-01"},{"$f":"E1953&F1953","v":"IT-SW-05-01STEFANINI SYSMAN SAS_Administrativo"},null,"STEFANINI SYSMAN SAS","IT-SW-05-01","STEFANINI SYSMAN SAS_Administrativo",{"$f":"D1953","v":"STEFANINI SYSMAN SAS"},"COP","N/A","Configuración y parametrización de los Productos","Hora","Serv","Servicio","Zona 1","Remoto","Profesional","IT-SW-05-01","Al término de la configuración y parametrización, serán facturadas todas las horas en este servicio para pago dentro de los 30 días siguientes",95200,1,1,"USD"]
[{"$f":"D1954&F1954&E1954","v":"STEFANINI SYSMAN SASSTEFANINI SYSMAN SAS_AdministrativoIT-SW-05-02"},{"$f":"E1954&F1954","v":"IT-SW-05-02STEFANINI SYSMAN SAS_Administrativo"},null,"STEFANINI SYSMAN SAS","IT-SW-05-02","STEFANINI SYSMAN SAS_Administrativo",{"$f":"D1954","v":"STEFANINI SYSMAN SAS"},"COP","N/A","Configuración y parametrización de los Productos","Hora","Serv","Servicio","Zona 1","Sitio","Profesional","IT-SW-05-02","Al término de la configuración y parametrización, serán facturadas todas las horas en este servicio para pago dentro de los 30 días siguientes",142800,1,1,"USD"]
[{"$f":"D1955&F1955&E1955","v":"STEFANINI SYSMAN SASSTEFANINI SYSMAN SAS_AdministrativoIT-SW-05-03"},{"$f":"E1955&F1955","v":"IT-SW-05-03STEFANINI SYSMAN SAS_Administrativo"},null,"STEFANINI SYSMAN SAS","IT-SW-05-03","STEFANINI SYSMAN SAS_Administrativo",{"$f":"D1955","v":"STEFANINI SYSMAN SAS"},"COP","N/A","Configuración y parametrización de los Productos","Hora","Serv","Servicio","Zona 2","Remoto","Profesional","IT-SW-05-03","Al término de la configuración y parametrización, serán facturadas todas las horas en este servicio para pago dentro de los 30 días siguientes",119000,1,1,"USD"]
[{"$f":"D1956&F1956&E1956","v":"STEFANINI SYSMAN SASSTEFANINI SYSMAN SAS_AdministrativoIT-SW-05-04"},{"$f":"E1956&F1956","v":"IT-SW-05-04STEFANINI SYSMAN SAS_Administrativo"},null,"STEFANINI SYSMAN SAS","IT-SW-05-04","STEFANINI SYSMAN SAS_Administrativo",{"$f":"D1956","v":"STEFANINI SYSMAN SAS"},"COP","N/A","Configuración y parametrización de los Productos","Hora","Serv","Servicio","Zona 2","Sitio","Profesional","IT-SW-05-04","Al término de la configuración y parametrización, serán facturadas todas las horas en este servicio para pago dentro de los 30 días siguientes",214200,1,1,"USD"]
[{"$f":"D1957&F1957&E1957","v":"STEFANINI SYSMAN SASSTEFANINI SYSMAN SAS_AdministrativoIT-SW-05-05"},{"$f":"E1957&F1957","v":"IT-SW-05-05STEFANINI SYSMAN SAS_Administrativo"},null,"STEFANINI SYSMAN SAS","IT-SW-05-05","STEFANINI SYSMAN SAS_Administrativo",{"$f":"D1957","v":"STEFANINI SYSMAN SAS"},"COP","N/A","Configuración y parametrización de los Productos","Hora","Serv","Servicio","Zona 3","Remoto","Profesional","IT-SW-05-05","Al término de la configuración y parametrización, serán facturadas todas las horas en este servicio para pago dentro de los 30 días siguientes",178500,1,1,"USD"]
[{"$f":"D1958&F1958&E1958","v":"STEFANINI SYSMAN SASSTEFANINI SYSMAN SAS_AdministrativoIT-SW-05-06"},{"$f":"E1958&F1958","v":"IT-SW-05-06STEFANINI SYSMAN SAS_Administrativo"},null,"STEFANINI SYSMAN SAS","IT-SW-05-06","STEFANINI SYSMAN SAS_Administrativo",{"$f":"D1958","v":"STEFANINI SYSMAN SAS"},"COP","N/A","Configuración y parametrización de los Productos","Hora","Serv","Servicio","Zona 3","Sitio","Profesional","IT-SW-05-06","Al término de la configuración y parametrización, serán facturadas todas las horas en este servicio para pago dentro de los 30 días siguientes",321300,1,1,"USD"]
[{"$f":"D1959&F1959&E1959","v":"STEFANINI SYSMAN SASSTEFANINI SYSMAN SAS_AdministrativoIT-SW-06-01"},{"$f":"E1959&F1959","v":"IT-SW-06-01STEFANINI SYSMAN SAS_Administrativo"},null,"STEFANINI SYSMAN SAS","IT-SW-06-01","STEFANINI SYSMAN SAS_Administrativo",{"$f":"D1959","v":"STEFANINI SYSMAN SAS"},"COP","N/A","Gerente de cuenta (soporte)","Mes","Serv","Servicio","Zona 1","Sitio","Profesional","IT-SW-06-01","El servicio será facturado mensualmente para pago dentro de los 30 días siguientes",11900000,1,1,"USD"]
[{"$f":"D1960&F1960&E1960","v":"STEFANINI SYSMAN SASSTEFANINI SYSMAN SAS_AdministrativoIT-SW-06-02"},{"$f":"E1960&F1960","v":"IT-SW-06-02STEFANINI SYSMAN SAS_Administrativo"},null,"STEFANINI SYSMAN SAS","IT-SW-06-02","STEFANINI SYSMAN SAS_Administrativo",{"$f":"D1960","v":"STEFANINI SYSMAN SAS"},"COP","N/A","Gerente de cuenta (soporte)","Mes","Serv","Servicio","Zona 2","Sitio","Profesional","IT-SW-06-02","El servicio será facturado mensualmente para pago dentro de los 30 días siguientes",14875000,1,1,"USD"]
[{"$f":"D1961&F1961&E1961","v":"STEFANINI SYSMAN SASSTEFANINI SYSMAN SAS_AdministrativoIT-SW-06-03"},{"$f":"E1961&F1961","v":"IT-SW-06-03STEFANINI SYSMAN SAS_Administrativo"},null,"STEFANINI SYSMAN SAS","IT-SW-06-03","STEFANINI SYSMAN SAS_Administrativo",{"$f":"D1961","v":"STEFANINI SYSMAN SAS"},"COP","N/A","Gerente de cuenta (soporte)","Mes","Serv","Servicio","Zona 3","Sitio","Profesional","IT-SW-06-03","El servicio será facturado mensualmente para pago dentro de los 30 días siguientes",20081250,1,1,"USD"]
[{"$f":"D1962&F1962&E1962","v":"STEFANINI SYSMAN SASSTEFANINI SYSMAN SAS_AdministrativoIT-SW-07-01"},{"$f":"E1962&F1962","v":"IT-SW-07-01STEFANINI SYSMAN SAS_Administrativo"},null,"STEFANINI SYSMAN SAS","IT-SW-07-01","STEFANINI SYSMAN SAS_Administrativo",{"$f":"D1962","v":"STEFANINI SYSMAN SAS"},"COP","N/A","Instalación de Licencia o Suscripción Anual, o afínes","Unidad","Und","Servicio","Zona 1","Remoto","Técnico/Tecnólogo ó Profesional","IT-SW-07-01","Se facturará cuando sea entregada cada licencia correctamente instalada, para su pago dentro de los 30 días siguientes",11900000,1,1,"USD"]
[{"$f":"D1963&F1963&E1963","v":"STEFANINI SYSMAN SASSTEFANINI SYSMAN SAS_AdministrativoIT-SW-07-02"},{"$f":"E1963&F1963","v":"IT-SW-07-02STEFANINI SYSMAN SAS_Administrativo"},null,"STEFANINI SYSMAN SAS","IT-SW-07-02","STEFANINI SYSMAN SAS_Administrativo",{"$f":"D1963","v":"STEFANINI SYSMAN SAS"},"COP","N/A","Instalación de Licencia o Suscripción Anual, o afínes","Unidad","Und","Servicio","Zona 1","Sitio","Técnico/Tecnólogo ó Profesional","IT-SW-07-02","Se facturará cuando sea entregada cada licencia correctamente instalada, para su pago dentro de los 30 días siguientes",14875000,1,1,"USD"]
[{"$f":"D1964&F1964&E1964","v":"STEFANINI SYSMAN SASSTEFANINI SYSMAN SAS_AdministrativoIT-SW-07-03"},{"$f":"E1964&F1964","v":"IT-SW-07-03STEFANINI SYSMAN SAS_Administrativo"},null,"STEFANINI SYSMAN SAS","IT-SW-07-03","STEFANINI SYSMAN SAS_Administrativo",{"$f":"D1964","v":"STEFANINI SYSMAN SAS"},"COP","N/A","Instalación de Licencia o Suscripción Anual, o afínes","Unidad","Und","Servicio","Zona 2","Remoto","Técnico/Tecnólogo ó Profesional","IT-SW-07-03","Se facturará cuando sea entregada cada licencia correctamente instalada, para su pago dentro de los 30 días siguientes",16065000,1,1,"USD"]
[{"$f":"D1965&F1965&E1965","v":"STEFANINI SYSMAN SASSTEFANINI SYSMAN SAS_AdministrativoIT-SW-07-04"},{"$f":"E1965&F1965","v":"IT-SW-07-04STEFANINI SYSMAN SAS_Administrativo"},null,"STEFANINI SYSMAN SAS","IT-SW-07-04","STEFANINI SYSMAN SAS_Administrativo",{"$f":"D1965","v":"STEFANINI SYSMAN SAS"},"COP","N/A","Instalación de Licencia o Suscripción Anual, o afínes","Unidad","Und","Servicio","Zona 2","Sitio","Técnico/Tecnólogo ó Profesional","IT-SW-07-04","Se facturará cuando sea entregada cada licencia correctamente instalada, para su pago dentro de los 30 días siguientes",18593750,1,1,"USD"]
[{"$f":"D1966&F1966&E1966","v":"STEFANINI SYSMAN SASSTEFANINI SYSMAN SAS_AdministrativoIT-SW-07-05"},{"$f":"E1966&F1966","v":"IT-SW-07-05STEFANINI SYSMAN SAS_Administrativo"},null,"STEFANINI SYSMAN SAS","IT-SW-07-05","STEFANINI SYSMAN SAS_Administrativo",{"$f":"D1966","v":"STEFANINI SYSMAN SAS"},"COP","N/A","Instalación de Licencia o Suscripción Anual, o afínes","Unidad","Und","Servicio","Zona 3","Remoto","Técnico/Tecnólogo ó Profesional","IT-SW-07-05","Se facturará cuando sea entregada cada licencia correctamente instalada, para su pago dentro de los 30 días siguientes",21687750,1,1,"USD"]
[{"$f":"D1967&F1967&E1967","v":"STEFANINI SYSMAN SASSTEFANINI SYSMAN SAS_AdministrativoIT-SW-07-06"},{"$f":"E1967&F1967","v":"IT-SW-07-06STEFANINI SYSMAN SAS_Administrativo"},null,"STEFANINI SYSMAN SAS","IT-SW-07-06","STEFANINI SYSMAN SAS_Administrativo",{"$f":"D1967","v":"STEFANINI SYSMAN SAS"},"COP","N/A","Instalación de Licencia o Suscripción Anual, o afínes","Unidad","Und","Servicio","Zona 3","Sitio","Técnico/Tecnólogo ó Profesional","IT-SW-07-06","Se facturará cuando sea entregada cada licencia correctamente instalada, para su pago dentro de los 30 días siguientes",23242188,1,1,"USD"]
[{"$f":"D1968&F1968&E1968","v":"STEFANINI SYSMAN SASSTEFANINI SYSMAN SAS_AdministrativoIT-SW-08-01"},{"$f":"E1968&F1968","v":"IT-SW-08-01STEFANINI SYSMAN SAS_Administrativo"},null,"STEFANINI SYSMAN SAS","IT-SW-08-01","STEFANINI SYSMAN SAS_Administrativo",{"$f":"D1968","v":"STEFANINI SYSMAN SAS"},"COP","N/A","Migración de información por volumen de datos almacenados","GB","Serv","Servicio","Zona 1","Remoto","Profesional","IT-SW-08-01","Se facturará una vez terminado el proceso de migración y revisión, para pago dentro de los 30 días siguientes",773500,1,1,"USD"]
[{"$f":"D1969&F1969&E1969","v":"STEFANINI SYSMAN SASSTEFANINI SYSMAN SAS_AdministrativoIT-SW-08-02"},{"$f":"E1969&F1969","v":"IT-SW-08-02STEFANINI SYSMAN SAS_Administrativo"},null,"STEFANINI SYSMAN SAS","IT-SW-08-02","STEFANINI SYSMAN SAS_Administrativo",{"$f":"D1969","v":"STEFANINI SYSMAN SAS"},"COP","N/A","Migración de información por volumen de datos almacenados","GB","Serv","Servicio","Zona 1","Sitio","Profesional","IT-SW-08-02","Se facturará una vez terminado el proceso de migración y revisión, para pago dentro de los 30 días siguientes",1160250,1,1,"USD"]
[{"$f":"D1970&F1970&E1970","v":"STEFANINI SYSMAN SASSTEFANINI SYSMAN SAS_AdministrativoIT-SW-08-03"},{"$f":"E1970&F1970","v":"IT-SW-08-03STEFANINI SYSMAN SAS_Administrativo"},null,"STEFANINI SYSMAN SAS","IT-SW-08-03","STEFANINI SYSMAN SAS_Administrativo",{"$f":"D1970","v":"STEFANINI SYSMAN SAS"},"COP","N/A","Migración de información por volumen de datos almacenados","GB","Serv","Servicio","Zona 2","Remoto","Profesional","IT-SW-08-03","Se facturará una vez terminado el proceso de migración y revisión, para pago dentro de los 30 días siguientes",966875,1,1,"USD"]
[{"$f":"D1971&F1971&E1971","v":"STEFANINI SYSMAN SASSTEFANINI SYSMAN SAS_AdministrativoIT-SW-08-04"},{"$f":"E1971&F1971","v":"IT-SW-08-04STEFANINI SYSMAN SAS_Administrativo"},null,"STEFANINI SYSMAN SAS","IT-SW-08-04","STEFANINI SYSMAN SAS_Administrativo",{"$f":"D1971","v":"STEFANINI SYSMAN SAS"},"COP","N/A","Migración de información por volumen de datos almacenados","GB","Serv","Servicio","Zona 2","Sitio","Profesional","IT-SW-08-04","Se facturará una vez terminado el proceso de migración y revisión, para pago dentro de los 30 días siguientes",1740375,1,1,"USD"]
[{"$f":"D1972&F1972&E1972","v":"STEFANINI SYSMAN SASSTEFANINI SYSMAN SAS_AdministrativoIT-SW-08-05"},{"$f":"E1972&F1972","v":"IT-SW-08-05STEFANINI SYSMAN SAS_Administrativo"},null,"STEFANINI SYSMAN SAS","IT-SW-08-05","STEFANINI SYSMAN SAS_Administrativo",{"$f":"D1972","v":"STEFANINI SYSMAN SAS"},"COP","N/A","Migración de información por volumen de datos almacenados","GB","Serv","Servicio","Zona 3","Remoto","Profesional","IT-SW-08-05","Se facturará una vez terminado el proceso de migración y revisión, para pago dentro de los 30 días siguientes",1160250,1,1,"USD"]
[{"$f":"D1973&F1973&E1973","v":"STEFANINI SYSMAN SASSTEFANINI SYSMAN SAS_AdministrativoIT-SW-08-06"},{"$f":"E1973&F1973","v":"IT-SW-08-06STEFANINI SYSMAN SAS_Administrativo"},null,"STEFANINI SYSMAN SAS","IT-SW-08-06","STEFANINI SYSMAN SAS_Administrativo",{"$f":"D1973","v":"STEFANINI SYSMAN SAS"},"COP","N/A","Migración de información por volumen de datos almacenados","GB","Serv","Servicio","Zona 3","Sitio","Profesional","IT-SW-08-06","Se facturará una vez terminado el proceso de migración y revisión, para pago dentro de los 30 días siguientes",2610563,1,1,"USD"]
[{"$f":"D1974&F1974&E1974","v":"STEFANINI SYSMAN SASSTEFANINI SYSMAN SAS_AdministrativoIT-SW-09-01"},{"$f":"E1974&F1974","v":"IT-SW-09-01STEFANINI SYSMAN SAS_Administrativo"},null,"STEFANINI SYSMAN SAS","IT-SW-09-01","STEFANINI SYSMAN SAS_Administrativo",{"$f":"D1974","v":"STEFANINI SYSMAN SAS"},"COP","N/A","Soporte técnico en sitio","Mes","Serv","Servicio","Zona 1","Sitio","Técnico/Tecnólogo ó Profesional","IT-SW-09-01","Se facturará mensualmente según el consumo de la Entidad para pago dentro de los 30 días siguientes",6426000,1,1,"USD"]
[{"$f":"D1975&F1975&E1975","v":"STEFANINI SYSMAN SASSTEFANINI SYSMAN SAS_AdministrativoIT-SW-09-02"},{"$f":"E1975&F1975","v":"IT-SW-09-02STEFANINI SYSMAN SAS_Administrativo"},null,"STEFANINI SYSMAN SAS","IT-SW-09-02","STEFANINI SYSMAN SAS_Administrativo",{"$f":"D1975","v":"STEFANINI SYSMAN SAS"},"COP","N/A","Soporte técnico en sitio","Mes","Serv","Servicio","Zona 2","Sitio","Técnico/Tecnólogo ó Profesional","IT-SW-09-02","Se facturará mensualmente según el consumo de la Entidad",9639000,1,1,"USD"]
[{"$f":"D1976&F1976&E1976","v":"STEFANINI SYSMAN SASSTEFANINI SYSMAN SAS_AdministrativoIT-SW-09-03"},{"$f":"E1976&F1976","v":"IT-SW-09-03STEFANINI SYSMAN SAS_Administrativo"},null,"STEFANINI SYSMAN SAS","IT-SW-09-03","STEFANINI SYSMAN SAS_Administrativo",{"$f":"D1976","v":"STEFANINI SYSMAN SAS"},"COP","N/A","Soporte técnico en sitio","Mes","Serv","Servicio","Zona 3","Sitio","Técnico/Tecnólogo ó Profesional","IT-SW-09-03","Se facturará mensualmente según el consumo de la Entidad",14458500,1,1,"USD"]
[{"$f":"D1977&F1977&E1977","v":"STEFANINI SYSMAN SASSTEFANINI SYSMAN SAS_AdministrativoIT-SW-10-01"},{"$f":"E1977&F1977","v":"IT-SW-10-01STEFANINI SYSMAN SAS_Administrativo"},null,"STEFANINI SYSMAN SAS","IT-SW-10-01","STEFANINI SYSMAN SAS_Administrativo",{"$f":"D1977","v":"STEFANINI SYSMAN SAS"},"COP","N/A","Soporte técnico proactivo","Hora","Serv","Servicio","Zona 2","Remoto","Técnico/Tecnólogo ó Profesional","IT-SW-10-01","Se facturará mensualmente según el consumo de la Entidad, para pago dentro de los 30 días siguientes",148750,1,1,"USD"]
[{"$f":"D1978&F1978&E1978","v":"STEFANINI SYSMAN SASSTEFANINI SYSMAN SAS_AdministrativoIT-SW-10-02"},{"$f":"E1978&F1978","v":"IT-SW-10-02STEFANINI SYSMAN SAS_Administrativo"},null,"STEFANINI SYSMAN SAS","IT-SW-10-02","STEFANINI SYSMAN SAS_Administrativo",{"$f":"D1978","v":"STEFANINI SYSMAN SAS"},"COP","N/A","Soporte técnico proactivo","Hora","Serv","Servicio","Zona 2","Sitio","Técnico/Tecnólogo ó Profesional","IT-SW-10-02","Se facturará mensualmente según el consumo de la Entidad, para pago dentro de los 30 días siguientes",267750,1,1,"USD"]
[{"$f":"D1979&F1979&E1979","v":"STEFANINI SYSMAN SASSTEFANINI SYSMAN SAS_AdministrativoIT-SW-10-03"},{"$f":"E1979&F1979","v":"IT-SW-10-03STEFANINI SYSMAN SAS_Administrativo"},null,"STEFANINI SYSMAN SAS","IT-SW-10-03","STEFANINI SYSMAN SAS_Administrativo",{"$f":"D1979","v":"STEFANINI SYSMAN SAS"},"COP","N/A","Soporte técnico proactivo","Hora","Serv","Servicio","Zona 1","Remoto","Técnico/Tecnólogo ó Profesional","IT-SW-10-03","Se facturará mensualmente según el consumo de la Entidad, para pago dentro de los 30 días siguientes",119000,1,1,"USD"]
[{"$f":"D1980&F1980&E1980","v":"STEFANINI SYSMAN SASSTEFANINI SYSMAN SAS_AdministrativoIT-SW-10-04"},{"$f":"E1980&F1980","v":"IT-SW-10-04STEFANINI SYSMAN SAS_Administrativo"},null,"STEFANINI SYSMAN SAS","IT-SW-10-04","STEFANINI SYSMAN SAS_Administrativo",{"$f":"D1980","v":"STEFANINI SYSMAN SAS"},"COP","N/A","Soporte técnico proactivo","Hora","Serv","Servicio","Zona 3","Remoto","Técnico/Tecnólogo ó Profesional","IT-SW-10-04","Se facturará mensualmente según el consumo de la Entidad, para pago dentro de los 30 días siguientes",185938,1,1,"USD"]
[{"$f":"D1981&F1981&E1981","v":"STEFANINI SYSMAN SASSTEFANINI SYSMAN SAS_AdministrativoIT-SW-10-05"},{"$f":"E1981&F1981","v":"IT-SW-10-05STEFANINI SYSMAN SAS_Administrativo"},null,"STEFANINI SYSMAN SAS","IT-SW-10-05","STEFANINI SYSMAN SAS_Administrativo",{"$f":"D1981","v":"STEFANINI SYSMAN SAS"},"COP","N/A","Soporte técnico proactivo","Hora","Serv","Servicio","Zona 3","Sitio","Técnico/Tecnólogo ó Profesional","IT-SW-10-05","Se facturará mensualmente según el consumo de la Entidad, para pago dentro de los 30 días siguientes",401625,1,1,"USD"]
[{"$f":"D1982&F1982&E1982","v":"STEFANINI SYSMAN SASSTEFANINI SYSMAN SAS_AdministrativoIT-SW-10-06"},{"$f":"E1982&F1982","v":"IT-SW-10-06STEFANINI SYSMAN SAS_Administrativo"},null,"STEFANINI SYSMAN SAS","IT-SW-10-06","STEFANINI SYSMAN SAS_Administrativo",{"$f":"D1982","v":"STEFANINI SYSMAN SAS"},"COP","N/A","Soporte técnico proactivo","Hora","Serv","Servicio","Zona 1","Sitio","Técnico/Tecnólogo ó Profesional","IT-SW-10-06","Se facturará mensualmente según el consumo de la Entidad, para pago dentro de los 30 días siguientes",178500,1,1,"USD"]
[{"$f":"D1983&F1983&E1983","v":"STEFANINI SYSMAN SASSTEFANINI SYSMAN SAS_AdministrativoIT-SW-11-01"},{"$f":"E1983&F1983","v":"IT-SW-11-01STEFANINI SYSMAN SAS_Administrativo"},null,"STEFANINI SYSMAN SAS","IT-SW-11-01","STEFANINI SYSMAN SAS_Administrativo",{"$f":"D1983","v":"STEFANINI SYSMAN SAS"},"COP","N/A","Soporte técnico reactivo","Hora","Serv","Servicio","Zona 1","Sitio","Técnico/Tecnólogo ó Profesional","IT-SW-11-01","Se facturará mensualmente según el consumo de la Entidad, para pago dentro de los 30 días siguientes",357000,1,1,"USD"]
[{"$f":"D1984&F1984&E1984","v":"STEFANINI SYSMAN SASSTEFANINI SYSMAN SAS_AdministrativoIT-SW-11-02"},{"$f":"E1984&F1984","v":"IT-SW-11-02STEFANINI SYSMAN SAS_Administrativo"},null,"STEFANINI SYSMAN SAS","IT-SW-11-02","STEFANINI SYSMAN SAS_Administrativo",{"$f":"D1984","v":"STEFANINI SYSMAN SAS"},"COP","N/A","Soporte técnico reactivo","Hora","Serv","Servicio","Zona 2","Remoto","Técnico/Tecnólogo ó Profesional","IT-SW-11-02","Se facturará mensualmente según el consumo de la Entidad, para pago dentro de los 30 días siguientes",297500,1,1,"USD"]
[{"$f":"D1985&F1985&E1985","v":"STEFANINI SYSMAN SASSTEFANINI SYSMAN SAS_AdministrativoIT-SW-11-03"},{"$f":"E1985&F1985","v":"IT-SW-11-03STEFANINI SYSMAN SAS_Administrativo"},null,"STEFANINI SYSMAN SAS","IT-SW-11-03","STEFANINI SYSMAN SAS_Administrativo",{"$f":"D1985","v":"STEFANINI SYSMAN SAS"},"COP","N/A","Soporte técnico reactivo","Hora","Serv","Servicio","Zona 2","Sitio","Técnico/Tecnólogo ó Profesional","IT-SW-11-03","Se facturará mensualmente según el consumo de la Entidad, para pago dentro de los 30 días siguientes",535500,1,1,"USD"]
[{"$f":"D1986&F1986&E1986","v":"STEFANINI SYSMAN SASSTEFANINI SYSMAN SAS_AdministrativoIT-SW-11-04"},{"$f":"E1986&F1986","v":"IT-SW-11-04STEFANINI SYSMAN SAS_Administrativo"},null,"STEFANINI SYSMAN SAS","IT-SW-11-04","STEFANINI SYSMAN SAS_Administrativo",{"$f":"D1986","v":"STEFANINI SYSMAN SAS"},"COP","N/A","Soporte técnico reactivo","Hora","Serv","Servicio","Zona 3","Remoto","Técnico/Tecnólogo ó Profesional","IT-SW-11-04","Se facturará mensualmente según el consumo de la Entidad, para pago dentro de los 30 días siguientes",371875,1,1,"USD"]
[{"$f":"D1987&F1987&E1987","v":"STEFANINI SYSMAN SASSTEFANINI SYSMAN SAS_AdministrativoIT-SW-11-05"},{"$f":"E1987&F1987","v":"IT-SW-11-05STEFANINI SYSMAN SAS_Administrativo"},null,"STEFANINI SYSMAN SAS","IT-SW-11-05","STEFANINI SYSMAN SAS_Administrativo",{"$f":"D1987","v":"STEFANINI SYSMAN SAS"},"COP","N/A","Soporte técnico reactivo","Hora","Serv","Servicio","Zona 3","Sitio","Técnico/Tecnólogo ó Profesional","IT-SW-11-05","Se facturará mensualmente según el consumo de la Entidad, para pago dentro de los 30 días siguientes",803250,1,1,"USD"]
[{"$f":"D1988&F1988&E1988","v":"STEFANINI SYSMAN SASSTEFANINI SYSMAN SAS_AdministrativoIT-SW-11-06"},{"$f":"E1988&F1988","v":"IT-SW-11-06STEFANINI SYSMAN SAS_Administrativo"},null,"STEFANINI SYSMAN SAS","IT-SW-11-06","STEFANINI SYSMAN SAS_Administrativo",{"$f":"D1988","v":"STEFANINI SYSMAN SAS"},"COP","N/A","Soporte técnico reactivo","Hora","Serv","Servicio","Zona 1","Remoto","Técnico/Tecnólogo ó Profesional","IT-SW-11-06","Se facturará mensualmente según el consumo de la Entidad, para pago dentro de los 30 días siguientes",238000,1,1,"USD"]
[{"$f":"D1989&F1989&E1989","v":"STEFANINI SYSMAN SASSTEFANINI SYSMAN SAS_ImpuestosIT-SW-01-01"},{"$f":"E1989&F1989","v":"IT-SW-01-01STEFANINI SYSMAN SAS_Impuestos"},null,"STEFANINI SYSMAN SAS","IT-SW-01-01","STEFANINI SYSMAN SAS_Impuestos",{"$f":"D1989","v":"STEFANINI SYSMAN SAS"},"COP","N/A","Capacitación para usuario final - hasta 10 Personas.","Por sesión de capacitación de 4 horas para un grupo de hasta 10 personas.","Serv","Servicio","Zona 1","Remoto","Capacitador","IT-SW-01-01","Terminada cada sesión será facturara para pago dentro de los 30 días siguientes",1190000,1,1,"USD"]
[{"$f":"D1990&F1990&E1990","v":"STEFANINI SYSMAN SASSTEFANINI SYSMAN SAS_ImpuestosIT-SW-01-02"},{"$f":"E1990&F1990","v":"IT-SW-01-02STEFANINI SYSMAN SAS_Impuestos"},null,"STEFANINI SYSMAN SAS","IT-SW-01-02","STEFANINI SYSMAN SAS_Impuestos",{"$f":"D1990","v":"STEFANINI SYSMAN SAS"},"COP","N/A","Capacitación para usuario final - hasta 10 Personas.","Por sesión de capacitación de 4 horas para un grupo de hasta 10 personas.","Serv","Servicio","Zona 1","Sitio","Capacitador","IT-SW-01-02","Terminada cada sesión será facturara para pago dentro de los 30 días siguientes",1785000,1,1,"USD"]
[{"$f":"D1991&F1991&E1991","v":"STEFANINI SYSMAN SASSTEFANINI SYSMAN SAS_ImpuestosIT-SW-01-03"},{"$f":"E1991&F1991","v":"IT-SW-01-03STEFANINI SYSMAN SAS_Impuestos"},null,"STEFANINI SYSMAN SAS","IT-SW-01-03","STEFANINI SYSMAN SAS_Impuestos",{"$f":"D1991","v":"STEFANINI SYSMAN SAS"},"COP","N/A","Capacitación para usuario final - hasta 10 Personas.","Por sesión de capacitación de 4 horas para un grupo de hasta 10 personas.","Serv","Servicio","Zona 2","Remoto","Capacitador","IT-SW-01-03","Terminada cada sesión será facturara para pago dentro de los 30 días siguientes",1487500,1,1,"USD"]
[{"$f":"D1992&F1992&E1992","v":"STEFANINI SYSMAN SASSTEFANINI SYSMAN SAS_ImpuestosIT-SW-01-04"},{"$f":"E1992&F1992","v":"IT-SW-01-04STEFANINI SYSMAN SAS_Impuestos"},null,"STEFANINI SYSMAN SAS","IT-SW-01-04","STEFANINI SYSMAN SAS_Impuestos",{"$f":"D1992","v":"STEFANINI SYSMAN SAS"},"COP","N/A","Capacitación para usuario final - hasta 10 Personas.","Por sesión de capacitación de 4 horas para un grupo de hasta 10 personas.","Serv","Servicio","Zona 2","Sitio","Capacitador","IT-SW-01-04","Terminada cada sesión será facturara para pago dentro de los 30 días siguientes",2677500,1,1,"USD"]
[{"$f":"D1993&F1993&E1993","v":"STEFANINI SYSMAN SASSTEFANINI SYSMAN SAS_ImpuestosIT-SW-01-05"},{"$f":"E1993&F1993","v":"IT-SW-01-05STEFANINI SYSMAN SAS_Impuestos"},null,"STEFANINI SYSMAN SAS","IT-SW-01-05","STEFANINI SYSMAN SAS_Impuestos",{"$f":"D1993","v":"STEFANINI SYSMAN SAS"},"COP","N/A","Capacitación para usuario final - hasta 10 Personas.","Por sesión de capacitación de 4 horas para un grupo de hasta 10 personas.","Serv","Servicio","Zona 3","Remoto","Capacitador","IT-SW-01-05","Terminada cada sesión será facturara para pago dentro de los 30 días siguientes",1859375,1,1,"USD"]
[{"$f":"D1994&F1994&E1994","v":"STEFANINI SYSMAN SASSTEFANINI SYSMAN SAS_ImpuestosIT-SW-01-06"},{"$f":"E1994&F1994","v":"IT-SW-01-06STEFANINI SYSMAN SAS_Impuestos"},null,"STEFANINI SYSMAN SAS","IT-SW-01-06","STEFANINI SYSMAN SAS_Impuestos",{"$f":"D1994","v":"STEFANINI SYSMAN SAS"},"COP","N/A","Capacitación para usuario final - hasta 10 Personas.","Por sesión de capacitación de 4 horas para un grupo de hasta 10 personas.","Serv","Servicio","Zona 3","Sitio","Capacitador","IT-SW-01-06","Terminada cada sesión será facturara para pago dentro de los 30 días siguientes",4016250,1,1,"USD"]
[{"$f":"D1995&F1995&E1995","v":"STEFANINI SYSMAN SASSTEFANINI SYSMAN SAS_ImpuestosIT-SW-02-01"},{"$f":"E1995&F1995","v":"IT-SW-02-01STEFANINI SYSMAN SAS_Impuestos"},null,"STEFANINI SYSMAN SAS","IT-SW-02-01","STEFANINI SYSMAN SAS_Impuestos",{"$f":"D1995","v":"STEFANINI SYSMAN SAS"},"COP","N/A","Capacitación para usuario final hasta 20 Personas.","Por sesión de capacitación de 4 horas para un grupo de hasta 20 personas.","Serv","Servicio","Zona 1","Remoto","Capacitador","IT-SW-02-01","Terminada cada sesión será facturara para pago dentro de los 30 días siguientes",1487500,1,1,"USD"]
[{"$f":"D1996&F1996&E1996","v":"STEFANINI SYSMAN SASSTEFANINI SYSMAN SAS_ImpuestosIT-SW-02-02"},{"$f":"E1996&F1996","v":"IT-SW-02-02STEFANINI SYSMAN SAS_Impuestos"},null,"STEFANINI SYSMAN SAS","IT-SW-02-02","STEFANINI SYSMAN SAS_Impuestos",{"$f":"D1996","v":"STEFANINI SYSMAN SAS"},"COP","N/A","Capacitación para usuario final hasta 20 Personas.","Por sesión de capacitación de 4 horas para un grupo de hasta 20 personas.","Serv","Servicio","Zona 1","Sitio","Capacitador","IT-SW-02-02","Terminada cada sesión será facturara para pago dentro de los 30 días siguientes",2231250,1,1,"USD"]
[{"$f":"D1997&F1997&E1997","v":"STEFANINI SYSMAN SASSTEFANINI SYSMAN SAS_ImpuestosIT-SW-02-03"},{"$f":"E1997&F1997","v":"IT-SW-02-03STEFANINI SYSMAN SAS_Impuestos"},null,"STEFANINI SYSMAN SAS","IT-SW-02-03","STEFANINI SYSMAN SAS_Impuestos",{"$f":"D1997","v":"STEFANINI SYSMAN SAS"},"COP","N/A","Capacitación para usuario final hasta 20 Personas.","Por sesión de capacitación de 4 horas para un grupo de hasta 20 personas.","Serv","Servicio","Zona 2","Remoto","Capacitador","IT-SW-02-03","Terminada cada sesión será facturara para pago dentro de los 30 días siguientes",1859375,1,1,"USD"]
[{"$f":"D1998&F1998&E1998","v":"STEFANINI SYSMAN SASSTEFANINI SYSMAN SAS_ImpuestosIT-SW-02-04"},{"$f":"E1998&F1998","v":"IT-SW-02-04STEFANINI SYSMAN SAS_Impuestos"},null,"STEFANINI SYSMAN SAS","IT-SW-02-04","STEFANINI SYSMAN SAS_Impuestos",{"$f":"D1998","v":"STEFANINI SYSMAN SAS"},"COP","N/A","Capacitación para usuario final hasta 20 Personas.","Por sesión de capacitación de 4 horas para un grupo de hasta 20 personas.","Serv","Servicio","Zona 2","Sitio","Capacitador","IT-SW-02-04","Terminada cada sesión será facturara para pago dentro de los 30 días siguientes",3346875,1,1,"USD"]
[{"$f":"D1999&F1999&E1999","v":"STEFANINI SYSMAN SASSTEFANINI SYSMAN SAS_ImpuestosIT-SW-02-05"},{"$f":"E1999&F1999","v":"IT-SW-02-05STEFANINI SYSMAN SAS_Impuestos"},null,"STEFANINI SYSMAN SAS","IT-SW-02-05","STEFANINI SYSMAN SAS_Impuestos",{"$f":"D1999","v":"STEFANINI SYSMAN SAS"},"COP","N/A","Capacitación para usuario final hasta 20 Personas.","Por sesión de capacitación de 4 horas para un grupo de hasta 20 personas.","Serv","Servicio","Zona 3","Remoto","Capacitador","IT-SW-02-05","Terminada cada sesión será facturara para pago dentro de los 30 días siguientes",2324219,1,1,"USD"]
[{"$f":"D2000&F2000&E2000","v":"STEFANINI SYSMAN SASSTEFANINI SYSMAN SAS_ImpuestosIT-SW-02-06"},{"$f":"E2000&F2000","v":"IT-SW-02-06STEFANINI SYSMAN SAS_Impuestos"},null,"STEFANINI SYSMAN SAS","IT-SW-02-06","STEFANINI SYSMAN SAS_Impuestos",{"$f":"D2000","v":"STEFANINI SYSMAN SAS"},"COP","N/A","Capacitación para usuario final hasta 20 Personas.","Por sesión de capacitación de 4 horas para un grupo de hasta 20 personas.","Serv","Servicio","Zona 3","Sitio","Capacitador","IT-SW-02-06","Terminada cada sesión será facturara para pago dentro de los 30 días siguientes",5020313,1,1,"USD"]
[{"$f":"D2001&F2001&E2001","v":"STEFANINI SYSMAN SASSTEFANINI SYSMAN SAS_ImpuestosIT-SW-03-01"},{"$f":"E2001&F2001","v":"IT-SW-03-01STEFANINI SYSMAN SAS_Impuestos"},null,"STEFANINI SYSMAN SAS","IT-SW-03-01","STEFANINI SYSMAN SAS_Impuestos",{"$f":"D2001","v":"STEFANINI SYSMAN SAS"},"COP","N/A","Capacitación para usuario técnico o administrador - hasta 10 Personas.","Por sesión de capacitación de 4 horas para un grupo de hasta 10 personas.","Serv","Servicio","Zona 1","Remoto","Capacitador","IT-SW-03-01","Terminada cada sesión será facturara para pago dentro de los 30 días siguientes",1190000,1,1,"USD"]
[{"$f":"D2002&F2002&E2002","v":"STEFANINI SYSMAN SASSTEFANINI SYSMAN SAS_ImpuestosIT-SW-03-02"},{"$f":"E2002&F2002","v":"IT-SW-03-02STEFANINI SYSMAN SAS_Impuestos"},null,"STEFANINI SYSMAN SAS","IT-SW-03-02","STEFANINI SYSMAN SAS_Impuestos",{"$f":"D2002","v":"STEFANINI SYSMAN SAS"},"COP","N/A","Capacitación para usuario técnico o administrador - hasta 10 Personas.","Por sesión de capacitación de 4 horas para un grupo de hasta 10 personas.","Serv","Servicio","Zona 1","Sitio","Capacitador","IT-SW-03-02","Terminada cada sesión será facturara para pago dentro de los 30 días siguientes",1785000,1,1,"USD"]
[{"$f":"D2003&F2003&E2003","v":"STEFANINI SYSMAN SASSTEFANINI SYSMAN SAS_ImpuestosIT-SW-03-03"},{"$f":"E2003&F2003","v":"IT-SW-03-03STEFANINI SYSMAN SAS_Impuestos"},null,"STEFANINI SYSMAN SAS","IT-SW-03-03","STEFANINI SYSMAN SAS_Impuestos",{"$f":"D2003","v":"STEFANINI SYSMAN SAS"},"COP","N/A","Capacitación para usuario técnico o administrador - hasta 10 Personas.","Por sesión de capacitación de 4 horas para un grupo de hasta 10 personas.","Serv","Servicio","Zona 2","Remoto","Capacitador","IT-SW-03-03","Terminada cada sesión será facturara para pago dentro de los 30 días siguientes",1487500,1,1,"USD"]
[{"$f":"D2004&F2004&E2004","v":"STEFANINI SYSMAN SASSTEFANINI SYSMAN SAS_ImpuestosIT-SW-03-04"},{"$f":"E2004&F2004","v":"IT-SW-03-04STEFANINI SYSMAN SAS_Impuestos"},null,"STEFANINI SYSMAN SAS","IT-SW-03-04","STEFANINI SYSMAN SAS_Impuestos",{"$f":"D2004","v":"STEFANINI SYSMAN SAS"},"COP","N/A","Capacitación para usuario técnico o administrador - hasta 10 Personas.","Por sesión de capacitación de 4 horas para un grupo de hasta 10 personas.","Serv","Servicio","Zona 2","Sitio","Capacitador","IT-SW-03-04","Terminada cada sesión será facturara para pago dentro de los 30 días siguientes",2677500,1,1,"USD"]
[{"$f":"D2005&F2005&E2005","v":"STEFANINI SYSMAN SASSTEFANINI SYSMAN SAS_ImpuestosIT-SW-03-05"},{"$f":"E2005&F2005","v":"IT-SW-03-05STEFANINI SYSMAN SAS_Impuestos"},null,"STEFANINI SYSMAN SAS","IT-SW-03-05","STEFANINI SYSMAN SAS_Impuestos",{"$f":"D2005","v":"STEFANINI SYSMAN SAS"},"COP","N/A","Capacitación para usuario técnico o administrador - hasta 10 Personas.","Por sesión de capacitación de 4 horas para un grupo de hasta 10 personas.","Serv","Servicio","Zona 3","Remoto","Capacitador","IT-SW-03-05","Terminada cada sesión será facturara para pago dentro de los 30 días siguientes",1859375,1,1,"USD"]
[{"$f":"D2006&F2006&E2006","v":"STEFANINI SYSMAN SASSTEFANINI SYSMAN SAS_ImpuestosIT-SW-03-06"},{"$f":"E2006&F2006","v":"IT-SW-03-06STEFANINI SYSMAN SAS_Impuestos"},null,"STEFANINI SYSMAN SAS","IT-SW-03-06","STEFANINI SYSMAN SAS_Impuestos",{"$f":"D2006","v":"STEFANINI SYSMAN SAS"},"COP","N/A","Capacitación para usuario técnico o administrador - hasta 10 Personas.","Por sesión de capacitación de 4 horas para un grupo de hasta 10 personas.","Serv","Servicio","Zona 3","Sitio","Capacitador","IT-SW-03-06","Terminada cada sesión será facturara para pago dentro de los 30 días siguientes",4016250,1,1,"USD"]
[{"$f":"D2007&F2007&E2007","v":"STEFANINI SYSMAN SASSTEFANINI SYSMAN SAS_ImpuestosIT-SW-04-01"},{"$f":"E2007&F2007","v":"IT-SW-04-01STEFANINI SYSMAN SAS_Impuestos"},null,"STEFANINI SYSMAN SAS","IT-SW-04-01","STEFANINI SYSMAN SAS_Impuestos",{"$f":"D2007","v":"STEFANINI SYSMAN SAS"},"COP","N/A","Capacitación para usuario técnico o administrador hasta 20 Personas.","Por sesión de capacitación de 4 horas para un grupo de hasta 20 personas.","Serv","Servicio","Zona 1","Remoto","Capacitador","IT-SW-04-01","Terminada cada sesión será facturara para pago dentro de los 30 días siguientes",1487500,1,1,"USD"]
[{"$f":"D2008&F2008&E2008","v":"STEFANINI SYSMAN SASSTEFANINI SYSMAN SAS_ImpuestosIT-SW-04-02"},{"$f":"E2008&F2008","v":"IT-SW-04-02STEFANINI SYSMAN SAS_Impuestos"},null,"STEFANINI SYSMAN SAS","IT-SW-04-02","STEFANINI SYSMAN SAS_Impuestos",{"$f":"D2008","v":"STEFANINI SYSMAN SAS"},"COP","N/A","Capacitación para usuario técnico o administrador hasta 20 Personas.","Por sesión de capacitación de 4 horas para un grupo de hasta 20 personas.","Serv","Servicio","Zona 1","Sitio","Capacitador","IT-SW-04-02","Terminada cada sesión será facturara para pago dentro de los 30 días siguientes",2231250,1,1,"USD"]
[{"$f":"D2009&F2009&E2009","v":"STEFANINI SYSMAN SASSTEFANINI SYSMAN SAS_ImpuestosIT-SW-04-03"},{"$f":"E2009&F2009","v":"IT-SW-04-03STEFANINI SYSMAN SAS_Impuestos"},null,"STEFANINI SYSMAN SAS","IT-SW-04-03","STEFANINI SYSMAN SAS_Impuestos",{"$f":"D2009","v":"STEFANINI SYSMAN SAS"},"COP","N/A","Capacitación para usuario técnico o administrador hasta 20 Personas.","Por sesión de capacitación de 4 horas para un grupo de hasta 20 personas.","Serv","Servicio","Zona 2","Remoto","Capacitador","IT-SW-04-03","Terminada cada sesión será facturara para pago dentro de los 30 días siguientes",1859375,1,1,"USD"]
[{"$f":"D2010&F2010&E2010","v":"STEFANINI SYSMAN SASSTEFANINI SYSMAN SAS_ImpuestosIT-SW-04-04"},{"$f":"E2010&F2010","v":"IT-SW-04-04STEFANINI SYSMAN SAS_Impuestos"},null,"STEFANINI SYSMAN SAS","IT-SW-04-04","STEFANINI SYSMAN SAS_Impuestos",{"$f":"D2010","v":"STEFANINI SYSMAN SAS"},"COP","N/A","Capacitación para usuario técnico o administrador hasta 20 Personas.","Por sesión de capacitación de 4 horas para un grupo de hasta 20 personas.","Serv","Servicio","Zona 2","Sitio","Capacitador","IT-SW-04-04","Terminada cada sesión será facturara para pago dentro de los 30 días siguientes",3346875,1,1,"USD"]
[{"$f":"D2011&F2011&E2011","v":"STEFANINI SYSMAN SASSTEFANINI SYSMAN SAS_ImpuestosIT-SW-04-05"},{"$f":"E2011&F2011","v":"IT-SW-04-05STEFANINI SYSMAN SAS_Impuestos"},null,"STEFANINI SYSMAN SAS","IT-SW-04-05","STEFANINI SYSMAN SAS_Impuestos",{"$f":"D2011","v":"STEFANINI SYSMAN SAS"},"COP","N/A","Capacitación para usuario técnico o administrador hasta 20 Personas.","Por sesión de capacitación de 4 horas para un grupo de hasta 20 personas.","Serv","Servicio","Zona 3","Remoto","Capacitador","IT-SW-04-05","Terminada cada sesión será facturara para pago dentro de los 30 días siguientes",2324219,1,1,"USD"]
[{"$f":"D2012&F2012&E2012","v":"STEFANINI SYSMAN SASSTEFANINI SYSMAN SAS_ImpuestosIT-SW-04-06"},{"$f":"E2012&F2012","v":"IT-SW-04-06STEFANINI SYSMAN SAS_Impuestos"},null,"STEFANINI SYSMAN SAS","IT-SW-04-06","STEFANINI SYSMAN SAS_Impuestos",{"$f":"D2012","v":"STEFANINI SYSMAN SAS"},"COP","N/A","Capacitación para usuario técnico o administrador hasta 20 Personas.","Por sesión de capacitación de 4 horas para un grupo de hasta 20 personas.","Serv","Servicio","Zona 3","Sitio","Capacitador","IT-SW-04-06","Terminada cada sesión será facturara para pago dentro de los 30 días siguientes",5020313,1,1,"USD"]
[{"$f":"D2013&F2013&E2013","v":"STEFANINI SYSMAN SASSTEFANINI SYSMAN SAS_ImpuestosIT-SW-05-01"},{"$f":"E2013&F2013","v":"IT-SW-05-01STEFANINI SYSMAN SAS_Impuestos"},null,"STEFANINI SYSMAN SAS","IT-SW-05-01","STEFANINI SYSMAN SAS_Impuestos",{"$f":"D2013","v":"STEFANINI SYSMAN SAS"},"COP","N/A","Configuración y parametrización de los Productos","Hora","Serv","Servicio","Zona 1","Remoto","Profesional","IT-SW-05-01","Al término de la configuración y parametrización, serán facturadas todas las horas en este servicio para pago dentro de los 30 días siguientes",95200,1,1,"USD"]
[{"$f":"D2014&F2014&E2014","v":"STEFANINI SYSMAN SASSTEFANINI SYSMAN SAS_ImpuestosIT-SW-05-02"},{"$f":"E2014&F2014","v":"IT-SW-05-02STEFANINI SYSMAN SAS_Impuestos"},null,"STEFANINI SYSMAN SAS","IT-SW-05-02","STEFANINI SYSMAN SAS_Impuestos",{"$f":"D2014","v":"STEFANINI SYSMAN SAS"},"COP","N/A","Configuración y parametrización de los Productos","Hora","Serv","Servicio","Zona 1","Sitio","Profesional","IT-SW-05-02","Al término de la configuración y parametrización, serán facturadas todas las horas en este servicio para pago dentro de los 30 días siguientes",142800,1,1,"USD"]
[{"$f":"D2015&F2015&E2015","v":"STEFANINI SYSMAN SASSTEFANINI SYSMAN SAS_ImpuestosIT-SW-05-03"},{"$f":"E2015&F2015","v":"IT-SW-05-03STEFANINI SYSMAN SAS_Impuestos"},null,"STEFANINI SYSMAN SAS","IT-SW-05-03","STEFANINI SYSMAN SAS_Impuestos",{"$f":"D2015","v":"STEFANINI SYSMAN SAS"},"COP","N/A","Configuración y parametrización de los Productos","Hora","Serv","Servicio","Zona 2","Remoto","Profesional","IT-SW-05-03","Al término de la configuración y parametrización, serán facturadas todas las horas en este servicio para pago dentro de los 30 días siguientes",119000,1,1,"USD"]
[{"$f":"D2016&F2016&E2016","v":"STEFANINI SYSMAN SASSTEFANINI SYSMAN SAS_ImpuestosIT-SW-05-04"},{"$f":"E2016&F2016","v":"IT-SW-05-04STEFANINI SYSMAN SAS_Impuestos"},null,"STEFANINI SYSMAN SAS","IT-SW-05-04","STEFANINI SYSMAN SAS_Impuestos",{"$f":"D2016","v":"STEFANINI SYSMAN SAS"},"COP","N/A","Configuración y parametrización de los Productos","Hora","Serv","Servicio","Zona 2","Sitio","Profesional","IT-SW-05-04","Al término de la configuración y parametrización, serán facturadas todas las horas en este servicio para pago dentro de los 30 días siguientes",214200,1,1,"USD"]
[{"$f":"D2017&F2017&E2017","v":"STEFANINI SYSMAN SASSTEFANINI SYSMAN SAS_ImpuestosIT-SW-05-05"},{"$f":"E2017&F2017","v":"IT-SW-05-05STEFANINI SYSMAN SAS_Impuestos"},null,"STEFANINI SYSMAN SAS","IT-SW-05-05","STEFANINI SYSMAN SAS_Impuestos",{"$f":"D2017","v":"STEFANINI SYSMAN SAS"},"COP","N/A","Configuración y parametrización de los Productos","Hora","Serv","Servicio","Zona 3","Remoto","Profesional","IT-SW-05-05","Al término de la configuración y parametrización, serán facturadas todas las horas en este servicio para pago dentro de los 30 días siguientes",178500,1,1,"USD"]
[{"$f":"D2018&F2018&E2018","v":"STEFANINI SYSMAN SASSTEFANINI SYSMAN SAS_ImpuestosIT-SW-05-06"},{"$f":"E2018&F2018","v":"IT-SW-05-06STEFANINI SYSMAN SAS_Impuestos"},null,"STEFANINI SYSMAN SAS","IT-SW-05-06","STEFANINI SYSMAN SAS_Impuestos",{"$f":"D2018","v":"STEFANINI SYSMAN SAS"},"COP","N/A","Configuración y parametrización de los Productos","Hora","Serv","Servicio","Zona 3","Sitio","Profesional","IT-SW-05-06","Al término de la configuración y parametrización, serán facturadas todas las horas en este servicio para pago dentro de los 30 días siguientes",321300,1,1,"USD"]
[{"$f":"D2019&F2019&E2019","v":"STEFANINI SYSMAN SASSTEFANINI SYSMAN SAS_ImpuestosIT-SW-06-01"},{"$f":"E2019&F2019","v":"IT-SW-06-01STEFANINI SYSMAN SAS_Impuestos"},null,"STEFANINI SYSMAN SAS","IT-SW-06-01","STEFANINI SYSMAN SAS_Impuestos",{"$f":"D2019","v":"STEFANINI SYSMAN SAS"},"COP","N/A","Gerente de cuenta (soporte)","Mes","Serv","Servicio","Zona 1","Sitio","Profesional","IT-SW-06-01","El servicio será facturado mensualmente para pago dentro de los 30 días siguientes",11900000,1,1,"USD"]
[{"$f":"D2020&F2020&E2020","v":"STEFANINI SYSMAN SASSTEFANINI SYSMAN SAS_ImpuestosIT-SW-06-02"},{"$f":"E2020&F2020","v":"IT-SW-06-02STEFANINI SYSMAN SAS_Impuestos"},null,"STEFANINI SYSMAN SAS","IT-SW-06-02","STEFANINI SYSMAN SAS_Impuestos",{"$f":"D2020","v":"STEFANINI SYSMAN SAS"},"COP","N/A","Gerente de cuenta (soporte)","Mes","Serv","Servicio","Zona 2","Sitio","Profesional","IT-SW-06-02","El servicio será facturado mensualmente para pago dentro de los 30 días siguientes",14875000,1,1,"USD"]
[{"$f":"D2021&F2021&E2021","v":"STEFANINI SYSMAN SASSTEFANINI SYSMAN SAS_ImpuestosIT-SW-06-03"},{"$f":"E2021&F2021","v":"IT-SW-06-03STEFANINI SYSMAN SAS_Impuestos"},null,"STEFANINI SYSMAN SAS","IT-SW-06-03","STEFANINI SYSMAN SAS_Impuestos",{"$f":"D2021","v":"STEFANINI SYSMAN SAS"},"COP","N/A","Gerente de cuenta (soporte)","Mes","Serv","Servicio","Zona 3","Sitio","Profesional","IT-SW-06-03","El servicio será facturado mensualmente para pago dentro de los 30 días siguientes",20081250,1,1,"USD"]
[{"$f":"D2022&F2022&E2022","v":"STEFANINI SYSMAN SASSTEFANINI SYSMAN SAS_ImpuestosIT-SW-07-01"},{"$f":"E2022&F2022","v":"IT-SW-07-01STEFANINI SYSMAN SAS_Impuestos"},null,"STEFANINI SYSMAN SAS","IT-SW-07-01","STEFANINI SYSMAN SAS_Impuestos",{"$f":"D2022","v":"STEFANINI SYSMAN SAS"},"COP","N/A","Instalación de Licencia o Suscripción Anual, o afínes","Unidad","Und","Servicio","Zona 1","Remoto","Técnico/Tecnólogo ó Profesional","IT-SW-07-01","Se facturará cuando sea entregada cada licencia correctamente instalada, para su pago dentro de los 30 días siguientes",18593750,1,1,"USD"]
[{"$f":"D2023&F2023&E2023","v":"STEFANINI SYSMAN SASSTEFANINI SYSMAN SAS_ImpuestosIT-SW-07-02"},{"$f":"E2023&F2023","v":"IT-SW-07-02STEFANINI SYSMAN SAS_Impuestos"},null,"STEFANINI SYSMAN SAS","IT-SW-07-02","STEFANINI SYSMAN SAS_Impuestos",{"$f":"D2023","v":"STEFANINI SYSMAN SAS"},"COP","N/A","Instalación de Licencia o Suscripción Anual, o afínes","Unidad","Und","Servicio","Zona 1","Sitio","Técnico/Tecnólogo ó Profesional","IT-SW-07-02","Se facturará cuando sea entregada cada licencia correctamente instalada, para su pago dentro de los 30 días siguientes",23242188,1,1,"USD"]
[{"$f":"D2024&F2024&E2024","v":"STEFANINI SYSMAN SASSTEFANINI SYSMAN SAS_ImpuestosIT-SW-07-03"},{"$f":"E2024&F2024","v":"IT-SW-07-03STEFANINI SYSMAN SAS_Impuestos"},null,"STEFANINI SYSMAN SAS","IT-SW-07-03","STEFANINI SYSMAN SAS_Impuestos",{"$f":"D2024","v":"STEFANINI SYSMAN SAS"},"COP","N/A","Instalación de Licencia o Suscripción Anual, o afínes","Unidad","Und","Servicio","Zona 2","Remoto","Técnico/Tecnólogo ó Profesional","IT-SW-07-03","Se facturará cuando sea entregada cada licencia correctamente instalada, para su pago dentro de los 30 días siguientes",25101563,1,1,"USD"]
[{"$f":"D2025&F2025&E2025","v":"STEFANINI SYSMAN SASSTEFANINI SYSMAN SAS_ImpuestosIT-SW-07-04"},{"$f":"E2025&F2025","v":"IT-SW-07-04STEFANINI SYSMAN SAS_Impuestos"},null,"STEFANINI SYSMAN SAS","IT-SW-07-04","STEFANINI SYSMAN SAS_Impuestos",{"$f":"D2025","v":"STEFANINI SYSMAN SAS"},"COP","N/A","Instalación de Licencia o Suscripción Anual, o afínes","Unidad","Und","Servicio","Zona 2","Sitio","Técnico/Tecnólogo ó Profesional","IT-SW-07-04","Se facturará cuando sea entregada cada licencia correctamente instalada, para su pago dentro de los 30 días siguientes",29052735,1,1,"USD"]
[{"$f":"D2026&F2026&E2026","v":"STEFANINI SYSMAN SASSTEFANINI SYSMAN SAS_ImpuestosIT-SW-07-05"},{"$f":"E2026&F2026","v":"IT-SW-07-05STEFANINI SYSMAN SAS_Impuestos"},null,"STEFANINI SYSMAN SAS","IT-SW-07-05","STEFANINI SYSMAN SAS_Impuestos",{"$f":"D2026","v":"STEFANINI SYSMAN SAS"},"COP","N/A","Instalación de Licencia o Suscripción Anual, o afínes","Unidad","Und","Servicio","Zona 3","Remoto","Técnico/Tecnólogo ó Profesional","IT-SW-07-05","Se facturará cuando sea entregada cada licencia correctamente instalada, para su pago dentro de los 30 días siguientes",33887110,1,1,"USD"]
[{"$f":"D2027&F2027&E2027","v":"STEFANINI SYSMAN SASSTEFANINI SYSMAN SAS_ImpuestosIT-SW-07-06"},{"$f":"E2027&F2027","v":"IT-SW-07-06STEFANINI SYSMAN SAS_Impuestos"},null,"STEFANINI SYSMAN SAS","IT-SW-07-06","STEFANINI SYSMAN SAS_Impuestos",{"$f":"D2027","v":"STEFANINI SYSMAN SAS"},"COP","N/A","Instalación de Licencia o Suscripción Anual, o afínes","Unidad","Und","Servicio","Zona 3","Sitio","Técnico/Tecnólogo ó Profesional","IT-SW-07-06","Se facturará cuando sea entregada cada licencia correctamente instalada, para su pago dentro de los 30 días siguientes",36315918,1,1,"USD"]
[{"$f":"D2028&F2028&E2028","v":"STEFANINI SYSMAN SASSTEFANINI SYSMAN SAS_ImpuestosIT-SW-08-01"},{"$f":"E2028&F2028","v":"IT-SW-08-01STEFANINI SYSMAN SAS_Impuestos"},null,"STEFANINI SYSMAN SAS","IT-SW-08-01","STEFANINI SYSMAN SAS_Impuestos",{"$f":"D2028","v":"STEFANINI SYSMAN SAS"},"COP","N/A","Migración de información por volumen de datos almacenados","GB","Serv","Servicio","Zona 1","Remoto","Profesional","IT-SW-08-01","Se facturará una vez terminado el proceso de migración y revisión, para pago dentro de los 30 días siguientes",1208594,1,1,"USD"]
[{"$f":"D2029&F2029&E2029","v":"STEFANINI SYSMAN SASSTEFANINI SYSMAN SAS_ImpuestosIT-SW-08-02"},{"$f":"E2029&F2029","v":"IT-SW-08-02STEFANINI SYSMAN SAS_Impuestos"},null,"STEFANINI SYSMAN SAS","IT-SW-08-02","STEFANINI SYSMAN SAS_Impuestos",{"$f":"D2029","v":"STEFANINI SYSMAN SAS"},"COP","N/A","Migración de información por volumen de datos almacenados","GB","Serv","Servicio","Zona 1","Sitio","Profesional","IT-SW-08-02","Se facturará una vez terminado el proceso de migración y revisión, para pago dentro de los 30 días siguientes",1812891,1,1,"USD"]
[{"$f":"D2030&F2030&E2030","v":"STEFANINI SYSMAN SASSTEFANINI SYSMAN SAS_ImpuestosIT-SW-08-03"},{"$f":"E2030&F2030","v":"IT-SW-08-03STEFANINI SYSMAN SAS_Impuestos"},null,"STEFANINI SYSMAN SAS","IT-SW-08-03","STEFANINI SYSMAN SAS_Impuestos",{"$f":"D2030","v":"STEFANINI SYSMAN SAS"},"COP","N/A","Migración de información por volumen de datos almacenados","GB","Serv","Servicio","Zona 2","Remoto","Profesional","IT-SW-08-03","Se facturará una vez terminado el proceso de migración y revisión, para pago dentro de los 30 días siguientes",1510742,1,1,"USD"]
[{"$f":"D2031&F2031&E2031","v":"STEFANINI SYSMAN SASSTEFANINI SYSMAN SAS_ImpuestosIT-SW-08-04"},{"$f":"E2031&F2031","v":"IT-SW-08-04STEFANINI SYSMAN SAS_Impuestos"},null,"STEFANINI SYSMAN SAS","IT-SW-08-04","STEFANINI SYSMAN SAS_Impuestos",{"$f":"D2031","v":"STEFANINI SYSMAN SAS"},"COP","N/A","Migración de información por volumen de datos almacenados","GB","Serv","Servicio","Zona 2","Sitio","Profesional","IT-SW-08-04","Se facturará una vez terminado el proceso de migración y revisión, para pago dentro de los 30 días siguientes",2719336,1,1,"USD"]
[{"$f":"D2032&F2032&E2032","v":"STEFANINI SYSMAN SASSTEFANINI SYSMAN SAS_ImpuestosIT-SW-08-05"},{"$f":"E2032&F2032","v":"IT-SW-08-05STEFANINI SYSMAN SAS_Impuestos"},null,"STEFANINI SYSMAN SAS","IT-SW-08-05","STEFANINI SYSMAN SAS_Impuestos",{"$f":"D2032","v":"STEFANINI SYSMAN SAS"},"COP","N/A","Migración de información por volumen de datos almacenados","GB","Serv","Servicio","Zona 3","Remoto","Profesional","IT-SW-08-05","Se facturará una vez terminado el proceso de migración y revisión, para pago dentro de los 30 días siguientes",1812891,1,1,"USD"]
[{"$f":"D2033&F2033&E2033","v":"STEFANINI SYSMAN SASSTEFANINI SYSMAN SAS_ImpuestosIT-SW-08-06"},{"$f":"E2033&F2033","v":"IT-SW-08-06STEFANINI SYSMAN SAS_Impuestos"},null,"STEFANINI SYSMAN SAS","IT-SW-08-06","STEFANINI SYSMAN SAS_Impuestos",{"$f":"D2033","v":"STEFANINI SYSMAN SAS"},"COP","N/A","Migración de información por volumen de datos almacenados","GB","Serv","Servicio","Zona 3","Sitio","Profesional","IT-SW-08-06","Se facturará una vez terminado el proceso de migración y revisión, para pago dentro de los 30 días siguientes",4079003,1,1,"USD"]
[{"$f":"D2034&F2034&E2034","v":"STEFANINI SYSMAN SASSTEFANINI SYSMAN SAS_ImpuestosIT-SW-09-01"},{"$f":"E2034&F2034","v":"IT-SW-09-01STEFANINI SYSMAN SAS_Impuestos"},null,"STEFANINI SYSMAN SAS","IT-SW-09-01","STEFANINI SYSMAN SAS_Impuestos",{"$f":"D2034","v":"STEFANINI SYSMAN SAS"},"COP","N/A","Soporte técnico en sitio","Mes","Serv","Servicio","Zona 1","Sitio","Técnico/Tecnólogo ó Profesional","IT-SW-09-01","Se facturará mensualmente según el consumo de la Entidad, para pago dentro de los 30 días siguientes",6426000,1,1,"USD"]
[{"$f":"D2035&F2035&E2035","v":"STEFANINI SYSMAN SASSTEFANINI SYSMAN SAS_ImpuestosIT-SW-09-02"},{"$f":"E2035&F2035","v":"IT-SW-09-02STEFANINI SYSMAN SAS_Impuestos"},null,"STEFANINI SYSMAN SAS","IT-SW-09-02","STEFANINI SYSMAN SAS_Impuestos",{"$f":"D2035","v":"STEFANINI SYSMAN SAS"},"COP","N/A","Soporte técnico en sitio","Mes","Serv","Servicio","Zona 2","Sitio","Técnico/Tecnólogo ó Profesional","IT-SW-09-02","Se facturará mensualmente según el consumo de la Entidad, para pago dentro de los 30 días siguientes",9639000,1,1,"USD"]
[{"$f":"D2036&F2036&E2036","v":"STEFANINI SYSMAN SASSTEFANINI SYSMAN SAS_ImpuestosIT-SW-09-03"},{"$f":"E2036&F2036","v":"IT-SW-09-03STEFANINI SYSMAN SAS_Impuestos"},null,"STEFANINI SYSMAN SAS","IT-SW-09-03","STEFANINI SYSMAN SAS_Impuestos",{"$f":"D2036","v":"STEFANINI SYSMAN SAS"},"COP","N/A","Soporte técnico en sitio","Mes","Serv","Servicio","Zona 3","Sitio","Técnico/Tecnólogo ó Profesional","IT-SW-09-03","Se facturará mensualmente según el consumo de la Entidad, para pago dentro de los 30 días siguientes",14458500,1,1,"USD"]
[{"$f":"D2037&F2037&E2037","v":"STEFANINI SYSMAN SASSTEFANINI SYSMAN SAS_ImpuestosIT-SW-10-01"},{"$f":"E2037&F2037","v":"IT-SW-10-01STEFANINI SYSMAN SAS_Impuestos"},null,"STEFANINI SYSMAN SAS","IT-SW-10-01","STEFANINI SYSMAN SAS_Impuestos",{"$f":"D2037","v":"STEFANINI SYSMAN SAS"},"COP","N/A","Soporte técnico proactivo","Hora","Serv","Servicio","Zona 2","Remoto","Técnico/Tecnólogo ó Profesional","IT-SW-10-01","Se facturará mensualmente según el consumo de la Entidad, para pago dentro de los 30 días siguientes",148750,1,1,"USD"]
[{"$f":"D2038&F2038&E2038","v":"STEFANINI SYSMAN SASSTEFANINI SYSMAN SAS_ImpuestosIT-SW-10-02"},{"$f":"E2038&F2038","v":"IT-SW-10-02STEFANINI SYSMAN SAS_Impuestos"},null,"STEFANINI SYSMAN SAS","IT-SW-10-02","STEFANINI SYSMAN SAS_Impuestos",{"$f":"D2038","v":"STEFANINI SYSMAN SAS"},"COP","N/A","Soporte técnico proactivo","Hora","Serv","Servicio","Zona 2","Sitio","Técnico/Tecnólogo ó Profesional","IT-SW-10-02","Se facturará mensualmente según el consumo de la Entidad, para pago dentro de los 30 días siguientes",267750,1,1,"USD"]
[{"$f":"D2039&F2039&E2039","v":"STEFANINI SYSMAN SASSTEFANINI SYSMAN SAS_ImpuestosIT-SW-10-03"},{"$f":"E2039&F2039","v":"IT-SW-10-03STEFANINI SYSMAN SAS_Impuestos"},null,"STEFANINI SYSMAN SAS","IT-SW-10-03","STEFANINI SYSMAN SAS_Impuestos",{"$f":"D2039","v":"STEFANINI SYSMAN SAS"},"COP","N/A","Soporte técnico proactivo","Hora","Serv","Servicio","Zona 1","Remoto","Técnico/Tecnólogo ó Profesional","IT-SW-10-03","Se facturará mensualmente según el consumo de la Entidad, para pago dentro de los 30 días siguientes",119000,1,1,"USD"]
[{"$f":"D2040&F2040&E2040","v":"STEFANINI SYSMAN SASSTEFANINI SYSMAN SAS_ImpuestosIT-SW-10-04"},{"$f":"E2040&F2040","v":"IT-SW-10-04STEFANINI SYSMAN SAS_Impuestos"},null,"STEFANINI SYSMAN SAS","IT-SW-10-04","STEFANINI SYSMAN SAS_Impuestos",{"$f":"D2040","v":"STEFANINI SYSMAN SAS"},"COP","N/A","Soporte técnico proactivo","Hora","Serv","Servicio","Zona 3","Remoto","Técnico/Tecnólogo ó Profesional","IT-SW-10-04","Se facturará mensualmente según el consumo de la Entidad, para pago dentro de los 30 días siguientes",185938,1,1,"USD"]
[{"$f":"D2041&F2041&E2041","v":"STEFANINI SYSMAN SASSTEFANINI SYSMAN SAS_ImpuestosIT-SW-10-05"},{"$f":"E2041&F2041","v":"IT-SW-10-05STEFANINI SYSMAN SAS_Impuestos"},null,"STEFANINI SYSMAN SAS","IT-SW-10-05","STEFANINI SYSMAN SAS_Impuestos",{"$f":"D2041","v":"STEFANINI SYSMAN SAS"},"COP","N/A","Soporte técnico proactivo","Hora","Serv","Servicio","Zona 3","Sitio","Técnico/Tecnólogo ó Profesional","IT-SW-10-05","Se facturará mensualmente según el consumo de la Entidad, para pago dentro de los 30 días siguientes",401625,1,1,"USD"]
[{"$f":"D2042&F2042&E2042","v":"STEFANINI SYSMAN SASSTEFANINI SYSMAN SAS_ImpuestosIT-SW-10-06"},{"$f":"E2042&F2042","v":"IT-SW-10-06STEFANINI SYSMAN SAS_Impuestos"},null,"STEFANINI SYSMAN SAS","IT-SW-10-06","STEFANINI SYSMAN SAS_Impuestos",{"$f":"D2042","v":"STEFANINI SYSMAN SAS"},"COP","N/A","Soporte técnico proactivo","Hora","Serv","Servicio","Zona 1","Sitio","Técnico/Tecnólogo ó Profesional","IT-SW-10-06","Se facturará mensualmente según el consumo de la Entidad, para pago dentro de los 30 días siguientes",178500,1,1,"USD"]
[{"$f":"D2043&F2043&E2043","v":"STEFANINI SYSMAN SASSTEFANINI SYSMAN SAS_ImpuestosIT-SW-11-01"},{"$f":"E2043&F2043","v":"IT-SW-11-01STEFANINI SYSMAN SAS_Impuestos"},null,"STEFANINI SYSMAN SAS","IT-SW-11-01","STEFANINI SYSMAN SAS_Impuestos",{"$f":"D2043","v":"STEFANINI SYSMAN SAS"},"COP","N/A","Soporte técnico reactivo","Hora","Serv","Servicio","Zona 1","Sitio","Técnico/Tecnólogo ó Profesional","IT-SW-11-01","Se facturará mensualmente según el consumo de la Entidad, para pago dentro de los 30 días siguientes",357000,1,1,"USD"]
[{"$f":"D2044&F2044&E2044","v":"STEFANINI SYSMAN SASSTEFANINI SYSMAN SAS_ImpuestosIT-SW-11-02"},{"$f":"E2044&F2044","v":"IT-SW-11-02STEFANINI SYSMAN SAS_Impuestos"},null,"STEFANINI SYSMAN SAS","IT-SW-11-02","STEFANINI SYSMAN SAS_Impuestos",{"$f":"D2044","v":"STEFANINI SYSMAN SAS"},"COP","N/A","Soporte técnico reactivo","Hora","Serv","Servicio","Zona 2","Remoto","Técnico/Tecnólogo ó Profesional","IT-SW-11-02","Se facturará mensualmente según el consumo de la Entidad, para pago dentro de los 30 días siguientes",297500,1,1,"USD"]
[{"$f":"D2045&F2045&E2045","v":"STEFANINI SYSMAN SASSTEFANINI SYSMAN SAS_ImpuestosIT-SW-11-03"},{"$f":"E2045&F2045","v":"IT-SW-11-03STEFANINI SYSMAN SAS_Impuestos"},null,"STEFANINI SYSMAN SAS","IT-SW-11-03","STEFANINI SYSMAN SAS_Impuestos",{"$f":"D2045","v":"STEFANINI SYSMAN SAS"},"COP","N/A","Soporte técnico reactivo","Hora","Serv","Servicio","Zona 2","Sitio","Técnico/Tecnólogo ó Profesional","IT-SW-11-03","Se facturará mensualmente según el consumo de la Entidad, para pago dentro de los 30 días siguientes",535500,1,1,"USD"]
[{"$f":"D2046&F2046&E2046","v":"STEFANINI SYSMAN SASSTEFANINI SYSMAN SAS_ImpuestosIT-SW-11-04"},{"$f":"E2046&F2046","v":"IT-SW-11-04STEFANINI SYSMAN SAS_Impuestos"},null,"STEFANINI SYSMAN SAS","IT-SW-11-04","STEFANINI SYSMAN SAS_Impuestos",{"$f":"D2046","v":"STEFANINI SYSMAN SAS"},"COP","N/A","Soporte técnico reactivo","Hora","Serv","Servicio","Zona 3","Remoto","Técnico/Tecnólogo ó Profesional","IT-SW-11-04","Se facturará mensualmente según el consumo de la Entidad, para pago dentro de los 30 días siguientes",371875,1,1,"USD"]
[{"$f":"D2047&F2047&E2047","v":"STEFANINI SYSMAN SASSTEFANINI SYSMAN SAS_ImpuestosIT-SW-11-05"},{"$f":"E2047&F2047","v":"IT-SW-11-05STEFANINI SYSMAN SAS_Impuestos"},null,"STEFANINI SYSMAN SAS","IT-SW-11-05","STEFANINI SYSMAN SAS_Impuestos",{"$f":"D2047","v":"STEFANINI SYSMAN SAS"},"COP","N/A","Soporte técnico reactivo","Hora","Serv","Servicio","Zona 3","Sitio","Técnico/Tecnólogo ó Profesional","IT-SW-11-05","Se facturará mensualmente según el consumo de la Entidad, para pago dentro de los 30 días siguientes",803250,1,1,"USD"]
[{"$f":"D2048&F2048&E2048","v":"STEFANINI SYSMAN SASSTEFANINI SYSMAN SAS_ImpuestosIT-SW-11-06"},{"$f":"E2048&F2048","v":"IT-SW-11-06STEFANINI SYSMAN SAS_Impuestos"},null,"STEFANINI SYSMAN SAS","IT-SW-11-06","STEFANINI SYSMAN SAS_Impuestos",{"$f":"D2048","v":"STEFANINI SYSMAN SAS"},"COP","N/A","Soporte técnico reactivo","Hora","Serv","Servicio","Zona 1","Remoto","Técnico/Tecnólogo ó Profesional","IT-SW-11-06","Se facturará mensualmente según el consumo de la Entidad, para pago dentro de los 30 días siguientes",238000,1,1,"USD"]
[{"$f":"D2049&F2049&E2049","v":"Macro Proyectos SASSoftware Macro Proyectos SASIT-STORM-01"},{"$f":"E2049&F2049","v":"IT-STORM-01Software Macro Proyectos SAS"},null,"Macro Proyectos SAS","IT-STORM-01","Software Macro Proyectos SAS",{"$f":"D2049","v":"Macro Proyectos SAS"},"COP","N/A","Licencia STORM ONPREMISE (Hasta 50 Formularios)","Licencia","Serv","Producto","Zona 1,2,3","N/A","N/A","IT-STORM-01","Único pago",580000000,1,1,"USD"]
[{"$f":"D2050&F2050&E2050","v":"Macro Proyectos SASSoftware Macro Proyectos SASIT-STORM-02"},{"$f":"E2050&F2050","v":"IT-STORM-02Software Macro Proyectos SAS"},null,"Macro Proyectos SAS","IT-STORM-02","Software Macro Proyectos SAS",{"$f":"D2050","v":"Macro Proyectos SAS"},"COP","N/A","Licencia STORM SaaS (Hasta 50 Usuarios y 50 Formularios)","Usuario","Serv","Servicio","Zona 1,2,3","N/A","N/A","IT-STORM-02","Mensual por servicios efectivamente prestados",38700000,1,1,"USD"]
[{"$f":"D2051&F2051&E2051","v":"Macro Proyectos SASSoftware Macro Proyectos SASIT-SW-06-01"},{"$f":"E2051&F2051","v":"IT-SW-06-01Software Macro Proyectos SAS"},null,"Macro Proyectos SAS","IT-SW-06-01","Software Macro Proyectos SAS",{"$f":"D2051","v":"Macro Proyectos SAS"},"COP","N/A","Automatización, configuración, parametrización de Formularios en STORM","Hora","Serv","Servicio","Zona 1","Remoto","Profesional","IT-SW-06-01","Mensual por servicios efectivamente prestados",237000,1,1,"USD"]
[{"$f":"D2052&F2052&E2052","v":"Macro Proyectos SASSoftware Macro Proyectos SASIT-SW-06-02"},{"$f":"E2052&F2052","v":"IT-SW-06-02Software Macro Proyectos SAS"},null,"Macro Proyectos SAS","IT-SW-06-02","Software Macro Proyectos SAS",{"$f":"D2052","v":"Macro Proyectos SAS"},"COP","N/A","Automatización, configuración, parametrización de Formularios en STORM","Hora","Serv","Servicio","Zona 1","Sitio","Profesional","IT-SW-06-02","Mensual por servicios efectivamente prestados",237000,1,1,"USD"]
[{"$f":"D2053&F2053&E2053","v":"Macro Proyectos SASSoftware Macro Proyectos SASIT-SW-06-03"},{"$f":"E2053&F2053","v":"IT-SW-06-03Software Macro Proyectos SAS"},null,"Macro Proyectos SAS","IT-SW-06-03","Software Macro Proyectos SAS",{"$f":"D2053","v":"Macro Proyectos SAS"},"COP","N/A","Automatización, configuración, parametrización de Formularios en STORM","Hora","Serv","Servicio","Zona 2","Remoto","Profesional","IT-SW-06-03","Mensual por servicios efectivamente prestados",237000,1,1,"USD"]
[{"$f":"D2054&F2054&E2054","v":"Macro Proyectos SASSoftware Macro Proyectos SASIT-SW-06-04"},{"$f":"E2054&F2054","v":"IT-SW-06-04Software Macro Proyectos SAS"},null,"Macro Proyectos SAS","IT-SW-06-04","Software Macro Proyectos SAS",{"$f":"D2054","v":"Macro Proyectos SAS"},"COP","N/A","Automatización, configuración, parametrización de Formularios en STORM","Hora","Serv","Servicio","Zona 2","Sitio","Profesional","IT-SW-06-04","Mensual por servicios efectivamente prestados",237000,1,1,"USD"]
[{"$f":"D2055&F2055&E2055","v":"Macro Proyectos SASSoftware Macro Proyectos SASIT-SW-06-05"},{"$f":"E2055&F2055","v":"IT-SW-06-05Software Macro Proyectos SAS"},null,"Macro Proyectos SAS","IT-SW-06-05","Software Macro Proyectos SAS",{"$f":"D2055","v":"Macro Proyectos SAS"},"COP","N/A","Automatización, configuración, parametrización de Formularios en STORM","Hora","Serv","Servicio","Zona 3","Remoto","Profesional","IT-SW-06-05","Mensual por servicios efectivamente prestados",237000,1,1,"USD"]
[{"$f":"D2056&F2056&E2056","v":"Macro Proyectos SASSoftware Macro Proyectos SASIT-SW-06-06"},{"$f":"E2056&F2056","v":"IT-SW-06-06Software Macro Proyectos SAS"},null,"Macro Proyectos SAS","IT-SW-06-06","Software Macro Proyectos SAS",{"$f":"D2056","v":"Macro Proyectos SAS"},"COP","N/A","Automatización, configuración, parametrización de Formularios en STORM","Hora","Serv","Servicio","Zona 3","Sitio","Profesional","IT-SW-06-06","Mensual por servicios efectivamente prestados",237000,1,1,"USD"]
[{"$f":"D2057&F2057&E2057","v":"Macro Proyectos SASSoftware Macro Proyectos SASIT-SW-12-01"},{"$f":"E2057&F2057","v":"IT-SW-12-01Software Macro Proyectos SAS"},null,"Macro Proyectos SAS","IT-SW-12-01","Software Macro Proyectos SAS",{"$f":"D2057","v":"Macro Proyectos SAS"},"COP","N/A","Actualización y Soporte Estandar STORM ONPREMISE (20% sobre licencia)","Anual","Serv","Servicio","Zona 1,2,3","Remoto y/o fisico","Profesional","IT-SW-12-01","Pago anual Anticipado",116000000,1,1,"USD"]
[{"$f":"D2058&F2058&E2058","v":"SAP ColombiaCloudS4 & Native HANA SolutionsSAP-8011038"},{"$f":"E2058&F2058","v":"SAP-8011038CloudS4 & Native HANA Solutions"},null,"SAP Colombia","SAP-8011038","CloudS4 & Native HANA Solutions",{"$f":"D2058","v":"SAP Colombia"},"USD","N/A","SAP Cloud Application Services for application security updates",1,"Serv","Suscripcion","N/A","N/A","N/A","SAP-8011038","Forma de pago estandar a 30 dias",9922,1,0,"USD"]
[{"$f":"D2059&F2059&E2059","v":"SAP ColombiaCloudS4 & Native HANA SolutionsSAP-8011048"},{"$f":"E2059&F2059","v":"SAP-8011048CloudS4 & Native HANA Solutions"},null,"SAP Colombia","SAP-8011048","CloudS4 & Native HANA Solutions",{"$f":"D2059","v":"SAP Colombia"},"USD","N/A","SAP Cloud Application Services for regression testing",1,"Serv","Suscripcion","N/A","N/A","N/A","SAP-8011048","Forma de pago estandar a 30 dias",76024,1,0,"USD"]
[{"$f":"D2060&F2060&E2060","v":"SAP ColombiaCloudS4 & Native HANA SolutionsSAP-8011049"},{"$f":"E2060&F2060","v":"SAP-8011049CloudS4 & Native HANA Solutions"},null,"SAP Colombia","SAP-8011049","CloudS4 & Native HANA Solutions",{"$f":"D2060","v":"SAP Colombia"},"USD","N/A","SAP Cloud Application Services for data volume optimization",1,"Serv","Suscripcion","N/A","N/A","N/A","SAP-8011049","Forma de pago estandar a 30 dias",30853,1,0,"USD"]
[{"$f":"D2061&F2061&E2061","v":"SAP ColombiaCloudS4 & Native HANA SolutionsSAP-8011050"},{"$f":"E2061&F2061","v":"SAP-8011050CloudS4 & Native HANA Solutions"},null,"SAP Colombia","SAP-8011050","CloudS4 & Native HANA Solutions",{"$f":"D2061","v":"SAP Colombia"},"USD","N/A","SAP Cloud Application Services for data quality optimization",1,"Serv","Suscripcion","N/A","N/A","N/A","SAP-8011050","Forma de pago estandar a 30 dias",38564,1,0,"USD"]
[{"$f":"D2062&F2062&E2062","v":"SAP ColombiaCloudS4 & Native HANA SolutionsSAP-8011051"},{"$f":"E2062&F2062","v":"SAP-8011051CloudS4 & Native HANA Solutions"},null,"SAP Colombia","SAP-8011051","CloudS4 & Native HANA Solutions",{"$f":"D2062","v":"SAP Colombia"},"USD","N/A","SAP Cloud Application Services for release version upgrade",1,"Serv","Suscripcion","N/A","N/A","N/A","SAP-8011051","Forma de pago estandar a 30 dias",65122,1,0,"USD"]
[{"$f":"D2063&F2063&E2063","v":"SAP ColombiaCloudS4 & Native HANA SolutionsSAP-8011052"},{"$f":"E2063&F2063","v":"SAP-8011052CloudS4 & Native HANA Solutions"},null,"SAP Colombia","SAP-8011052","CloudS4 & Native HANA Solutions",{"$f":"D2063","v":"SAP Colombia"},"USD","N/A","SAP Cloud Application Services for cloud integration testing",1,"Serv","Suscripcion","N/A","N/A","N/A","SAP-8011052","Forma de pago estandar a 30 dias",11737,1,0,"USD"]
[{"$f":"D2064&F2064&E2064","v":"SAP ColombiaCloudS4 & Native HANA SolutionsSAP-8011053"},{"$f":"E2064&F2064","v":"SAP-8011053CloudS4 & Native HANA Solutions"},null,"SAP Colombia","SAP-8011053","CloudS4 & Native HANA Solutions",{"$f":"D2064","v":"SAP Colombia"},"USD","N/A","SAP Cloud Application Services for Application Operations",1,"Serv","Suscripcion","N/A","N/A","N/A","SAP-8011053","Forma de pago estandar a 30 dias",16715,1,0,"USD"]
[{"$f":"D2065&F2065&E2065","v":"SAP ColombiaCloudS4 & Native HANA SolutionsSAP-8011054"},{"$f":"E2065&F2065","v":"SAP-8011054CloudS4 & Native HANA Solutions"},null,"SAP Colombia","SAP-8011054","CloudS4 & Native HANA Solutions",{"$f":"D2065","v":"SAP Colombia"},"USD","N/A","SAP Cloud Application Services for Application Monitoring",1,"Serv","Suscripcion","N/A","N/A","N/A","SAP-8011054","Forma de pago estandar a 30 dias",88612,1,0,"USD"]
[{"$f":"D2066&F2066&E2066","v":"SAP ColombiaCloudS4 & Native HANA SolutionsSAP-8011482-1"},{"$f":"E2066&F2066","v":"SAP-8011482-1CloudS4 & Native HANA Solutions"},null,"SAP Colombia","SAP-8011482-1","CloudS4 & Native HANA Solutions",{"$f":"D2066","v":"SAP Colombia"},"USD","N/A","SAP Responsible Design and Production",5000,"Serv","Suscripcion","N/A","N/A","N/A","SAP-8011482-1","Forma de pago estandar a 30 dias",5600,1,0,"USD"]
[{"$f":"D2067&F2067&E2067","v":"SAP ColombiaCloudS4 & Native HANA SolutionsSAP-8011482-2"},{"$f":"E2067&F2067","v":"SAP-8011482-2CloudS4 & Native HANA Solutions"},null,"SAP Colombia","SAP-8011482-2","CloudS4 & Native HANA Solutions",{"$f":"D2067","v":"SAP Colombia"},"USD","N/A","SAP Responsible Design and Production",5000,"Serv","Suscripcion","N/A","N/A","N/A","SAP-8011482-2","Forma de pago estandar a 30 dias",4200,1,0,"USD"]
[{"$f":"D2068&F2068&E2068","v":"SAP ColombiaCloudS4 & Native HANA SolutionsSAP-8011482-3"},{"$f":"E2068&F2068","v":"SAP-8011482-3CloudS4 & Native HANA Solutions"},null,"SAP Colombia","SAP-8011482-3","CloudS4 & Native HANA Solutions",{"$f":"D2068","v":"SAP Colombia"},"USD","N/A","SAP Responsible Design and Production",5000,"Serv","Suscripcion","N/A","N/A","N/A","SAP-8011482-3","Forma de pago estandar a 30 dias",3267,1,0,"USD"]
[{"$f":"D2069&F2069&E2069","v":"SAP ColombiaCloudS4 & Native HANA SolutionsSAP-8011482-4"},{"$f":"E2069&F2069","v":"SAP-8011482-4CloudS4 & Native HANA Solutions"},null,"SAP Colombia","SAP-8011482-4","CloudS4 & Native HANA Solutions",{"$f":"D2069","v":"SAP Colombia"},"USD","N/A","SAP Responsible Design and Production",5000,"Serv","Suscripcion","N/A","N/A","N/A","SAP-8011482-4","Forma de pago estandar a 30 dias",2333,1,0,"USD"]
[{"$f":"D2070&F2070&E2070","v":"SAP ColombiaCloudS4 & Native HANA SolutionsSAP-8011482-5"},{"$f":"E2070&F2070","v":"SAP-8011482-5CloudS4 & Native HANA Solutions"},null,"SAP Colombia","SAP-8011482-5","CloudS4 & Native HANA Solutions",{"$f":"D2070","v":"SAP Colombia"},"USD","N/A","SAP Responsible Design and Production",5000,"Serv","Suscripcion","N/A","N/A","N/A","SAP-8011482-5","Forma de pago estandar a 30 dias",1680,1,0,"USD"]
[{"$f":"D2071&F2071&E2071","v":"SAP ColombiaCloudS4 & Native HANA SolutionsSAP-8012320"},{"$f":"E2071&F2071","v":"SAP-8012320CloudS4 & Native HANA Solutions"},null,"SAP Colombia","SAP-8012320","CloudS4 & Native HANA Solutions",{"$f":"D2071","v":"SAP Colombia"},"USD","N/A","SAP extended services for SAP S/4HANA Cloud, private edition",1,"Serv","Suscripcion","N/A","N/A","N/A","SAP-8012320","Forma de pago estandar a 30 dias",106817,1,0,"USD"]
[{"$f":"D2072&F2072&E2072","v":"SAP ColombiaCloudS4 & Native HANA SolutionsSAP-8005358"},{"$f":"E2072&F2072","v":"SAP-8005358CloudS4 & Native HANA Solutions"},null,"SAP Colombia","SAP-8005358","CloudS4 & Native HANA Solutions",{"$f":"D2072","v":"SAP Colombia"},"USD","N/A","SAP S/4HANA Cloud in-memory extension",1,"Serv","Suscripcion","N/A","N/A","N/A","SAP-8005358","Forma de pago estandar a 30 dias",77,1,0,"USD"]
[{"$f":"D2073&F2073&E2073","v":"SAP ColombiaCloudS4 & Native HANA SolutionsSAP-8005616"},{"$f":"E2073&F2073","v":"SAP-8005616CloudS4 & Native HANA Solutions"},null,"SAP Colombia","SAP-8005616","CloudS4 & Native HANA Solutions",{"$f":"D2073","v":"SAP Colombia"},"USD","N/A","SAP S/4HANA Cloud customer evaluation system",1,"Serv","Suscripcion","N/A","N/A","N/A","SAP-8005616","Forma de pago estandar a 30 dias",0,1,0,"USD"]
[{"$f":"D2074&F2074&E2074","v":"SAP ColombiaCloudS4 & Native HANA SolutionsSAP-8005961"},{"$f":"E2074&F2074","v":"SAP-8005961CloudS4 & Native HANA Solutions"},null,"SAP Colombia","SAP-8005961","CloudS4 & Native HANA Solutions",{"$f":"D2074","v":"SAP Colombia"},"USD","N/A","SAP S/4HANA Cloud, test tenant",1,"Serv","Suscripcion","N/A","N/A","N/A","SAP-8005961","Forma de pago estandar a 30 dias",5784,1,0,"USD"]
[{"$f":"D2075&F2075&E2075","v":"SAP ColombiaCloudS4 & Native HANA SolutionsSAP-8008360-1"},{"$f":"E2075&F2075","v":"SAP-8008360-1CloudS4 & Native HANA Solutions"},null,"SAP Colombia","SAP-8008360-1","CloudS4 & Native HANA Solutions",{"$f":"D2075","v":"SAP Colombia"},"USD","N/A","SAP S/4HANA Cloud, Digital Access",1000,"Serv","Suscripcion","N/A","N/A","N/A","SAP-8008360-1","Forma de pago estandar a 30 dias",7.77,1,0,"USD"]
[{"$f":"D2076&F2076&E2076","v":"SAP ColombiaCloudS4 & Native HANA SolutionsSAP-8008360-2"},{"$f":"E2076&F2076","v":"SAP-8008360-2CloudS4 & Native HANA Solutions"},null,"SAP Colombia","SAP-8008360-2","CloudS4 & Native HANA Solutions",{"$f":"D2076","v":"SAP Colombia"},"USD","N/A","SAP S/4HANA Cloud, Digital Access",1000,"Serv","Suscripcion","N/A","N/A","N/A","SAP-8008360-2","Forma de pago estandar a 30 dias",6.74,1,0,"USD"]
[{"$f":"D2077&F2077&E2077","v":"SAP ColombiaCloudS4 & Native HANA SolutionsSAP-8008360-3"},{"$f":"E2077&F2077","v":"SAP-8008360-3CloudS4 & Native HANA Solutions"},null,"SAP Colombia","SAP-8008360-3","CloudS4 & Native HANA Solutions",{"$f":"D2077","v":"SAP Colombia"},"USD","N/A","SAP S/4HANA Cloud, Digital Access",1000,"Serv","Suscripcion","N/A","N/A","N/A","SAP-8008360-3","Forma de pago estandar a 30 dias",5.7,1,0,"USD"]
[{"$f":"D2078&F2078&E2078","v":"SAP ColombiaCloudS4 & Native HANA SolutionsSAP-8008360-4"},{"$f":"E2078&F2078","v":"SAP-8008360-4CloudS4 & Native HANA Solutions"},null,"SAP Colombia","SAP-8008360-4","CloudS4 & Native HANA Solutions",{"$f":"D2078","v":"SAP Colombia"},"USD","N/A","SAP S/4HANA Cloud, Digital Access",1000,"Serv","Suscripcion","N/A","N/A","N/A","SAP-8008360-4","Forma de pago estandar a 30 dias",4.93,1,0,"USD"]
[{"$f":"D2079&F2079&E2079","v":"SAP ColombiaCloudS4 & Native HANA SolutionsSAP-8008360-5"},{"$f":"E2079&F2079","v":"SAP-8008360-5CloudS4 & Native HANA Solutions"},null,"SAP Colombia","SAP-8008360-5","CloudS4 & Native HANA Solutions",{"$f":"D2079","v":"SAP Colombia"},"USD","N/A","SAP S/4HANA Cloud, Digital Access",1000,"Serv","Suscripcion","N/A","N/A","N/A","SAP-8008360-5","Forma de pago estandar a 30 dias",4.1399999999999997,1,0,"USD"]
[{"$f":"D2080&F2080&E2080","v":"SAP ColombiaCloudS4 & Native HANA SolutionsSAP-8008360-6"},{"$f":"E2080&F2080","v":"SAP-8008360-6CloudS4 & Native HANA Solutions"},null,"SAP Colombia","SAP-8008360-6","CloudS4 & Native HANA Solutions",{"$f":"D2080","v":"SAP Colombia"},"USD","N/A","SAP S/4HANA Cloud, Digital Access",1000,"Serv","Suscripcion","N/A","N/A","N/A","SAP-8008360-6","Forma de pago estandar a 30 dias",3.11,1,0,"USD"]
[{"$f":"D2081&F2081&E2081","v":"SAP ColombiaCloudS4 & Native HANA SolutionsSAP-8008360-7"},{"$f":"E2081&F2081","v":"SAP-8008360-7CloudS4 & Native HANA Solutions"},null,"SAP Colombia","SAP-8008360-7","CloudS4 & Native HANA Solutions",{"$f":"D2081","v":"SAP Colombia"},"USD","N/A","SAP S/4HANA Cloud, Digital Access",1000,"Serv","Suscripcion","N/A","N/A","N/A","SAP-8008360-7","Forma de pago estandar a 30 dias",2.33,1,0,"USD"]
[{"$f":"D2082&F2082&E2082","v":"SAP ColombiaCloudS4 & Native HANA SolutionsSAP-8008360-8"},{"$f":"E2082&F2082","v":"SAP-8008360-8CloudS4 & Native HANA Solutions"},null,"SAP Colombia","SAP-8008360-8","CloudS4 & Native HANA Solutions",{"$f":"D2082","v":"SAP Colombia"},"USD","N/A","SAP S/4HANA Cloud, Digital Access",1000,"Serv","Suscripcion","N/A","N/A","N/A","SAP-8008360-8","Forma de pago estandar a 30 dias",1.3,1,0,"USD"]
[{"$f":"D2083&F2083&E2083","v":"SAP ColombiaCloudS4 & Native HANA SolutionsSAP-8008661-1"},{"$f":"E2083&F2083","v":"SAP-8008661-1CloudS4 & Native HANA Solutions"},null,"SAP Colombia","SAP-8008661-1","CloudS4 & Native HANA Solutions",{"$f":"D2083","v":"SAP Colombia"},"USD","N/A","SAP Commodity Management for physical contracts for SAP S/4HANA Cloud, private edition",11199000,"Serv","Suscripcion","N/A","N/A","N/A","SAP-8008661-1","Forma de pago estandar a 30 dias",275,1,0,"USD"]
[{"$f":"D2084&F2084&E2084","v":"SAP ColombiaCloudS4 & Native HANA SolutionsSAP-8008661-2"},{"$f":"E2084&F2084","v":"SAP-8008661-2CloudS4 & Native HANA Solutions"},null,"SAP Colombia","SAP-8008661-2","CloudS4 & Native HANA Solutions",{"$f":"D2084","v":"SAP Colombia"},"USD","N/A","SAP Commodity Management for physical contracts for SAP S/4HANA Cloud, private edition",11199000,"Serv","Suscripcion","N/A","N/A","N/A","SAP-8008661-2","Forma de pago estandar a 30 dias",224,1,0,"USD"]
[{"$f":"D2085&F2085&E2085","v":"SAP ColombiaCloudS4 & Native HANA SolutionsSAP-8008661-3"},{"$f":"E2085&F2085","v":"SAP-8008661-3CloudS4 & Native HANA Solutions"},null,"SAP Colombia","SAP-8008661-3","CloudS4 & Native HANA Solutions",{"$f":"D2085","v":"SAP Colombia"},"USD","N/A","SAP Commodity Management for physical contracts for SAP S/4HANA Cloud, private edition",11199000,"Serv","Suscripcion","N/A","N/A","N/A","SAP-8008661-3","Forma de pago estandar a 30 dias",172,1,0,"USD"]
[{"$f":"D2086&F2086&E2086","v":"SAP ColombiaCloudS4 & Native HANA SolutionsSAP-8008675"},{"$f":"E2086&F2086","v":"SAP-8008675CloudS4 & Native HANA Solutions"},null,"SAP Colombia","SAP-8008675","CloudS4 & Native HANA Solutions",{"$f":"D2086","v":"SAP Colombia"},"USD","N/A","SAP S/4HANA Cloud, disaster recovery, private edition",1,"Serv","Suscripcion","N/A","N/A","N/A","SAP-8008675","Forma de pago estandar a 30 dias",17,1,0,"USD"]
[{"$f":"D2087&F2087&E2087","v":"SAP ColombiaCloudS4 & Native HANA SolutionsSAP-8008678-1"},{"$f":"E2087&F2087","v":"SAP-8008678-1CloudS4 & Native HANA Solutions"},null,"SAP Colombia","SAP-8008678-1","CloudS4 & Native HANA Solutions",{"$f":"D2087","v":"SAP Colombia"},"USD","N/A","SAP S/4HANA Cloud, Digital Access, private edition",1000,"Serv","Suscripcion","N/A","N/A","N/A","SAP-8008678-1","Forma de pago estandar a 30 dias",9.07,1,0,"USD"]
[{"$f":"D2088&F2088&E2088","v":"SAP ColombiaCloudS4 & Native HANA SolutionsSAP-8008678-2"},{"$f":"E2088&F2088","v":"SAP-8008678-2CloudS4 & Native HANA Solutions"},null,"SAP Colombia","SAP-8008678-2","CloudS4 & Native HANA Solutions",{"$f":"D2088","v":"SAP Colombia"},"USD","N/A","SAP S/4HANA Cloud, Digital Access, private edition",1000,"Serv","Suscripcion","N/A","N/A","N/A","SAP-8008678-2","Forma de pago estandar a 30 dias",6.07,1,0,"USD"]
[{"$f":"D2089&F2089&E2089","v":"SAP ColombiaCloudS4 & Native HANA SolutionsSAP-8008678-3"},{"$f":"E2089&F2089","v":"SAP-8008678-3CloudS4 & Native HANA Solutions"},null,"SAP Colombia","SAP-8008678-3","CloudS4 & Native HANA Solutions",{"$f":"D2089","v":"SAP Colombia"},"USD","N/A","SAP S/4HANA Cloud, Digital Access, private edition",1000,"Serv","Suscripcion","N/A","N/A","N/A","SAP-8008678-3","Forma de pago estandar a 30 dias",5.13,1,0,"USD"]
[{"$f":"D2090&F2090&E2090","v":"SAP ColombiaCloudS4 & Native HANA SolutionsSAP-8008678-4"},{"$f":"E2090&F2090","v":"SAP-8008678-4CloudS4 & Native HANA Solutions"},null,"SAP Colombia","SAP-8008678-4","CloudS4 & Native HANA Solutions",{"$f":"D2090","v":"SAP Colombia"},"USD","N/A","SAP S/4HANA Cloud, Digital Access, private edition",1000,"Serv","Suscripcion","N/A","N/A","N/A","SAP-8008678-4","Forma de pago estandar a 30 dias",4.43,1,0,"USD"]
[{"$f":"D2091&F2091&E2091","v":"SAP ColombiaCloudS4 & Native HANA SolutionsSAP-8008678-5"},{"$f":"E2091&F2091","v":"SAP-8008678-5CloudS4 & Native HANA Solutions"},null,"SAP Colombia","SAP-8008678-5","CloudS4 & Native HANA Solutions",{"$f":"D2091","v":"SAP Colombia"},"USD","N/A","SAP S/4HANA Cloud, Digital Access, private edition",1000,"Serv","Suscripcion","N/A","N/A","N/A","SAP-8008678-5","Forma de pago estandar a 30 dias",3.73,1,0,"USD"]
[{"$f":"D2092&F2092&E2092","v":"SAP ColombiaCloudS4 & Native HANA SolutionsSAP-8008678-6"},{"$f":"E2092&F2092","v":"SAP-8008678-6CloudS4 & Native HANA Solutions"},null,"SAP Colombia","SAP-8008678-6","CloudS4 & Native HANA Solutions",{"$f":"D2092","v":"SAP Colombia"},"USD","N/A","SAP S/4HANA Cloud, Digital Access, private edition",1000,"Serv","Suscripcion","N/A","N/A","N/A","SAP-8008678-6","Forma de pago estandar a 30 dias",2.8,1,0,"USD"]
[{"$f":"D2093&F2093&E2093","v":"SAP ColombiaCloudS4 & Native HANA SolutionsSAP-8008678-7"},{"$f":"E2093&F2093","v":"SAP-8008678-7CloudS4 & Native HANA Solutions"},null,"SAP Colombia","SAP-8008678-7","CloudS4 & Native HANA Solutions",{"$f":"D2093","v":"SAP Colombia"},"USD","N/A","SAP S/4HANA Cloud, Digital Access, private edition",1000,"Serv","Suscripcion","N/A","N/A","N/A","SAP-8008678-7","Forma de pago estandar a 30 dias",2.11,1,0,"USD"]
[{"$f":"D2094&F2094&E2094","v":"SAP ColombiaCloudS4 & Native HANA SolutionsSAP-8008678-8"},{"$f":"E2094&F2094","v":"SAP-8008678-8CloudS4 & Native HANA Solutions"},null,"SAP Colombia","SAP-8008678-8","CloudS4 & Native HANA Solutions",{"$f":"D2094","v":"SAP Colombia"},"USD","N/A","SAP S/4HANA Cloud, Digital Access, private edition",1000,"Serv","Suscripcion","N/A","N/A","N/A","SAP-8008678-8","Forma de pago estandar a 30 dias",1.1599999999999999,1,0,"USD"]
[{"$f":"D2095&F2095&E2095","v":"SAP ColombiaCloudS4 & Native HANA SolutionsSAP-8008685"},{"$f":"E2095&F2095","v":"SAP-8008685CloudS4 & Native HANA Solutions"},null,"SAP Colombia","SAP-8008685","CloudS4 & Native HANA Solutions",{"$f":"D2095","v":"SAP Colombia"},"USD","N/A","SAP S/4HANA Cloud, additional non-productive tier, private edition (XS)",1,"Serv","Suscripcion","N/A","N/A","N/A","SAP-8008685","Forma de pago estandar a 30 dias",12307,1,0,"USD"]
[{"$f":"D2096&F2096&E2096","v":"SAP ColombiaCloudS4 & Native HANA SolutionsSAP-8008686-1"},{"$f":"E2096&F2096","v":"SAP-8008686-1CloudS4 & Native HANA Solutions"},null,"SAP Colombia","SAP-8008686-1","CloudS4 & Native HANA Solutions",{"$f":"D2096","v":"SAP Colombia"},"USD","N/A","SAP S/4HANA Cloud, customer evaluation system, private edition",256,"Serv","Suscripcion","N/A","N/A","N/A","SAP-8008686-1","Forma de pago estandar a 30 dias",43115,1,0,"USD"]
[{"$f":"D2097&F2097&E2097","v":"SAP ColombiaCloudS4 & Native HANA SolutionsSAP-8008686-2"},{"$f":"E2097&F2097","v":"SAP-8008686-2CloudS4 & Native HANA Solutions"},null,"SAP Colombia","SAP-8008686-2","CloudS4 & Native HANA Solutions",{"$f":"D2097","v":"SAP Colombia"},"USD","N/A","SAP S/4HANA Cloud, customer evaluation system, private edition",256,"Serv","Suscripcion","N/A","N/A","N/A","SAP-8008686-2","Forma de pago estandar a 30 dias",22691,1,0,"USD"]
[{"$f":"D2098&F2098&E2098","v":"SAP ColombiaCloudS4 & Native HANA SolutionsSAP-8008687"},{"$f":"E2098&F2098","v":"SAP-8008687CloudS4 & Native HANA Solutions"},null,"SAP Colombia","SAP-8008687","CloudS4 & Native HANA Solutions",{"$f":"D2098","v":"SAP Colombia"},"USD","N/A","SAP S/4HANA Cloud, GxP, private edition",1,"Serv","Suscripcion","N/A","N/A","N/A","SAP-8008687","Forma de pago estandar a 30 dias",11,1,0,"USD"]
[{"$f":"D2099&F2099&E2099","v":"SAP ColombiaCloudS4 & Native HANA SolutionsSAP-8008688"},{"$f":"E2099&F2099","v":"SAP-8008688CloudS4 & Native HANA Solutions"},null,"SAP Colombia","SAP-8008688","CloudS4 & Native HANA Solutions",{"$f":"D2099","v":"SAP Colombia"},"USD","N/A","SAP S/4HANA Cloud, additional non-productive tier, private edition (M)",1,"Serv","Suscripcion","N/A","N/A","N/A","SAP-8008688","Forma de pago estandar a 30 dias",24526,1,0,"USD"]
[{"$f":"D2100&F2100&E2100","v":"SAP ColombiaCloudS4 & Native HANA SolutionsSAP-8008690"},{"$f":"E2100&F2100","v":"SAP-8008690CloudS4 & Native HANA Solutions"},null,"SAP Colombia","SAP-8008690","CloudS4 & Native HANA Solutions",{"$f":"D2100","v":"SAP Colombia"},"USD","N/A","SAP S/4HANA Cloud, additional non-productive tier, private edition (S)",1,"Serv","Suscripcion","N/A","N/A","N/A","SAP-8008690","Forma de pago estandar a 30 dias",17134,1,0,"USD"]
[{"$f":"D2101&F2101&E2101","v":"SAP ColombiaCloudS4 & Native HANA SolutionsSAP-8008691"},{"$f":"E2101&F2101","v":"SAP-8008691CloudS4 & Native HANA Solutions"},null,"SAP Colombia","SAP-8008691","CloudS4 & Native HANA Solutions",{"$f":"D2101","v":"SAP Colombia"},"USD","N/A","SAP S/4HANA Cloud, additional non-productive tier, private edition (XL)",1,"Serv","Suscripcion","N/A","N/A","N/A","SAP-8008691","Forma de pago estandar a 30 dias",58683,1,0,"USD"]
[{"$f":"D2102&F2102&E2102","v":"SAP ColombiaCloudS4 & Native HANA SolutionsSAP-8008693"},{"$f":"E2102&F2102","v":"SAP-8008693CloudS4 & Native HANA Solutions"},null,"SAP Colombia","SAP-8008693","CloudS4 & Native HANA Solutions",{"$f":"D2102","v":"SAP Colombia"},"USD","N/A","SAP S/4HANA Cloud, additional non-productive tier, private edition (L)",1,"Serv","Suscripcion","N/A","N/A","N/A","SAP-8008693","Forma de pago estandar a 30 dias",36733,1,0,"USD"]
[{"$f":"D2103&F2103&E2103","v":"SAP ColombiaCloudS4 & Native HANA SolutionsSAP-8008695"},{"$f":"E2103&F2103","v":"SAP-8008695CloudS4 & Native HANA Solutions"},null,"SAP Colombia","SAP-8008695","CloudS4 & Native HANA Solutions",{"$f":"D2103","v":"SAP Colombia"},"USD","N/A","SAP BW/4HANA Cloud, GxP, private edition",1,"Serv","Suscripcion","N/A","N/A","N/A","SAP-8008695","Forma de pago estandar a 30 dias",11,1,0,"USD"]
[{"$f":"D2104&F2104&E2104","v":"SAP ColombiaCloudS4 & Native HANA SolutionsSAP-8008696"},{"$f":"E2104&F2104","v":"SAP-8008696CloudS4 & Native HANA Solutions"},null,"SAP Colombia","SAP-8008696","CloudS4 & Native HANA Solutions",{"$f":"D2104","v":"SAP Colombia"},"USD","N/A","SAP S/4HANA Cloud, additional non-productive tier, private edition (XXL)",1,"Serv","Suscripcion","N/A","N/A","N/A","SAP-8008696","Forma de pago estandar a 30 dias",78303,1,0,"USD"]
[{"$f":"D2105&F2105&E2105","v":"SAP ColombiaCloudS4 & Native HANA SolutionsSAP-8008717-1"},{"$f":"E2105&F2105","v":"SAP-8008717-1CloudS4 & Native HANA Solutions"},null,"SAP Colombia","SAP-8008717-1","CloudS4 & Native HANA Solutions",{"$f":"D2105","v":"SAP Colombia"},"USD","N/A","SAP Commodity Risk Management for SAP S/4HANA Cloud, private edition",11199000,"Serv","Suscripcion","N/A","N/A","N/A","SAP-8008717-1","Forma de pago estandar a 30 dias",184,1,0,"USD"]
[{"$f":"D2106&F2106&E2106","v":"SAP ColombiaCloudS4 & Native HANA SolutionsSAP-8008717-2"},{"$f":"E2106&F2106","v":"SAP-8008717-2CloudS4 & Native HANA Solutions"},null,"SAP Colombia","SAP-8008717-2","CloudS4 & Native HANA Solutions",{"$f":"D2106","v":"SAP Colombia"},"USD","N/A","SAP Commodity Risk Management for SAP S/4HANA Cloud, private edition",11199000,"Serv","Suscripcion","N/A","N/A","N/A","SAP-8008717-2","Forma de pago estandar a 30 dias",121,1,0,"USD"]
[{"$f":"D2107&F2107&E2107","v":"SAP ColombiaCloudS4 & Native HANA SolutionsSAP-8008717-3"},{"$f":"E2107&F2107","v":"SAP-8008717-3CloudS4 & Native HANA Solutions"},null,"SAP Colombia","SAP-8008717-3","CloudS4 & Native HANA Solutions",{"$f":"D2107","v":"SAP Colombia"},"USD","N/A","SAP Commodity Risk Management for SAP S/4HANA Cloud, private edition",11199000,"Serv","Suscripcion","N/A","N/A","N/A","SAP-8008717-3","Forma de pago estandar a 30 dias",83,1,0,"USD"]
[{"$f":"D2108&F2108&E2108","v":"SAP ColombiaCloudS4 & Native HANA SolutionsSAP-8008788"},{"$f":"E2108&F2108","v":"SAP-8008788CloudS4 & Native HANA Solutions"},null,"SAP Colombia","SAP-8008788","CloudS4 & Native HANA Solutions",{"$f":"D2108","v":"SAP Colombia"},"USD","N/A","SAP Archiving and Document Access Core by OpenText, Cloud connector, private edition",1,"Serv","Suscripcion","N/A","N/A","N/A","SAP-8008788","Forma de pago estandar a 30 dias",3024,1,0,"USD"]
[{"$f":"D2109&F2109&E2109","v":"SAP ColombiaCloudS4 & Native HANA SolutionsSAP-8008791-1"},{"$f":"E2109&F2109","v":"SAP-8008791-1CloudS4 & Native HANA Solutions"},null,"SAP Colombia","SAP-8008791-1","CloudS4 & Native HANA Solutions",{"$f":"D2109","v":"SAP Colombia"},"USD","N/A","SAP Agricultural Contract Management for SAP S/4HANA Cloud, private edition",11199000,"Serv","Suscripcion","N/A","N/A","N/A","SAP-8008791-1","Forma de pago estandar a 30 dias",275,1,0,"USD"]
[{"$f":"D2110&F2110&E2110","v":"SAP ColombiaCloudS4 & Native HANA SolutionsSAP-8008791-2"},{"$f":"E2110&F2110","v":"SAP-8008791-2CloudS4 & Native HANA Solutions"},null,"SAP Colombia","SAP-8008791-2","CloudS4 & Native HANA Solutions",{"$f":"D2110","v":"SAP Colombia"},"USD","N/A","SAP Agricultural Contract Management for SAP S/4HANA Cloud, private edition",11199000,"Serv","Suscripcion","N/A","N/A","N/A","SAP-8008791-2","Forma de pago estandar a 30 dias",224,1,0,"USD"]
[{"$f":"D2111&F2111&E2111","v":"SAP ColombiaCloudS4 & Native HANA SolutionsSAP-8008791-3"},{"$f":"E2111&F2111","v":"SAP-8008791-3CloudS4 & Native HANA Solutions"},null,"SAP Colombia","SAP-8008791-3","CloudS4 & Native HANA Solutions",{"$f":"D2111","v":"SAP Colombia"},"USD","N/A","SAP Agricultural Contract Management for SAP S/4HANA Cloud, private edition",11199000,"Serv","Suscripcion","N/A","N/A","N/A","SAP-8008791-3","Forma de pago estandar a 30 dias",172,1,0,"USD"]
[{"$f":"D2112&F2112&E2112","v":"SAP ColombiaCloudS4 & Native HANA SolutionsSAP-8009011"},{"$f":"E2112&F2112","v":"SAP-8009011CloudS4 & Native HANA Solutions"},null,"SAP Colombia","SAP-8009011","CloudS4 & Native HANA Solutions",{"$f":"D2112","v":"SAP Colombia"},"USD","N/A","SAP Data Services Enterprise, private cloud edition (8 cores)",1,"Serv","Suscripcion","N/A","N/A","N/A","SAP-8009011","Forma de pago estandar a 30 dias",72318,1,0,"USD"]
[{"$f":"D2113&F2113&E2113","v":"SAP ColombiaCloudS4 & Native HANA SolutionsSAP-8009013"},{"$f":"E2113&F2113","v":"SAP-8009013CloudS4 & Native HANA Solutions"},null,"SAP Colombia","SAP-8009013","CloudS4 & Native HANA Solutions",{"$f":"D2113","v":"SAP Colombia"},"USD","N/A","SAP Data Services Enterprise, private cloud edition (16 cores)",1,"Serv","Suscripcion","N/A","N/A","N/A","SAP-8009013","Forma de pago estandar a 30 dias",81229,1,0,"USD"]
[{"$f":"D2114&F2114&E2114","v":"SAP ColombiaCloudS4 & Native HANA SolutionsSAP-8009014"},{"$f":"E2114&F2114","v":"SAP-8009014CloudS4 & Native HANA Solutions"},null,"SAP Colombia","SAP-8009014","CloudS4 & Native HANA Solutions",{"$f":"D2114","v":"SAP Colombia"},"USD","N/A","SAP Data Services Enterprise, private cloud edition (32 cores)",1,"Serv","Suscripcion","N/A","N/A","N/A","SAP-8009014","Forma de pago estandar a 30 dias",84801,1,0,"USD"]
[{"$f":"D2115&F2115&E2115","v":"SAP ColombiaCloudS4 & Native HANA SolutionsSAP-8010820"},{"$f":"E2115&F2115","v":"SAP-8010820CloudS4 & Native HANA Solutions"},null,"SAP Colombia","SAP-8010820","CloudS4 & Native HANA Solutions",{"$f":"D2115","v":"SAP Colombia"},"USD","N/A","SAP ERP, additional non-productive tier, private cloud edition (XL)",1,"Serv","Suscripcion","N/A","N/A","N/A","SAP-8010820","Forma de pago estandar a 30 dias",58683,1,0,"USD"]
[{"$f":"D2116&F2116&E2116","v":"SAP ColombiaCloudS4 & Native HANA SolutionsSAP-8010836-1"},{"$f":"E2116&F2116","v":"SAP-8010836-1CloudS4 & Native HANA Solutions"},null,"SAP Colombia","SAP-8010836-1","CloudS4 & Native HANA Solutions",{"$f":"D2116","v":"SAP Colombia"},"USD","N/A","RISE with SAP S/4HANA Cloud",1,"Serv","Suscripcion","N/A","N/A","N/A","SAP-8010836-1","Forma de pago estandar a 30 dias",390,1,0,"USD"]
[{"$f":"D2117&F2117&E2117","v":"SAP ColombiaCloudS4 & Native HANA SolutionsSAP-8010836-2"},{"$f":"E2117&F2117","v":"SAP-8010836-2CloudS4 & Native HANA Solutions"},null,"SAP Colombia","SAP-8010836-2","CloudS4 & Native HANA Solutions",{"$f":"D2117","v":"SAP Colombia"},"USD","N/A","RISE with SAP S/4HANA Cloud",1,"Serv","Suscripcion","N/A","N/A","N/A","SAP-8010836-2","Forma de pago estandar a 30 dias",272,1,0,"USD"]
[{"$f":"D2118&F2118&E2118","v":"SAP ColombiaCloudS4 & Native HANA SolutionsSAP-8010836-3"},{"$f":"E2118&F2118","v":"SAP-8010836-3CloudS4 & Native HANA Solutions"},null,"SAP Colombia","SAP-8010836-3","CloudS4 & Native HANA Solutions",{"$f":"D2118","v":"SAP Colombia"},"USD","N/A","RISE with SAP S/4HANA Cloud",1,"Serv","Suscripcion","N/A","N/A","N/A","SAP-8010836-3","Forma de pago estandar a 30 dias",188,1,0,"USD"]
[{"$f":"D2119&F2119&E2119","v":"SAP ColombiaCloudS4 & Native HANA SolutionsSAP-8010836-4"},{"$f":"E2119&F2119","v":"SAP-8010836-4CloudS4 & Native HANA Solutions"},null,"SAP Colombia","SAP-8010836-4","CloudS4 & Native HANA Solutions",{"$f":"D2119","v":"SAP Colombia"},"USD","N/A","RISE with SAP S/4HANA Cloud",1,"Serv","Suscripcion","N/A","N/A","N/A","SAP-8010836-4","Forma de pago estandar a 30 dias",155,1,0,"USD"]
[{"$f":"D2120&F2120&E2120","v":"SAP ColombiaCloudS4 & Native HANA SolutionsSAP-8010836-5"},{"$f":"E2120&F2120","v":"SAP-8010836-5CloudS4 & Native HANA Solutions"},null,"SAP Colombia","SAP-8010836-5","CloudS4 & Native HANA Solutions",{"$f":"D2120","v":"SAP Colombia"},"USD","N/A","RISE with SAP S/4HANA Cloud",1,"Serv","Suscripcion","N/A","N/A","N/A","SAP-8010836-5","Forma de pago estandar a 30 dias",99,1,0,"USD"]
[{"$f":"D2121&F2121&E2121","v":"SAP ColombiaCloudS4 & Native HANA SolutionsSAP-8010836-6"},{"$f":"E2121&F2121","v":"SAP-8010836-6CloudS4 & Native HANA Solutions"},null,"SAP Colombia","SAP-8010836-6","CloudS4 & Native HANA Solutions",{"$f":"D2121","v":"SAP Colombia"},"USD","N/A","RISE with SAP S/4HANA Cloud",1,"Serv","Suscripcion","N/A","N/A","N/A","SAP-8010836-6","Forma de pago estandar a 30 dias",62,1,0,"USD"]
[{"$f":"D2122&F2122&E2122","v":"SAP ColombiaCloudS4 & Native HANA SolutionsSAP-8010836-7"},{"$f":"E2122&F2122","v":"SAP-8010836-7CloudS4 & Native HANA Solutions"},null,"SAP Colombia","SAP-8010836-7","CloudS4 & Native HANA Solutions",{"$f":"D2122","v":"SAP Colombia"},"USD","N/A","RISE with SAP S/4HANA Cloud",1,"Serv","Suscripcion","N/A","N/A","N/A","SAP-8010836-7","Forma de pago estandar a 30 dias",47,1,0,"USD"]
[{"$f":"D2123&F2123&E2123","v":"SAP ColombiaCloudS4 & Native HANA SolutionsSAP-8010840-1"},{"$f":"E2123&F2123","v":"SAP-8010840-1CloudS4 & Native HANA Solutions"},null,"SAP Colombia","SAP-8010840-1","CloudS4 & Native HANA Solutions",{"$f":"D2123","v":"SAP Colombia"},"USD","N/A","RISE with SAP S/4HANA Cloud and experience management",1,"Serv","Suscripcion","N/A","N/A","N/A","SAP-8010840-1","Forma de pago estandar a 30 dias",197,1,0,"USD"]
[{"$f":"D2124&F2124&E2124","v":"SAP ColombiaCloudS4 & Native HANA SolutionsSAP-8010840-2"},{"$f":"E2124&F2124","v":"SAP-8010840-2CloudS4 & Native HANA Solutions"},null,"SAP Colombia","SAP-8010840-2","CloudS4 & Native HANA Solutions",{"$f":"D2124","v":"SAP Colombia"},"USD","N/A","RISE with SAP S/4HANA Cloud and experience management",1,"Serv","Suscripcion","N/A","N/A","N/A","SAP-8010840-2","Forma de pago estandar a 30 dias",162,1,0,"USD"]
[{"$f":"D2125&F2125&E2125","v":"SAP ColombiaCloudS4 & Native HANA SolutionsSAP-8010840-3"},{"$f":"E2125&F2125","v":"SAP-8010840-3CloudS4 & Native HANA Solutions"},null,"SAP Colombia","SAP-8010840-3","CloudS4 & Native HANA Solutions",{"$f":"D2125","v":"SAP Colombia"},"USD","N/A","RISE with SAP S/4HANA Cloud and experience management",1,"Serv","Suscripcion","N/A","N/A","N/A","SAP-8010840-3","Forma de pago estandar a 30 dias",101,1,0,"USD"]
[{"$f":"D2126&F2126&E2126","v":"SAP ColombiaCloudS4 & Native HANA SolutionsSAP-8010840-4"},{"$f":"E2126&F2126","v":"SAP-8010840-4CloudS4 & Native HANA Solutions"},null,"SAP Colombia","SAP-8010840-4","CloudS4 & Native HANA Solutions",{"$f":"D2126","v":"SAP Colombia"},"USD","N/A","RISE with SAP S/4HANA Cloud and experience management",1,"Serv","Suscripcion","N/A","N/A","N/A","SAP-8010840-4","Forma de pago estandar a 30 dias",62,1,0,"USD"]
[{"$f":"D2127&F2127&E2127","v":"SAP ColombiaCloudS4 & Native HANA SolutionsSAP-8010840-5"},{"$f":"E2127&F2127","v":"SAP-8010840-5CloudS4 & Native HANA Solutions"},null,"SAP Colombia","SAP-8010840-5","CloudS4 & Native HANA Solutions",{"$f":"D2127","v":"SAP Colombia"},"USD","N/A","RISE with SAP S/4HANA Cloud and experience management",1,"Serv","Suscripcion","N/A","N/A","N/A","SAP-8010840-5","Forma de pago estandar a 30 dias",46,1,0,"USD"]
[{"$f":"D2128&F2128&E2128","v":"SAP ColombiaCloudS4 & Native HANA SolutionsSAP-8010891"},{"$f":"E2128&F2128","v":"SAP-8010891CloudS4 & Native HANA Solutions"},null,"SAP Colombia","SAP-8010891","CloudS4 & Native HANA Solutions",{"$f":"D2128","v":"SAP Colombia"},"USD","N/A","SAP S/4HANA Cloud, additional non-productive tier, private edition (4XL)",1,"Serv","Suscripcion","N/A","N/A","N/A","SAP-8010891","Forma de pago estandar a 30 dias",110697,1,0,"USD"]
[{"$f":"D2129&F2129&E2129","v":"SAP ColombiaCloudS4 & Native HANA SolutionsSAP-8010974"},{"$f":"E2129&F2129","v":"SAP-8010974CloudS4 & Native HANA Solutions"},null,"SAP Colombia","SAP-8010974","CloudS4 & Native HANA Solutions",{"$f":"D2129","v":"SAP Colombia"},"USD","N/A","SAP S/4HANA Cloud, 4 hour recovery time objective, private edition",1,"Serv","Suscripcion","N/A","N/A","N/A","SAP-8010974","Forma de pago estandar a 30 dias",5,1,0,"USD"]
[{"$f":"D2130&F2130&E2130","v":"SAP ColombiaCloudS4 & Native HANA SolutionsSAP-8011007"},{"$f":"E2130&F2130","v":"SAP-8011007CloudS4 & Native HANA Solutions"},null,"SAP Colombia","SAP-8011007","CloudS4 & Native HANA Solutions",{"$f":"D2130","v":"SAP Colombia"},"USD","N/A","SAP S/4HANA Cloud additional productive tier (XS), private edition",1,"Serv","Suscripcion","N/A","N/A","N/A","SAP-8011007","Forma de pago estandar a 30 dias",18268,1,0,"USD"]
[{"$f":"D2131&F2131&E2131","v":"SAP ColombiaCloudS4 & Native HANA SolutionsSAP-8011008"},{"$f":"E2131&F2131","v":"SAP-8011008CloudS4 & Native HANA Solutions"},null,"SAP Colombia","SAP-8011008","CloudS4 & Native HANA Solutions",{"$f":"D2131","v":"SAP Colombia"},"USD","N/A","SAP S/4HANA Cloud additional productive tier (S), private edition",1,"Serv","Suscripcion","N/A","N/A","N/A","SAP-8011008","Forma de pago estandar a 30 dias",20830,1,0,"USD"]
[{"$f":"D2132&F2132&E2132","v":"SAP ColombiaCloudS4 & Native HANA SolutionsSAP-8011009"},{"$f":"E2132&F2132","v":"SAP-8011009CloudS4 & Native HANA Solutions"},null,"SAP Colombia","SAP-8011009","CloudS4 & Native HANA Solutions",{"$f":"D2132","v":"SAP Colombia"},"USD","N/A","SAP S/4HANA Cloud additional productive tier (M), private edition",1,"Serv","Suscripcion","N/A","N/A","N/A","SAP-8011009","Forma de pago estandar a 30 dias",27102,1,0,"USD"]
[{"$f":"D2133&F2133&E2133","v":"SAP ColombiaCloudS4 & Native HANA SolutionsSAP-8011010"},{"$f":"E2133&F2133","v":"SAP-8011010CloudS4 & Native HANA Solutions"},null,"SAP Colombia","SAP-8011010","CloudS4 & Native HANA Solutions",{"$f":"D2133","v":"SAP Colombia"},"USD","N/A","SAP S/4HANA Cloud additional productive tier (L), private edition",1,"Serv","Suscripcion","N/A","N/A","N/A","SAP-8011010","Forma de pago estandar a 30 dias",38850,1,0,"USD"]
[{"$f":"D2134&F2134&E2134","v":"SAP ColombiaCloudS4 & Native HANA SolutionsSAP-8011011"},{"$f":"E2134&F2134","v":"SAP-8011011CloudS4 & Native HANA Solutions"},null,"SAP Colombia","SAP-8011011","CloudS4 & Native HANA Solutions",{"$f":"D2134","v":"SAP Colombia"},"USD","N/A","SAP S/4HANA Cloud additional productive tier (XL), private edition",1,"Serv","Suscripcion","N/A","N/A","N/A","SAP-8011011","Forma de pago estandar a 30 dias",64017,1,0,"USD"]
[{"$f":"D2135&F2135&E2135","v":"SAP ColombiaCloudS4 & Native HANA SolutionsSAP-8011012"},{"$f":"E2135&F2135","v":"SAP-8011012CloudS4 & Native HANA Solutions"},null,"SAP Colombia","SAP-8011012","CloudS4 & Native HANA Solutions",{"$f":"D2135","v":"SAP Colombia"},"USD","N/A","SAP S/4HANA Cloud additional productive tier (XXL), private edition",1,"Serv","Suscripcion","N/A","N/A","N/A","SAP-8011012","Forma de pago estandar a 30 dias",86654,1,0,"USD"]
[{"$f":"D2136&F2136&E2136","v":"SAP ColombiaCloudS4 & Native HANA SolutionsSAP-8011013"},{"$f":"E2136&F2136","v":"SAP-8011013CloudS4 & Native HANA Solutions"},null,"SAP Colombia","SAP-8011013","CloudS4 & Native HANA Solutions",{"$f":"D2136","v":"SAP Colombia"},"USD","N/A","SAP S/4HANA Cloud additional productive tier (4XL), private edition",1,"Serv","Suscripcion","N/A","N/A","N/A","SAP-8011013","Forma de pago estandar a 30 dias",148441,1,0,"USD"]
[{"$f":"D2137&F2137&E2137","v":"SAP ColombiaCloudS4 & Native HANA SolutionsSAP-8011018"},{"$f":"E2137&F2137","v":"SAP-8011018CloudS4 & Native HANA Solutions"},null,"SAP Colombia","SAP-8011018","CloudS4 & Native HANA Solutions",{"$f":"D2137","v":"SAP Colombia"},"USD","N/A","SAP ERP, additional productive tier (XL), private cloud edition",1,"Serv","Suscripcion","N/A","N/A","N/A","SAP-8011018","Forma de pago estandar a 30 dias",64017,1,0,"USD"]
[{"$f":"D2138&F2138&E2138","v":"SAP ColombiaCloudS4 & Native HANA SolutionsSAP-8011084"},{"$f":"E2138&F2138","v":"SAP-8011084CloudS4 & Native HANA Solutions"},null,"SAP Colombia","SAP-8011084","CloudS4 & Native HANA Solutions",{"$f":"D2138","v":"SAP Colombia"},"USD","N/A","SAP Long Term Backup, monthly backup with 1 year retention, private edition",256,"Serv","Suscripcion","N/A","N/A","N/A","SAP-8011084","Forma de pago estandar a 30 dias",511,1,0,"USD"]
[{"$f":"D2139&F2139&E2139","v":"SAP ColombiaCloudS4 & Native HANA SolutionsSAP-8011085"},{"$f":"E2139&F2139","v":"SAP-8011085CloudS4 & Native HANA Solutions"},null,"SAP Colombia","SAP-8011085","CloudS4 & Native HANA Solutions",{"$f":"D2139","v":"SAP Colombia"},"USD","N/A","SAP Long Term Backup, quarterly backup with 1 year retention, private edition",256,"Serv","Suscripcion","N/A","N/A","N/A","SAP-8011085","Forma de pago estandar a 30 dias",172,1,0,"USD"]
[{"$f":"D2140&F2140&E2140","v":"SAP ColombiaCloudS4 & Native HANA SolutionsSAP-8011086"},{"$f":"E2140&F2140","v":"SAP-8011086CloudS4 & Native HANA Solutions"},null,"SAP Colombia","SAP-8011086","CloudS4 & Native HANA Solutions",{"$f":"D2140","v":"SAP Colombia"},"USD","N/A","SAP Long Term Backup, yearly backup with 2 year retention, private edition",256,"Serv","Suscripcion","N/A","N/A","N/A","SAP-8011086","Forma de pago estandar a 30 dias",85,1,0,"USD"]
[{"$f":"D2141&F2141&E2141","v":"SAP ColombiaCloudS4 & Native HANA SolutionsSAP-8011087"},{"$f":"E2141&F2141","v":"SAP-8011087CloudS4 & Native HANA Solutions"},null,"SAP Colombia","SAP-8011087","CloudS4 & Native HANA Solutions",{"$f":"D2141","v":"SAP Colombia"},"USD","N/A","SAP Long Term Backup, yearly backup with 3 year retention, private edition",256,"Serv","Suscripcion","N/A","N/A","N/A","SAP-8011087","Forma de pago estandar a 30 dias",125,1,0,"USD"]
[{"$f":"D2142&F2142&E2142","v":"SAP ColombiaCloudS4 & Native HANA SolutionsSAP-8011088"},{"$f":"E2142&F2142","v":"SAP-8011088CloudS4 & Native HANA Solutions"},null,"SAP Colombia","SAP-8011088","CloudS4 & Native HANA Solutions",{"$f":"D2142","v":"SAP Colombia"},"USD","N/A","SAP Long Term Backup, yearly backup with 4 year retention, private edition",256,"Serv","Suscripcion","N/A","N/A","N/A","SAP-8011088","Forma de pago estandar a 30 dias",172,1,0,"USD"]
[{"$f":"D2143&F2143&E2143","v":"SAP ColombiaCloudS4 & Native HANA SolutionsSAP-8012316"},{"$f":"E2143&F2143","v":"SAP-8012316CloudS4 & Native HANA Solutions"},null,"SAP Colombia","SAP-8012316","CloudS4 & Native HANA Solutions",{"$f":"D2143","v":"SAP Colombia"},"USD","N/A","SAP RISE 99.9% SLA",1,"Serv","Suscripcion","N/A","N/A","N/A","SAP-8012316","Forma de pago estandar a 30 dias",50,1,0,"USD"]
[{"$f":"D2144&F2144&E2144","v":"SAP ColombiaCloudS4 & Native HANA SolutionsSAP-8012323"},{"$f":"E2144&F2144","v":"SAP-8012323CloudS4 & Native HANA Solutions"},null,"SAP Colombia","SAP-8012323","CloudS4 & Native HANA Solutions",{"$f":"D2144","v":"SAP Colombia"},"USD","N/A","SAP S/4HANA Cloud, disaster recovery",1,"Serv","Suscripcion","N/A","N/A","N/A","SAP-8012323","Forma de pago estandar a 30 dias",17,1,0,"USD"]
[{"$f":"D2145&F2145&E2145","v":"SAP ColombiaCloudS4 & Native HANA SolutionsSAP-8012324-1"},{"$f":"E2145&F2145","v":"SAP-8012324-1CloudS4 & Native HANA Solutions"},null,"SAP Colombia","SAP-8012324-1","CloudS4 & Native HANA Solutions",{"$f":"D2145","v":"SAP Colombia"},"USD","N/A","RISE with SAP S/4HANA Cloud, private edition",1,"Serv","Suscripcion","N/A","N/A","N/A","SAP-8012324-1","Forma de pago estandar a 30 dias",414,1,0,"USD"]
[{"$f":"D2146&F2146&E2146","v":"SAP ColombiaCloudS4 & Native HANA SolutionsSAP-8012324-2"},{"$f":"E2146&F2146","v":"SAP-8012324-2CloudS4 & Native HANA Solutions"},null,"SAP Colombia","SAP-8012324-2","CloudS4 & Native HANA Solutions",{"$f":"D2146","v":"SAP Colombia"},"USD","N/A","RISE with SAP S/4HANA Cloud, private edition",1,"Serv","Suscripcion","N/A","N/A","N/A","SAP-8012324-2","Forma de pago estandar a 30 dias",409,1,0,"USD"]
[{"$f":"D2147&F2147&E2147","v":"SAP ColombiaCloudS4 & Native HANA SolutionsSAP-8012324-3"},{"$f":"E2147&F2147","v":"SAP-8012324-3CloudS4 & Native HANA Solutions"},null,"SAP Colombia","SAP-8012324-3","CloudS4 & Native HANA Solutions",{"$f":"D2147","v":"SAP Colombia"},"USD","N/A","RISE with SAP S/4HANA Cloud, private edition",1,"Serv","Suscripcion","N/A","N/A","N/A","SAP-8012324-3","Forma de pago estandar a 30 dias",241,1,0,"USD"]
[{"$f":"D2148&F2148&E2148","v":"SAP ColombiaCloudS4 & Native HANA SolutionsSAP-8012324-4"},{"$f":"E2148&F2148","v":"SAP-8012324-4CloudS4 & Native HANA Solutions"},null,"SAP Colombia","SAP-8012324-4","CloudS4 & Native HANA Solutions",{"$f":"D2148","v":"SAP Colombia"},"USD","N/A","RISE with SAP S/4HANA Cloud, private edition",1,"Serv","Suscripcion","N/A","N/A","N/A","SAP-8012324-4","Forma de pago estandar a 30 dias",168,1,0,"USD"]
[{"$f":"D2149&F2149&E2149","v":"SAP ColombiaCloudS4 & Native HANA SolutionsSAP-8012324-5"},{"$f":"E2149&F2149","v":"SAP-8012324-5CloudS4 & Native HANA Solutions"},null,"SAP Colombia","SAP-8012324-5","CloudS4 & Native HANA Solutions",{"$f":"D2149","v":"SAP Colombia"},"USD","N/A","RISE with SAP S/4HANA Cloud, private edition",1,"Serv","Suscripcion","N/A","N/A","N/A","SAP-8012324-5","Forma de pago estandar a 30 dias",118,1,0,"USD"]
[{"$f":"D2150&F2150&E2150","v":"SAP ColombiaCloudS4 & Native HANA SolutionsSAP-8012324-6"},{"$f":"E2150&F2150","v":"SAP-8012324-6CloudS4 & Native HANA Solutions"},null,"SAP Colombia","SAP-8012324-6","CloudS4 & Native HANA Solutions",{"$f":"D2150","v":"SAP Colombia"},"USD","N/A","RISE with SAP S/4HANA Cloud, private edition",1,"Serv","Suscripcion","N/A","N/A","N/A","SAP-8012324-6","Forma de pago estandar a 30 dias",67,1,0,"USD"]
[{"$f":"D2151&F2151&E2151","v":"SAP ColombiaCloudS4 & Native HANA SolutionsSAP-8012324-7"},{"$f":"E2151&F2151","v":"SAP-8012324-7CloudS4 & Native HANA Solutions"},null,"SAP Colombia","SAP-8012324-7","CloudS4 & Native HANA Solutions",{"$f":"D2151","v":"SAP Colombia"},"USD","N/A","RISE with SAP S/4HANA Cloud, private edition",1,"Serv","Suscripcion","N/A","N/A","N/A","SAP-8012324-7","Forma de pago estandar a 30 dias",50,1,0,"USD"]
[{"$f":"D2152&F2152&E2152","v":"SAP ColombiaCloudS4 & Native HANA SolutionsSAP-8012324-8"},{"$f":"E2152&F2152","v":"SAP-8012324-8CloudS4 & Native HANA Solutions"},null,"SAP Colombia","SAP-8012324-8","CloudS4 & Native HANA Solutions",{"$f":"D2152","v":"SAP Colombia"},"USD","N/A","RISE with SAP S/4HANA Cloud, private edition",1,"Serv","Suscripcion","N/A","N/A","N/A","SAP-8012324-8","Forma de pago estandar a 30 dias",39,1,0,"USD"]
[{"$f":"D2153&F2153&E2153","v":"SAP ColombiaCloudS4 & Native HANA SolutionsSAP-8012324-9"},{"$f":"E2153&F2153","v":"SAP-8012324-9CloudS4 & Native HANA Solutions"},null,"SAP Colombia","SAP-8012324-9","CloudS4 & Native HANA Solutions",{"$f":"D2153","v":"SAP Colombia"},"USD","N/A","RISE with SAP S/4HANA Cloud, private edition",1,"Serv","Suscripcion","N/A","N/A","N/A","SAP-8012324-9","Forma de pago estandar a 30 dias",28,1,0,"USD"]
[{"$f":"D2154&F2154&E2154","v":"SAP ColombiaCloudS4 & Native HANA SolutionsSAP-8012517"},{"$f":"E2154&F2154","v":"SAP-8012517CloudS4 & Native HANA Solutions"},null,"SAP Colombia","SAP-8012517","CloudS4 & Native HANA Solutions",{"$f":"D2154","v":"SAP Colombia"},"USD","N/A","RISE with SAP S/4HANA Cloud, private edition, base option",1,"Serv","Suscripcion","N/A","N/A","N/A","SAP-8012517","Forma de pago estandar a 30 dias",392,1,0,"USD"]
[{"$f":"D2155&F2155&E2155","v":"SAP ColombiaCloudS4 & Native HANA SolutionsSAP-8008683-1"},{"$f":"E2155&F2155","v":"SAP-8008683-1CloudS4 & Native HANA Solutions"},null,"SAP Colombia","SAP-8008683-1","CloudS4 & Native HANA Solutions",{"$f":"D2155","v":"SAP Colombia"},"USD","N/A","SAP S/4HANA Cloud for Trade Management, private edition",1000,"Serv","Suscripcion","N/A","N/A","N/A","SAP-8008683-1","Forma de pago estandar a 30 dias",116,1,0,"USD"]
[{"$f":"D2156&F2156&E2156","v":"SAP ColombiaCloudS4 & Native HANA SolutionsSAP-8008683-2"},{"$f":"E2156&F2156","v":"SAP-8008683-2CloudS4 & Native HANA Solutions"},null,"SAP Colombia","SAP-8008683-2","CloudS4 & Native HANA Solutions",{"$f":"D2156","v":"SAP Colombia"},"USD","N/A","SAP S/4HANA Cloud for Trade Management, private edition",1000,"Serv","Suscripcion","N/A","N/A","N/A","SAP-8008683-2","Forma de pago estandar a 30 dias",78,1,0,"USD"]
[{"$f":"D2157&F2157&E2157","v":"SAP ColombiaCloudS4 & Native HANA SolutionsSAP-8008683-3"},{"$f":"E2157&F2157","v":"SAP-8008683-3CloudS4 & Native HANA Solutions"},null,"SAP Colombia","SAP-8008683-3","CloudS4 & Native HANA Solutions",{"$f":"D2157","v":"SAP Colombia"},"USD","N/A","SAP S/4HANA Cloud for Trade Management, private edition",1000,"Serv","Suscripcion","N/A","N/A","N/A","SAP-8008683-3","Forma de pago estandar a 30 dias",54,1,0,"USD"]
[{"$f":"D2158&F2158&E2158","v":"SAP ColombiaCloudS4 & Native HANA SolutionsSAP-8008683-4"},{"$f":"E2158&F2158","v":"SAP-8008683-4CloudS4 & Native HANA Solutions"},null,"SAP Colombia","SAP-8008683-4","CloudS4 & Native HANA Solutions",{"$f":"D2158","v":"SAP Colombia"},"USD","N/A","SAP S/4HANA Cloud for Trade Management, private edition",1000,"Serv","Suscripcion","N/A","N/A","N/A","SAP-8008683-4","Forma de pago estandar a 30 dias",40,1,0,"USD"]
[{"$f":"D2159&F2159&E2159","v":"SAP ColombiaCloudS4 & Native HANA SolutionsSAP-8008683-5"},{"$f":"E2159&F2159","v":"SAP-8008683-5CloudS4 & Native HANA Solutions"},null,"SAP Colombia","SAP-8008683-5","CloudS4 & Native HANA Solutions",{"$f":"D2159","v":"SAP Colombia"},"USD","N/A","SAP S/4HANA Cloud for Trade Management, private edition",1000,"Serv","Suscripcion","N/A","N/A","N/A","SAP-8008683-5","Forma de pago estandar a 30 dias",34,1,0,"USD"]
[{"$f":"D2160&F2160&E2160","v":"SAP ColombiaCloudS4 & Native HANA SolutionsSAP-8008692-1"},{"$f":"E2160&F2160","v":"SAP-8008692-1CloudS4 & Native HANA Solutions"},null,"SAP Colombia","SAP-8008692-1","CloudS4 & Native HANA Solutions",{"$f":"D2160","v":"SAP Colombia"},"USD","N/A","SAP S/4HANA Cloud, for Solution Sales Configuration, private edition",1,"Serv","Suscripcion","N/A","N/A","N/A","SAP-8008692-1","Forma de pago estandar a 30 dias",244,1,0,"USD"]
[{"$f":"D2161&F2161&E2161","v":"SAP ColombiaCloudS4 & Native HANA SolutionsSAP-8008692-2"},{"$f":"E2161&F2161","v":"SAP-8008692-2CloudS4 & Native HANA Solutions"},null,"SAP Colombia","SAP-8008692-2","CloudS4 & Native HANA Solutions",{"$f":"D2161","v":"SAP Colombia"},"USD","N/A","SAP S/4HANA Cloud, for Solution Sales Configuration, private edition",1,"Serv","Suscripcion","N/A","N/A","N/A","SAP-8008692-2","Forma de pago estandar a 30 dias",126,1,0,"USD"]
[{"$f":"D2162&F2162&E2162","v":"SAP ColombiaCloudS4 & Native HANA SolutionsSAP-8008692-3"},{"$f":"E2162&F2162","v":"SAP-8008692-3CloudS4 & Native HANA Solutions"},null,"SAP Colombia","SAP-8008692-3","CloudS4 & Native HANA Solutions",{"$f":"D2162","v":"SAP Colombia"},"USD","N/A","SAP S/4HANA Cloud, for Solution Sales Configuration, private edition",1,"Serv","Suscripcion","N/A","N/A","N/A","SAP-8008692-3","Forma de pago estandar a 30 dias",107,1,0,"USD"]
[{"$f":"D2163&F2163&E2163","v":"SAP ColombiaCloudS4 & Native HANA SolutionsSAP-8006223-1"},{"$f":"E2163&F2163","v":"SAP-8006223-1CloudS4 & Native HANA Solutions"},null,"SAP Colombia","SAP-8006223-1","CloudS4 & Native HANA Solutions",{"$f":"D2163","v":"SAP Colombia"},"USD","N/A","SAP S/4HANA Cloud for product compliance",100000,"Serv","Suscripcion","N/A","N/A","N/A","SAP-8006223-1","Forma de pago estandar a 30 dias",815,1,0,"USD"]
[{"$f":"D2164&F2164&E2164","v":"SAP ColombiaCloudS4 & Native HANA SolutionsSAP-8006223-2"},{"$f":"E2164&F2164","v":"SAP-8006223-2CloudS4 & Native HANA Solutions"},null,"SAP Colombia","SAP-8006223-2","CloudS4 & Native HANA Solutions",{"$f":"D2164","v":"SAP Colombia"},"USD","N/A","SAP S/4HANA Cloud for product compliance",100000,"Serv","Suscripcion","N/A","N/A","N/A","SAP-8006223-2","Forma de pago estandar a 30 dias",532,1,0,"USD"]
[{"$f":"D2165&F2165&E2165","v":"SAP ColombiaCloudS4 & Native HANA SolutionsSAP-8006223-3"},{"$f":"E2165&F2165","v":"SAP-8006223-3CloudS4 & Native HANA Solutions"},null,"SAP Colombia","SAP-8006223-3","CloudS4 & Native HANA Solutions",{"$f":"D2165","v":"SAP Colombia"},"USD","N/A","SAP S/4HANA Cloud for product compliance",100000,"Serv","Suscripcion","N/A","N/A","N/A","SAP-8006223-3","Forma de pago estandar a 30 dias",364,1,0,"USD"]
[{"$f":"D2166&F2166&E2166","v":"SAP ColombiaCloudS4 & Native HANA SolutionsSAP-8006223-4"},{"$f":"E2166&F2166","v":"SAP-8006223-4CloudS4 & Native HANA Solutions"},null,"SAP Colombia","SAP-8006223-4","CloudS4 & Native HANA Solutions",{"$f":"D2166","v":"SAP Colombia"},"USD","N/A","SAP S/4HANA Cloud for product compliance",100000,"Serv","Suscripcion","N/A","N/A","N/A","SAP-8006223-4","Forma de pago estandar a 30 dias",252,1,0,"USD"]
[{"$f":"D2167&F2167&E2167","v":"SAP ColombiaCloudS4 & Native HANA SolutionsSAP-8006223-5"},{"$f":"E2167&F2167","v":"SAP-8006223-5CloudS4 & Native HANA Solutions"},null,"SAP Colombia","SAP-8006223-5","CloudS4 & Native HANA Solutions",{"$f":"D2167","v":"SAP Colombia"},"USD","N/A","SAP S/4HANA Cloud for product compliance",100000,"Serv","Suscripcion","N/A","N/A","N/A","SAP-8006223-5","Forma de pago estandar a 30 dias",123,1,0,"USD"]
[{"$f":"D2168&F2168&E2168","v":"SAP ColombiaCloudS4 & Native HANA SolutionsSAP-8007739-1"},{"$f":"E2168&F2168","v":"SAP-8007739-1CloudS4 & Native HANA Solutions"},null,"SAP Colombia","SAP-8007739-1","CloudS4 & Native HANA Solutions",{"$f":"D2168","v":"SAP Colombia"},"USD","N/A","SAP S/4HANA Cloud for EHS incident management",100,"Serv","Suscripcion","N/A","N/A","N/A","SAP-8007739-1","Forma de pago estandar a 30 dias",104,1,0,"USD"]
[{"$f":"D2169&F2169&E2169","v":"SAP ColombiaCloudS4 & Native HANA SolutionsSAP-8007739-2"},{"$f":"E2169&F2169","v":"SAP-8007739-2CloudS4 & Native HANA Solutions"},null,"SAP Colombia","SAP-8007739-2","CloudS4 & Native HANA Solutions",{"$f":"D2169","v":"SAP Colombia"},"USD","N/A","SAP S/4HANA Cloud for EHS incident management",100,"Serv","Suscripcion","N/A","N/A","N/A","SAP-8007739-2","Forma de pago estandar a 30 dias",62,1,0,"USD"]
[{"$f":"D2170&F2170&E2170","v":"SAP ColombiaCloudS4 & Native HANA SolutionsSAP-8007739-3"},{"$f":"E2170&F2170","v":"SAP-8007739-3CloudS4 & Native HANA Solutions"},null,"SAP Colombia","SAP-8007739-3","CloudS4 & Native HANA Solutions",{"$f":"D2170","v":"SAP Colombia"},"USD","N/A","SAP S/4HANA Cloud for EHS incident management",100,"Serv","Suscripcion","N/A","N/A","N/A","SAP-8007739-3","Forma de pago estandar a 30 dias",47,1,0,"USD"]
[{"$f":"D2171&F2171&E2171","v":"SAP ColombiaCloudS4 & Native HANA SolutionsSAP-8008204-1"},{"$f":"E2171&F2171","v":"SAP-8008204-1CloudS4 & Native HANA Solutions"},null,"SAP Colombia","SAP-8008204-1","CloudS4 & Native HANA Solutions",{"$f":"D2171","v":"SAP Colombia"},"USD","N/A","SAP S/4HANA Cloud for Asset Management for resource scheduling",1,"Serv","Suscripcion","N/A","N/A","N/A","SAP-8008204-1","Forma de pago estandar a 30 dias",92,1,0,"USD"]
[{"$f":"D2172&F2172&E2172","v":"SAP ColombiaCloudS4 & Native HANA SolutionsSAP-8008204-2"},{"$f":"E2172&F2172","v":"SAP-8008204-2CloudS4 & Native HANA Solutions"},null,"SAP Colombia","SAP-8008204-2","CloudS4 & Native HANA Solutions",{"$f":"D2172","v":"SAP Colombia"},"USD","N/A","SAP S/4HANA Cloud for Asset Management for resource scheduling",1,"Serv","Suscripcion","N/A","N/A","N/A","SAP-8008204-2","Forma de pago estandar a 30 dias",36,1,0,"USD"]
[{"$f":"D2173&F2173&E2173","v":"SAP ColombiaCloudS4 & Native HANA SolutionsSAP-8008204-3"},{"$f":"E2173&F2173","v":"SAP-8008204-3CloudS4 & Native HANA Solutions"},null,"SAP Colombia","SAP-8008204-3","CloudS4 & Native HANA Solutions",{"$f":"D2173","v":"SAP Colombia"},"USD","N/A","SAP S/4HANA Cloud for Asset Management for resource scheduling",1,"Serv","Suscripcion","N/A","N/A","N/A","SAP-8008204-3","Forma de pago estandar a 30 dias",27,1,0,"USD"]
[{"$f":"D2174&F2174&E2174","v":"SAP ColombiaCloudS4 & Native HANA SolutionsSAP-8008204-4"},{"$f":"E2174&F2174","v":"SAP-8008204-4CloudS4 & Native HANA Solutions"},null,"SAP Colombia","SAP-8008204-4","CloudS4 & Native HANA Solutions",{"$f":"D2174","v":"SAP Colombia"},"USD","N/A","SAP S/4HANA Cloud for Asset Management for resource scheduling",1,"Serv","Suscripcion","N/A","N/A","N/A","SAP-8008204-4","Forma de pago estandar a 30 dias",21,1,0,"USD"]
[{"$f":"D2175&F2175&E2175","v":"SAP ColombiaCloudS4 & Native HANA SolutionsSAP-8008204-5"},{"$f":"E2175&F2175","v":"SAP-8008204-5CloudS4 & Native HANA Solutions"},null,"SAP Colombia","SAP-8008204-5","CloudS4 & Native HANA Solutions",{"$f":"D2175","v":"SAP Colombia"},"USD","N/A","SAP S/4HANA Cloud for Asset Management for resource scheduling",1,"Serv","Suscripcion","N/A","N/A","N/A","SAP-8008204-5","Forma de pago estandar a 30 dias",10,1,0,"USD"]
[{"$f":"D2176&F2176&E2176","v":"SAP ColombiaCloudS4 & Native HANA SolutionsSAP-8008215-1"},{"$f":"E2176&F2176","v":"SAP-8008215-1CloudS4 & Native HANA Solutions"},null,"SAP Colombia","SAP-8008215-1","CloudS4 & Native HANA Solutions",{"$f":"D2176","v":"SAP Colombia"},"USD","N/A","SAP S/4HANA Cloud for projects, project collaboration",1,"Serv","Suscripcion","N/A","N/A","N/A","SAP-8008215-1","Forma de pago estandar a 30 dias",68,1,0,"USD"]
[{"$f":"D2177&F2177&E2177","v":"SAP ColombiaCloudS4 & Native HANA SolutionsSAP-8008215-2"},{"$f":"E2177&F2177","v":"SAP-8008215-2CloudS4 & Native HANA Solutions"},null,"SAP Colombia","SAP-8008215-2","CloudS4 & Native HANA Solutions",{"$f":"D2177","v":"SAP Colombia"},"USD","N/A","SAP S/4HANA Cloud for projects, project collaboration",1,"Serv","Suscripcion","N/A","N/A","N/A","SAP-8008215-2","Forma de pago estandar a 30 dias",64,1,0,"USD"]
[{"$f":"D2178&F2178&E2178","v":"SAP ColombiaCloudS4 & Native HANA SolutionsSAP-8008215-3"},{"$f":"E2178&F2178","v":"SAP-8008215-3CloudS4 & Native HANA Solutions"},null,"SAP Colombia","SAP-8008215-3","CloudS4 & Native HANA Solutions",{"$f":"D2178","v":"SAP Colombia"},"USD","N/A","SAP S/4HANA Cloud for projects, project collaboration",1,"Serv","Suscripcion","N/A","N/A","N/A","SAP-8008215-3","Forma de pago estandar a 30 dias",61,1,0,"USD"]
[{"$f":"D2179&F2179&E2179","v":"SAP ColombiaCloudS4 & Native HANA SolutionsSAP-8008237-1"},{"$f":"E2179&F2179","v":"SAP-8008237-1CloudS4 & Native HANA Solutions"},null,"SAP Colombia","SAP-8008237-1","CloudS4 & Native HANA Solutions",{"$f":"D2179","v":"SAP Colombia"},"USD","N/A","SAP S/4HANA Cloud for EHS environment management",100,"Serv","Suscripcion","N/A","N/A","N/A","SAP-8008237-1","Forma de pago estandar a 30 dias",104,1,0,"USD"]
[{"$f":"D2180&F2180&E2180","v":"SAP ColombiaCloudS4 & Native HANA SolutionsSAP-8008237-2"},{"$f":"E2180&F2180","v":"SAP-8008237-2CloudS4 & Native HANA Solutions"},null,"SAP Colombia","SAP-8008237-2","CloudS4 & Native HANA Solutions",{"$f":"D2180","v":"SAP Colombia"},"USD","N/A","SAP S/4HANA Cloud for EHS environment management",100,"Serv","Suscripcion","N/A","N/A","N/A","SAP-8008237-2","Forma de pago estandar a 30 dias",62,1,0,"USD"]
[{"$f":"D2181&F2181&E2181","v":"SAP ColombiaCloudS4 & Native HANA SolutionsSAP-8008237-3"},{"$f":"E2181&F2181","v":"SAP-8008237-3CloudS4 & Native HANA Solutions"},null,"SAP Colombia","SAP-8008237-3","CloudS4 & Native HANA Solutions",{"$f":"D2181","v":"SAP Colombia"},"USD","N/A","SAP S/4HANA Cloud for EHS environment management",100,"Serv","Suscripcion","N/A","N/A","N/A","SAP-8008237-3","Forma de pago estandar a 30 dias",45,1,0,"USD"]
[{"$f":"D2182&F2182&E2182","v":"SAP ColombiaCloudS4 & Native HANA SolutionsSAP-8008613-1"},{"$f":"E2182&F2182","v":"SAP-8008613-1CloudS4 & Native HANA Solutions"},null,"SAP Colombia","SAP-8008613-1","CloudS4 & Native HANA Solutions",{"$f":"D2182","v":"SAP Colombia"},"USD","N/A","SAP S/4HANA Cloud for advanced ATP",279975000,"Serv","Suscripcion","N/A","N/A","N/A","SAP-8008613-1","Forma de pago estandar a 30 dias",1456,1,0,"USD"]
[{"$f":"D2183&F2183&E2183","v":"SAP ColombiaCloudS4 & Native HANA SolutionsSAP-8008613-2"},{"$f":"E2183&F2183","v":"SAP-8008613-2CloudS4 & Native HANA Solutions"},null,"SAP Colombia","SAP-8008613-2","CloudS4 & Native HANA Solutions",{"$f":"D2183","v":"SAP Colombia"},"USD","N/A","SAP S/4HANA Cloud for advanced ATP",279975000,"Serv","Suscripcion","N/A","N/A","N/A","SAP-8008613-2","Forma de pago estandar a 30 dias",1040,1,0,"USD"]
[{"$f":"D2184&F2184&E2184","v":"SAP ColombiaCloudS4 & Native HANA SolutionsSAP-8008613-3"},{"$f":"E2184&F2184","v":"SAP-8008613-3CloudS4 & Native HANA Solutions"},null,"SAP Colombia","SAP-8008613-3","CloudS4 & Native HANA Solutions",{"$f":"D2184","v":"SAP Colombia"},"USD","N/A","SAP S/4HANA Cloud for advanced ATP",279975000,"Serv","Suscripcion","N/A","N/A","N/A","SAP-8008613-3","Forma de pago estandar a 30 dias",532,1,0,"USD"]
[{"$f":"D2185&F2185&E2185","v":"SAP ColombiaCloudS4 & Native HANA SolutionsSAP-8008613-4"},{"$f":"E2185&F2185","v":"SAP-8008613-4CloudS4 & Native HANA Solutions"},null,"SAP Colombia","SAP-8008613-4","CloudS4 & Native HANA Solutions",{"$f":"D2185","v":"SAP Colombia"},"USD","N/A","SAP S/4HANA Cloud for advanced ATP",279975000,"Serv","Suscripcion","N/A","N/A","N/A","SAP-8008613-4","Forma de pago estandar a 30 dias",448,1,0,"USD"]
[{"$f":"D2186&F2186&E2186","v":"SAP ColombiaCloudS4 & Native HANA SolutionsSAP-8008613-5"},{"$f":"E2186&F2186","v":"SAP-8008613-5CloudS4 & Native HANA Solutions"},null,"SAP Colombia","SAP-8008613-5","CloudS4 & Native HANA Solutions",{"$f":"D2186","v":"SAP Colombia"},"USD","N/A","SAP S/4HANA Cloud for advanced ATP",279975000,"Serv","Suscripcion","N/A","N/A","N/A","SAP-8008613-5","Forma de pago estandar a 30 dias",347,1,0,"USD"]
[{"$f":"D2187&F2187&E2187","v":"SAP ColombiaCloudS4 & Native HANA SolutionsSAP-8008613-6"},{"$f":"E2187&F2187","v":"SAP-8008613-6CloudS4 & Native HANA Solutions"},null,"SAP Colombia","SAP-8008613-6","CloudS4 & Native HANA Solutions",{"$f":"D2187","v":"SAP Colombia"},"USD","N/A","SAP S/4HANA Cloud for advanced ATP",279975000,"Serv","Suscripcion","N/A","N/A","N/A","SAP-8008613-6","Forma de pago estandar a 30 dias",308,1,0,"USD"]
[{"$f":"D2188&F2188&E2188","v":"SAP ColombiaCloudS4 & Native HANA SolutionsSAP-8008658-1"},{"$f":"E2188&F2188","v":"SAP-8008658-1CloudS4 & Native HANA Solutions"},null,"SAP Colombia","SAP-8008658-1","CloudS4 & Native HANA Solutions",{"$f":"D2188","v":"SAP Colombia"},"USD","N/A","SAP S/4HANA Cloud for incident management, private edition",100,"Serv","Suscripcion","N/A","N/A","N/A","SAP-8008658-1","Forma de pago estandar a 30 dias",243,1,0,"USD"]
[{"$f":"D2189&F2189&E2189","v":"SAP ColombiaCloudS4 & Native HANA SolutionsSAP-8008658-2"},{"$f":"E2189&F2189","v":"SAP-8008658-2CloudS4 & Native HANA Solutions"},null,"SAP Colombia","SAP-8008658-2","CloudS4 & Native HANA Solutions",{"$f":"D2189","v":"SAP Colombia"},"USD","N/A","SAP S/4HANA Cloud for incident management, private edition",100,"Serv","Suscripcion","N/A","N/A","N/A","SAP-8008658-2","Forma de pago estandar a 30 dias",161,1,0,"USD"]
[{"$f":"D2190&F2190&E2190","v":"SAP ColombiaCloudS4 & Native HANA SolutionsSAP-8008658-3"},{"$f":"E2190&F2190","v":"SAP-8008658-3CloudS4 & Native HANA Solutions"},null,"SAP Colombia","SAP-8008658-3","CloudS4 & Native HANA Solutions",{"$f":"D2190","v":"SAP Colombia"},"USD","N/A","SAP S/4HANA Cloud for incident management, private edition",100,"Serv","Suscripcion","N/A","N/A","N/A","SAP-8008658-3","Forma de pago estandar a 30 dias",120,1,0,"USD"]
[{"$f":"D2191&F2191&E2191","v":"SAP ColombiaCloudS4 & Native HANA SolutionsSAP-8008660-1"},{"$f":"E2191&F2191","v":"SAP-8008660-1CloudS4 & Native HANA Solutions"},null,"SAP Colombia","SAP-8008660-1","CloudS4 & Native HANA Solutions",{"$f":"D2191","v":"SAP Colombia"},"USD","N/A","SAP S/4HANA Cloud for Advanced Available-to-Promise, private edition",279975000,"Serv","Suscripcion","N/A","N/A","N/A","SAP-8008660-1","Forma de pago estandar a 30 dias",3278,1,0,"USD"]
[{"$f":"D2192&F2192&E2192","v":"SAP ColombiaCloudS4 & Native HANA SolutionsSAP-8008660-2"},{"$f":"E2192&F2192","v":"SAP-8008660-2CloudS4 & Native HANA Solutions"},null,"SAP Colombia","SAP-8008660-2","CloudS4 & Native HANA Solutions",{"$f":"D2192","v":"SAP Colombia"},"USD","N/A","SAP S/4HANA Cloud for Advanced Available-to-Promise, private edition",279975000,"Serv","Suscripcion","N/A","N/A","N/A","SAP-8008660-2","Forma de pago estandar a 30 dias",2430,1,0,"USD"]
[{"$f":"D2193&F2193&E2193","v":"SAP ColombiaCloudS4 & Native HANA SolutionsSAP-8008660-3"},{"$f":"E2193&F2193","v":"SAP-8008660-3CloudS4 & Native HANA Solutions"},null,"SAP Colombia","SAP-8008660-3","CloudS4 & Native HANA Solutions",{"$f":"D2193","v":"SAP Colombia"},"USD","N/A","SAP S/4HANA Cloud for Advanced Available-to-Promise, private edition",279975000,"Serv","Suscripcion","N/A","N/A","N/A","SAP-8008660-3","Forma de pago estandar a 30 dias",2101,1,0,"USD"]
[{"$f":"D2194&F2194&E2194","v":"SAP ColombiaCloudS4 & Native HANA SolutionsSAP-8008660-4"},{"$f":"E2194&F2194","v":"SAP-8008660-4CloudS4 & Native HANA Solutions"},null,"SAP Colombia","SAP-8008660-4","CloudS4 & Native HANA Solutions",{"$f":"D2194","v":"SAP Colombia"},"USD","N/A","SAP S/4HANA Cloud for Advanced Available-to-Promise, private edition",279975000,"Serv","Suscripcion","N/A","N/A","N/A","SAP-8008660-4","Forma de pago estandar a 30 dias",1839,1,0,"USD"]
[{"$f":"D2195&F2195&E2195","v":"SAP ColombiaCloudS4 & Native HANA SolutionsSAP-8008660-5"},{"$f":"E2195&F2195","v":"SAP-8008660-5CloudS4 & Native HANA Solutions"},null,"SAP Colombia","SAP-8008660-5","CloudS4 & Native HANA Solutions",{"$f":"D2195","v":"SAP Colombia"},"USD","N/A","SAP S/4HANA Cloud for Advanced Available-to-Promise, private edition",279975000,"Serv","Suscripcion","N/A","N/A","N/A","SAP-8008660-5","Forma de pago estandar a 30 dias",1562,1,0,"USD"]
[{"$f":"D2196&F2196&E2196","v":"SAP ColombiaCloudS4 & Native HANA SolutionsSAP-8008660-6"},{"$f":"E2196&F2196","v":"SAP-8008660-6CloudS4 & Native HANA Solutions"},null,"SAP Colombia","SAP-8008660-6","CloudS4 & Native HANA Solutions",{"$f":"D2196","v":"SAP Colombia"},"USD","N/A","SAP S/4HANA Cloud for Advanced Available-to-Promise, private edition",279975000,"Serv","Suscripcion","N/A","N/A","N/A","SAP-8008660-6","Forma de pago estandar a 30 dias",1441,1,0,"USD"]
[{"$f":"D2197&F2197&E2197","v":"SAP ColombiaCloudS4 & Native HANA SolutionsSAP-8008663-1"},{"$f":"E2197&F2197","v":"SAP-8008663-1CloudS4 & Native HANA Solutions"},null,"SAP Colombia","SAP-8008663-1","CloudS4 & Native HANA Solutions",{"$f":"D2197","v":"SAP Colombia"},"USD","N/A","SAP S/4HANA Cloud, Enterprise Portfolio and Project Management, private edition, professional",1,"Serv","Suscripcion","N/A","N/A","N/A","SAP-8008663-1","Forma de pago estandar a 30 dias",143,1,0,"USD"]
[{"$f":"D2198&F2198&E2198","v":"SAP ColombiaCloudS4 & Native HANA SolutionsSAP-8008663-2"},{"$f":"E2198&F2198","v":"SAP-8008663-2CloudS4 & Native HANA Solutions"},null,"SAP Colombia","SAP-8008663-2","CloudS4 & Native HANA Solutions",{"$f":"D2198","v":"SAP Colombia"},"USD","N/A","SAP S/4HANA Cloud, Enterprise Portfolio and Project Management, private edition, professional",1,"Serv","Suscripcion","N/A","N/A","N/A","SAP-8008663-2","Forma de pago estandar a 30 dias",81,1,0,"USD"]
[{"$f":"D2199&F2199&E2199","v":"SAP ColombiaCloudS4 & Native HANA SolutionsSAP-8008663-3"},{"$f":"E2199&F2199","v":"SAP-8008663-3CloudS4 & Native HANA Solutions"},null,"SAP Colombia","SAP-8008663-3","CloudS4 & Native HANA Solutions",{"$f":"D2199","v":"SAP Colombia"},"USD","N/A","SAP S/4HANA Cloud, Enterprise Portfolio and Project Management, private edition, professional",1,"Serv","Suscripcion","N/A","N/A","N/A","SAP-8008663-3","Forma de pago estandar a 30 dias",67,1,0,"USD"]
[{"$f":"D2200&F2200&E2200","v":"SAP ColombiaCloudS4 & Native HANA SolutionsSAP-8008666-1"},{"$f":"E2200&F2200","v":"SAP-8008666-1CloudS4 & Native HANA Solutions"},null,"SAP Colombia","SAP-8008666-1","CloudS4 & Native HANA Solutions",{"$f":"D2200","v":"SAP Colombia"},"USD","N/A","SAP S/4HANA Cloud for R&D for enterprise product formulation, private edition",1,"Serv","Suscripcion","N/A","N/A","N/A","SAP-8008666-1","Forma de pago estandar a 30 dias",307,1,0,"USD"]
[{"$f":"D2201&F2201&E2201","v":"SAP ColombiaCloudS4 & Native HANA SolutionsSAP-8008666-2"},{"$f":"E2201&F2201","v":"SAP-8008666-2CloudS4 & Native HANA Solutions"},null,"SAP Colombia","SAP-8008666-2","CloudS4 & Native HANA Solutions",{"$f":"D2201","v":"SAP Colombia"},"USD","N/A","SAP S/4HANA Cloud for R&D for enterprise product formulation, private edition",1,"Serv","Suscripcion","N/A","N/A","N/A","SAP-8008666-2","Forma de pago estandar a 30 dias",147,1,0,"USD"]
[{"$f":"D2202&F2202&E2202","v":"SAP ColombiaCloudS4 & Native HANA SolutionsSAP-8008666-3"},{"$f":"E2202&F2202","v":"SAP-8008666-3CloudS4 & Native HANA Solutions"},null,"SAP Colombia","SAP-8008666-3","CloudS4 & Native HANA Solutions",{"$f":"D2202","v":"SAP Colombia"},"USD","N/A","SAP S/4HANA Cloud for R&D for enterprise product formulation, private edition",1,"Serv","Suscripcion","N/A","N/A","N/A","SAP-8008666-3","Forma de pago estandar a 30 dias",66,1,0,"USD"]
[{"$f":"D2203&F2203&E2203","v":"SAP ColombiaCloudS4 & Native HANA SolutionsSAP-8008669-1"},{"$f":"E2203&F2203","v":"SAP-8008669-1CloudS4 & Native HANA Solutions"},null,"SAP Colombia","SAP-8008669-1","CloudS4 & Native HANA Solutions",{"$f":"D2203","v":"SAP Colombia"},"USD","N/A","SAP S/4HANA Cloud for health and safety management, private edition",100,"Serv","Suscripcion","N/A","N/A","N/A","SAP-8008669-1","Forma de pago estandar a 30 dias",250,1,0,"USD"]
[{"$f":"D2204&F2204&E2204","v":"SAP ColombiaCloudS4 & Native HANA SolutionsSAP-8008669-2"},{"$f":"E2204&F2204","v":"SAP-8008669-2CloudS4 & Native HANA Solutions"},null,"SAP Colombia","SAP-8008669-2","CloudS4 & Native HANA Solutions",{"$f":"D2204","v":"SAP Colombia"},"USD","N/A","SAP S/4HANA Cloud for health and safety management, private edition",100,"Serv","Suscripcion","N/A","N/A","N/A","SAP-8008669-2","Forma de pago estandar a 30 dias",166,1,0,"USD"]
[{"$f":"D2205&F2205&E2205","v":"SAP ColombiaCloudS4 & Native HANA SolutionsSAP-8008669-3"},{"$f":"E2205&F2205","v":"SAP-8008669-3CloudS4 & Native HANA Solutions"},null,"SAP Colombia","SAP-8008669-3","CloudS4 & Native HANA Solutions",{"$f":"D2205","v":"SAP Colombia"},"USD","N/A","SAP S/4HANA Cloud for health and safety management, private edition",100,"Serv","Suscripcion","N/A","N/A","N/A","SAP-8008669-3","Forma de pago estandar a 30 dias",127,1,0,"USD"]
[{"$f":"D2206&F2206&E2206","v":"SAP ColombiaCloudS4 & Native HANA SolutionsSAP-8008672-1"},{"$f":"E2206&F2206","v":"SAP-8008672-1CloudS4 & Native HANA Solutions"},null,"SAP Colombia","SAP-8008672-1","CloudS4 & Native HANA Solutions",{"$f":"D2206","v":"SAP Colombia"},"USD","N/A","SAP Work Clearance Management for SAP S/4HANA Cloud, private edition",80000,"Serv","Suscripcion","N/A","N/A","N/A","SAP-8008672-1","Forma de pago estandar a 30 dias",3522,1,0,"USD"]
[{"$f":"D2207&F2207&E2207","v":"SAP ColombiaCloudS4 & Native HANA SolutionsSAP-8008672-2"},{"$f":"E2207&F2207","v":"SAP-8008672-2CloudS4 & Native HANA Solutions"},null,"SAP Colombia","SAP-8008672-2","CloudS4 & Native HANA Solutions",{"$f":"D2207","v":"SAP Colombia"},"USD","N/A","SAP Work Clearance Management for SAP S/4HANA Cloud, private edition",80000,"Serv","Suscripcion","N/A","N/A","N/A","SAP-8008672-2","Forma de pago estandar a 30 dias",1696,1,0,"USD"]
[{"$f":"D2208&F2208&E2208","v":"SAP ColombiaCloudS4 & Native HANA SolutionsSAP-8008672-3"},{"$f":"E2208&F2208","v":"SAP-8008672-3CloudS4 & Native HANA Solutions"},null,"SAP Colombia","SAP-8008672-3","CloudS4 & Native HANA Solutions",{"$f":"D2208","v":"SAP Colombia"},"USD","N/A","SAP Work Clearance Management for SAP S/4HANA Cloud, private edition",80000,"Serv","Suscripcion","N/A","N/A","N/A","SAP-8008672-3","Forma de pago estandar a 30 dias",838,1,0,"USD"]
[{"$f":"D2209&F2209&E2209","v":"SAP ColombiaCloudS4 & Native HANA SolutionsSAP-8008672-4"},{"$f":"E2209&F2209","v":"SAP-8008672-4CloudS4 & Native HANA Solutions"},null,"SAP Colombia","SAP-8008672-4","CloudS4 & Native HANA Solutions",{"$f":"D2209","v":"SAP Colombia"},"USD","N/A","SAP Work Clearance Management for SAP S/4HANA Cloud, private edition",80000,"Serv","Suscripcion","N/A","N/A","N/A","SAP-8008672-4","Forma de pago estandar a 30 dias",756,1,0,"USD"]
[{"$f":"D2210&F2210&E2210","v":"SAP ColombiaCloudS4 & Native HANA SolutionsSAP-8008672-5"},{"$f":"E2210&F2210","v":"SAP-8008672-5CloudS4 & Native HANA Solutions"},null,"SAP Colombia","SAP-8008672-5","CloudS4 & Native HANA Solutions",{"$f":"D2210","v":"SAP Colombia"},"USD","N/A","SAP Work Clearance Management for SAP S/4HANA Cloud, private edition",80000,"Serv","Suscripcion","N/A","N/A","N/A","SAP-8008672-5","Forma de pago estandar a 30 dias",654,1,0,"USD"]
[{"$f":"D2211&F2211&E2211","v":"SAP ColombiaCloudS4 & Native HANA SolutionsSAP-8008698-1"},{"$f":"E2211&F2211","v":"SAP-8008698-1CloudS4 & Native HANA Solutions"},null,"SAP Colombia","SAP-8008698-1","CloudS4 & Native HANA Solutions",{"$f":"D2211","v":"SAP Colombia"},"USD","N/A","SAP S/4HANA Cloud for Transportation Charge Management, private edition",2799750,"Serv","Suscripcion","N/A","N/A","N/A","SAP-8008698-1","Forma de pago estandar a 30 dias",275,1,0,"USD"]
[{"$f":"D2212&F2212&E2212","v":"SAP ColombiaCloudS4 & Native HANA SolutionsSAP-8008698-2"},{"$f":"E2212&F2212","v":"SAP-8008698-2CloudS4 & Native HANA Solutions"},null,"SAP Colombia","SAP-8008698-2","CloudS4 & Native HANA Solutions",{"$f":"D2212","v":"SAP Colombia"},"USD","N/A","SAP S/4HANA Cloud for Transportation Charge Management, private edition",2799750,"Serv","Suscripcion","N/A","N/A","N/A","SAP-8008698-2","Forma de pago estandar a 30 dias",216,1,0,"USD"]
[{"$f":"D2213&F2213&E2213","v":"SAP ColombiaCloudS4 & Native HANA SolutionsSAP-8008698-3"},{"$f":"E2213&F2213","v":"SAP-8008698-3CloudS4 & Native HANA Solutions"},null,"SAP Colombia","SAP-8008698-3","CloudS4 & Native HANA Solutions",{"$f":"D2213","v":"SAP Colombia"},"USD","N/A","SAP S/4HANA Cloud for Transportation Charge Management, private edition",2799750,"Serv","Suscripcion","N/A","N/A","N/A","SAP-8008698-3","Forma de pago estandar a 30 dias",160,1,0,"USD"]
[{"$f":"D2214&F2214&E2214","v":"SAP ColombiaCloudS4 & Native HANA SolutionsSAP-8008698-4"},{"$f":"E2214&F2214","v":"SAP-8008698-4CloudS4 & Native HANA Solutions"},null,"SAP Colombia","SAP-8008698-4","CloudS4 & Native HANA Solutions",{"$f":"D2214","v":"SAP Colombia"},"USD","N/A","SAP S/4HANA Cloud for Transportation Charge Management, private edition",2799750,"Serv","Suscripcion","N/A","N/A","N/A","SAP-8008698-4","Forma de pago estandar a 30 dias",110,1,0,"USD"]
[{"$f":"D2215&F2215&E2215","v":"SAP ColombiaCloudS4 & Native HANA SolutionsSAP-8008701-1"},{"$f":"E2215&F2215","v":"SAP-8008701-1CloudS4 & Native HANA Solutions"},null,"SAP Colombia","SAP-8008701-1","CloudS4 & Native HANA Solutions",{"$f":"D2215","v":"SAP Colombia"},"USD","N/A","SAP S/4HANA Cloud for Manufacturing for planning and scheduling, private edition",111990000,"Serv","Suscripcion","N/A","N/A","N/A","SAP-8008701-1","Forma de pago estandar a 30 dias",2264,1,0,"USD"]
[{"$f":"D2216&F2216&E2216","v":"SAP ColombiaCloudS4 & Native HANA SolutionsSAP-8008701-2"},{"$f":"E2216&F2216","v":"SAP-8008701-2CloudS4 & Native HANA Solutions"},null,"SAP Colombia","SAP-8008701-2","CloudS4 & Native HANA Solutions",{"$f":"D2216","v":"SAP Colombia"},"USD","N/A","SAP S/4HANA Cloud for Manufacturing for planning and scheduling, private edition",111990000,"Serv","Suscripcion","N/A","N/A","N/A","SAP-8008701-2","Forma de pago estandar a 30 dias",1035,1,0,"USD"]
[{"$f":"D2217&F2217&E2217","v":"SAP ColombiaCloudS4 & Native HANA SolutionsSAP-8008701-3"},{"$f":"E2217&F2217","v":"SAP-8008701-3CloudS4 & Native HANA Solutions"},null,"SAP Colombia","SAP-8008701-3","CloudS4 & Native HANA Solutions",{"$f":"D2217","v":"SAP Colombia"},"USD","N/A","SAP S/4HANA Cloud for Manufacturing for planning and scheduling, private edition",111990000,"Serv","Suscripcion","N/A","N/A","N/A","SAP-8008701-3","Forma de pago estandar a 30 dias",806,1,0,"USD"]
[{"$f":"D2218&F2218&E2218","v":"SAP ColombiaCloudS4 & Native HANA SolutionsSAP-8008707-1"},{"$f":"E2218&F2218","v":"SAP-8008707-1CloudS4 & Native HANA Solutions"},null,"SAP Colombia","SAP-8008707-1","CloudS4 & Native HANA Solutions",{"$f":"D2218","v":"SAP Colombia"},"USD","N/A","SAP S/4HANA Cloud for Advanced Variant Configuration, private edition, professional version",1,"Serv","Suscripcion","N/A","N/A","N/A","SAP-8008707-1","Forma de pago estandar a 30 dias",1708,1,0,"USD"]
[{"$f":"D2219&F2219&E2219","v":"SAP ColombiaCloudS4 & Native HANA SolutionsSAP-8008707-2"},{"$f":"E2219&F2219","v":"SAP-8008707-2CloudS4 & Native HANA Solutions"},null,"SAP Colombia","SAP-8008707-2","CloudS4 & Native HANA Solutions",{"$f":"D2219","v":"SAP Colombia"},"USD","N/A","SAP S/4HANA Cloud for Advanced Variant Configuration, private edition, professional version",1,"Serv","Suscripcion","N/A","N/A","N/A","SAP-8008707-2","Forma de pago estandar a 30 dias",1029,1,0,"USD"]
[{"$f":"D2220&F2220&E2220","v":"SAP ColombiaCloudS4 & Native HANA SolutionsSAP-8008707-3"},{"$f":"E2220&F2220","v":"SAP-8008707-3CloudS4 & Native HANA Solutions"},null,"SAP Colombia","SAP-8008707-3","CloudS4 & Native HANA Solutions",{"$f":"D2220","v":"SAP Colombia"},"USD","N/A","SAP S/4HANA Cloud for Advanced Variant Configuration, private edition, professional version",1,"Serv","Suscripcion","N/A","N/A","N/A","SAP-8008707-3","Forma de pago estandar a 30 dias",545,1,0,"USD"]
[{"$f":"D2221&F2221&E2221","v":"SAP ColombiaCloudS4 & Native HANA SolutionsSAP-8008709-1"},{"$f":"E2221&F2221","v":"SAP-8008709-1CloudS4 & Native HANA Solutions"},null,"SAP Colombia","SAP-8008709-1","CloudS4 & Native HANA Solutions",{"$f":"D2221","v":"SAP Colombia"},"USD","N/A","SAP Yard Logistics for SAP S/4HANA Cloud, private edition",5000,"Serv","Suscripcion","N/A","N/A","N/A","SAP-8008709-1","Forma de pago estandar a 30 dias",2897,1,0,"USD"]
[{"$f":"D2222&F2222&E2222","v":"SAP ColombiaCloudS4 & Native HANA SolutionsSAP-8008709-2"},{"$f":"E2222&F2222","v":"SAP-8008709-2CloudS4 & Native HANA Solutions"},null,"SAP Colombia","SAP-8008709-2","CloudS4 & Native HANA Solutions",{"$f":"D2222","v":"SAP Colombia"},"USD","N/A","SAP Yard Logistics for SAP S/4HANA Cloud, private edition",5000,"Serv","Suscripcion","N/A","N/A","N/A","SAP-8008709-2","Forma de pago estandar a 30 dias",1347,1,0,"USD"]
[{"$f":"D2223&F2223&E2223","v":"SAP ColombiaCloudS4 & Native HANA SolutionsSAP-8008709-3"},{"$f":"E2223&F2223","v":"SAP-8008709-3CloudS4 & Native HANA Solutions"},null,"SAP Colombia","SAP-8008709-3","CloudS4 & Native HANA Solutions",{"$f":"D2223","v":"SAP Colombia"},"USD","N/A","SAP Yard Logistics for SAP S/4HANA Cloud, private edition",5000,"Serv","Suscripcion","N/A","N/A","N/A","SAP-8008709-3","Forma de pago estandar a 30 dias",620,1,0,"USD"]
[{"$f":"D2224&F2224&E2224","v":"SAP ColombiaCloudS4 & Native HANA SolutionsSAP-8008709-4"},{"$f":"E2224&F2224","v":"SAP-8008709-4CloudS4 & Native HANA Solutions"},null,"SAP Colombia","SAP-8008709-4","CloudS4 & Native HANA Solutions",{"$f":"D2224","v":"SAP Colombia"},"USD","N/A","SAP Yard Logistics for SAP S/4HANA Cloud, private edition",5000,"Serv","Suscripcion","N/A","N/A","N/A","SAP-8008709-4","Forma de pago estandar a 30 dias",314,1,0,"USD"]
[{"$f":"D2225&F2225&E2225","v":"SAP ColombiaCloudS4 & Native HANA SolutionsSAP-8008709-5"},{"$f":"E2225&F2225","v":"SAP-8008709-5CloudS4 & Native HANA Solutions"},null,"SAP Colombia","SAP-8008709-5","CloudS4 & Native HANA Solutions",{"$f":"D2225","v":"SAP Colombia"},"USD","N/A","SAP Yard Logistics for SAP S/4HANA Cloud, private edition",5000,"Serv","Suscripcion","N/A","N/A","N/A","SAP-8008709-5","Forma de pago estandar a 30 dias",225,1,0,"USD"]
[{"$f":"D2226&F2226&E2226","v":"SAP ColombiaCloudS4 & Native HANA SolutionsSAP-8008710-1"},{"$f":"E2226&F2226","v":"SAP-8008710-1CloudS4 & Native HANA Solutions"},null,"SAP Colombia","SAP-8008710-1","CloudS4 & Native HANA Solutions",{"$f":"D2226","v":"SAP Colombia"},"USD","N/A","SAP S/4HANA Cloud for management of change, private edition",100,"Serv","Suscripcion","N/A","N/A","N/A","SAP-8008710-1","Forma de pago estandar a 30 dias",381,1,0,"USD"]
[{"$f":"D2227&F2227&E2227","v":"SAP ColombiaCloudS4 & Native HANA SolutionsSAP-8008710-2"},{"$f":"E2227&F2227","v":"SAP-8008710-2CloudS4 & Native HANA Solutions"},null,"SAP Colombia","SAP-8008710-2","CloudS4 & Native HANA Solutions",{"$f":"D2227","v":"SAP Colombia"},"USD","N/A","SAP S/4HANA Cloud for management of change, private edition",100,"Serv","Suscripcion","N/A","N/A","N/A","SAP-8008710-2","Forma de pago estandar a 30 dias",278,1,0,"USD"]
[{"$f":"D2228&F2228&E2228","v":"SAP ColombiaCloudS4 & Native HANA SolutionsSAP-8008710-3"},{"$f":"E2228&F2228","v":"SAP-8008710-3CloudS4 & Native HANA Solutions"},null,"SAP Colombia","SAP-8008710-3","CloudS4 & Native HANA Solutions",{"$f":"D2228","v":"SAP Colombia"},"USD","N/A","SAP S/4HANA Cloud for management of change, private edition",100,"Serv","Suscripcion","N/A","N/A","N/A","SAP-8008710-3","Forma de pago estandar a 30 dias",140,1,0,"USD"]
[{"$f":"D2229&F2229&E2229","v":"SAP ColombiaCloudS4 & Native HANA SolutionsSAP-8008715-1"},{"$f":"E2229&F2229","v":"SAP-8008715-1CloudS4 & Native HANA Solutions"},null,"SAP Colombia","SAP-8008715-1","CloudS4 & Native HANA Solutions",{"$f":"D2229","v":"SAP Colombia"},"USD","N/A","SAP S/4HANA Cloud for Manufacturing for production engineering and operations, private edition",1,"Serv","Suscripcion","N/A","N/A","N/A","SAP-8008715-1","Forma de pago estandar a 30 dias",226,1,0,"USD"]
[{"$f":"D2230&F2230&E2230","v":"SAP ColombiaCloudS4 & Native HANA SolutionsSAP-8008715-2"},{"$f":"E2230&F2230","v":"SAP-8008715-2CloudS4 & Native HANA Solutions"},null,"SAP Colombia","SAP-8008715-2","CloudS4 & Native HANA Solutions",{"$f":"D2230","v":"SAP Colombia"},"USD","N/A","SAP S/4HANA Cloud for Manufacturing for production engineering and operations, private edition",1,"Serv","Suscripcion","N/A","N/A","N/A","SAP-8008715-2","Forma de pago estandar a 30 dias",151,1,0,"USD"]
[{"$f":"D2231&F2231&E2231","v":"SAP ColombiaCloudS4 & Native HANA SolutionsSAP-8008715-3"},{"$f":"E2231&F2231","v":"SAP-8008715-3CloudS4 & Native HANA Solutions"},null,"SAP Colombia","SAP-8008715-3","CloudS4 & Native HANA Solutions",{"$f":"D2231","v":"SAP Colombia"},"USD","N/A","SAP S/4HANA Cloud for Manufacturing for production engineering and operations, private edition",1,"Serv","Suscripcion","N/A","N/A","N/A","SAP-8008715-3","Forma de pago estandar a 30 dias",96,1,0,"USD"]
[{"$f":"D2232&F2232&E2232","v":"SAP ColombiaCloudS4 & Native HANA SolutionsSAP-8008720-1"},{"$f":"E2232&F2232","v":"SAP-8008720-1CloudS4 & Native HANA Solutions"},null,"SAP Colombia","SAP-8008720-1","CloudS4 & Native HANA Solutions",{"$f":"D2232","v":"SAP Colombia"},"USD","N/A","SAP S/4HANA Cloud for R&D for enterprise product engineering, private edition",1,"Serv","Suscripcion","N/A","N/A","N/A","SAP-8008720-1","Forma de pago estandar a 30 dias",373,1,0,"USD"]
[{"$f":"D2233&F2233&E2233","v":"SAP ColombiaCloudS4 & Native HANA SolutionsSAP-8008720-2"},{"$f":"E2233&F2233","v":"SAP-8008720-2CloudS4 & Native HANA Solutions"},null,"SAP Colombia","SAP-8008720-2","CloudS4 & Native HANA Solutions",{"$f":"D2233","v":"SAP Colombia"},"USD","N/A","SAP S/4HANA Cloud for R&D for enterprise product engineering, private edition",1,"Serv","Suscripcion","N/A","N/A","N/A","SAP-8008720-2","Forma de pago estandar a 30 dias",179,1,0,"USD"]
[{"$f":"D2234&F2234&E2234","v":"SAP ColombiaCloudS4 & Native HANA SolutionsSAP-8008720-3"},{"$f":"E2234&F2234","v":"SAP-8008720-3CloudS4 & Native HANA Solutions"},null,"SAP Colombia","SAP-8008720-3","CloudS4 & Native HANA Solutions",{"$f":"D2234","v":"SAP Colombia"},"USD","N/A","SAP S/4HANA Cloud for R&D for enterprise product engineering, private edition",1,"Serv","Suscripcion","N/A","N/A","N/A","SAP-8008720-3","Forma de pago estandar a 30 dias",82,1,0,"USD"]
[{"$f":"D2235&F2235&E2235","v":"SAP ColombiaCloudS4 & Native HANA SolutionsSAP-8008732-1"},{"$f":"E2235&F2235","v":"SAP-8008732-1CloudS4 & Native HANA Solutions"},null,"SAP Colombia","SAP-8008732-1","CloudS4 & Native HANA Solutions",{"$f":"D2235","v":"SAP Colombia"},"USD","N/A","SAP S/4HANA Cloud Enterprise Portfolio and Project Management, private edition, standard",1,"Serv","Suscripcion","N/A","N/A","N/A","SAP-8008732-1","Forma de pago estandar a 30 dias",40,1,0,"USD"]
[{"$f":"D2236&F2236&E2236","v":"SAP ColombiaCloudS4 & Native HANA SolutionsSAP-8008732-2"},{"$f":"E2236&F2236","v":"SAP-8008732-2CloudS4 & Native HANA Solutions"},null,"SAP Colombia","SAP-8008732-2","CloudS4 & Native HANA Solutions",{"$f":"D2236","v":"SAP Colombia"},"USD","N/A","SAP S/4HANA Cloud Enterprise Portfolio and Project Management, private edition, standard",1,"Serv","Suscripcion","N/A","N/A","N/A","SAP-8008732-2","Forma de pago estandar a 30 dias",26,1,0,"USD"]
[{"$f":"D2237&F2237&E2237","v":"SAP ColombiaCloudS4 & Native HANA SolutionsSAP-8008732-3"},{"$f":"E2237&F2237","v":"SAP-8008732-3CloudS4 & Native HANA Solutions"},null,"SAP Colombia","SAP-8008732-3","CloudS4 & Native HANA Solutions",{"$f":"D2237","v":"SAP Colombia"},"USD","N/A","SAP S/4HANA Cloud Enterprise Portfolio and Project Management, private edition, standard",1,"Serv","Suscripcion","N/A","N/A","N/A","SAP-8008732-3","Forma de pago estandar a 30 dias",22,1,0,"USD"]
[{"$f":"D2238&F2238&E2238","v":"SAP ColombiaCloudS4 & Native HANA SolutionsSAP-8008733-1"},{"$f":"E2238&F2238","v":"SAP-8008733-1CloudS4 & Native HANA Solutions"},null,"SAP Colombia","SAP-8008733-1","CloudS4 & Native HANA Solutions",{"$f":"D2238","v":"SAP Colombia"},"USD","N/A","SAP S/4HANA Cloud for advanced variant configuration, professional version",1,"Serv","Suscripcion","N/A","N/A","N/A","SAP-8008733-1","Forma de pago estandar a 30 dias",1632,1,0,"USD"]
[{"$f":"D2239&F2239&E2239","v":"SAP ColombiaCloudS4 & Native HANA SolutionsSAP-8008733-2"},{"$f":"E2239&F2239","v":"SAP-8008733-2CloudS4 & Native HANA Solutions"},null,"SAP Colombia","SAP-8008733-2","CloudS4 & Native HANA Solutions",{"$f":"D2239","v":"SAP Colombia"},"USD","N/A","SAP S/4HANA Cloud for advanced variant configuration, professional version",1,"Serv","Suscripcion","N/A","N/A","N/A","SAP-8008733-2","Forma de pago estandar a 30 dias",741,1,0,"USD"]
[{"$f":"D2240&F2240&E2240","v":"SAP ColombiaCloudS4 & Native HANA SolutionsSAP-8008733-3"},{"$f":"E2240&F2240","v":"SAP-8008733-3CloudS4 & Native HANA Solutions"},null,"SAP Colombia","SAP-8008733-3","CloudS4 & Native HANA Solutions",{"$f":"D2240","v":"SAP Colombia"},"USD","N/A","SAP S/4HANA Cloud for advanced variant configuration, professional version",1,"Serv","Suscripcion","N/A","N/A","N/A","SAP-8008733-3","Forma de pago estandar a 30 dias",371,1,0,"USD"]
[{"$f":"D2241&F2241&E2241","v":"SAP ColombiaCloudS4 & Native HANA SolutionsSAP-8008736-1"},{"$f":"E2241&F2241","v":"SAP-8008736-1CloudS4 & Native HANA Solutions"},null,"SAP Colombia","SAP-8008736-1","CloudS4 & Native HANA Solutions",{"$f":"D2241","v":"SAP Colombia"},"USD","N/A","SAP S/4HANA Cloud for advanced variant configuration, standard version",1,"Serv","Suscripcion","N/A","N/A","N/A","SAP-8008736-1","Forma de pago estandar a 30 dias",199,1,0,"USD"]
[{"$f":"D2242&F2242&E2242","v":"SAP ColombiaCloudS4 & Native HANA SolutionsSAP-8008736-2"},{"$f":"E2242&F2242","v":"SAP-8008736-2CloudS4 & Native HANA Solutions"},null,"SAP Colombia","SAP-8008736-2","CloudS4 & Native HANA Solutions",{"$f":"D2242","v":"SAP Colombia"},"USD","N/A","SAP S/4HANA Cloud for advanced variant configuration, standard version",1,"Serv","Suscripcion","N/A","N/A","N/A","SAP-8008736-2","Forma de pago estandar a 30 dias",83,1,0,"USD"]
[{"$f":"D2243&F2243&E2243","v":"SAP ColombiaCloudS4 & Native HANA SolutionsSAP-8008736-3"},{"$f":"E2243&F2243","v":"SAP-8008736-3CloudS4 & Native HANA Solutions"},null,"SAP Colombia","SAP-8008736-3","CloudS4 & Native HANA Solutions",{"$f":"D2243","v":"SAP Colombia"},"USD","N/A","SAP S/4HANA Cloud for advanced variant configuration, standard version",1,"Serv","Suscripcion","N/A","N/A","N/A","SAP-8008736-3","Forma de pago estandar a 30 dias",50,1,0,"USD"]
[{"$f":"D2244&F2244&E2244","v":"SAP ColombiaCloudS4 & Native HANA SolutionsSAP-8008750-1"},{"$f":"E2244&F2244","v":"SAP-8008750-1CloudS4 & Native HANA Solutions"},null,"SAP Colombia","SAP-8008750-1","CloudS4 & Native HANA Solutions",{"$f":"D2244","v":"SAP Colombia"},"USD","N/A","SAP S/4HANA Cloud for Transportation Planning & Execution, private edition",2799750,"Serv","Suscripcion","N/A","N/A","N/A","SAP-8008750-1","Forma de pago estandar a 30 dias",275,1,0,"USD"]
[{"$f":"D2245&F2245&E2245","v":"SAP ColombiaCloudS4 & Native HANA SolutionsSAP-8008750-2"},{"$f":"E2245&F2245","v":"SAP-8008750-2CloudS4 & Native HANA Solutions"},null,"SAP Colombia","SAP-8008750-2","CloudS4 & Native HANA Solutions",{"$f":"D2245","v":"SAP Colombia"},"USD","N/A","SAP S/4HANA Cloud for Transportation Planning & Execution, private edition",2799750,"Serv","Suscripcion","N/A","N/A","N/A","SAP-8008750-2","Forma de pago estandar a 30 dias",216,1,0,"USD"]
[{"$f":"D2246&F2246&E2246","v":"SAP ColombiaCloudS4 & Native HANA SolutionsSAP-8008750-3"},{"$f":"E2246&F2246","v":"SAP-8008750-3CloudS4 & Native HANA Solutions"},null,"SAP Colombia","SAP-8008750-3","CloudS4 & Native HANA Solutions",{"$f":"D2246","v":"SAP Colombia"},"USD","N/A","SAP S/4HANA Cloud for Transportation Planning & Execution, private edition",2799750,"Serv","Suscripcion","N/A","N/A","N/A","SAP-8008750-3","Forma de pago estandar a 30 dias",160,1,0,"USD"]
[{"$f":"D2247&F2247&E2247","v":"SAP ColombiaCloudS4 & Native HANA SolutionsSAP-8008750-4"},{"$f":"E2247&F2247","v":"SAP-8008750-4CloudS4 & Native HANA Solutions"},null,"SAP Colombia","SAP-8008750-4","CloudS4 & Native HANA Solutions",{"$f":"D2247","v":"SAP Colombia"},"USD","N/A","SAP S/4HANA Cloud for Transportation Planning & Execution, private edition",2799750,"Serv","Suscripcion","N/A","N/A","N/A","SAP-8008750-4","Forma de pago estandar a 30 dias",110,1,0,"USD"]
[{"$f":"D2248&F2248&E2248","v":"SAP ColombiaCloudS4 & Native HANA SolutionsSAP-8008754-1"},{"$f":"E2248&F2248","v":"SAP-8008754-1CloudS4 & Native HANA Solutions"},null,"SAP Colombia","SAP-8008754-1","CloudS4 & Native HANA Solutions",{"$f":"D2248","v":"SAP Colombia"},"USD","N/A","SAP S/4HANA Cloud for product compliance, private edition",55995000,"Serv","Suscripcion","N/A","N/A","N/A","SAP-8008754-1","Forma de pago estandar a 30 dias",750,1,0,"USD"]
[{"$f":"D2249&F2249&E2249","v":"SAP ColombiaCloudS4 & Native HANA SolutionsSAP-8008754-2"},{"$f":"E2249&F2249","v":"SAP-8008754-2CloudS4 & Native HANA Solutions"},null,"SAP Colombia","SAP-8008754-2","CloudS4 & Native HANA Solutions",{"$f":"D2249","v":"SAP Colombia"},"USD","N/A","SAP S/4HANA Cloud for product compliance, private edition",55995000,"Serv","Suscripcion","N/A","N/A","N/A","SAP-8008754-2","Forma de pago estandar a 30 dias",336,1,0,"USD"]
[{"$f":"D2250&F2250&E2250","v":"SAP ColombiaCloudS4 & Native HANA SolutionsSAP-8008754-3"},{"$f":"E2250&F2250","v":"SAP-8008754-3CloudS4 & Native HANA Solutions"},null,"SAP Colombia","SAP-8008754-3","CloudS4 & Native HANA Solutions",{"$f":"D2250","v":"SAP Colombia"},"USD","N/A","SAP S/4HANA Cloud for product compliance, private edition",55995000,"Serv","Suscripcion","N/A","N/A","N/A","SAP-8008754-3","Forma de pago estandar a 30 dias",235,1,0,"USD"]
[{"$f":"D2251&F2251&E2251","v":"SAP ColombiaCloudS4 & Native HANA SolutionsSAP-8008754-4"},{"$f":"E2251&F2251","v":"SAP-8008754-4CloudS4 & Native HANA Solutions"},null,"SAP Colombia","SAP-8008754-4","CloudS4 & Native HANA Solutions",{"$f":"D2251","v":"SAP Colombia"},"USD","N/A","SAP S/4HANA Cloud for product compliance, private edition",55995000,"Serv","Suscripcion","N/A","N/A","N/A","SAP-8008754-4","Forma de pago estandar a 30 dias",190,1,0,"USD"]
[{"$f":"D2252&F2252&E2252","v":"SAP ColombiaCloudS4 & Native HANA SolutionsSAP-8008754-5"},{"$f":"E2252&F2252","v":"SAP-8008754-5CloudS4 & Native HANA Solutions"},null,"SAP Colombia","SAP-8008754-5","CloudS4 & Native HANA Solutions",{"$f":"D2252","v":"SAP Colombia"},"USD","N/A","SAP S/4HANA Cloud for product compliance, private edition",55995000,"Serv","Suscripcion","N/A","N/A","N/A","SAP-8008754-5","Forma de pago estandar a 30 dias",157,1,0,"USD"]
[{"$f":"D2253&F2253&E2253","v":"SAP ColombiaCloudS4 & Native HANA SolutionsSAP-8008754-6"},{"$f":"E2253&F2253","v":"SAP-8008754-6CloudS4 & Native HANA Solutions"},null,"SAP Colombia","SAP-8008754-6","CloudS4 & Native HANA Solutions",{"$f":"D2253","v":"SAP Colombia"},"USD","N/A","SAP S/4HANA Cloud for product compliance, private edition",55995000,"Serv","Suscripcion","N/A","N/A","N/A","SAP-8008754-6","Forma de pago estandar a 30 dias",112,1,0,"USD"]
[{"$f":"D2254&F2254&E2254","v":"SAP ColombiaCloudS4 & Native HANA SolutionsSAP-8008776-1"},{"$f":"E2254&F2254","v":"SAP-8008776-1CloudS4 & Native HANA Solutions"},null,"SAP Colombia","SAP-8008776-1","CloudS4 & Native HANA Solutions",{"$f":"D2254","v":"SAP Colombia"},"USD","N/A","SAP S/4HANA Cloud for Advanced Variant Configuration, private edition, standard version",1,"Serv","Suscripcion","N/A","N/A","N/A","SAP-8008776-1","Forma de pago estandar a 30 dias",133,1,0,"USD"]
[{"$f":"D2255&F2255&E2255","v":"SAP ColombiaCloudS4 & Native HANA SolutionsSAP-8008776-2"},{"$f":"E2255&F2255","v":"SAP-8008776-2CloudS4 & Native HANA Solutions"},null,"SAP Colombia","SAP-8008776-2","CloudS4 & Native HANA Solutions",{"$f":"D2255","v":"SAP Colombia"},"USD","N/A","SAP S/4HANA Cloud for Advanced Variant Configuration, private edition, standard version",1,"Serv","Suscripcion","N/A","N/A","N/A","SAP-8008776-2","Forma de pago estandar a 30 dias",60,1,0,"USD"]
[{"$f":"D2256&F2256&E2256","v":"SAP ColombiaCloudS4 & Native HANA SolutionsSAP-8008776-3"},{"$f":"E2256&F2256","v":"SAP-8008776-3CloudS4 & Native HANA Solutions"},null,"SAP Colombia","SAP-8008776-3","CloudS4 & Native HANA Solutions",{"$f":"D2256","v":"SAP Colombia"},"USD","N/A","SAP S/4HANA Cloud for Advanced Variant Configuration, private edition, standard version",1,"Serv","Suscripcion","N/A","N/A","N/A","SAP-8008776-3","Forma de pago estandar a 30 dias",45,1,0,"USD"]
[{"$f":"D2257&F2257&E2257","v":"SAP ColombiaCloudS4 & Native HANA SolutionsSAP-8008777-1"},{"$f":"E2257&F2257","v":"SAP-8008777-1CloudS4 & Native HANA Solutions"},null,"SAP Colombia","SAP-8008777-1","CloudS4 & Native HANA Solutions",{"$f":"D2257","v":"SAP Colombia"},"USD","N/A","SAP S/4HANA Cloud for environment management, private edition",100,"Serv","Suscripcion","N/A","N/A","N/A","SAP-8008777-1","Forma de pago estandar a 30 dias",250,1,0,"USD"]
[{"$f":"D2258&F2258&E2258","v":"SAP ColombiaCloudS4 & Native HANA SolutionsSAP-8008777-2"},{"$f":"E2258&F2258","v":"SAP-8008777-2CloudS4 & Native HANA Solutions"},null,"SAP Colombia","SAP-8008777-2","CloudS4 & Native HANA Solutions",{"$f":"D2258","v":"SAP Colombia"},"USD","N/A","SAP S/4HANA Cloud for environment management, private edition",100,"Serv","Suscripcion","N/A","N/A","N/A","SAP-8008777-2","Forma de pago estandar a 30 dias",166,1,0,"USD"]
[{"$f":"D2259&F2259&E2259","v":"SAP ColombiaCloudS4 & Native HANA SolutionsSAP-8008777-3"},{"$f":"E2259&F2259","v":"SAP-8008777-3CloudS4 & Native HANA Solutions"},null,"SAP Colombia","SAP-8008777-3","CloudS4 & Native HANA Solutions",{"$f":"D2259","v":"SAP Colombia"},"USD","N/A","SAP S/4HANA Cloud for environment management, private edition",100,"Serv","Suscripcion","N/A","N/A","N/A","SAP-8008777-3","Forma de pago estandar a 30 dias",127,1,0,"USD"]
[{"$f":"D2260&F2260&E2260","v":"SAP ColombiaCloudS4 & Native HANA SolutionsSAP-8008790-1"},{"$f":"E2260&F2260","v":"SAP-8008790-1CloudS4 & Native HANA Solutions"},null,"SAP Colombia","SAP-8008790-1","CloudS4 & Native HANA Solutions",{"$f":"D2260","v":"SAP Colombia"},"USD","N/A","SAP S/4HANA Cloud, Supply Chain for extended warehouse management, private edition",5000,"Serv","Suscripcion","N/A","N/A","N/A","SAP-8008790-1","Forma de pago estandar a 30 dias",4445,1,0,"USD"]
[{"$f":"D2261&F2261&E2261","v":"SAP ColombiaCloudS4 & Native HANA SolutionsSAP-8008790-2"},{"$f":"E2261&F2261","v":"SAP-8008790-2CloudS4 & Native HANA Solutions"},null,"SAP Colombia","SAP-8008790-2","CloudS4 & Native HANA Solutions",{"$f":"D2261","v":"SAP Colombia"},"USD","N/A","SAP S/4HANA Cloud, Supply Chain for extended warehouse management, private edition",5000,"Serv","Suscripcion","N/A","N/A","N/A","SAP-8008790-2","Forma de pago estandar a 30 dias",3093,1,0,"USD"]
[{"$f":"D2262&F2262&E2262","v":"SAP ColombiaCloudS4 & Native HANA SolutionsSAP-8008790-3"},{"$f":"E2262&F2262","v":"SAP-8008790-3CloudS4 & Native HANA Solutions"},null,"SAP Colombia","SAP-8008790-3","CloudS4 & Native HANA Solutions",{"$f":"D2262","v":"SAP Colombia"},"USD","N/A","SAP S/4HANA Cloud, Supply Chain for extended warehouse management, private edition",5000,"Serv","Suscripcion","N/A","N/A","N/A","SAP-8008790-3","Forma de pago estandar a 30 dias",2458,1,0,"USD"]
[{"$f":"D2263&F2263&E2263","v":"SAP ColombiaCloudS4 & Native HANA SolutionsSAP-8008790-4"},{"$f":"E2263&F2263","v":"SAP-8008790-4CloudS4 & Native HANA Solutions"},null,"SAP Colombia","SAP-8008790-4","CloudS4 & Native HANA Solutions",{"$f":"D2263","v":"SAP Colombia"},"USD","N/A","SAP S/4HANA Cloud, Supply Chain for extended warehouse management, private edition",5000,"Serv","Suscripcion","N/A","N/A","N/A","SAP-8008790-4","Forma de pago estandar a 30 dias",2065,1,0,"USD"]
[{"$f":"D2264&F2264&E2264","v":"SAP ColombiaCloudS4 & Native HANA SolutionsSAP-8008790-5"},{"$f":"E2264&F2264","v":"SAP-8008790-5CloudS4 & Native HANA Solutions"},null,"SAP Colombia","SAP-8008790-5","CloudS4 & Native HANA Solutions",{"$f":"D2264","v":"SAP Colombia"},"USD","N/A","SAP S/4HANA Cloud, Supply Chain for extended warehouse management, private edition",5000,"Serv","Suscripcion","N/A","N/A","N/A","SAP-8008790-5","Forma de pago estandar a 30 dias",1914,1,0,"USD"]
[{"$f":"D2265&F2265&E2265","v":"SAP ColombiaCloudS4 & Native HANA SolutionsSAP-8008792-1"},{"$f":"E2265&F2265","v":"SAP-8008792-1CloudS4 & Native HANA Solutions"},null,"SAP Colombia","SAP-8008792-1","CloudS4 & Native HANA Solutions",{"$f":"D2265","v":"SAP Colombia"},"USD","N/A","SAP S/4HANA Cloud, Transportation Management for T&L, private edition",2799750,"Serv","Suscripcion","N/A","N/A","N/A","SAP-8008792-1","Forma de pago estandar a 30 dias",288,1,0,"USD"]
[{"$f":"D2266&F2266&E2266","v":"SAP ColombiaCloudS4 & Native HANA SolutionsSAP-8008792-2"},{"$f":"E2266&F2266","v":"SAP-8008792-2CloudS4 & Native HANA Solutions"},null,"SAP Colombia","SAP-8008792-2","CloudS4 & Native HANA Solutions",{"$f":"D2266","v":"SAP Colombia"},"USD","N/A","SAP S/4HANA Cloud, Transportation Management for T&L, private edition",2799750,"Serv","Suscripcion","N/A","N/A","N/A","SAP-8008792-2","Forma de pago estandar a 30 dias",202,1,0,"USD"]
[{"$f":"D2267&F2267&E2267","v":"SAP ColombiaCloudS4 & Native HANA SolutionsSAP-8008792-3"},{"$f":"E2267&F2267","v":"SAP-8008792-3CloudS4 & Native HANA Solutions"},null,"SAP Colombia","SAP-8008792-3","CloudS4 & Native HANA Solutions",{"$f":"D2267","v":"SAP Colombia"},"USD","N/A","SAP S/4HANA Cloud, Transportation Management for T&L, private edition",2799750,"Serv","Suscripcion","N/A","N/A","N/A","SAP-8008792-3","Forma de pago estandar a 30 dias",175,1,0,"USD"]
[{"$f":"D2268&F2268&E2268","v":"SAP ColombiaCloudS4 & Native HANA SolutionsSAP-8008792-4"},{"$f":"E2268&F2268","v":"SAP-8008792-4CloudS4 & Native HANA Solutions"},null,"SAP Colombia","SAP-8008792-4","CloudS4 & Native HANA Solutions",{"$f":"D2268","v":"SAP Colombia"},"USD","N/A","SAP S/4HANA Cloud, Transportation Management for T&L, private edition",2799750,"Serv","Suscripcion","N/A","N/A","N/A","SAP-8008792-4","Forma de pago estandar a 30 dias",162,1,0,"USD"]
[{"$f":"D2269&F2269&E2269","v":"SAP ColombiaCloudS4 & Native HANA SolutionsSAP-8008795-1"},{"$f":"E2269&F2269","v":"SAP-8008795-1CloudS4 & Native HANA Solutions"},null,"SAP Colombia","SAP-8008795-1","CloudS4 & Native HANA Solutions",{"$f":"D2269","v":"SAP Colombia"},"USD","N/A","SAP EHS Management for occupational health for SAP S/4HANA Cloud, private edition",100,"Serv","Suscripcion","N/A","N/A","N/A","SAP-8008795-1","Forma de pago estandar a 30 dias",49,1,0,"USD"]
[{"$f":"D2270&F2270&E2270","v":"SAP ColombiaCloudS4 & Native HANA SolutionsSAP-8008795-2"},{"$f":"E2270&F2270","v":"SAP-8008795-2CloudS4 & Native HANA Solutions"},null,"SAP Colombia","SAP-8008795-2","CloudS4 & Native HANA Solutions",{"$f":"D2270","v":"SAP Colombia"},"USD","N/A","SAP EHS Management for occupational health for SAP S/4HANA Cloud, private edition",100,"Serv","Suscripcion","N/A","N/A","N/A","SAP-8008795-2","Forma de pago estandar a 30 dias",31,1,0,"USD"]
[{"$f":"D2271&F2271&E2271","v":"SAP ColombiaCloudS4 & Native HANA SolutionsSAP-8008795-3"},{"$f":"E2271&F2271","v":"SAP-8008795-3CloudS4 & Native HANA Solutions"},null,"SAP Colombia","SAP-8008795-3","CloudS4 & Native HANA Solutions",{"$f":"D2271","v":"SAP Colombia"},"USD","N/A","SAP EHS Management for occupational health for SAP S/4HANA Cloud, private edition",100,"Serv","Suscripcion","N/A","N/A","N/A","SAP-8008795-3","Forma de pago estandar a 30 dias",29,1,0,"USD"]
[{"$f":"D2272&F2272&E2272","v":"SAP ColombiaCloudS4 & Native HANA SolutionsSAP-8008821-1"},{"$f":"E2272&F2272","v":"SAP-8008821-1CloudS4 & Native HANA Solutions"},null,"SAP Colombia","SAP-8008821-1","CloudS4 & Native HANA Solutions",{"$f":"D2272","v":"SAP Colombia"},"USD","N/A","SAP S/4HANA Cloud for projects",1,"Serv","Suscripcion","N/A","N/A","N/A","SAP-8008821-1","Forma de pago estandar a 30 dias",125,1,0,"USD"]
[{"$f":"D2273&F2273&E2273","v":"SAP ColombiaCloudS4 & Native HANA SolutionsSAP-8008821-2"},{"$f":"E2273&F2273","v":"SAP-8008821-2CloudS4 & Native HANA Solutions"},null,"SAP Colombia","SAP-8008821-2","CloudS4 & Native HANA Solutions",{"$f":"D2273","v":"SAP Colombia"},"USD","N/A","SAP S/4HANA Cloud for projects",1,"Serv","Suscripcion","N/A","N/A","N/A","SAP-8008821-2","Forma de pago estandar a 30 dias",102,1,0,"USD"]
[{"$f":"D2274&F2274&E2274","v":"SAP ColombiaCloudS4 & Native HANA SolutionsSAP-8008821-3"},{"$f":"E2274&F2274","v":"SAP-8008821-3CloudS4 & Native HANA Solutions"},null,"SAP Colombia","SAP-8008821-3","CloudS4 & Native HANA Solutions",{"$f":"D2274","v":"SAP Colombia"},"USD","N/A","SAP S/4HANA Cloud for projects",1,"Serv","Suscripcion","N/A","N/A","N/A","SAP-8008821-3","Forma de pago estandar a 30 dias",80,1,0,"USD"]
[{"$f":"D2275&F2275&E2275","v":"SAP ColombiaCloudS4 & Native HANA SolutionsSAP-8008821-4"},{"$f":"E2275&F2275","v":"SAP-8008821-4CloudS4 & Native HANA Solutions"},null,"SAP Colombia","SAP-8008821-4","CloudS4 & Native HANA Solutions",{"$f":"D2275","v":"SAP Colombia"},"USD","N/A","SAP S/4HANA Cloud for projects",1,"Serv","Suscripcion","N/A","N/A","N/A","SAP-8008821-4","Forma de pago estandar a 30 dias",74,1,0,"USD"]
[{"$f":"D2276&F2276&E2276","v":"SAP ColombiaCloudS4 & Native HANA SolutionsSAP-8008821-5"},{"$f":"E2276&F2276","v":"SAP-8008821-5CloudS4 & Native HANA Solutions"},null,"SAP Colombia","SAP-8008821-5","CloudS4 & Native HANA Solutions",{"$f":"D2276","v":"SAP Colombia"},"USD","N/A","SAP S/4HANA Cloud for projects",1,"Serv","Suscripcion","N/A","N/A","N/A","SAP-8008821-5","Forma de pago estandar a 30 dias",68,1,0,"USD"]
[{"$f":"D2277&F2277&E2277","v":"SAP ColombiaCloudS4 & Native HANA SolutionsSAP-8008821-6"},{"$f":"E2277&F2277","v":"SAP-8008821-6CloudS4 & Native HANA Solutions"},null,"SAP Colombia","SAP-8008821-6","CloudS4 & Native HANA Solutions",{"$f":"D2277","v":"SAP Colombia"},"USD","N/A","SAP S/4HANA Cloud for projects",1,"Serv","Suscripcion","N/A","N/A","N/A","SAP-8008821-6","Forma de pago estandar a 30 dias",62,1,0,"USD"]
[{"$f":"D2278&F2278&E2278","v":"SAP ColombiaCloudS4 & Native HANA SolutionsSAP-8009049-1"},{"$f":"E2278&F2278","v":"SAP-8009049-1CloudS4 & Native HANA Solutions"},null,"SAP Colombia","SAP-8009049-1","CloudS4 & Native HANA Solutions",{"$f":"D2278","v":"SAP Colombia"},"USD","N/A","SAP S/4HANA Cloud bulk transportation extension for SAP Agricultural Contract Management, private edition",11199000,"Serv","Suscripcion","N/A","N/A","N/A","SAP-8009049-1","Forma de pago estandar a 30 dias",181,1,0,"USD"]
[{"$f":"D2279&F2279&E2279","v":"SAP ColombiaCloudS4 & Native HANA SolutionsSAP-8009049-2"},{"$f":"E2279&F2279","v":"SAP-8009049-2CloudS4 & Native HANA Solutions"},null,"SAP Colombia","SAP-8009049-2","CloudS4 & Native HANA Solutions",{"$f":"D2279","v":"SAP Colombia"},"USD","N/A","SAP S/4HANA Cloud bulk transportation extension for SAP Agricultural Contract Management, private edition",11199000,"Serv","Suscripcion","N/A","N/A","N/A","SAP-8009049-2","Forma de pago estandar a 30 dias",156,1,0,"USD"]
[{"$f":"D2280&F2280&E2280","v":"SAP ColombiaCloudS4 & Native HANA SolutionsSAP-8009049-3"},{"$f":"E2280&F2280","v":"SAP-8009049-3CloudS4 & Native HANA Solutions"},null,"SAP Colombia","SAP-8009049-3","CloudS4 & Native HANA Solutions",{"$f":"D2280","v":"SAP Colombia"},"USD","N/A","SAP S/4HANA Cloud bulk transportation extension for SAP Agricultural Contract Management, private edition",11199000,"Serv","Suscripcion","N/A","N/A","N/A","SAP-8009049-3","Forma de pago estandar a 30 dias",127,1,0,"USD"]
[{"$f":"D2281&F2281&E2281","v":"SAP ColombiaCloudS4 & Native HANA SolutionsSAP-8009052-1"},{"$f":"E2281&F2281","v":"SAP-8009052-1CloudS4 & Native HANA Solutions"},null,"SAP Colombia","SAP-8009052-1","CloudS4 & Native HANA Solutions",{"$f":"D2281","v":"SAP Colombia"},"USD","N/A","SAP Engineering Control Center for SAP S/4HANA Cloud, private edition, professional edition",1,"Serv","Suscripcion","N/A","N/A","N/A","SAP-8009052-1","Forma de pago estandar a 30 dias",300,1,0,"USD"]
[{"$f":"D2282&F2282&E2282","v":"SAP ColombiaCloudS4 & Native HANA SolutionsSAP-8009052-2"},{"$f":"E2282&F2282","v":"SAP-8009052-2CloudS4 & Native HANA Solutions"},null,"SAP Colombia","SAP-8009052-2","CloudS4 & Native HANA Solutions",{"$f":"D2282","v":"SAP Colombia"},"USD","N/A","SAP Engineering Control Center for SAP S/4HANA Cloud, private edition, professional edition",1,"Serv","Suscripcion","N/A","N/A","N/A","SAP-8009052-2","Forma de pago estandar a 30 dias",193,1,0,"USD"]
[{"$f":"D2283&F2283&E2283","v":"SAP ColombiaCloudS4 & Native HANA SolutionsSAP-8009052-3"},{"$f":"E2283&F2283","v":"SAP-8009052-3CloudS4 & Native HANA Solutions"},null,"SAP Colombia","SAP-8009052-3","CloudS4 & Native HANA Solutions",{"$f":"D2283","v":"SAP Colombia"},"USD","N/A","SAP Engineering Control Center for SAP S/4HANA Cloud, private edition, professional edition",1,"Serv","Suscripcion","N/A","N/A","N/A","SAP-8009052-3","Forma de pago estandar a 30 dias",159,1,0,"USD"]
[{"$f":"D2284&F2284&E2284","v":"SAP ColombiaCloudS4 & Native HANA SolutionsSAP-8009053-1"},{"$f":"E2284&F2284","v":"SAP-8009053-1CloudS4 & Native HANA Solutions"},null,"SAP Colombia","SAP-8009053-1","CloudS4 & Native HANA Solutions",{"$f":"D2284","v":"SAP Colombia"},"USD","N/A","SAP Engineering Control Center for SAP S/4HANA Cloud, private edition, standard edition",1,"Serv","Suscripcion","N/A","N/A","N/A","SAP-8009053-1","Forma de pago estandar a 30 dias",148,1,0,"USD"]
[{"$f":"D2285&F2285&E2285","v":"SAP ColombiaCloudS4 & Native HANA SolutionsSAP-8009053-2"},{"$f":"E2285&F2285","v":"SAP-8009053-2CloudS4 & Native HANA Solutions"},null,"SAP Colombia","SAP-8009053-2","CloudS4 & Native HANA Solutions",{"$f":"D2285","v":"SAP Colombia"},"USD","N/A","SAP Engineering Control Center for SAP S/4HANA Cloud, private edition, standard edition",1,"Serv","Suscripcion","N/A","N/A","N/A","SAP-8009053-2","Forma de pago estandar a 30 dias",119,1,0,"USD"]
[{"$f":"D2286&F2286&E2286","v":"SAP ColombiaCloudS4 & Native HANA SolutionsSAP-8009053-3"},{"$f":"E2286&F2286","v":"SAP-8009053-3CloudS4 & Native HANA Solutions"},null,"SAP Colombia","SAP-8009053-3","CloudS4 & Native HANA Solutions",{"$f":"D2286","v":"SAP Colombia"},"USD","N/A","SAP Engineering Control Center for SAP S/4HANA Cloud, private edition, standard edition",1,"Serv","Suscripcion","N/A","N/A","N/A","SAP-8009053-3","Forma de pago estandar a 30 dias",104,1,0,"USD"]
[{"$f":"D2287&F2287&E2287","v":"SAP ColombiaCloudS4 & Native HANA SolutionsSAP-8009250-1"},{"$f":"E2287&F2287","v":"SAP-8009250-1CloudS4 & Native HANA Solutions"},null,"SAP Colombia","SAP-8009250-1","CloudS4 & Native HANA Solutions",{"$f":"D2287","v":"SAP Colombia"},"USD","N/A","SAP Manufacturing Integration and Intelligence for SAP S/4HANA Cloud, private edition",1,"Serv","Suscripcion","N/A","N/A","N/A","SAP-8009250-1","Forma de pago estandar a 30 dias",297,1,0,"USD"]
[{"$f":"D2288&F2288&E2288","v":"SAP ColombiaCloudS4 & Native HANA SolutionsSAP-8009250-2"},{"$f":"E2288&F2288","v":"SAP-8009250-2CloudS4 & Native HANA Solutions"},null,"SAP Colombia","SAP-8009250-2","CloudS4 & Native HANA Solutions",{"$f":"D2288","v":"SAP Colombia"},"USD","N/A","SAP Manufacturing Integration and Intelligence for SAP S/4HANA Cloud, private edition",1,"Serv","Suscripcion","N/A","N/A","N/A","SAP-8009250-2","Forma de pago estandar a 30 dias",178,1,0,"USD"]
[{"$f":"D2289&F2289&E2289","v":"SAP ColombiaCloudS4 & Native HANA SolutionsSAP-8009250-3"},{"$f":"E2289&F2289","v":"SAP-8009250-3CloudS4 & Native HANA Solutions"},null,"SAP Colombia","SAP-8009250-3","CloudS4 & Native HANA Solutions",{"$f":"D2289","v":"SAP Colombia"},"USD","N/A","SAP Manufacturing Integration and Intelligence for SAP S/4HANA Cloud, private edition",1,"Serv","Suscripcion","N/A","N/A","N/A","SAP-8009250-3","Forma de pago estandar a 30 dias",119,1,0,"USD"]
[{"$f":"D2290&F2290&E2290","v":"SAP ColombiaCloudS4 & Native HANA SolutionsSAP-8009250-4"},{"$f":"E2290&F2290","v":"SAP-8009250-4CloudS4 & Native HANA Solutions"},null,"SAP Colombia","SAP-8009250-4","CloudS4 & Native HANA Solutions",{"$f":"D2290","v":"SAP Colombia"},"USD","N/A","SAP Manufacturing Integration and Intelligence for SAP S/4HANA Cloud, private edition",1,"Serv","Suscripcion","N/A","N/A","N/A","SAP-8009250-4","Forma de pago estandar a 30 dias",59,1,0,"USD"]
[{"$f":"D2291&F2291&E2291","v":"SAP ColombiaCloudS4 & Native HANA SolutionsSAP-8009250-5"},{"$f":"E2291&F2291","v":"SAP-8009250-5CloudS4 & Native HANA Solutions"},null,"SAP Colombia","SAP-8009250-5","CloudS4 & Native HANA Solutions",{"$f":"D2291","v":"SAP Colombia"},"USD","N/A","SAP Manufacturing Integration and Intelligence for SAP S/4HANA Cloud, private edition",1,"Serv","Suscripcion","N/A","N/A","N/A","SAP-8009250-5","Forma de pago estandar a 30 dias",29,1,0,"USD"]
[{"$f":"D2292&F2292&E2292","v":"SAP ColombiaCloudS4 & Native HANA SolutionsSAP-8010766-1"},{"$f":"E2292&F2292","v":"SAP-8010766-1CloudS4 & Native HANA Solutions"},null,"SAP Colombia","SAP-8010766-1","CloudS4 & Native HANA Solutions",{"$f":"D2292","v":"SAP Colombia"},"USD","N/A","SAP product data management integration to SAP S/4HANA Cloud, private edition",1,"Serv","Suscripcion","N/A","N/A","N/A","SAP-8010766-1","Forma de pago estandar a 30 dias",40,1,0,"USD"]
[{"$f":"D2293&F2293&E2293","v":"SAP ColombiaCloudS4 & Native HANA SolutionsSAP-8010766-2"},{"$f":"E2293&F2293","v":"SAP-8010766-2CloudS4 & Native HANA Solutions"},null,"SAP Colombia","SAP-8010766-2","CloudS4 & Native HANA Solutions",{"$f":"D2293","v":"SAP Colombia"},"USD","N/A","SAP product data management integration to SAP S/4HANA Cloud, private edition",1,"Serv","Suscripcion","N/A","N/A","N/A","SAP-8010766-2","Forma de pago estandar a 30 dias",38,1,0,"USD"]
[{"$f":"D2294&F2294&E2294","v":"SAP ColombiaCloudS4 & Native HANA SolutionsSAP-8010766-3"},{"$f":"E2294&F2294","v":"SAP-8010766-3CloudS4 & Native HANA Solutions"},null,"SAP Colombia","SAP-8010766-3","CloudS4 & Native HANA Solutions",{"$f":"D2294","v":"SAP Colombia"},"USD","N/A","SAP product data management integration to SAP S/4HANA Cloud, private edition",1,"Serv","Suscripcion","N/A","N/A","N/A","SAP-8010766-3","Forma de pago estandar a 30 dias",37,1,0,"USD"]
[{"$f":"D2295&F2295&E2295","v":"SAP ColombiaCloudS4 & Native HANA SolutionsSAP-8010766-4"},{"$f":"E2295&F2295","v":"SAP-8010766-4CloudS4 & Native HANA Solutions"},null,"SAP Colombia","SAP-8010766-4","CloudS4 & Native HANA Solutions",{"$f":"D2295","v":"SAP Colombia"},"USD","N/A","SAP product data management integration to SAP S/4HANA Cloud, private edition",1,"Serv","Suscripcion","N/A","N/A","N/A","SAP-8010766-4","Forma de pago estandar a 30 dias",35,1,0,"USD"]
[{"$f":"D2296&F2296&E2296","v":"SAP ColombiaCloudS4 & Native HANA SolutionsSAP-8010766-5"},{"$f":"E2296&F2296","v":"SAP-8010766-5CloudS4 & Native HANA Solutions"},null,"SAP Colombia","SAP-8010766-5","CloudS4 & Native HANA Solutions",{"$f":"D2296","v":"SAP Colombia"},"USD","N/A","SAP product data management integration to SAP S/4HANA Cloud, private edition",1,"Serv","Suscripcion","N/A","N/A","N/A","SAP-8010766-5","Forma de pago estandar a 30 dias",32,1,0,"USD"]
[{"$f":"D2297&F2297&E2297","v":"SAP ColombiaCloudS4 & Native HANA SolutionsSAP-8010769-1"},{"$f":"E2297&F2297","v":"SAP-8010769-1CloudS4 & Native HANA Solutions"},null,"SAP Colombia","SAP-8010769-1","CloudS4 & Native HANA Solutions",{"$f":"D2297","v":"SAP Colombia"},"USD","N/A","SAP ERP for incident management, private cloud edition",100,"Serv","Suscripcion","N/A","N/A","N/A","SAP-8010769-1","Forma de pago estandar a 30 dias",250,1,0,"USD"]
[{"$f":"D2298&F2298&E2298","v":"SAP ColombiaCloudS4 & Native HANA SolutionsSAP-8010769-2"},{"$f":"E2298&F2298","v":"SAP-8010769-2CloudS4 & Native HANA Solutions"},null,"SAP Colombia","SAP-8010769-2","CloudS4 & Native HANA Solutions",{"$f":"D2298","v":"SAP Colombia"},"USD","N/A","SAP ERP for incident management, private cloud edition",100,"Serv","Suscripcion","N/A","N/A","N/A","SAP-8010769-2","Forma de pago estandar a 30 dias",166,1,0,"USD"]
[{"$f":"D2299&F2299&E2299","v":"SAP ColombiaCloudS4 & Native HANA SolutionsSAP-8010769-3"},{"$f":"E2299&F2299","v":"SAP-8010769-3CloudS4 & Native HANA Solutions"},null,"SAP Colombia","SAP-8010769-3","CloudS4 & Native HANA Solutions",{"$f":"D2299","v":"SAP Colombia"},"USD","N/A","SAP ERP for incident management, private cloud edition",100,"Serv","Suscripcion","N/A","N/A","N/A","SAP-8010769-3","Forma de pago estandar a 30 dias",127,1,0,"USD"]
[{"$f":"D2300&F2300&E2300","v":"SAP ColombiaCloudS4 & Native HANA SolutionsSAP-8010770-1"},{"$f":"E2300&F2300","v":"SAP-8010770-1CloudS4 & Native HANA Solutions"},null,"SAP Colombia","SAP-8010770-1","CloudS4 & Native HANA Solutions",{"$f":"D2300","v":"SAP Colombia"},"USD","N/A","SAP ERP for Global Available-to-Promise, private cloud edition",279975000,"Serv","Suscripcion","N/A","N/A","N/A","SAP-8010770-1","Forma de pago estandar a 30 dias",3294,1,0,"USD"]
[{"$f":"D2301&F2301&E2301","v":"SAP ColombiaCloudS4 & Native HANA SolutionsSAP-8010770-2"},{"$f":"E2301&F2301","v":"SAP-8010770-2CloudS4 & Native HANA Solutions"},null,"SAP Colombia","SAP-8010770-2","CloudS4 & Native HANA Solutions",{"$f":"D2301","v":"SAP Colombia"},"USD","N/A","SAP ERP for Global Available-to-Promise, private cloud edition",279975000,"Serv","Suscripcion","N/A","N/A","N/A","SAP-8010770-2","Forma de pago estandar a 30 dias",1668,1,0,"USD"]
[{"$f":"D2302&F2302&E2302","v":"SAP ColombiaCloudS4 & Native HANA SolutionsSAP-8010770-3"},{"$f":"E2302&F2302","v":"SAP-8010770-3CloudS4 & Native HANA Solutions"},null,"SAP Colombia","SAP-8010770-3","CloudS4 & Native HANA Solutions",{"$f":"D2302","v":"SAP Colombia"},"USD","N/A","SAP ERP for Global Available-to-Promise, private cloud edition",279975000,"Serv","Suscripcion","N/A","N/A","N/A","SAP-8010770-3","Forma de pago estandar a 30 dias",857,1,0,"USD"]
[{"$f":"D2303&F2303&E2303","v":"SAP ColombiaCloudS4 & Native HANA SolutionsSAP-8010770-4"},{"$f":"E2303&F2303","v":"SAP-8010770-4CloudS4 & Native HANA Solutions"},null,"SAP Colombia","SAP-8010770-4","CloudS4 & Native HANA Solutions",{"$f":"D2303","v":"SAP Colombia"},"USD","N/A","SAP ERP for Global Available-to-Promise, private cloud edition",279975000,"Serv","Suscripcion","N/A","N/A","N/A","SAP-8010770-4","Forma de pago estandar a 30 dias",766,1,0,"USD"]
[{"$f":"D2304&F2304&E2304","v":"SAP ColombiaCloudS4 & Native HANA SolutionsSAP-8010770-5"},{"$f":"E2304&F2304","v":"SAP-8010770-5CloudS4 & Native HANA Solutions"},null,"SAP Colombia","SAP-8010770-5","CloudS4 & Native HANA Solutions",{"$f":"D2304","v":"SAP Colombia"},"USD","N/A","SAP ERP for Global Available-to-Promise, private cloud edition",279975000,"Serv","Suscripcion","N/A","N/A","N/A","SAP-8010770-5","Forma de pago estandar a 30 dias",670,1,0,"USD"]
[{"$f":"D2305&F2305&E2305","v":"SAP ColombiaCloudS4 & Native HANA SolutionsSAP-8010770-6"},{"$f":"E2305&F2305","v":"SAP-8010770-6CloudS4 & Native HANA Solutions"},null,"SAP Colombia","SAP-8010770-6","CloudS4 & Native HANA Solutions",{"$f":"D2305","v":"SAP Colombia"},"USD","N/A","SAP ERP for Global Available-to-Promise, private cloud edition",279975000,"Serv","Suscripcion","N/A","N/A","N/A","SAP-8010770-6","Forma de pago estandar a 30 dias",526,1,0,"USD"]
[{"$f":"D2306&F2306&E2306","v":"SAP ColombiaCloudS4 & Native HANA SolutionsSAP-8010771-1"},{"$f":"E2306&F2306","v":"SAP-8010771-1CloudS4 & Native HANA Solutions"},null,"SAP Colombia","SAP-8010771-1","CloudS4 & Native HANA Solutions",{"$f":"D2306","v":"SAP Colombia"},"USD","N/A","SAP ERP Enterprise Portfolio and Project Management, private cloud edition, professional",1,"Serv","Suscripcion","N/A","N/A","N/A","SAP-8010771-1","Forma de pago estandar a 30 dias",143,1,0,"USD"]
[{"$f":"D2307&F2307&E2307","v":"SAP ColombiaCloudS4 & Native HANA SolutionsSAP-8010771-2"},{"$f":"E2307&F2307","v":"SAP-8010771-2CloudS4 & Native HANA Solutions"},null,"SAP Colombia","SAP-8010771-2","CloudS4 & Native HANA Solutions",{"$f":"D2307","v":"SAP Colombia"},"USD","N/A","SAP ERP Enterprise Portfolio and Project Management, private cloud edition, professional",1,"Serv","Suscripcion","N/A","N/A","N/A","SAP-8010771-2","Forma de pago estandar a 30 dias",81,1,0,"USD"]
[{"$f":"D2308&F2308&E2308","v":"SAP ColombiaCloudS4 & Native HANA SolutionsSAP-8010771-3"},{"$f":"E2308&F2308","v":"SAP-8010771-3CloudS4 & Native HANA Solutions"},null,"SAP Colombia","SAP-8010771-3","CloudS4 & Native HANA Solutions",{"$f":"D2308","v":"SAP Colombia"},"USD","N/A","SAP ERP Enterprise Portfolio and Project Management, private cloud edition, professional",1,"Serv","Suscripcion","N/A","N/A","N/A","SAP-8010771-3","Forma de pago estandar a 30 dias",67,1,0,"USD"]
[{"$f":"D2309&F2309&E2309","v":"SAP ColombiaCloudS4 & Native HANA SolutionsSAP-8010773-1"},{"$f":"E2309&F2309","v":"SAP-8010773-1CloudS4 & Native HANA Solutions"},null,"SAP Colombia","SAP-8010773-1","CloudS4 & Native HANA Solutions",{"$f":"D2309","v":"SAP Colombia"},"USD","N/A","SAP Linear Asset Management for SAP ERP, private cloud edition",1,"Serv","Suscripcion","N/A","N/A","N/A","SAP-8010773-1","Forma de pago estandar a 30 dias",114,1,0,"USD"]
[{"$f":"D2310&F2310&E2310","v":"SAP ColombiaCloudS4 & Native HANA SolutionsSAP-8010773-2"},{"$f":"E2310&F2310","v":"SAP-8010773-2CloudS4 & Native HANA Solutions"},null,"SAP Colombia","SAP-8010773-2","CloudS4 & Native HANA Solutions",{"$f":"D2310","v":"SAP Colombia"},"USD","N/A","SAP Linear Asset Management for SAP ERP, private cloud edition",1,"Serv","Suscripcion","N/A","N/A","N/A","SAP-8010773-2","Forma de pago estandar a 30 dias",28,1,0,"USD"]
[{"$f":"D2311&F2311&E2311","v":"SAP ColombiaCloudS4 & Native HANA SolutionsSAP-8010773-3"},{"$f":"E2311&F2311","v":"SAP-8010773-3CloudS4 & Native HANA Solutions"},null,"SAP Colombia","SAP-8010773-3","CloudS4 & Native HANA Solutions",{"$f":"D2311","v":"SAP Colombia"},"USD","N/A","SAP Linear Asset Management for SAP ERP, private cloud edition",1,"Serv","Suscripcion","N/A","N/A","N/A","SAP-8010773-3","Forma de pago estandar a 30 dias",17,1,0,"USD"]
[{"$f":"D2312&F2312&E2312","v":"SAP ColombiaCloudS4 & Native HANA SolutionsSAP-8010775-1"},{"$f":"E2312&F2312","v":"SAP-8010775-1CloudS4 & Native HANA Solutions"},null,"SAP Colombia","SAP-8010775-1","CloudS4 & Native HANA Solutions",{"$f":"D2312","v":"SAP Colombia"},"USD","N/A","SAP ERP for product compliance, private cloud edition",55995000,"Serv","Suscripcion","N/A","N/A","N/A","SAP-8010775-1","Forma de pago estandar a 30 dias",750,1,0,"USD"]
[{"$f":"D2313&F2313&E2313","v":"SAP ColombiaCloudS4 & Native HANA SolutionsSAP-8010775-2"},{"$f":"E2313&F2313","v":"SAP-8010775-2CloudS4 & Native HANA Solutions"},null,"SAP Colombia","SAP-8010775-2","CloudS4 & Native HANA Solutions",{"$f":"D2313","v":"SAP Colombia"},"USD","N/A","SAP ERP for product compliance, private cloud edition",55995000,"Serv","Suscripcion","N/A","N/A","N/A","SAP-8010775-2","Forma de pago estandar a 30 dias",336,1,0,"USD"]
[{"$f":"D2314&F2314&E2314","v":"SAP ColombiaCloudS4 & Native HANA SolutionsSAP-8010775-3"},{"$f":"E2314&F2314","v":"SAP-8010775-3CloudS4 & Native HANA Solutions"},null,"SAP Colombia","SAP-8010775-3","CloudS4 & Native HANA Solutions",{"$f":"D2314","v":"SAP Colombia"},"USD","N/A","SAP ERP for product compliance, private cloud edition",55995000,"Serv","Suscripcion","N/A","N/A","N/A","SAP-8010775-3","Forma de pago estandar a 30 dias",235,1,0,"USD"]
[{"$f":"D2315&F2315&E2315","v":"SAP ColombiaCloudS4 & Native HANA SolutionsSAP-8010775-4"},{"$f":"E2315&F2315","v":"SAP-8010775-4CloudS4 & Native HANA Solutions"},null,"SAP Colombia","SAP-8010775-4","CloudS4 & Native HANA Solutions",{"$f":"D2315","v":"SAP Colombia"},"USD","N/A","SAP ERP for product compliance, private cloud edition",55995000,"Serv","Suscripcion","N/A","N/A","N/A","SAP-8010775-4","Forma de pago estandar a 30 dias",190,1,0,"USD"]
[{"$f":"D2316&F2316&E2316","v":"SAP ColombiaCloudS4 & Native HANA SolutionsSAP-8010775-5"},{"$f":"E2316&F2316","v":"SAP-8010775-5CloudS4 & Native HANA Solutions"},null,"SAP Colombia","SAP-8010775-5","CloudS4 & Native HANA Solutions",{"$f":"D2316","v":"SAP Colombia"},"USD","N/A","SAP ERP for product compliance, private cloud edition",55995000,"Serv","Suscripcion","N/A","N/A","N/A","SAP-8010775-5","Forma de pago estandar a 30 dias",157,1,0,"USD"]
[{"$f":"D2317&F2317&E2317","v":"SAP ColombiaCloudS4 & Native HANA SolutionsSAP-8010775-6"},{"$f":"E2317&F2317","v":"SAP-8010775-6CloudS4 & Native HANA Solutions"},null,"SAP Colombia","SAP-8010775-6","CloudS4 & Native HANA Solutions",{"$f":"D2317","v":"SAP Colombia"},"USD","N/A","SAP ERP for product compliance, private cloud edition",55995000,"Serv","Suscripcion","N/A","N/A","N/A","SAP-8010775-6","Forma de pago estandar a 30 dias",112,1,0,"USD"]
[{"$f":"D2318&F2318&E2318","v":"SAP ColombiaCloudS4 & Native HANA SolutionsSAP-8010776-1"},{"$f":"E2318&F2318","v":"SAP-8010776-1CloudS4 & Native HANA Solutions"},null,"SAP Colombia","SAP-8010776-1","CloudS4 & Native HANA Solutions",{"$f":"D2318","v":"SAP Colombia"},"USD","N/A","SAP ERP Transportation Management, extra stack, private cloud edition",2799750,"Serv","Suscripcion","N/A","N/A","N/A","SAP-8010776-1","Forma de pago estandar a 30 dias",2017,1,0,"USD"]
[{"$f":"D2319&F2319&E2319","v":"SAP ColombiaCloudS4 & Native HANA SolutionsSAP-8010776-2"},{"$f":"E2319&F2319","v":"SAP-8010776-2CloudS4 & Native HANA Solutions"},null,"SAP Colombia","SAP-8010776-2","CloudS4 & Native HANA Solutions",{"$f":"D2319","v":"SAP Colombia"},"USD","N/A","SAP ERP Transportation Management, extra stack, private cloud edition",2799750,"Serv","Suscripcion","N/A","N/A","N/A","SAP-8010776-2","Forma de pago estandar a 30 dias",1006,1,0,"USD"]
[{"$f":"D2320&F2320&E2320","v":"SAP ColombiaCloudS4 & Native HANA SolutionsSAP-8010776-3"},{"$f":"E2320&F2320","v":"SAP-8010776-3CloudS4 & Native HANA Solutions"},null,"SAP Colombia","SAP-8010776-3","CloudS4 & Native HANA Solutions",{"$f":"D2320","v":"SAP Colombia"},"USD","N/A","SAP ERP Transportation Management, extra stack, private cloud edition",2799750,"Serv","Suscripcion","N/A","N/A","N/A","SAP-8010776-3","Forma de pago estandar a 30 dias",736,1,0,"USD"]
[{"$f":"D2321&F2321&E2321","v":"SAP ColombiaCloudS4 & Native HANA SolutionsSAP-8010776-4"},{"$f":"E2321&F2321","v":"SAP-8010776-4CloudS4 & Native HANA Solutions"},null,"SAP Colombia","SAP-8010776-4","CloudS4 & Native HANA Solutions",{"$f":"D2321","v":"SAP Colombia"},"USD","N/A","SAP ERP Transportation Management, extra stack, private cloud edition",2799750,"Serv","Suscripcion","N/A","N/A","N/A","SAP-8010776-4","Forma de pago estandar a 30 dias",543,1,0,"USD"]
[{"$f":"D2322&F2322&E2322","v":"SAP ColombiaCloudS4 & Native HANA SolutionsSAP-8010777-1"},{"$f":"E2322&F2322","v":"SAP-8010777-1CloudS4 & Native HANA Solutions"},null,"SAP Colombia","SAP-8010777-1","CloudS4 & Native HANA Solutions",{"$f":"D2322","v":"SAP Colombia"},"USD","N/A","SAP ERP for Transportation Charge Management, private cloud edition",2799750,"Serv","Suscripcion","N/A","N/A","N/A","SAP-8010777-1","Forma de pago estandar a 30 dias",275,1,0,"USD"]
[{"$f":"D2323&F2323&E2323","v":"SAP ColombiaCloudS4 & Native HANA SolutionsSAP-8010777-2"},{"$f":"E2323&F2323","v":"SAP-8010777-2CloudS4 & Native HANA Solutions"},null,"SAP Colombia","SAP-8010777-2","CloudS4 & Native HANA Solutions",{"$f":"D2323","v":"SAP Colombia"},"USD","N/A","SAP ERP for Transportation Charge Management, private cloud edition",2799750,"Serv","Suscripcion","N/A","N/A","N/A","SAP-8010777-2","Forma de pago estandar a 30 dias",216,1,0,"USD"]
[{"$f":"D2324&F2324&E2324","v":"SAP ColombiaCloudS4 & Native HANA SolutionsSAP-8010777-3"},{"$f":"E2324&F2324","v":"SAP-8010777-3CloudS4 & Native HANA Solutions"},null,"SAP Colombia","SAP-8010777-3","CloudS4 & Native HANA Solutions",{"$f":"D2324","v":"SAP Colombia"},"USD","N/A","SAP ERP for Transportation Charge Management, private cloud edition",2799750,"Serv","Suscripcion","N/A","N/A","N/A","SAP-8010777-3","Forma de pago estandar a 30 dias",160,1,0,"USD"]
[{"$f":"D2325&F2325&E2325","v":"SAP ColombiaCloudS4 & Native HANA SolutionsSAP-8010777-4"},{"$f":"E2325&F2325","v":"SAP-8010777-4CloudS4 & Native HANA Solutions"},null,"SAP Colombia","SAP-8010777-4","CloudS4 & Native HANA Solutions",{"$f":"D2325","v":"SAP Colombia"},"USD","N/A","SAP ERP for Transportation Charge Management, private cloud edition",2799750,"Serv","Suscripcion","N/A","N/A","N/A","SAP-8010777-4","Forma de pago estandar a 30 dias",110,1,0,"USD"]
[{"$f":"D2326&F2326&E2326","v":"SAP ColombiaCloudS4 & Native HANA SolutionsSAP-8010778-1"},{"$f":"E2326&F2326","v":"SAP-8010778-1CloudS4 & Native HANA Solutions"},null,"SAP Colombia","SAP-8010778-1","CloudS4 & Native HANA Solutions",{"$f":"D2326","v":"SAP Colombia"},"USD","N/A","SAP ERP for Extended Manufacturing, private cloud edition",111990000,"Serv","Suscripcion","N/A","N/A","N/A","SAP-8010778-1","Forma de pago estandar a 30 dias",2399,1,0,"USD"]
[{"$f":"D2327&F2327&E2327","v":"SAP ColombiaCloudS4 & Native HANA SolutionsSAP-8010778-2"},{"$f":"E2327&F2327","v":"SAP-8010778-2CloudS4 & Native HANA Solutions"},null,"SAP Colombia","SAP-8010778-2","CloudS4 & Native HANA Solutions",{"$f":"D2327","v":"SAP Colombia"},"USD","N/A","SAP ERP for Extended Manufacturing, private cloud edition",111990000,"Serv","Suscripcion","N/A","N/A","N/A","SAP-8010778-2","Forma de pago estandar a 30 dias",1035,1,0,"USD"]
[{"$f":"D2328&F2328&E2328","v":"SAP ColombiaCloudS4 & Native HANA SolutionsSAP-8010778-3"},{"$f":"E2328&F2328","v":"SAP-8010778-3CloudS4 & Native HANA Solutions"},null,"SAP Colombia","SAP-8010778-3","CloudS4 & Native HANA Solutions",{"$f":"D2328","v":"SAP Colombia"},"USD","N/A","SAP ERP for Extended Manufacturing, private cloud edition",111990000,"Serv","Suscripcion","N/A","N/A","N/A","SAP-8010778-3","Forma de pago estandar a 30 dias",806,1,0,"USD"]
[{"$f":"D2329&F2329&E2329","v":"SAP ColombiaCloudS4 & Native HANA SolutionsSAP-8010779-1"},{"$f":"E2329&F2329","v":"SAP-8010779-1CloudS4 & Native HANA Solutions"},null,"SAP Colombia","SAP-8010779-1","CloudS4 & Native HANA Solutions",{"$f":"D2329","v":"SAP Colombia"},"USD","N/A","SAP ERP for Transportation Planning & Execution, private cloud edition",2799750,"Serv","Suscripcion","N/A","N/A","N/A","SAP-8010779-1","Forma de pago estandar a 30 dias",275,1,0,"USD"]
[{"$f":"D2330&F2330&E2330","v":"SAP ColombiaCloudS4 & Native HANA SolutionsSAP-8010779-2"},{"$f":"E2330&F2330","v":"SAP-8010779-2CloudS4 & Native HANA Solutions"},null,"SAP Colombia","SAP-8010779-2","CloudS4 & Native HANA Solutions",{"$f":"D2330","v":"SAP Colombia"},"USD","N/A","SAP ERP for Transportation Planning & Execution, private cloud edition",2799750,"Serv","Suscripcion","N/A","N/A","N/A","SAP-8010779-2","Forma de pago estandar a 30 dias",216,1,0,"USD"]
[{"$f":"D2331&F2331&E2331","v":"SAP ColombiaCloudS4 & Native HANA SolutionsSAP-8010779-3"},{"$f":"E2331&F2331","v":"SAP-8010779-3CloudS4 & Native HANA Solutions"},null,"SAP Colombia","SAP-8010779-3","CloudS4 & Native HANA Solutions",{"$f":"D2331","v":"SAP Colombia"},"USD","N/A","SAP ERP for Transportation Planning & Execution, private cloud edition",2799750,"Serv","Suscripcion","N/A","N/A","N/A","SAP-8010779-3","Forma de pago estandar a 30 dias",160,1,0,"USD"]
[{"$f":"D2332&F2332&E2332","v":"SAP ColombiaCloudS4 & Native HANA SolutionsSAP-8010779-4"},{"$f":"E2332&F2332","v":"SAP-8010779-4CloudS4 & Native HANA Solutions"},null,"SAP Colombia","SAP-8010779-4","CloudS4 & Native HANA Solutions",{"$f":"D2332","v":"SAP Colombia"},"USD","N/A","SAP ERP for Transportation Planning & Execution, private cloud edition",2799750,"Serv","Suscripcion","N/A","N/A","N/A","SAP-8010779-4","Forma de pago estandar a 30 dias",110,1,0,"USD"]
[{"$f":"D2333&F2333&E2333","v":"SAP ColombiaCloudS4 & Native HANA SolutionsSAP-8010796-1"},{"$f":"E2333&F2333","v":"SAP-8010796-1CloudS4 & Native HANA Solutions"},null,"SAP Colombia","SAP-8010796-1","CloudS4 & Native HANA Solutions",{"$f":"D2333","v":"SAP Colombia"},"USD","N/A","SAP Engineering Control Center for SAP ERP, private cloud edition, standard edition",1,"Serv","Suscripcion","N/A","N/A","N/A","SAP-8010796-1","Forma de pago estandar a 30 dias",252,1,0,"USD"]
[{"$f":"D2334&F2334&E2334","v":"SAP ColombiaCloudS4 & Native HANA SolutionsSAP-8010796-2"},{"$f":"E2334&F2334","v":"SAP-8010796-2CloudS4 & Native HANA Solutions"},null,"SAP Colombia","SAP-8010796-2","CloudS4 & Native HANA Solutions",{"$f":"D2334","v":"SAP Colombia"},"USD","N/A","SAP Engineering Control Center for SAP ERP, private cloud edition, standard edition",1,"Serv","Suscripcion","N/A","N/A","N/A","SAP-8010796-2","Forma de pago estandar a 30 dias",203,1,0,"USD"]
[{"$f":"D2335&F2335&E2335","v":"SAP ColombiaCloudS4 & Native HANA SolutionsSAP-8010796-3"},{"$f":"E2335&F2335","v":"SAP-8010796-3CloudS4 & Native HANA Solutions"},null,"SAP Colombia","SAP-8010796-3","CloudS4 & Native HANA Solutions",{"$f":"D2335","v":"SAP Colombia"},"USD","N/A","SAP Engineering Control Center for SAP ERP, private cloud edition, standard edition",1,"Serv","Suscripcion","N/A","N/A","N/A","SAP-8010796-3","Forma de pago estandar a 30 dias",140,1,0,"USD"]
[{"$f":"D2336&F2336&E2336","v":"SAP ColombiaCloudS4 & Native HANA SolutionsSAP-8010801-1"},{"$f":"E2336&F2336","v":"SAP-8010801-1CloudS4 & Native HANA Solutions"},null,"SAP Colombia","SAP-8010801-1","CloudS4 & Native HANA Solutions",{"$f":"D2336","v":"SAP Colombia"},"USD","N/A","SAP ERP Supply Chain for extended warehouse management, private cloud edition",5000,"Serv","Suscripcion","N/A","N/A","N/A","SAP-8010801-1","Forma de pago estandar a 30 dias",4555,1,0,"USD"]
[{"$f":"D2337&F2337&E2337","v":"SAP ColombiaCloudS4 & Native HANA SolutionsSAP-8010801-2"},{"$f":"E2337&F2337","v":"SAP-8010801-2CloudS4 & Native HANA Solutions"},null,"SAP Colombia","SAP-8010801-2","CloudS4 & Native HANA Solutions",{"$f":"D2337","v":"SAP Colombia"},"USD","N/A","SAP ERP Supply Chain for extended warehouse management, private cloud edition",5000,"Serv","Suscripcion","N/A","N/A","N/A","SAP-8010801-2","Forma de pago estandar a 30 dias",3169,1,0,"USD"]
[{"$f":"D2338&F2338&E2338","v":"SAP ColombiaCloudS4 & Native HANA SolutionsSAP-8010801-3"},{"$f":"E2338&F2338","v":"SAP-8010801-3CloudS4 & Native HANA Solutions"},null,"SAP Colombia","SAP-8010801-3","CloudS4 & Native HANA Solutions",{"$f":"D2338","v":"SAP Colombia"},"USD","N/A","SAP ERP Supply Chain for extended warehouse management, private cloud edition",5000,"Serv","Suscripcion","N/A","N/A","N/A","SAP-8010801-3","Forma de pago estandar a 30 dias",2519,1,0,"USD"]
[{"$f":"D2339&F2339&E2339","v":"SAP ColombiaCloudS4 & Native HANA SolutionsSAP-8010801-4"},{"$f":"E2339&F2339","v":"SAP-8010801-4CloudS4 & Native HANA Solutions"},null,"SAP Colombia","SAP-8010801-4","CloudS4 & Native HANA Solutions",{"$f":"D2339","v":"SAP Colombia"},"USD","N/A","SAP ERP Supply Chain for extended warehouse management, private cloud edition",5000,"Serv","Suscripcion","N/A","N/A","N/A","SAP-8010801-4","Forma de pago estandar a 30 dias",2115,1,0,"USD"]
[{"$f":"D2340&F2340&E2340","v":"SAP ColombiaCloudS4 & Native HANA SolutionsSAP-8010801-5"},{"$f":"E2340&F2340","v":"SAP-8010801-5CloudS4 & Native HANA Solutions"},null,"SAP Colombia","SAP-8010801-5","CloudS4 & Native HANA Solutions",{"$f":"D2340","v":"SAP Colombia"},"USD","N/A","SAP ERP Supply Chain for extended warehouse management, private cloud edition",5000,"Serv","Suscripcion","N/A","N/A","N/A","SAP-8010801-5","Forma de pago estandar a 30 dias",1914,1,0,"USD"]
[{"$f":"D2341&F2341&E2341","v":"SAP ColombiaCloudS4 & Native HANA SolutionsSAP-8010803-1"},{"$f":"E2341&F2341","v":"SAP-8010803-1CloudS4 & Native HANA Solutions"},null,"SAP Colombia","SAP-8010803-1","CloudS4 & Native HANA Solutions",{"$f":"D2341","v":"SAP Colombia"},"USD","N/A","SAP ERP for environment management, private cloud edition",100,"Serv","Suscripcion","N/A","N/A","N/A","SAP-8010803-1","Forma de pago estandar a 30 dias",250,1,0,"USD"]
[{"$f":"D2342&F2342&E2342","v":"SAP ColombiaCloudS4 & Native HANA SolutionsSAP-8010803-2"},{"$f":"E2342&F2342","v":"SAP-8010803-2CloudS4 & Native HANA Solutions"},null,"SAP Colombia","SAP-8010803-2","CloudS4 & Native HANA Solutions",{"$f":"D2342","v":"SAP Colombia"},"USD","N/A","SAP ERP for environment management, private cloud edition",100,"Serv","Suscripcion","N/A","N/A","N/A","SAP-8010803-2","Forma de pago estandar a 30 dias",166,1,0,"USD"]
[{"$f":"D2343&F2343&E2343","v":"SAP ColombiaCloudS4 & Native HANA SolutionsSAP-8010803-3"},{"$f":"E2343&F2343","v":"SAP-8010803-3CloudS4 & Native HANA Solutions"},null,"SAP Colombia","SAP-8010803-3","CloudS4 & Native HANA Solutions",{"$f":"D2343","v":"SAP Colombia"},"USD","N/A","SAP ERP for environment management, private cloud edition",100,"Serv","Suscripcion","N/A","N/A","N/A","SAP-8010803-3","Forma de pago estandar a 30 dias",127,1,0,"USD"]
[{"$f":"D2344&F2344&E2344","v":"SAP ColombiaCloudS4 & Native HANA SolutionsSAP-8010845-1"},{"$f":"E2344&F2344","v":"SAP-8010845-1CloudS4 & Native HANA Solutions"},null,"SAP Colombia","SAP-8010845-1","CloudS4 & Native HANA Solutions",{"$f":"D2344","v":"SAP Colombia"},"USD","N/A","SAP S/4HANA Cloud Supply Chain for extended service parts planning, private edition",279975000,"Serv","Suscripcion","N/A","N/A","N/A","SAP-8010845-1","Forma de pago estandar a 30 dias",3278,1,0,"USD"]
[{"$f":"D2345&F2345&E2345","v":"SAP ColombiaCloudS4 & Native HANA SolutionsSAP-8010845-2"},{"$f":"E2345&F2345","v":"SAP-8010845-2CloudS4 & Native HANA Solutions"},null,"SAP Colombia","SAP-8010845-2","CloudS4 & Native HANA Solutions",{"$f":"D2345","v":"SAP Colombia"},"USD","N/A","SAP S/4HANA Cloud Supply Chain for extended service parts planning, private edition",279975000,"Serv","Suscripcion","N/A","N/A","N/A","SAP-8010845-2","Forma de pago estandar a 30 dias",2430,1,0,"USD"]
[{"$f":"D2346&F2346&E2346","v":"SAP ColombiaCloudS4 & Native HANA SolutionsSAP-8010845-3"},{"$f":"E2346&F2346","v":"SAP-8010845-3CloudS4 & Native HANA Solutions"},null,"SAP Colombia","SAP-8010845-3","CloudS4 & Native HANA Solutions",{"$f":"D2346","v":"SAP Colombia"},"USD","N/A","SAP S/4HANA Cloud Supply Chain for extended service parts planning, private edition",279975000,"Serv","Suscripcion","N/A","N/A","N/A","SAP-8010845-3","Forma de pago estandar a 30 dias",2101,1,0,"USD"]
[{"$f":"D2347&F2347&E2347","v":"SAP ColombiaCloudS4 & Native HANA SolutionsSAP-8010845-4"},{"$f":"E2347&F2347","v":"SAP-8010845-4CloudS4 & Native HANA Solutions"},null,"SAP Colombia","SAP-8010845-4","CloudS4 & Native HANA Solutions",{"$f":"D2347","v":"SAP Colombia"},"USD","N/A","SAP S/4HANA Cloud Supply Chain for extended service parts planning, private edition",279975000,"Serv","Suscripcion","N/A","N/A","N/A","SAP-8010845-4","Forma de pago estandar a 30 dias",1839,1,0,"USD"]
[{"$f":"D2348&F2348&E2348","v":"SAP ColombiaCloudS4 & Native HANA SolutionsSAP-8010845-5"},{"$f":"E2348&F2348","v":"SAP-8010845-5CloudS4 & Native HANA Solutions"},null,"SAP Colombia","SAP-8010845-5","CloudS4 & Native HANA Solutions",{"$f":"D2348","v":"SAP Colombia"},"USD","N/A","SAP S/4HANA Cloud Supply Chain for extended service parts planning, private edition",279975000,"Serv","Suscripcion","N/A","N/A","N/A","SAP-8010845-5","Forma de pago estandar a 30 dias",1562,1,0,"USD"]
[{"$f":"D2349&F2349&E2349","v":"SAP ColombiaCloudS4 & Native HANA SolutionsSAP-8010845-6"},{"$f":"E2349&F2349","v":"SAP-8010845-6CloudS4 & Native HANA Solutions"},null,"SAP Colombia","SAP-8010845-6","CloudS4 & Native HANA Solutions",{"$f":"D2349","v":"SAP Colombia"},"USD","N/A","SAP S/4HANA Cloud Supply Chain for extended service parts planning, private edition",279975000,"Serv","Suscripcion","N/A","N/A","N/A","SAP-8010845-6","Forma de pago estandar a 30 dias",1441,1,0,"USD"]
[{"$f":"D2350&F2350&E2350","v":"SAP ColombiaCloudS4 & Native HANA SolutionsSAP-8010851-1"},{"$f":"E2350&F2350","v":"SAP-8010851-1CloudS4 & Native HANA Solutions"},null,"SAP Colombia","SAP-8010851-1","CloudS4 & Native HANA Solutions",{"$f":"D2350","v":"SAP Colombia"},"USD","N/A","SAP S/4HANA Cloud for extended warehouse management, extra stack, private edition",5000,"Serv","Suscripcion","N/A","N/A","N/A","SAP-8010851-1","Forma de pago estandar a 30 dias",14624,1,0,"USD"]
[{"$f":"D2351&F2351&E2351","v":"SAP ColombiaCloudS4 & Native HANA SolutionsSAP-8010851-2"},{"$f":"E2351&F2351","v":"SAP-8010851-2CloudS4 & Native HANA Solutions"},null,"SAP Colombia","SAP-8010851-2","CloudS4 & Native HANA Solutions",{"$f":"D2351","v":"SAP Colombia"},"USD","N/A","SAP S/4HANA Cloud for extended warehouse management, extra stack, private edition",5000,"Serv","Suscripcion","N/A","N/A","N/A","SAP-8010851-2","Forma de pago estandar a 30 dias",3719,1,0,"USD"]
[{"$f":"D2352&F2352&E2352","v":"SAP ColombiaCloudS4 & Native HANA SolutionsSAP-8010851-3"},{"$f":"E2352&F2352","v":"SAP-8010851-3CloudS4 & Native HANA Solutions"},null,"SAP Colombia","SAP-8010851-3","CloudS4 & Native HANA Solutions",{"$f":"D2352","v":"SAP Colombia"},"USD","N/A","SAP S/4HANA Cloud for extended warehouse management, extra stack, private edition",5000,"Serv","Suscripcion","N/A","N/A","N/A","SAP-8010851-3","Forma de pago estandar a 30 dias",2009,1,0,"USD"]
[{"$f":"D2353&F2353&E2353","v":"SAP ColombiaCloudS4 & Native HANA SolutionsSAP-8010851-4"},{"$f":"E2353&F2353","v":"SAP-8010851-4CloudS4 & Native HANA Solutions"},null,"SAP Colombia","SAP-8010851-4","CloudS4 & Native HANA Solutions",{"$f":"D2353","v":"SAP Colombia"},"USD","N/A","SAP S/4HANA Cloud for extended warehouse management, extra stack, private edition",5000,"Serv","Suscripcion","N/A","N/A","N/A","SAP-8010851-4","Forma de pago estandar a 30 dias",1656,1,0,"USD"]
[{"$f":"D2354&F2354&E2354","v":"SAP ColombiaCloudS4 & Native HANA SolutionsSAP-8010851-5"},{"$f":"E2354&F2354","v":"SAP-8010851-5CloudS4 & Native HANA Solutions"},null,"SAP Colombia","SAP-8010851-5","CloudS4 & Native HANA Solutions",{"$f":"D2354","v":"SAP Colombia"},"USD","N/A","SAP S/4HANA Cloud for extended warehouse management, extra stack, private edition",5000,"Serv","Suscripcion","N/A","N/A","N/A","SAP-8010851-5","Forma de pago estandar a 30 dias",1411,1,0,"USD"]
[{"$f":"D2355&F2355&E2355","v":"SAP ColombiaCloudS4 & Native HANA SolutionsSAP-8010851-6"},{"$f":"E2355&F2355","v":"SAP-8010851-6CloudS4 & Native HANA Solutions"},null,"SAP Colombia","SAP-8010851-6","CloudS4 & Native HANA Solutions",{"$f":"D2355","v":"SAP Colombia"},"USD","N/A","SAP S/4HANA Cloud for extended warehouse management, extra stack, private edition",5000,"Serv","Suscripcion","N/A","N/A","N/A","SAP-8010851-6","Forma de pago estandar a 30 dias",1165,1,0,"USD"]
[{"$f":"D2356&F2356&E2356","v":"SAP ColombiaCloudS4 & Native HANA SolutionsSAP-8010852-1"},{"$f":"E2356&F2356","v":"SAP-8010852-1CloudS4 & Native HANA Solutions"},null,"SAP Colombia","SAP-8010852-1","CloudS4 & Native HANA Solutions",{"$f":"D2356","v":"SAP Colombia"},"USD","N/A","SAP Extended Warehouse Management, industry add-on for SAP S/4HANA Cloud, private edition",5000,"Serv","Suscripcion","N/A","N/A","N/A","SAP-8010852-1","Forma de pago estandar a 30 dias",1134,1,0,"USD"]
[{"$f":"D2357&F2357&E2357","v":"SAP ColombiaCloudS4 & Native HANA SolutionsSAP-8010852-2"},{"$f":"E2357&F2357","v":"SAP-8010852-2CloudS4 & Native HANA Solutions"},null,"SAP Colombia","SAP-8010852-2","CloudS4 & Native HANA Solutions",{"$f":"D2357","v":"SAP Colombia"},"USD","N/A","SAP Extended Warehouse Management, industry add-on for SAP S/4HANA Cloud, private edition",5000,"Serv","Suscripcion","N/A","N/A","N/A","SAP-8010852-2","Forma de pago estandar a 30 dias",980,1,0,"USD"]
[{"$f":"D2358&F2358&E2358","v":"SAP ColombiaCloudS4 & Native HANA SolutionsSAP-8010852-3"},{"$f":"E2358&F2358","v":"SAP-8010852-3CloudS4 & Native HANA Solutions"},null,"SAP Colombia","SAP-8010852-3","CloudS4 & Native HANA Solutions",{"$f":"D2358","v":"SAP Colombia"},"USD","N/A","SAP Extended Warehouse Management, industry add-on for SAP S/4HANA Cloud, private edition",5000,"Serv","Suscripcion","N/A","N/A","N/A","SAP-8010852-3","Forma de pago estandar a 30 dias",972,1,0,"USD"]
[{"$f":"D2359&F2359&E2359","v":"SAP ColombiaCloudS4 & Native HANA SolutionsSAP-8010852-4"},{"$f":"E2359&F2359","v":"SAP-8010852-4CloudS4 & Native HANA Solutions"},null,"SAP Colombia","SAP-8010852-4","CloudS4 & Native HANA Solutions",{"$f":"D2359","v":"SAP Colombia"},"USD","N/A","SAP Extended Warehouse Management, industry add-on for SAP S/4HANA Cloud, private edition",5000,"Serv","Suscripcion","N/A","N/A","N/A","SAP-8010852-4","Forma de pago estandar a 30 dias",930,1,0,"USD"]
[{"$f":"D2360&F2360&E2360","v":"SAP ColombiaCloudS4 & Native HANA SolutionsSAP-8010852-5"},{"$f":"E2360&F2360","v":"SAP-8010852-5CloudS4 & Native HANA Solutions"},null,"SAP Colombia","SAP-8010852-5","CloudS4 & Native HANA Solutions",{"$f":"D2360","v":"SAP Colombia"},"USD","N/A","SAP Extended Warehouse Management, industry add-on for SAP S/4HANA Cloud, private edition",5000,"Serv","Suscripcion","N/A","N/A","N/A","SAP-8010852-5","Forma de pago estandar a 30 dias",870,1,0,"USD"]
[{"$f":"D2361&F2361&E2361","v":"SAP ColombiaCloudS4 & Native HANA SolutionsSAP-8010852-6"},{"$f":"E2361&F2361","v":"SAP-8010852-6CloudS4 & Native HANA Solutions"},null,"SAP Colombia","SAP-8010852-6","CloudS4 & Native HANA Solutions",{"$f":"D2361","v":"SAP Colombia"},"USD","N/A","SAP Extended Warehouse Management, industry add-on for SAP S/4HANA Cloud, private edition",5000,"Serv","Suscripcion","N/A","N/A","N/A","SAP-8010852-6","Forma de pago estandar a 30 dias",805,1,0,"USD"]
[{"$f":"D2362&F2362&E2362","v":"SAP ColombiaCloudS4 & Native HANA SolutionsSAP-8010948-1"},{"$f":"E2362&F2362","v":"SAP-8010948-1CloudS4 & Native HANA Solutions"},null,"SAP Colombia","SAP-8010948-1","CloudS4 & Native HANA Solutions",{"$f":"D2362","v":"SAP Colombia"},"USD","N/A","SAP S/4HANA Cloud, Transportation Management, extra stack, private edition",2799750,"Serv","Suscripcion","N/A","N/A","N/A","SAP-8010948-1","Forma de pago estandar a 30 dias",2017,1,0,"USD"]
[{"$f":"D2363&F2363&E2363","v":"SAP ColombiaCloudS4 & Native HANA SolutionsSAP-8010948-2"},{"$f":"E2363&F2363","v":"SAP-8010948-2CloudS4 & Native HANA Solutions"},null,"SAP Colombia","SAP-8010948-2","CloudS4 & Native HANA Solutions",{"$f":"D2363","v":"SAP Colombia"},"USD","N/A","SAP S/4HANA Cloud, Transportation Management, extra stack, private edition",2799750,"Serv","Suscripcion","N/A","N/A","N/A","SAP-8010948-2","Forma de pago estandar a 30 dias",1006,1,0,"USD"]
[{"$f":"D2364&F2364&E2364","v":"SAP ColombiaCloudS4 & Native HANA SolutionsSAP-8010948-3"},{"$f":"E2364&F2364","v":"SAP-8010948-3CloudS4 & Native HANA Solutions"},null,"SAP Colombia","SAP-8010948-3","CloudS4 & Native HANA Solutions",{"$f":"D2364","v":"SAP Colombia"},"USD","N/A","SAP S/4HANA Cloud, Transportation Management, extra stack, private edition",2799750,"Serv","Suscripcion","N/A","N/A","N/A","SAP-8010948-3","Forma de pago estandar a 30 dias",736,1,0,"USD"]
[{"$f":"D2365&F2365&E2365","v":"SAP ColombiaCloudS4 & Native HANA SolutionsSAP-8010948-4"},{"$f":"E2365&F2365","v":"SAP-8010948-4CloudS4 & Native HANA Solutions"},null,"SAP Colombia","SAP-8010948-4","CloudS4 & Native HANA Solutions",{"$f":"D2365","v":"SAP Colombia"},"USD","N/A","SAP S/4HANA Cloud, Transportation Management, extra stack, private edition",2799750,"Serv","Suscripcion","N/A","N/A","N/A","SAP-8010948-4","Forma de pago estandar a 30 dias",543,1,0,"USD"]
[{"$f":"D2366&F2366&E2366","v":"SAP ColombiaCloudS4 & Native HANA SolutionsSAP-8010951-1"},{"$f":"E2366&F2366","v":"SAP-8010951-1CloudS4 & Native HANA Solutions"},null,"SAP Colombia","SAP-8010951-1","CloudS4 & Native HANA Solutions",{"$f":"D2366","v":"SAP Colombia"},"USD","N/A","SAP S/4HANA Cloud for Transportation Management for T&L, extra stack, private edition",5599500,"Serv","Suscripcion","N/A","N/A","N/A","SAP-8010951-1","Forma de pago estandar a 30 dias",2331,1,0,"USD"]
[{"$f":"D2367&F2367&E2367","v":"SAP ColombiaCloudS4 & Native HANA SolutionsSAP-8010951-2"},{"$f":"E2367&F2367","v":"SAP-8010951-2CloudS4 & Native HANA Solutions"},null,"SAP Colombia","SAP-8010951-2","CloudS4 & Native HANA Solutions",{"$f":"D2367","v":"SAP Colombia"},"USD","N/A","SAP S/4HANA Cloud for Transportation Management for T&L, extra stack, private edition",5599500,"Serv","Suscripcion","N/A","N/A","N/A","SAP-8010951-2","Forma de pago estandar a 30 dias",1212,1,0,"USD"]
[{"$f":"D2368&F2368&E2368","v":"SAP ColombiaCloudS4 & Native HANA SolutionsSAP-8010951-3"},{"$f":"E2368&F2368","v":"SAP-8010951-3CloudS4 & Native HANA Solutions"},null,"SAP Colombia","SAP-8010951-3","CloudS4 & Native HANA Solutions",{"$f":"D2368","v":"SAP Colombia"},"USD","N/A","SAP S/4HANA Cloud for Transportation Management for T&L, extra stack, private edition",5599500,"Serv","Suscripcion","N/A","N/A","N/A","SAP-8010951-3","Forma de pago estandar a 30 dias",804,1,0,"USD"]
[{"$f":"D2369&F2369&E2369","v":"SAP ColombiaCloudS4 & Native HANA SolutionsSAP-8010951-4"},{"$f":"E2369&F2369","v":"SAP-8010951-4CloudS4 & Native HANA Solutions"},null,"SAP Colombia","SAP-8010951-4","CloudS4 & Native HANA Solutions",{"$f":"D2369","v":"SAP Colombia"},"USD","N/A","SAP S/4HANA Cloud for Transportation Management for T&L, extra stack, private edition",5599500,"Serv","Suscripcion","N/A","N/A","N/A","SAP-8010951-4","Forma de pago estandar a 30 dias",557,1,0,"USD"]
[{"$f":"D2370&F2370&E2370","v":"SAP ColombiaCloudS4 & Native HANA SolutionsSAP-8010951-5"},{"$f":"E2370&F2370","v":"SAP-8010951-5CloudS4 & Native HANA Solutions"},null,"SAP Colombia","SAP-8010951-5","CloudS4 & Native HANA Solutions",{"$f":"D2370","v":"SAP Colombia"},"USD","N/A","SAP S/4HANA Cloud for Transportation Management for T&L, extra stack, private edition",5599500,"Serv","Suscripcion","N/A","N/A","N/A","SAP-8010951-5","Forma de pago estandar a 30 dias",467,1,0,"USD"]
[{"$f":"D2371&F2371&E2371","v":"SAP ColombiaCloudS4 & Native HANA SolutionsSAP-8010951-6"},{"$f":"E2371&F2371","v":"SAP-8010951-6CloudS4 & Native HANA Solutions"},null,"SAP Colombia","SAP-8010951-6","CloudS4 & Native HANA Solutions",{"$f":"D2371","v":"SAP Colombia"},"USD","N/A","SAP S/4HANA Cloud for Transportation Management for T&L, extra stack, private edition",5599500,"Serv","Suscripcion","N/A","N/A","N/A","SAP-8010951-6","Forma de pago estandar a 30 dias",362,1,0,"USD"]
[{"$f":"D2372&F2372&E2372","v":"SAP ColombiaCloudS4 & Native HANA SolutionsSAP-8011130-1"},{"$f":"E2372&F2372","v":"SAP-8011130-1CloudS4 & Native HANA Solutions"},null,"SAP Colombia","SAP-8011130-1","CloudS4 & Native HANA Solutions",{"$f":"D2372","v":"SAP Colombia"},"USD","N/A","SAP S/4HANA for Asset Management for resource scheduling, private cloud edition",1,"Serv","Suscripcion","N/A","N/A","N/A","SAP-8011130-1","Forma de pago estandar a 30 dias",57,1,0,"USD"]
[{"$f":"D2373&F2373&E2373","v":"SAP ColombiaCloudS4 & Native HANA SolutionsSAP-8011130-2"},{"$f":"E2373&F2373","v":"SAP-8011130-2CloudS4 & Native HANA Solutions"},null,"SAP Colombia","SAP-8011130-2","CloudS4 & Native HANA Solutions",{"$f":"D2373","v":"SAP Colombia"},"USD","N/A","SAP S/4HANA for Asset Management for resource scheduling, private cloud edition",1,"Serv","Suscripcion","N/A","N/A","N/A","SAP-8011130-2","Forma de pago estandar a 30 dias",22,1,0,"USD"]
[{"$f":"D2374&F2374&E2374","v":"SAP ColombiaCloudS4 & Native HANA SolutionsSAP-8011130-3"},{"$f":"E2374&F2374","v":"SAP-8011130-3CloudS4 & Native HANA Solutions"},null,"SAP Colombia","SAP-8011130-3","CloudS4 & Native HANA Solutions",{"$f":"D2374","v":"SAP Colombia"},"USD","N/A","SAP S/4HANA for Asset Management for resource scheduling, private cloud edition",1,"Serv","Suscripcion","N/A","N/A","N/A","SAP-8011130-3","Forma de pago estandar a 30 dias",10,1,0,"USD"]
[{"$f":"D2375&F2375&E2375","v":"SAP ColombiaCloudS4 & Native HANA SolutionsSAP-8011130-4"},{"$f":"E2375&F2375","v":"SAP-8011130-4CloudS4 & Native HANA Solutions"},null,"SAP Colombia","SAP-8011130-4","CloudS4 & Native HANA Solutions",{"$f":"D2375","v":"SAP Colombia"},"USD","N/A","SAP S/4HANA for Asset Management for resource scheduling, private cloud edition",1,"Serv","Suscripcion","N/A","N/A","N/A","SAP-8011130-4","Forma de pago estandar a 30 dias",6.54,1,0,"USD"]
[{"$f":"D2376&F2376&E2376","v":"SAP ColombiaCloudS4 & Native HANA SolutionsSAP-8011130-5"},{"$f":"E2376&F2376","v":"SAP-8011130-5CloudS4 & Native HANA Solutions"},null,"SAP Colombia","SAP-8011130-5","CloudS4 & Native HANA Solutions",{"$f":"D2376","v":"SAP Colombia"},"USD","N/A","SAP S/4HANA for Asset Management for resource scheduling, private cloud edition",1,"Serv","Suscripcion","N/A","N/A","N/A","SAP-8011130-5","Forma de pago estandar a 30 dias",5.6,1,0,"USD"]
[{"$f":"D2377&F2377&E2377","v":"SAP ColombiaCloudS4 & Native HANA SolutionsSAP-8011135-1"},{"$f":"E2377&F2377","v":"SAP-8011135-1CloudS4 & Native HANA Solutions"},null,"SAP Colombia","SAP-8011135-1","CloudS4 & Native HANA Solutions",{"$f":"D2377","v":"SAP Colombia"},"USD","N/A","SAP S/4HANA Cloud for EHS management of change",100,"Serv","Suscripcion","N/A","N/A","N/A","SAP-8011135-1","Forma de pago estandar a 30 dias",74,1,0,"USD"]
[{"$f":"D2378&F2378&E2378","v":"SAP ColombiaCloudS4 & Native HANA SolutionsSAP-8011135-2"},{"$f":"E2378&F2378","v":"SAP-8011135-2CloudS4 & Native HANA Solutions"},null,"SAP Colombia","SAP-8011135-2","CloudS4 & Native HANA Solutions",{"$f":"D2378","v":"SAP Colombia"},"USD","N/A","SAP S/4HANA Cloud for EHS management of change",100,"Serv","Suscripcion","N/A","N/A","N/A","SAP-8011135-2","Forma de pago estandar a 30 dias",45,1,0,"USD"]
[{"$f":"D2379&F2379&E2379","v":"SAP ColombiaCloudS4 & Native HANA SolutionsSAP-8011135-3"},{"$f":"E2379&F2379","v":"SAP-8011135-3CloudS4 & Native HANA Solutions"},null,"SAP Colombia","SAP-8011135-3","CloudS4 & Native HANA Solutions",{"$f":"D2379","v":"SAP Colombia"},"USD","N/A","SAP S/4HANA Cloud for EHS management of change",100,"Serv","Suscripcion","N/A","N/A","N/A","SAP-8011135-3","Forma de pago estandar a 30 dias",29,1,0,"USD"]
[{"$f":"D2380&F2380&E2380","v":"SAP ColombiaCloudS4 & Native HANA SolutionsSAP-8011336-1"},{"$f":"E2380&F2380","v":"SAP-8011336-1CloudS4 & Native HANA Solutions"},null,"SAP Colombia","SAP-8011336-1","CloudS4 & Native HANA Solutions",{"$f":"D2380","v":"SAP Colombia"},"USD","N/A","SAP Spatial Asset Management for S/4HANA private cloud edition",1,"Serv","Suscripcion","N/A","N/A","N/A","SAP-8011336-1","Forma de pago estandar a 30 dias",47,1,0,"USD"]
[{"$f":"D2381&F2381&E2381","v":"SAP ColombiaCloudS4 & Native HANA SolutionsSAP-8011336-2"},{"$f":"E2381&F2381","v":"SAP-8011336-2CloudS4 & Native HANA Solutions"},null,"SAP Colombia","SAP-8011336-2","CloudS4 & Native HANA Solutions",{"$f":"D2381","v":"SAP Colombia"},"USD","N/A","SAP Spatial Asset Management for S/4HANA private cloud edition",1,"Serv","Suscripcion","N/A","N/A","N/A","SAP-8011336-2","Forma de pago estandar a 30 dias",7.84,1,0,"USD"]
[{"$f":"D2382&F2382&E2382","v":"SAP ColombiaCloudS4 & Native HANA SolutionsSAP-8011336-3"},{"$f":"E2382&F2382","v":"SAP-8011336-3CloudS4 & Native HANA Solutions"},null,"SAP Colombia","SAP-8011336-3","CloudS4 & Native HANA Solutions",{"$f":"D2382","v":"SAP Colombia"},"USD","N/A","SAP Spatial Asset Management for S/4HANA private cloud edition",1,"Serv","Suscripcion","N/A","N/A","N/A","SAP-8011336-3","Forma de pago estandar a 30 dias",3.36,1,0,"USD"]
[{"$f":"D2383&F2383&E2383","v":"SAP ColombiaCloudS4 & Native HANA SolutionsSAP-8011483-1"},{"$f":"E2383&F2383","v":"SAP-8011483-1CloudS4 & Native HANA Solutions"},null,"SAP Colombia","SAP-8011483-1","CloudS4 & Native HANA Solutions",{"$f":"D2383","v":"SAP Colombia"},"USD","N/A","SAP S/4HANA Cloud for Manufacturing for planning and scheduling extra stack, private edition",111990000,"Serv","Suscripcion","N/A","N/A","N/A","SAP-8011483-1","Forma de pago estandar a 30 dias",19281,1,0,"USD"]
[{"$f":"D2384&F2384&E2384","v":"SAP ColombiaCloudS4 & Native HANA SolutionsSAP-8011483-2"},{"$f":"E2384&F2384","v":"SAP-8011483-2CloudS4 & Native HANA Solutions"},null,"SAP Colombia","SAP-8011483-2","CloudS4 & Native HANA Solutions",{"$f":"D2384","v":"SAP Colombia"},"USD","N/A","SAP S/4HANA Cloud for Manufacturing for planning and scheduling extra stack, private edition",111990000,"Serv","Suscripcion","N/A","N/A","N/A","SAP-8011483-2","Forma de pago estandar a 30 dias",5932,1,0,"USD"]
[{"$f":"D2385&F2385&E2385","v":"SAP ColombiaCloudS4 & Native HANA SolutionsSAP-8011483-3"},{"$f":"E2385&F2385","v":"SAP-8011483-3CloudS4 & Native HANA Solutions"},null,"SAP Colombia","SAP-8011483-3","CloudS4 & Native HANA Solutions",{"$f":"D2385","v":"SAP Colombia"},"USD","N/A","SAP S/4HANA Cloud for Manufacturing for planning and scheduling extra stack, private edition",111990000,"Serv","Suscripcion","N/A","N/A","N/A","SAP-8011483-3","Forma de pago estandar a 30 dias",2967,1,0,"USD"]
[{"$f":"D2386&F2386&E2386","v":"SAP ColombiaCloudS4 & Native HANA SolutionsSAP-8011483-4"},{"$f":"E2386&F2386","v":"SAP-8011483-4CloudS4 & Native HANA Solutions"},null,"SAP Colombia","SAP-8011483-4","CloudS4 & Native HANA Solutions",{"$f":"D2386","v":"SAP Colombia"},"USD","N/A","SAP S/4HANA Cloud for Manufacturing for planning and scheduling extra stack, private edition",111990000,"Serv","Suscripcion","N/A","N/A","N/A","SAP-8011483-4","Forma de pago estandar a 30 dias",1780,1,0,"USD"]
[{"$f":"D2387&F2387&E2387","v":"SAP ColombiaCloudS4 & Native HANA SolutionsSAP-8011541-1"},{"$f":"E2387&F2387","v":"SAP-8011541-1CloudS4 & Native HANA Solutions"},null,"SAP Colombia","SAP-8011541-1","CloudS4 & Native HANA Solutions",{"$f":"D2387","v":"SAP Colombia"},"USD","N/A","S/4HANA Cloud for manufacturing logistics, private edition",5000,"Serv","Suscripcion","N/A","N/A","N/A","SAP-8011541-1","Forma de pago estandar a 30 dias",2800,1,0,"USD"]
[{"$f":"D2388&F2388&E2388","v":"SAP ColombiaCloudS4 & Native HANA SolutionsSAP-8011541-2"},{"$f":"E2388&F2388","v":"SAP-8011541-2CloudS4 & Native HANA Solutions"},null,"SAP Colombia","SAP-8011541-2","CloudS4 & Native HANA Solutions",{"$f":"D2388","v":"SAP Colombia"},"USD","N/A","S/4HANA Cloud for manufacturing logistics, private edition",5000,"Serv","Suscripcion","N/A","N/A","N/A","SAP-8011541-2","Forma de pago estandar a 30 dias",2299,1,0,"USD"]
[{"$f":"D2389&F2389&E2389","v":"SAP ColombiaCloudS4 & Native HANA SolutionsSAP-8011541-3"},{"$f":"E2389&F2389","v":"SAP-8011541-3CloudS4 & Native HANA Solutions"},null,"SAP Colombia","SAP-8011541-3","CloudS4 & Native HANA Solutions",{"$f":"D2389","v":"SAP Colombia"},"USD","N/A","S/4HANA Cloud for manufacturing logistics, private edition",5000,"Serv","Suscripcion","N/A","N/A","N/A","SAP-8011541-3","Forma de pago estandar a 30 dias",1310,1,0,"USD"]
[{"$f":"D2390&F2390&E2390","v":"SAP ColombiaCloudS4 & Native HANA SolutionsSAP-8011541-4"},{"$f":"E2390&F2390","v":"SAP-8011541-4CloudS4 & Native HANA Solutions"},null,"SAP Colombia","SAP-8011541-4","CloudS4 & Native HANA Solutions",{"$f":"D2390","v":"SAP Colombia"},"USD","N/A","S/4HANA Cloud for manufacturing logistics, private edition",5000,"Serv","Suscripcion","N/A","N/A","N/A","SAP-8011541-4","Forma de pago estandar a 30 dias",591,1,0,"USD"]
[{"$f":"D2391&F2391&E2391","v":"SAP ColombiaCloudS4 & Native HANA SolutionsSAP-8011541-5"},{"$f":"E2391&F2391","v":"SAP-8011541-5CloudS4 & Native HANA Solutions"},null,"SAP Colombia","SAP-8011541-5","CloudS4 & Native HANA Solutions",{"$f":"D2391","v":"SAP Colombia"},"USD","N/A","S/4HANA Cloud for manufacturing logistics, private edition",5000,"Serv","Suscripcion","N/A","N/A","N/A","SAP-8011541-5","Forma de pago estandar a 30 dias",334,1,0,"USD"]
[{"$f":"D2392&F2392&E2392","v":"SAP ColombiaCloudS4 & Native HANA SolutionsSAP-8011553-1"},{"$f":"E2392&F2392","v":"SAP-8011553-1CloudS4 & Native HANA Solutions"},null,"SAP Colombia","SAP-8011553-1","CloudS4 & Native HANA Solutions",{"$f":"D2392","v":"SAP Colombia"},"USD","N/A","SAP S4HANA Cloud for last mile distribution, private edition",100000,"Serv","Suscripcion","N/A","N/A","N/A","SAP-8011553-1","Forma de pago estandar a 30 dias",682,1,0,"USD"]
[{"$f":"D2393&F2393&E2393","v":"SAP ColombiaCloudS4 & Native HANA SolutionsSAP-8011553-2"},{"$f":"E2393&F2393","v":"SAP-8011553-2CloudS4 & Native HANA Solutions"},null,"SAP Colombia","SAP-8011553-2","CloudS4 & Native HANA Solutions",{"$f":"D2393","v":"SAP Colombia"},"USD","N/A","SAP S4HANA Cloud for last mile distribution, private edition",100000,"Serv","Suscripcion","N/A","N/A","N/A","SAP-8011553-2","Forma de pago estandar a 30 dias",524,1,0,"USD"]
[{"$f":"D2394&F2394&E2394","v":"SAP ColombiaCloudS4 & Native HANA SolutionsSAP-8011553-3"},{"$f":"E2394&F2394","v":"SAP-8011553-3CloudS4 & Native HANA Solutions"},null,"SAP Colombia","SAP-8011553-3","CloudS4 & Native HANA Solutions",{"$f":"D2394","v":"SAP Colombia"},"USD","N/A","SAP S4HANA Cloud for last mile distribution, private edition",100000,"Serv","Suscripcion","N/A","N/A","N/A","SAP-8011553-3","Forma de pago estandar a 30 dias",426,1,0,"USD"]
[{"$f":"D2395&F2395&E2395","v":"SAP ColombiaCloudS4 & Native HANA SolutionsSAP-8011553-4"},{"$f":"E2395&F2395","v":"SAP-8011553-4CloudS4 & Native HANA Solutions"},null,"SAP Colombia","SAP-8011553-4","CloudS4 & Native HANA Solutions",{"$f":"D2395","v":"SAP Colombia"},"USD","N/A","SAP S4HANA Cloud for last mile distribution, private edition",100000,"Serv","Suscripcion","N/A","N/A","N/A","SAP-8011553-4","Forma de pago estandar a 30 dias",297,1,0,"USD"]
[{"$f":"D2396&F2396&E2396","v":"SAP ColombiaCloudS4 & Native HANA SolutionsSAP-8011553-5"},{"$f":"E2396&F2396","v":"SAP-8011553-5CloudS4 & Native HANA Solutions"},null,"SAP Colombia","SAP-8011553-5","CloudS4 & Native HANA Solutions",{"$f":"D2396","v":"SAP Colombia"},"USD","N/A","SAP S4HANA Cloud for last mile distribution, private edition",100000,"Serv","Suscripcion","N/A","N/A","N/A","SAP-8011553-5","Forma de pago estandar a 30 dias",211,1,0,"USD"]
[{"$f":"D2397&F2397&E2397","v":"SAP ColombiaCloudS4 & Native HANA SolutionsSAP-8011561-1"},{"$f":"E2397&F2397","v":"SAP-8011561-1CloudS4 & Native HANA Solutions"},null,"SAP Colombia","SAP-8011561-1","CloudS4 & Native HANA Solutions",{"$f":"D2397","v":"SAP Colombia"},"USD","N/A","SAP S/4HANA Cloud for product change management",1,"Serv","Suscripcion","N/A","N/A","N/A","SAP-8011561-1","Forma de pago estandar a 30 dias",119,1,0,"USD"]
[{"$f":"D2398&F2398&E2398","v":"SAP ColombiaCloudS4 & Native HANA SolutionsSAP-8011561-2"},{"$f":"E2398&F2398","v":"SAP-8011561-2CloudS4 & Native HANA Solutions"},null,"SAP Colombia","SAP-8011561-2","CloudS4 & Native HANA Solutions",{"$f":"D2398","v":"SAP Colombia"},"USD","N/A","SAP S/4HANA Cloud for product change management",1,"Serv","Suscripcion","N/A","N/A","N/A","SAP-8011561-2","Forma de pago estandar a 30 dias",90,1,0,"USD"]
[{"$f":"D2399&F2399&E2399","v":"SAP ColombiaCloudS4 & Native HANA SolutionsSAP-8011561-3"},{"$f":"E2399&F2399","v":"SAP-8011561-3CloudS4 & Native HANA Solutions"},null,"SAP Colombia","SAP-8011561-3","CloudS4 & Native HANA Solutions",{"$f":"D2399","v":"SAP Colombia"},"USD","N/A","SAP S/4HANA Cloud for product change management",1,"Serv","Suscripcion","N/A","N/A","N/A","SAP-8011561-3","Forma de pago estandar a 30 dias",62,1,0,"USD"]
[{"$f":"D2400&F2400&E2400","v":"SAP ColombiaCloudS4 & Native HANA SolutionsSAP-8012181-1"},{"$f":"E2400&F2400","v":"SAP-8012181-1CloudS4 & Native HANA Solutions"},null,"SAP Colombia","SAP-8012181-1","CloudS4 & Native HANA Solutions",{"$f":"D2400","v":"SAP Colombia"},"USD","N/A","SAP Cloud for Corporate Serialization, private edition",1000000,"Serv","Suscripcion","N/A","N/A","N/A","SAP-8012181-1","Forma de pago estandar a 30 dias",2567,1,0,"USD"]
[{"$f":"D2401&F2401&E2401","v":"SAP ColombiaCloudS4 & Native HANA SolutionsSAP-8012181-2"},{"$f":"E2401&F2401","v":"SAP-8012181-2CloudS4 & Native HANA Solutions"},null,"SAP Colombia","SAP-8012181-2","CloudS4 & Native HANA Solutions",{"$f":"D2401","v":"SAP Colombia"},"USD","N/A","SAP Cloud for Corporate Serialization, private edition",1000000,"Serv","Suscripcion","N/A","N/A","N/A","SAP-8012181-2","Forma de pago estandar a 30 dias",1531,1,0,"USD"]
[{"$f":"D2402&F2402&E2402","v":"SAP ColombiaCloudS4 & Native HANA SolutionsSAP-8012181-3"},{"$f":"E2402&F2402","v":"SAP-8012181-3CloudS4 & Native HANA Solutions"},null,"SAP Colombia","SAP-8012181-3","CloudS4 & Native HANA Solutions",{"$f":"D2402","v":"SAP Colombia"},"USD","N/A","SAP Cloud for Corporate Serialization, private edition",1000000,"Serv","Suscripcion","N/A","N/A","N/A","SAP-8012181-3","Forma de pago estandar a 30 dias",1027,1,0,"USD"]
[{"$f":"D2403&F2403&E2403","v":"SAP ColombiaCloudS4 & Native HANA SolutionsSAP-8012181-4"},{"$f":"E2403&F2403","v":"SAP-8012181-4CloudS4 & Native HANA Solutions"},null,"SAP Colombia","SAP-8012181-4","CloudS4 & Native HANA Solutions",{"$f":"D2403","v":"SAP Colombia"},"USD","N/A","SAP Cloud for Corporate Serialization, private edition",1000000,"Serv","Suscripcion","N/A","N/A","N/A","SAP-8012181-4","Forma de pago estandar a 30 dias",420,1,0,"USD"]
[{"$f":"D2404&F2404&E2404","v":"SAP ColombiaCloudS4 & Native HANA SolutionsSAP-8012181-5"},{"$f":"E2404&F2404","v":"SAP-8012181-5CloudS4 & Native HANA Solutions"},null,"SAP Colombia","SAP-8012181-5","CloudS4 & Native HANA Solutions",{"$f":"D2404","v":"SAP Colombia"},"USD","N/A","SAP Cloud for Corporate Serialization, private edition",1000000,"Serv","Suscripcion","N/A","N/A","N/A","SAP-8012181-5","Forma de pago estandar a 30 dias",299,1,0,"USD"]
[{"$f":"D2405&F2405&E2405","v":"SAP ColombiaCloudS4 & Native HANA SolutionsSAP-8012181-6"},{"$f":"E2405&F2405","v":"SAP-8012181-6CloudS4 & Native HANA Solutions"},null,"SAP Colombia","SAP-8012181-6","CloudS4 & Native HANA Solutions",{"$f":"D2405","v":"SAP Colombia"},"USD","N/A","SAP Cloud for Corporate Serialization, private edition",1000000,"Serv","Suscripcion","N/A","N/A","N/A","SAP-8012181-6","Forma de pago estandar a 30 dias",247,1,0,"USD"]
[{"$f":"D2406&F2406&E2406","v":"SAP ColombiaCloudS4 & Native HANA SolutionsSAP-8012229-1"},{"$f":"E2406&F2406","v":"SAP-8012229-1CloudS4 & Native HANA Solutions"},null,"SAP Colombia","SAP-8012229-1","CloudS4 & Native HANA Solutions",{"$f":"D2406","v":"SAP Colombia"},"USD","N/A","PLM system integration for SAP S/4HANA cloud, private edition",10,"Serv","Suscripcion","N/A","N/A","N/A","SAP-8012229-1","Forma de pago estandar a 30 dias",25,1,0,"USD"]
[{"$f":"D2407&F2407&E2407","v":"SAP ColombiaCloudS4 & Native HANA SolutionsSAP-8012229-2"},{"$f":"E2407&F2407","v":"SAP-8012229-2CloudS4 & Native HANA Solutions"},null,"SAP Colombia","SAP-8012229-2","CloudS4 & Native HANA Solutions",{"$f":"D2407","v":"SAP Colombia"},"USD","N/A","PLM system integration for SAP S/4HANA cloud, private edition",10,"Serv","Suscripcion","N/A","N/A","N/A","SAP-8012229-2","Forma de pago estandar a 30 dias",20,1,0,"USD"]
[{"$f":"D2408&F2408&E2408","v":"SAP ColombiaCloudS4 & Native HANA SolutionsSAP-8012229-3"},{"$f":"E2408&F2408","v":"SAP-8012229-3CloudS4 & Native HANA Solutions"},null,"SAP Colombia","SAP-8012229-3","CloudS4 & Native HANA Solutions",{"$f":"D2408","v":"SAP Colombia"},"USD","N/A","PLM system integration for SAP S/4HANA cloud, private edition",10,"Serv","Suscripcion","N/A","N/A","N/A","SAP-8012229-3","Forma de pago estandar a 30 dias",15,1,0,"USD"]
[{"$f":"D2409&F2409&E2409","v":"SAP ColombiaCloudS4 & Native HANA SolutionsSAP-8012229-4"},{"$f":"E2409&F2409","v":"SAP-8012229-4CloudS4 & Native HANA Solutions"},null,"SAP Colombia","SAP-8012229-4","CloudS4 & Native HANA Solutions",{"$f":"D2409","v":"SAP Colombia"},"USD","N/A","PLM system integration for SAP S/4HANA cloud, private edition",10,"Serv","Suscripcion","N/A","N/A","N/A","SAP-8012229-4","Forma de pago estandar a 30 dias",11,1,0,"USD"]
[{"$f":"D2410&F2410&E2410","v":"SAP ColombiaCloudS4 & Native HANA SolutionsSAP-8012229-5"},{"$f":"E2410&F2410","v":"SAP-8012229-5CloudS4 & Native HANA Solutions"},null,"SAP Colombia","SAP-8012229-5","CloudS4 & Native HANA Solutions",{"$f":"D2410","v":"SAP Colombia"},"USD","N/A","PLM system integration for SAP S/4HANA cloud, private edition",10,"Serv","Suscripcion","N/A","N/A","N/A","SAP-8012229-5","Forma de pago estandar a 30 dias",7.84,1,0,"USD"]
[{"$f":"D2411&F2411&E2411","v":"SAP ColombiaCloudS4 & Native HANA SolutionsSAP-8012318-1"},{"$f":"E2411&F2411","v":"SAP-8012318-1CloudS4 & Native HANA Solutions"},null,"SAP Colombia","SAP-8012318-1","CloudS4 & Native HANA Solutions",{"$f":"D2411","v":"SAP Colombia"},"USD","N/A","SAP Event Management on SAP S/4HANA Cloud, private edition",100000,"Serv","Suscripcion","N/A","N/A","N/A","SAP-8012318-1","Forma de pago estandar a 30 dias",2613,1,0,"USD"]
[{"$f":"D2412&F2412&E2412","v":"SAP ColombiaCloudS4 & Native HANA SolutionsSAP-8012318-2"},{"$f":"E2412&F2412","v":"SAP-8012318-2CloudS4 & Native HANA Solutions"},null,"SAP Colombia","SAP-8012318-2","CloudS4 & Native HANA Solutions",{"$f":"D2412","v":"SAP Colombia"},"USD","N/A","SAP Event Management on SAP S/4HANA Cloud, private edition",100000,"Serv","Suscripcion","N/A","N/A","N/A","SAP-8012318-2","Forma de pago estandar a 30 dias",1866,1,0,"USD"]
[{"$f":"D2413&F2413&E2413","v":"SAP ColombiaCloudS4 & Native HANA SolutionsSAP-8012318-3"},{"$f":"E2413&F2413","v":"SAP-8012318-3CloudS4 & Native HANA Solutions"},null,"SAP Colombia","SAP-8012318-3","CloudS4 & Native HANA Solutions",{"$f":"D2413","v":"SAP Colombia"},"USD","N/A","SAP Event Management on SAP S/4HANA Cloud, private edition",100000,"Serv","Suscripcion","N/A","N/A","N/A","SAP-8012318-3","Forma de pago estandar a 30 dias",1306,1,0,"USD"]
[{"$f":"D2414&F2414&E2414","v":"SAP ColombiaCloudS4 & Native HANA SolutionsSAP-8012318-4"},{"$f":"E2414&F2414","v":"SAP-8012318-4CloudS4 & Native HANA Solutions"},null,"SAP Colombia","SAP-8012318-4","CloudS4 & Native HANA Solutions",{"$f":"D2414","v":"SAP Colombia"},"USD","N/A","SAP Event Management on SAP S/4HANA Cloud, private edition",100000,"Serv","Suscripcion","N/A","N/A","N/A","SAP-8012318-4","Forma de pago estandar a 30 dias",933,1,0,"USD"]
[{"$f":"D2415&F2415&E2415","v":"SAP ColombiaCloudS4 & Native HANA SolutionsSAP-8012318-5"},{"$f":"E2415&F2415","v":"SAP-8012318-5CloudS4 & Native HANA Solutions"},null,"SAP Colombia","SAP-8012318-5","CloudS4 & Native HANA Solutions",{"$f":"D2415","v":"SAP Colombia"},"USD","N/A","SAP Event Management on SAP S/4HANA Cloud, private edition",100000,"Serv","Suscripcion","N/A","N/A","N/A","SAP-8012318-5","Forma de pago estandar a 30 dias",700,1,0,"USD"]
[{"$f":"D2416&F2416&E2416","v":"SAP ColombiaCloudS4 & Native HANA SolutionsSAP-8012541-1"},{"$f":"E2416&F2416","v":"SAP-8012541-1CloudS4 & Native HANA Solutions"},null,"SAP Colombia","SAP-8012541-1","CloudS4 & Native HANA Solutions",{"$f":"D2416","v":"SAP Colombia"},"USD","N/A","SAP S/4HANA Cloud Supply Chain for supply & demand segmentation, private edition",20,"Serv","Suscripcion","N/A","N/A","N/A","SAP-8012541-1","Forma de pago estandar a 30 dias",4704,1,0,"USD"]
[{"$f":"D2417&F2417&E2417","v":"SAP ColombiaCloudS4 & Native HANA SolutionsSAP-8012541-2"},{"$f":"E2417&F2417","v":"SAP-8012541-2CloudS4 & Native HANA Solutions"},null,"SAP Colombia","SAP-8012541-2","CloudS4 & Native HANA Solutions",{"$f":"D2417","v":"SAP Colombia"},"USD","N/A","SAP S/4HANA Cloud Supply Chain for supply & demand segmentation, private edition",20,"Serv","Suscripcion","N/A","N/A","N/A","SAP-8012541-2","Forma de pago estandar a 30 dias",3696,1,0,"USD"]
[{"$f":"D2418&F2418&E2418","v":"SAP ColombiaCloudS4 & Native HANA SolutionsSAP-8012541-3"},{"$f":"E2418&F2418","v":"SAP-8012541-3CloudS4 & Native HANA Solutions"},null,"SAP Colombia","SAP-8012541-3","CloudS4 & Native HANA Solutions",{"$f":"D2418","v":"SAP Colombia"},"USD","N/A","SAP S/4HANA Cloud Supply Chain for supply & demand segmentation, private edition",20,"Serv","Suscripcion","N/A","N/A","N/A","SAP-8012541-3","Forma de pago estandar a 30 dias",3080,1,0,"USD"]
[{"$f":"D2419&F2419&E2419","v":"SAP ColombiaCloudS4 & Native HANA SolutionsSAP-8012541-4"},{"$f":"E2419&F2419","v":"SAP-8012541-4CloudS4 & Native HANA Solutions"},null,"SAP Colombia","SAP-8012541-4","CloudS4 & Native HANA Solutions",{"$f":"D2419","v":"SAP Colombia"},"USD","N/A","SAP S/4HANA Cloud Supply Chain for supply & demand segmentation, private edition",20,"Serv","Suscripcion","N/A","N/A","N/A","SAP-8012541-4","Forma de pago estandar a 30 dias",2240,1,0,"USD"]
[{"$f":"D2420&F2420&E2420","v":"SAP ColombiaCloudS4 & Native HANA SolutionsSAP-8012672"},{"$f":"E2420&F2420","v":"SAP-8012672CloudS4 & Native HANA Solutions"},null,"SAP Colombia","SAP-8012672","CloudS4 & Native HANA Solutions",{"$f":"D2420","v":"SAP Colombia"},"USD","N/A","SAP Product Lifecycle Costing, private cloud edition (XS)",1,"Serv","Suscripcion","N/A","N/A","N/A","SAP-8012672","Forma de pago estandar a 30 dias",53195,1,0,"USD"]
[{"$f":"D2421&F2421&E2421","v":"SAP ColombiaCloudS4 & Native HANA SolutionsSAP-8012673"},{"$f":"E2421&F2421","v":"SAP-8012673CloudS4 & Native HANA Solutions"},null,"SAP Colombia","SAP-8012673","CloudS4 & Native HANA Solutions",{"$f":"D2421","v":"SAP Colombia"},"USD","N/A","SAP Product Lifecycle Costing, private cloud edition (S)",1,"Serv","Suscripcion","N/A","N/A","N/A","SAP-8012673","Forma de pago estandar a 30 dias",63928,1,0,"USD"]
[{"$f":"D2422&F2422&E2422","v":"SAP ColombiaCloudS4 & Native HANA SolutionsSAP-8012674"},{"$f":"E2422&F2422","v":"SAP-8012674CloudS4 & Native HANA Solutions"},null,"SAP Colombia","SAP-8012674","CloudS4 & Native HANA Solutions",{"$f":"D2422","v":"SAP Colombia"},"USD","N/A","SAP Product Lifecycle Costing, private cloud edition (M)",1,"Serv","Suscripcion","N/A","N/A","N/A","SAP-8012674","Forma de pago estandar a 30 dias",83060,1,0,"USD"]
[{"$f":"D2423&F2423&E2423","v":"SAP ColombiaCloudS4 & Native HANA SolutionsSAP-8012675"},{"$f":"E2423&F2423","v":"SAP-8012675CloudS4 & Native HANA Solutions"},null,"SAP Colombia","SAP-8012675","CloudS4 & Native HANA Solutions",{"$f":"D2423","v":"SAP Colombia"},"USD","N/A","SAP Product Lifecycle Costing, private cloud edition (L)",1,"Serv","Suscripcion","N/A","N/A","N/A","SAP-8012675","Forma de pago estandar a 30 dias",111990,1,0,"USD"]
[{"$f":"D2424&F2424&E2424","v":"SAP ColombiaCloudS4 & Native HANA SolutionsSAP-8012676"},{"$f":"E2424&F2424","v":"SAP-8012676CloudS4 & Native HANA Solutions"},null,"SAP Colombia","SAP-8012676","CloudS4 & Native HANA Solutions",{"$f":"D2424","v":"SAP Colombia"},"USD","N/A","SAP Product Lifecycle Costing, private cloud edition (XL)",1,"Serv","Suscripcion","N/A","N/A","N/A","SAP-8012676","Forma de pago estandar a 30 dias",156786,1,0,"USD"]
[{"$f":"D2425&F2425&E2425","v":"SAP ColombiaCloudS4 & Native HANA SolutionsSAP-8013357"},{"$f":"E2425&F2425","v":"SAP-8013357CloudS4 & Native HANA Solutions"},null,"SAP Colombia","SAP-8013357","CloudS4 & Native HANA Solutions",{"$f":"D2425","v":"SAP Colombia"},"USD","N/A","SAP Product Lifecyle Costing, private cloud edition, additional non-productive tier (S)",1,"Serv","Suscripcion","N/A","N/A","N/A","SAP-8013357","Forma de pago estandar a 30 dias",12249,1,0,"USD"]
[{"$f":"D2426&F2426&E2426","v":"SAP ColombiaCloudS4 & Native HANA SolutionsSAP-8013358"},{"$f":"E2426&F2426","v":"SAP-8013358CloudS4 & Native HANA Solutions"},null,"SAP Colombia","SAP-8013358","CloudS4 & Native HANA Solutions",{"$f":"D2426","v":"SAP Colombia"},"USD","N/A","SAP Product Lifecyle Costing, private cloud edition, additional non-productive tier (M)",1,"Serv","Suscripcion","N/A","N/A","N/A","SAP-8013358","Forma de pago estandar a 30 dias",15749,1,0,"USD"]
[{"$f":"D2427&F2427&E2427","v":"SAP ColombiaCloudS4 & Native HANA SolutionsSAP-8013359"},{"$f":"E2427&F2427","v":"SAP-8013359CloudS4 & Native HANA Solutions"},null,"SAP Colombia","SAP-8013359","CloudS4 & Native HANA Solutions",{"$f":"D2427","v":"SAP Colombia"},"USD","N/A","SAP Product Lifecyle Costing, private cloud edition, additional non-productive tier (L)",1,"Serv","Suscripcion","N/A","N/A","N/A","SAP-8013359","Forma de pago estandar a 30 dias",19249,1,0,"USD"]
[{"$f":"D2428&F2428&E2428","v":"SAP ColombiaCloudS4 & Native HANA SolutionsSAP-8013365-1"},{"$f":"E2428&F2428","v":"SAP-8013365-1CloudS4 & Native HANA Solutions"},null,"SAP Colombia","SAP-8013365-1","CloudS4 & Native HANA Solutions",{"$f":"D2428","v":"SAP Colombia"},"USD","N/A","SAP Transportation Management, network and operations for container shipping liners for SAP S/4HANA Cloud, private edition",10000,"Serv","Suscripcion","N/A","N/A","N/A","SAP-8013365-1","Forma de pago estandar a 30 dias",1867,1,0,"USD"]
[{"$f":"D2429&F2429&E2429","v":"SAP ColombiaCloudS4 & Native HANA SolutionsSAP-8013365-2"},{"$f":"E2429&F2429","v":"SAP-8013365-2CloudS4 & Native HANA Solutions"},null,"SAP Colombia","SAP-8013365-2","CloudS4 & Native HANA Solutions",{"$f":"D2429","v":"SAP Colombia"},"USD","N/A","SAP Transportation Management, network and operations for container shipping liners for SAP S/4HANA Cloud, private edition",10000,"Serv","Suscripcion","N/A","N/A","N/A","SAP-8013365-2","Forma de pago estandar a 30 dias",1494,1,0,"USD"]
[{"$f":"D2430&F2430&E2430","v":"SAP ColombiaCloudS4 & Native HANA SolutionsSAP-8013365-3"},{"$f":"E2430&F2430","v":"SAP-8013365-3CloudS4 & Native HANA Solutions"},null,"SAP Colombia","SAP-8013365-3","CloudS4 & Native HANA Solutions",{"$f":"D2430","v":"SAP Colombia"},"USD","N/A","SAP Transportation Management, network and operations for container shipping liners for SAP S/4HANA Cloud, private edition",10000,"Serv","Suscripcion","N/A","N/A","N/A","SAP-8013365-3","Forma de pago estandar a 30 dias",1027,1,0,"USD"]
[{"$f":"D2431&F2431&E2431","v":"SAP ColombiaCloudS4 & Native HANA SolutionsSAP-8013365-4"},{"$f":"E2431&F2431","v":"SAP-8013365-4CloudS4 & Native HANA Solutions"},null,"SAP Colombia","SAP-8013365-4","CloudS4 & Native HANA Solutions",{"$f":"D2431","v":"SAP Colombia"},"USD","N/A","SAP Transportation Management, network and operations for container shipping liners for SAP S/4HANA Cloud, private edition",10000,"Serv","Suscripcion","N/A","N/A","N/A","SAP-8013365-4","Forma de pago estandar a 30 dias",654,1,0,"USD"]
[{"$f":"D2432&F2432&E2432","v":"SAP ColombiaCloudS4 & Native HANA SolutionsSAP-8013365-5"},{"$f":"E2432&F2432","v":"SAP-8013365-5CloudS4 & Native HANA Solutions"},null,"SAP Colombia","SAP-8013365-5","CloudS4 & Native HANA Solutions",{"$f":"D2432","v":"SAP Colombia"},"USD","N/A","SAP Transportation Management, network and operations for container shipping liners for SAP S/4HANA Cloud, private edition",10000,"Serv","Suscripcion","N/A","N/A","N/A","SAP-8013365-5","Forma de pago estandar a 30 dias",374,1,0,"USD"]
[{"$f":"D2433&F2433&E2433","v":"SAP ColombiaCloudS4 & Native HANA SolutionsSAP-8013365-6"},{"$f":"E2433&F2433","v":"SAP-8013365-6CloudS4 & Native HANA Solutions"},null,"SAP Colombia","SAP-8013365-6","CloudS4 & Native HANA Solutions",{"$f":"D2433","v":"SAP Colombia"},"USD","N/A","SAP Transportation Management, network and operations for container shipping liners for SAP S/4HANA Cloud, private edition",10000,"Serv","Suscripcion","N/A","N/A","N/A","SAP-8013365-6","Forma de pago estandar a 30 dias",262,1,0,"USD"]
[{"$f":"D2434&F2434&E2434","v":"SAP ColombiaCloudS4 & Native HANA SolutionsSAP-8013366-1"},{"$f":"E2434&F2434","v":"SAP-8013366-1CloudS4 & Native HANA Solutions"},null,"SAP Colombia","SAP-8013366-1","CloudS4 & Native HANA Solutions",{"$f":"D2434","v":"SAP Colombia"},"USD","N/A","SAP Transportation Management, order to cash for container shipping liners for SAP S/4HANA Cloud, private edition",1000,"Serv","Suscripcion","N/A","N/A","N/A","SAP-8013366-1","Forma de pago estandar a 30 dias",700,1,0,"USD"]
[{"$f":"D2435&F2435&E2435","v":"SAP ColombiaCloudS4 & Native HANA SolutionsSAP-8013366-2"},{"$f":"E2435&F2435","v":"SAP-8013366-2CloudS4 & Native HANA Solutions"},null,"SAP Colombia","SAP-8013366-2","CloudS4 & Native HANA Solutions",{"$f":"D2435","v":"SAP Colombia"},"USD","N/A","SAP Transportation Management, order to cash for container shipping liners for SAP S/4HANA Cloud, private edition",1000,"Serv","Suscripcion","N/A","N/A","N/A","SAP-8013366-2","Forma de pago estandar a 30 dias",560,1,0,"USD"]
[{"$f":"D2436&F2436&E2436","v":"SAP ColombiaCloudS4 & Native HANA SolutionsSAP-8013366-3"},{"$f":"E2436&F2436","v":"SAP-8013366-3CloudS4 & Native HANA Solutions"},null,"SAP Colombia","SAP-8013366-3","CloudS4 & Native HANA Solutions",{"$f":"D2436","v":"SAP Colombia"},"USD","N/A","SAP Transportation Management, order to cash for container shipping liners for SAP S/4HANA Cloud, private edition",1000,"Serv","Suscripcion","N/A","N/A","N/A","SAP-8013366-3","Forma de pago estandar a 30 dias",448,1,0,"USD"]
[{"$f":"D2437&F2437&E2437","v":"SAP ColombiaCloudS4 & Native HANA SolutionsSAP-8013366-4"},{"$f":"E2437&F2437","v":"SAP-8013366-4CloudS4 & Native HANA Solutions"},null,"SAP Colombia","SAP-8013366-4","CloudS4 & Native HANA Solutions",{"$f":"D2437","v":"SAP Colombia"},"USD","N/A","SAP Transportation Management, order to cash for container shipping liners for SAP S/4HANA Cloud, private edition",1000,"Serv","Suscripcion","N/A","N/A","N/A","SAP-8013366-4","Forma de pago estandar a 30 dias",303,1,0,"USD"]
[{"$f":"D2438&F2438&E2438","v":"SAP ColombiaCloudS4 & Native HANA SolutionsSAP-8013366-5"},{"$f":"E2438&F2438","v":"SAP-8013366-5CloudS4 & Native HANA Solutions"},null,"SAP Colombia","SAP-8013366-5","CloudS4 & Native HANA Solutions",{"$f":"D2438","v":"SAP Colombia"},"USD","N/A","SAP Transportation Management, order to cash for container shipping liners for SAP S/4HANA Cloud, private edition",1000,"Serv","Suscripcion","N/A","N/A","N/A","SAP-8013366-5","Forma de pago estandar a 30 dias",211,1,0,"USD"]
[{"$f":"D2439&F2439&E2439","v":"SAP ColombiaCloudS4 & Native HANA SolutionsSAP-8013366-6"},{"$f":"E2439&F2439","v":"SAP-8013366-6CloudS4 & Native HANA Solutions"},null,"SAP Colombia","SAP-8013366-6","CloudS4 & Native HANA Solutions",{"$f":"D2439","v":"SAP Colombia"},"USD","N/A","SAP Transportation Management, order to cash for container shipping liners for SAP S/4HANA Cloud, private edition",1000,"Serv","Suscripcion","N/A","N/A","N/A","SAP-8013366-6","Forma de pago estandar a 30 dias",140,1,0,"USD"]
[{"$f":"D2440&F2440&E2440","v":"SAP ColombiaCloudS4 & Native HANA SolutionsSAP-8013367-1"},{"$f":"E2440&F2440","v":"SAP-8013367-1CloudS4 & Native HANA Solutions"},null,"SAP Colombia","SAP-8013367-1","CloudS4 & Native HANA Solutions",{"$f":"D2440","v":"SAP Colombia"},"USD","N/A","SAP Transportation Management, lead to agreement for container shipping liners for SAP S/4HANA Cloud, private edition",1000,"Serv","Suscripcion","N/A","N/A","N/A","SAP-8013367-1","Forma de pago estandar a 30 dias",233,1,0,"USD"]
[{"$f":"D2441&F2441&E2441","v":"SAP ColombiaCloudS4 & Native HANA SolutionsSAP-8013367-2"},{"$f":"E2441&F2441","v":"SAP-8013367-2CloudS4 & Native HANA Solutions"},null,"SAP Colombia","SAP-8013367-2","CloudS4 & Native HANA Solutions",{"$f":"D2441","v":"SAP Colombia"},"USD","N/A","SAP Transportation Management, lead to agreement for container shipping liners for SAP S/4HANA Cloud, private edition",1000,"Serv","Suscripcion","N/A","N/A","N/A","SAP-8013367-2","Forma de pago estandar a 30 dias",196,1,0,"USD"]
[{"$f":"D2442&F2442&E2442","v":"SAP ColombiaCloudS4 & Native HANA SolutionsSAP-8013367-3"},{"$f":"E2442&F2442","v":"SAP-8013367-3CloudS4 & Native HANA Solutions"},null,"SAP Colombia","SAP-8013367-3","CloudS4 & Native HANA Solutions",{"$f":"D2442","v":"SAP Colombia"},"USD","N/A","SAP Transportation Management, lead to agreement for container shipping liners for SAP S/4HANA Cloud, private edition",1000,"Serv","Suscripcion","N/A","N/A","N/A","SAP-8013367-3","Forma de pago estandar a 30 dias",150,1,0,"USD"]
[{"$f":"D2443&F2443&E2443","v":"SAP ColombiaCloudS4 & Native HANA SolutionsSAP-8013367-4"},{"$f":"E2443&F2443","v":"SAP-8013367-4CloudS4 & Native HANA Solutions"},null,"SAP Colombia","SAP-8013367-4","CloudS4 & Native HANA Solutions",{"$f":"D2443","v":"SAP Colombia"},"USD","N/A","SAP Transportation Management, lead to agreement for container shipping liners for SAP S/4HANA Cloud, private edition",1000,"Serv","Suscripcion","N/A","N/A","N/A","SAP-8013367-4","Forma de pago estandar a 30 dias",103,1,0,"USD"]
[{"$f":"D2444&F2444&E2444","v":"SAP ColombiaCloudS4 & Native HANA SolutionsSAP-8013367-5"},{"$f":"E2444&F2444","v":"SAP-8013367-5CloudS4 & Native HANA Solutions"},null,"SAP Colombia","SAP-8013367-5","CloudS4 & Native HANA Solutions",{"$f":"D2444","v":"SAP Colombia"},"USD","N/A","SAP Transportation Management, lead to agreement for container shipping liners for SAP S/4HANA Cloud, private edition",1000,"Serv","Suscripcion","N/A","N/A","N/A","SAP-8013367-5","Forma de pago estandar a 30 dias",60,1,0,"USD"]
[{"$f":"D2445&F2445&E2445","v":"SAP ColombiaCloudS4 & Native HANA SolutionsSAP-8013367-6"},{"$f":"E2445&F2445","v":"SAP-8013367-6CloudS4 & Native HANA Solutions"},null,"SAP Colombia","SAP-8013367-6","CloudS4 & Native HANA Solutions",{"$f":"D2445","v":"SAP Colombia"},"USD","N/A","SAP Transportation Management, lead to agreement for container shipping liners for SAP S/4HANA Cloud, private edition",1000,"Serv","Suscripcion","N/A","N/A","N/A","SAP-8013367-6","Forma de pago estandar a 30 dias",47,1,0,"USD"]
[{"$f":"D2446&F2446&E2446","v":"SAP ColombiaCloudS4 & Native HANA SolutionsSAP-8004951"},{"$f":"E2446&F2446","v":"SAP-8004951CloudS4 & Native HANA Solutions"},null,"SAP Colombia","SAP-8004951","CloudS4 & Native HANA Solutions",{"$f":"D2446","v":"SAP Colombia"},"USD","N/A","SAP S/4HANA Finance Cloud for receivables management",1,"Serv","Suscripcion","N/A","N/A","N/A","SAP-8004951","Forma de pago estandar a 30 dias",279,1,0,"USD"]
[{"$f":"D2447&F2447&E2447","v":"SAP ColombiaCloudS4 & Native HANA SolutionsSAP-8005822-1"},{"$f":"E2447&F2447","v":"SAP-8005822-1CloudS4 & Native HANA Solutions"},null,"SAP Colombia","SAP-8005822-1","CloudS4 & Native HANA Solutions",{"$f":"D2447","v":"SAP Colombia"},"USD","N/A","SAP S/4HANA Cloud for contract accounting and invoicing",55995000,"Serv","Suscripcion","N/A","N/A","N/A","SAP-8005822-1","Forma de pago estandar a 30 dias",2464,1,0,"USD"]
[{"$f":"D2448&F2448&E2448","v":"SAP ColombiaCloudS4 & Native HANA SolutionsSAP-8005822-2"},{"$f":"E2448&F2448","v":"SAP-8005822-2CloudS4 & Native HANA Solutions"},null,"SAP Colombia","SAP-8005822-2","CloudS4 & Native HANA Solutions",{"$f":"D2448","v":"SAP Colombia"},"USD","N/A","SAP S/4HANA Cloud for contract accounting and invoicing",55995000,"Serv","Suscripcion","N/A","N/A","N/A","SAP-8005822-2","Forma de pago estandar a 30 dias",2156,1,0,"USD"]
[{"$f":"D2449&F2449&E2449","v":"SAP ColombiaCloudS4 & Native HANA SolutionsSAP-8005822-3"},{"$f":"E2449&F2449","v":"SAP-8005822-3CloudS4 & Native HANA Solutions"},null,"SAP Colombia","SAP-8005822-3","CloudS4 & Native HANA Solutions",{"$f":"D2449","v":"SAP Colombia"},"USD","N/A","SAP S/4HANA Cloud for contract accounting and invoicing",55995000,"Serv","Suscripcion","N/A","N/A","N/A","SAP-8005822-3","Forma de pago estandar a 30 dias",2033,1,0,"USD"]
[{"$f":"D2450&F2450&E2450","v":"SAP ColombiaCloudS4 & Native HANA SolutionsSAP-8005822-4"},{"$f":"E2450&F2450","v":"SAP-8005822-4CloudS4 & Native HANA Solutions"},null,"SAP Colombia","SAP-8005822-4","CloudS4 & Native HANA Solutions",{"$f":"D2450","v":"SAP Colombia"},"USD","N/A","SAP S/4HANA Cloud for contract accounting and invoicing",55995000,"Serv","Suscripcion","N/A","N/A","N/A","SAP-8005822-4","Forma de pago estandar a 30 dias",1540,1,0,"USD"]
[{"$f":"D2451&F2451&E2451","v":"SAP ColombiaCloudS4 & Native HANA SolutionsSAP-8005822-5"},{"$f":"E2451&F2451","v":"SAP-8005822-5CloudS4 & Native HANA Solutions"},null,"SAP Colombia","SAP-8005822-5","CloudS4 & Native HANA Solutions",{"$f":"D2451","v":"SAP Colombia"},"USD","N/A","SAP S/4HANA Cloud for contract accounting and invoicing",55995000,"Serv","Suscripcion","N/A","N/A","N/A","SAP-8005822-5","Forma de pago estandar a 30 dias",1232,1,0,"USD"]
[{"$f":"D2452&F2452&E2452","v":"SAP ColombiaCloudS4 & Native HANA SolutionsSAP-8007701"},{"$f":"E2452&F2452","v":"SAP-8007701CloudS4 & Native HANA Solutions"},null,"SAP Colombia","SAP-8007701","CloudS4 & Native HANA Solutions",{"$f":"D2452","v":"SAP Colombia"},"USD","N/A","SAP Group Reporting for Data Collection",25,"Serv","Suscripcion","N/A","N/A","N/A","SAP-8007701","Forma de pago estandar a 30 dias",2240,1,0,"USD"]
[{"$f":"D2453&F2453&E2453","v":"SAP ColombiaCloudS4 & Native HANA SolutionsSAP-8008351-1"},{"$f":"E2453&F2453","v":"SAP-8008351-1CloudS4 & Native HANA Solutions"},null,"SAP Colombia","SAP-8008351-1","CloudS4 & Native HANA Solutions",{"$f":"D2453","v":"SAP Colombia"},"USD","N/A","SAP S/4HANA Cloud for advanced financial closing",25,"Serv","Suscripcion","N/A","N/A","N/A","SAP-8008351-1","Forma de pago estandar a 30 dias",4666,1,0,"USD"]
[{"$f":"D2454&F2454&E2454","v":"SAP ColombiaCloudS4 & Native HANA SolutionsSAP-8008351-2"},{"$f":"E2454&F2454","v":"SAP-8008351-2CloudS4 & Native HANA Solutions"},null,"SAP Colombia","SAP-8008351-2","CloudS4 & Native HANA Solutions",{"$f":"D2454","v":"SAP Colombia"},"USD","N/A","SAP S/4HANA Cloud for advanced financial closing",25,"Serv","Suscripcion","N/A","N/A","N/A","SAP-8008351-2","Forma de pago estandar a 30 dias",2987,1,0,"USD"]
[{"$f":"D2455&F2455&E2455","v":"SAP ColombiaCloudS4 & Native HANA SolutionsSAP-8008351-3"},{"$f":"E2455&F2455","v":"SAP-8008351-3CloudS4 & Native HANA Solutions"},null,"SAP Colombia","SAP-8008351-3","CloudS4 & Native HANA Solutions",{"$f":"D2455","v":"SAP Colombia"},"USD","N/A","SAP S/4HANA Cloud for advanced financial closing",25,"Serv","Suscripcion","N/A","N/A","N/A","SAP-8008351-3","Forma de pago estandar a 30 dias",2427,1,0,"USD"]
[{"$f":"D2456&F2456&E2456","v":"SAP ColombiaCloudS4 & Native HANA SolutionsSAP-8008351-4"},{"$f":"E2456&F2456","v":"SAP-8008351-4CloudS4 & Native HANA Solutions"},null,"SAP Colombia","SAP-8008351-4","CloudS4 & Native HANA Solutions",{"$f":"D2456","v":"SAP Colombia"},"USD","N/A","SAP S/4HANA Cloud for advanced financial closing",25,"Serv","Suscripcion","N/A","N/A","N/A","SAP-8008351-4","Forma de pago estandar a 30 dias",2147,1,0,"USD"]
[{"$f":"D2457&F2457&E2457","v":"SAP ColombiaCloudS4 & Native HANA SolutionsSAP-8008351-5"},{"$f":"E2457&F2457","v":"SAP-8008351-5CloudS4 & Native HANA Solutions"},null,"SAP Colombia","SAP-8008351-5","CloudS4 & Native HANA Solutions",{"$f":"D2457","v":"SAP Colombia"},"USD","N/A","SAP S/4HANA Cloud for advanced financial closing",25,"Serv","Suscripcion","N/A","N/A","N/A","SAP-8008351-5","Forma de pago estandar a 30 dias",1867,1,0,"USD"]
[{"$f":"D2458&F2458&E2458","v":"SAP ColombiaCloudS4 & Native HANA SolutionsSAP-8008366-1"},{"$f":"E2458&F2458","v":"SAP-8008366-1CloudS4 & Native HANA Solutions"},null,"SAP Colombia","SAP-8008366-1","CloudS4 & Native HANA Solutions",{"$f":"D2458","v":"SAP Colombia"},"USD","N/A","SAP S/4HANA Cloud for Group Reporting",25,"Serv","Suscripcion","N/A","N/A","N/A","SAP-8008366-1","Forma de pago estandar a 30 dias",11459,1,0,"USD"]
[{"$f":"D2459&F2459&E2459","v":"SAP ColombiaCloudS4 & Native HANA SolutionsSAP-8008366-2"},{"$f":"E2459&F2459","v":"SAP-8008366-2CloudS4 & Native HANA Solutions"},null,"SAP Colombia","SAP-8008366-2","CloudS4 & Native HANA Solutions",{"$f":"D2459","v":"SAP Colombia"},"USD","N/A","SAP S/4HANA Cloud for Group Reporting",25,"Serv","Suscripcion","N/A","N/A","N/A","SAP-8008366-2","Forma de pago estandar a 30 dias",8587,1,0,"USD"]
[{"$f":"D2460&F2460&E2460","v":"SAP ColombiaCloudS4 & Native HANA SolutionsSAP-8008366-3"},{"$f":"E2460&F2460","v":"SAP-8008366-3CloudS4 & Native HANA Solutions"},null,"SAP Colombia","SAP-8008366-3","CloudS4 & Native HANA Solutions",{"$f":"D2460","v":"SAP Colombia"},"USD","N/A","SAP S/4HANA Cloud for Group Reporting",25,"Serv","Suscripcion","N/A","N/A","N/A","SAP-8008366-3","Forma de pago estandar a 30 dias",5729,1,0,"USD"]
[{"$f":"D2461&F2461&E2461","v":"SAP ColombiaCloudS4 & Native HANA SolutionsSAP-8008366-4"},{"$f":"E2461&F2461","v":"SAP-8008366-4CloudS4 & Native HANA Solutions"},null,"SAP Colombia","SAP-8008366-4","CloudS4 & Native HANA Solutions",{"$f":"D2461","v":"SAP Colombia"},"USD","N/A","SAP S/4HANA Cloud for Group Reporting",25,"Serv","Suscripcion","N/A","N/A","N/A","SAP-8008366-4","Forma de pago estandar a 30 dias",4297,1,0,"USD"]
[{"$f":"D2462&F2462&E2462","v":"SAP ColombiaCloudS4 & Native HANA SolutionsSAP-8008366-5"},{"$f":"E2462&F2462","v":"SAP-8008366-5CloudS4 & Native HANA Solutions"},null,"SAP Colombia","SAP-8008366-5","CloudS4 & Native HANA Solutions",{"$f":"D2462","v":"SAP Colombia"},"USD","N/A","SAP S/4HANA Cloud for Group Reporting",25,"Serv","Suscripcion","N/A","N/A","N/A","SAP-8008366-5","Forma de pago estandar a 30 dias",2890,1,0,"USD"]
[{"$f":"D2463&F2463&E2463","v":"SAP ColombiaCloudS4 & Native HANA SolutionsSAP-8008611"},{"$f":"E2463&F2463","v":"SAP-8008611CloudS4 & Native HANA Solutions"},null,"SAP Colombia","SAP-8008611","CloudS4 & Native HANA Solutions",{"$f":"D2463","v":"SAP Colombia"},"USD","N/A","SAP S/4HANA Cloud for advanced payment management",1,"Serv","Suscripcion","N/A","N/A","N/A","SAP-8008611","Forma de pago estandar a 30 dias",410,1,0,"USD"]
[{"$f":"D2464&F2464&E2464","v":"SAP ColombiaCloudS4 & Native HANA SolutionsSAP-8008659-1"},{"$f":"E2464&F2464","v":"SAP-8008659-1CloudS4 & Native HANA Solutions"},null,"SAP Colombia","SAP-8008659-1","CloudS4 & Native HANA Solutions",{"$f":"D2464","v":"SAP Colombia"},"USD","N/A","SAP S/4HANA Cloud for financial three lines of defense, private edition",1,"Serv","Suscripcion","N/A","N/A","N/A","SAP-8008659-1","Forma de pago estandar a 30 dias",533,1,0,"USD"]
[{"$f":"D2465&F2465&E2465","v":"SAP ColombiaCloudS4 & Native HANA SolutionsSAP-8008659-2"},{"$f":"E2465&F2465","v":"SAP-8008659-2CloudS4 & Native HANA Solutions"},null,"SAP Colombia","SAP-8008659-2","CloudS4 & Native HANA Solutions",{"$f":"D2465","v":"SAP Colombia"},"USD","N/A","SAP S/4HANA Cloud for financial three lines of defense, private edition",1,"Serv","Suscripcion","N/A","N/A","N/A","SAP-8008659-2","Forma de pago estandar a 30 dias",242,1,0,"USD"]
[{"$f":"D2466&F2466&E2466","v":"SAP ColombiaCloudS4 & Native HANA SolutionsSAP-8008659-3"},{"$f":"E2466&F2466","v":"SAP-8008659-3CloudS4 & Native HANA Solutions"},null,"SAP Colombia","SAP-8008659-3","CloudS4 & Native HANA Solutions",{"$f":"D2466","v":"SAP Colombia"},"USD","N/A","SAP S/4HANA Cloud for financial three lines of defense, private edition",1,"Serv","Suscripcion","N/A","N/A","N/A","SAP-8008659-3","Forma de pago estandar a 30 dias",121,1,0,"USD"]
[{"$f":"D2467&F2467&E2467","v":"SAP ColombiaCloudS4 & Native HANA SolutionsSAP-8008659-4"},{"$f":"E2467&F2467","v":"SAP-8008659-4CloudS4 & Native HANA Solutions"},null,"SAP Colombia","SAP-8008659-4","CloudS4 & Native HANA Solutions",{"$f":"D2467","v":"SAP Colombia"},"USD","N/A","SAP S/4HANA Cloud for financial three lines of defense, private edition",1,"Serv","Suscripcion","N/A","N/A","N/A","SAP-8008659-4","Forma de pago estandar a 30 dias",67,1,0,"USD"]
[{"$f":"D2468&F2468&E2468","v":"SAP ColombiaCloudS4 & Native HANA SolutionsSAP-8008659-5"},{"$f":"E2468&F2468","v":"SAP-8008659-5CloudS4 & Native HANA Solutions"},null,"SAP Colombia","SAP-8008659-5","CloudS4 & Native HANA Solutions",{"$f":"D2468","v":"SAP Colombia"},"USD","N/A","SAP S/4HANA Cloud for financial three lines of defense, private edition",1,"Serv","Suscripcion","N/A","N/A","N/A","SAP-8008659-5","Forma de pago estandar a 30 dias",45,1,0,"USD"]
[{"$f":"D2469&F2469&E2469","v":"SAP ColombiaCloudS4 & Native HANA SolutionsSAP-8008667-1"},{"$f":"E2469&F2469","v":"SAP-8008667-1CloudS4 & Native HANA Solutions"},null,"SAP Colombia","SAP-8008667-1","CloudS4 & Native HANA Solutions",{"$f":"D2469","v":"SAP Colombia"},"USD","N/A","SAP S/4HANA Cloud for tax compliance, private edition",111990000,"Serv","Suscripcion","N/A","N/A","N/A","SAP-8008667-1","Forma de pago estandar a 30 dias",373,1,0,"USD"]
[{"$f":"D2470&F2470&E2470","v":"SAP ColombiaCloudS4 & Native HANA SolutionsSAP-8008667-2"},{"$f":"E2470&F2470","v":"SAP-8008667-2CloudS4 & Native HANA Solutions"},null,"SAP Colombia","SAP-8008667-2","CloudS4 & Native HANA Solutions",{"$f":"D2470","v":"SAP Colombia"},"USD","N/A","SAP S/4HANA Cloud for tax compliance, private edition",111990000,"Serv","Suscripcion","N/A","N/A","N/A","SAP-8008667-2","Forma de pago estandar a 30 dias",209,1,0,"USD"]
[{"$f":"D2471&F2471&E2471","v":"SAP ColombiaCloudS4 & Native HANA SolutionsSAP-8008667-3"},{"$f":"E2471&F2471","v":"SAP-8008667-3CloudS4 & Native HANA Solutions"},null,"SAP Colombia","SAP-8008667-3","CloudS4 & Native HANA Solutions",{"$f":"D2471","v":"SAP Colombia"},"USD","N/A","SAP S/4HANA Cloud for tax compliance, private edition",111990000,"Serv","Suscripcion","N/A","N/A","N/A","SAP-8008667-3","Forma de pago estandar a 30 dias",158,1,0,"USD"]
[{"$f":"D2472&F2472&E2472","v":"SAP ColombiaCloudS4 & Native HANA SolutionsSAP-8008667-4"},{"$f":"E2472&F2472","v":"SAP-8008667-4CloudS4 & Native HANA Solutions"},null,"SAP Colombia","SAP-8008667-4","CloudS4 & Native HANA Solutions",{"$f":"D2472","v":"SAP Colombia"},"USD","N/A","SAP S/4HANA Cloud for tax compliance, private edition",111990000,"Serv","Suscripcion","N/A","N/A","N/A","SAP-8008667-4","Forma de pago estandar a 30 dias",128,1,0,"USD"]
[{"$f":"D2473&F2473&E2473","v":"SAP ColombiaCloudS4 & Native HANA SolutionsSAP-8008667-5"},{"$f":"E2473&F2473","v":"SAP-8008667-5CloudS4 & Native HANA Solutions"},null,"SAP Colombia","SAP-8008667-5","CloudS4 & Native HANA Solutions",{"$f":"D2473","v":"SAP Colombia"},"USD","N/A","SAP S/4HANA Cloud for tax compliance, private edition",111990000,"Serv","Suscripcion","N/A","N/A","N/A","SAP-8008667-5","Forma de pago estandar a 30 dias",71,1,0,"USD"]
[{"$f":"D2474&F2474&E2474","v":"SAP ColombiaCloudS4 & Native HANA SolutionsSAP-8008671-1"},{"$f":"E2474&F2474","v":"SAP-8008671-1CloudS4 & Native HANA Solutions"},null,"SAP Colombia","SAP-8008671-1","CloudS4 & Native HANA Solutions",{"$f":"D2474","v":"SAP Colombia"},"USD","N/A","SAP S/4HANA Cloud for in-house cash, private edition",111990000,"Serv","Suscripcion","N/A","N/A","N/A","SAP-8008671-1","Forma de pago estandar a 30 dias",193,1,0,"USD"]
[{"$f":"D2475&F2475&E2475","v":"SAP ColombiaCloudS4 & Native HANA SolutionsSAP-8008671-2"},{"$f":"E2475&F2475","v":"SAP-8008671-2CloudS4 & Native HANA Solutions"},null,"SAP Colombia","SAP-8008671-2","CloudS4 & Native HANA Solutions",{"$f":"D2475","v":"SAP Colombia"},"USD","N/A","SAP S/4HANA Cloud for in-house cash, private edition",111990000,"Serv","Suscripcion","N/A","N/A","N/A","SAP-8008671-2","Forma de pago estandar a 30 dias",68,1,0,"USD"]
[{"$f":"D2476&F2476&E2476","v":"SAP ColombiaCloudS4 & Native HANA SolutionsSAP-8008671-3"},{"$f":"E2476&F2476","v":"SAP-8008671-3CloudS4 & Native HANA Solutions"},null,"SAP Colombia","SAP-8008671-3","CloudS4 & Native HANA Solutions",{"$f":"D2476","v":"SAP Colombia"},"USD","N/A","SAP S/4HANA Cloud for in-house cash, private edition",111990000,"Serv","Suscripcion","N/A","N/A","N/A","SAP-8008671-3","Forma de pago estandar a 30 dias",35,1,0,"USD"]
[{"$f":"D2477&F2477&E2477","v":"SAP ColombiaCloudS4 & Native HANA SolutionsSAP-8008671-4"},{"$f":"E2477&F2477","v":"SAP-8008671-4CloudS4 & Native HANA Solutions"},null,"SAP Colombia","SAP-8008671-4","CloudS4 & Native HANA Solutions",{"$f":"D2477","v":"SAP Colombia"},"USD","N/A","SAP S/4HANA Cloud for in-house cash, private edition",111990000,"Serv","Suscripcion","N/A","N/A","N/A","SAP-8008671-4","Forma de pago estandar a 30 dias",18,1,0,"USD"]
[{"$f":"D2478&F2478&E2478","v":"SAP ColombiaCloudS4 & Native HANA SolutionsSAP-8008671-5"},{"$f":"E2478&F2478","v":"SAP-8008671-5CloudS4 & Native HANA Solutions"},null,"SAP Colombia","SAP-8008671-5","CloudS4 & Native HANA Solutions",{"$f":"D2478","v":"SAP Colombia"},"USD","N/A","SAP S/4HANA Cloud for in-house cash, private edition",111990000,"Serv","Suscripcion","N/A","N/A","N/A","SAP-8008671-5","Forma de pago estandar a 30 dias",8.23,1,0,"USD"]
[{"$f":"D2479&F2479&E2479","v":"SAP ColombiaCloudS4 & Native HANA SolutionsSAP-8008679-1"},{"$f":"E2479&F2479","v":"SAP-8008679-1CloudS4 & Native HANA Solutions"},null,"SAP Colombia","SAP-8008679-1","CloudS4 & Native HANA Solutions",{"$f":"D2479","v":"SAP Colombia"},"USD","N/A","SAP S/4HANA Cloud for central finance foundation, private edition",111990000,"Serv","Suscripcion","N/A","N/A","N/A","SAP-8008679-1","Forma de pago estandar a 30 dias",749,1,0,"USD"]
[{"$f":"D2480&F2480&E2480","v":"SAP ColombiaCloudS4 & Native HANA SolutionsSAP-8008679-2"},{"$f":"E2480&F2480","v":"SAP-8008679-2CloudS4 & Native HANA Solutions"},null,"SAP Colombia","SAP-8008679-2","CloudS4 & Native HANA Solutions",{"$f":"D2480","v":"SAP Colombia"},"USD","N/A","SAP S/4HANA Cloud for central finance foundation, private edition",111990000,"Serv","Suscripcion","N/A","N/A","N/A","SAP-8008679-2","Forma de pago estandar a 30 dias",693,1,0,"USD"]
[{"$f":"D2481&F2481&E2481","v":"SAP ColombiaCloudS4 & Native HANA SolutionsSAP-8008679-3"},{"$f":"E2481&F2481","v":"SAP-8008679-3CloudS4 & Native HANA Solutions"},null,"SAP Colombia","SAP-8008679-3","CloudS4 & Native HANA Solutions",{"$f":"D2481","v":"SAP Colombia"},"USD","N/A","SAP S/4HANA Cloud for central finance foundation, private edition",111990000,"Serv","Suscripcion","N/A","N/A","N/A","SAP-8008679-3","Forma de pago estandar a 30 dias",641,1,0,"USD"]
[{"$f":"D2482&F2482&E2482","v":"SAP ColombiaCloudS4 & Native HANA SolutionsSAP-8008679-4"},{"$f":"E2482&F2482","v":"SAP-8008679-4CloudS4 & Native HANA Solutions"},null,"SAP Colombia","SAP-8008679-4","CloudS4 & Native HANA Solutions",{"$f":"D2482","v":"SAP Colombia"},"USD","N/A","SAP S/4HANA Cloud for central finance foundation, private edition",111990000,"Serv","Suscripcion","N/A","N/A","N/A","SAP-8008679-4","Forma de pago estandar a 30 dias",591,1,0,"USD"]
[{"$f":"D2483&F2483&E2483","v":"SAP ColombiaCloudS4 & Native HANA SolutionsSAP-8008679-5"},{"$f":"E2483&F2483","v":"SAP-8008679-5CloudS4 & Native HANA Solutions"},null,"SAP Colombia","SAP-8008679-5","CloudS4 & Native HANA Solutions",{"$f":"D2483","v":"SAP Colombia"},"USD","N/A","SAP S/4HANA Cloud for central finance foundation, private edition",111990000,"Serv","Suscripcion","N/A","N/A","N/A","SAP-8008679-5","Forma de pago estandar a 30 dias",542,1,0,"USD"]
[{"$f":"D2484&F2484&E2484","v":"SAP ColombiaCloudS4 & Native HANA SolutionsSAP-8008682-1"},{"$f":"E2484&F2484","v":"SAP-8008682-1CloudS4 & Native HANA Solutions"},null,"SAP Colombia","SAP-8008682-1","CloudS4 & Native HANA Solutions",{"$f":"D2484","v":"SAP Colombia"},"USD","N/A","SAP S/4HANA Cloud for access control, private edition",100,"Serv","Suscripcion","N/A","N/A","N/A","SAP-8008682-1","Forma de pago estandar a 30 dias",909,1,0,"USD"]
[{"$f":"D2485&F2485&E2485","v":"SAP ColombiaCloudS4 & Native HANA SolutionsSAP-8008682-2"},{"$f":"E2485&F2485","v":"SAP-8008682-2CloudS4 & Native HANA Solutions"},null,"SAP Colombia","SAP-8008682-2","CloudS4 & Native HANA Solutions",{"$f":"D2485","v":"SAP Colombia"},"USD","N/A","SAP S/4HANA Cloud for access control, private edition",100,"Serv","Suscripcion","N/A","N/A","N/A","SAP-8008682-2","Forma de pago estandar a 30 dias",605,1,0,"USD"]
[{"$f":"D2486&F2486&E2486","v":"SAP ColombiaCloudS4 & Native HANA SolutionsSAP-8008682-3"},{"$f":"E2486&F2486","v":"SAP-8008682-3CloudS4 & Native HANA Solutions"},null,"SAP Colombia","SAP-8008682-3","CloudS4 & Native HANA Solutions",{"$f":"D2486","v":"SAP Colombia"},"USD","N/A","SAP S/4HANA Cloud for access control, private edition",100,"Serv","Suscripcion","N/A","N/A","N/A","SAP-8008682-3","Forma de pago estandar a 30 dias",560,1,0,"USD"]
[{"$f":"D2487&F2487&E2487","v":"SAP ColombiaCloudS4 & Native HANA SolutionsSAP-8008682-4"},{"$f":"E2487&F2487","v":"SAP-8008682-4CloudS4 & Native HANA Solutions"},null,"SAP Colombia","SAP-8008682-4","CloudS4 & Native HANA Solutions",{"$f":"D2487","v":"SAP Colombia"},"USD","N/A","SAP S/4HANA Cloud for access control, private edition",100,"Serv","Suscripcion","N/A","N/A","N/A","SAP-8008682-4","Forma de pago estandar a 30 dias",448,1,0,"USD"]
[{"$f":"D2488&F2488&E2488","v":"SAP ColombiaCloudS4 & Native HANA SolutionsSAP-8008682-5"},{"$f":"E2488&F2488","v":"SAP-8008682-5CloudS4 & Native HANA Solutions"},null,"SAP Colombia","SAP-8008682-5","CloudS4 & Native HANA Solutions",{"$f":"D2488","v":"SAP Colombia"},"USD","N/A","SAP S/4HANA Cloud for access control, private edition",100,"Serv","Suscripcion","N/A","N/A","N/A","SAP-8008682-5","Forma de pago estandar a 30 dias",292,1,0,"USD"]
[{"$f":"D2489&F2489&E2489","v":"SAP ColombiaCloudS4 & Native HANA SolutionsSAP-8008697-1"},{"$f":"E2489&F2489","v":"SAP-8008697-1CloudS4 & Native HANA Solutions"},null,"SAP Colombia","SAP-8008697-1","CloudS4 & Native HANA Solutions",{"$f":"D2489","v":"SAP Colombia"},"USD","N/A","SAP S/4HANA Cloud for cash management, private edition",111990000,"Serv","Suscripcion","N/A","N/A","N/A","SAP-8008697-1","Forma de pago estandar a 30 dias",186,1,0,"USD"]
[{"$f":"D2490&F2490&E2490","v":"SAP ColombiaCloudS4 & Native HANA SolutionsSAP-8008697-2"},{"$f":"E2490&F2490","v":"SAP-8008697-2CloudS4 & Native HANA Solutions"},null,"SAP Colombia","SAP-8008697-2","CloudS4 & Native HANA Solutions",{"$f":"D2490","v":"SAP Colombia"},"USD","N/A","SAP S/4HANA Cloud for cash management, private edition",111990000,"Serv","Suscripcion","N/A","N/A","N/A","SAP-8008697-2","Forma de pago estandar a 30 dias",65,1,0,"USD"]
[{"$f":"D2491&F2491&E2491","v":"SAP ColombiaCloudS4 & Native HANA SolutionsSAP-8008697-3"},{"$f":"E2491&F2491","v":"SAP-8008697-3CloudS4 & Native HANA Solutions"},null,"SAP Colombia","SAP-8008697-3","CloudS4 & Native HANA Solutions",{"$f":"D2491","v":"SAP Colombia"},"USD","N/A","SAP S/4HANA Cloud for cash management, private edition",111990000,"Serv","Suscripcion","N/A","N/A","N/A","SAP-8008697-3","Forma de pago estandar a 30 dias",36,1,0,"USD"]
[{"$f":"D2492&F2492&E2492","v":"SAP ColombiaCloudS4 & Native HANA SolutionsSAP-8008697-4"},{"$f":"E2492&F2492","v":"SAP-8008697-4CloudS4 & Native HANA Solutions"},null,"SAP Colombia","SAP-8008697-4","CloudS4 & Native HANA Solutions",{"$f":"D2492","v":"SAP Colombia"},"USD","N/A","SAP S/4HANA Cloud for cash management, private edition",111990000,"Serv","Suscripcion","N/A","N/A","N/A","SAP-8008697-4","Forma de pago estandar a 30 dias",22,1,0,"USD"]
[{"$f":"D2493&F2493&E2493","v":"SAP ColombiaCloudS4 & Native HANA SolutionsSAP-8008697-5"},{"$f":"E2493&F2493","v":"SAP-8008697-5CloudS4 & Native HANA Solutions"},null,"SAP Colombia","SAP-8008697-5","CloudS4 & Native HANA Solutions",{"$f":"D2493","v":"SAP Colombia"},"USD","N/A","SAP S/4HANA Cloud for cash management, private edition",111990000,"Serv","Suscripcion","N/A","N/A","N/A","SAP-8008697-5","Forma de pago estandar a 30 dias",16,1,0,"USD"]
[{"$f":"D2494&F2494&E2494","v":"SAP ColombiaCloudS4 & Native HANA SolutionsSAP-8008714-1"},{"$f":"E2494&F2494","v":"SAP-8008714-1CloudS4 & Native HANA Solutions"},null,"SAP Colombia","SAP-8008714-1","CloudS4 & Native HANA Solutions",{"$f":"D2494","v":"SAP Colombia"},"USD","N/A","SAP S/4HANA Cloud for Group Reporting, private edition",25,"Serv","Suscripcion","N/A","N/A","N/A","SAP-8008714-1","Forma de pago estandar a 30 dias",8432,1,0,"USD"]
[{"$f":"D2495&F2495&E2495","v":"SAP ColombiaCloudS4 & Native HANA SolutionsSAP-8008714-2"},{"$f":"E2495&F2495","v":"SAP-8008714-2CloudS4 & Native HANA Solutions"},null,"SAP Colombia","SAP-8008714-2","CloudS4 & Native HANA Solutions",{"$f":"D2495","v":"SAP Colombia"},"USD","N/A","SAP S/4HANA Cloud for Group Reporting, private edition",25,"Serv","Suscripcion","N/A","N/A","N/A","SAP-8008714-2","Forma de pago estandar a 30 dias",6528,1,0,"USD"]
[{"$f":"D2496&F2496&E2496","v":"SAP ColombiaCloudS4 & Native HANA SolutionsSAP-8008714-3"},{"$f":"E2496&F2496","v":"SAP-8008714-3CloudS4 & Native HANA Solutions"},null,"SAP Colombia","SAP-8008714-3","CloudS4 & Native HANA Solutions",{"$f":"D2496","v":"SAP Colombia"},"USD","N/A","SAP S/4HANA Cloud for Group Reporting, private edition",25,"Serv","Suscripcion","N/A","N/A","N/A","SAP-8008714-3","Forma de pago estandar a 30 dias",4361,1,0,"USD"]
[{"$f":"D2497&F2497&E2497","v":"SAP ColombiaCloudS4 & Native HANA SolutionsSAP-8008714-4"},{"$f":"E2497&F2497","v":"SAP-8008714-4CloudS4 & Native HANA Solutions"},null,"SAP Colombia","SAP-8008714-4","CloudS4 & Native HANA Solutions",{"$f":"D2497","v":"SAP Colombia"},"USD","N/A","SAP S/4HANA Cloud for Group Reporting, private edition",25,"Serv","Suscripcion","N/A","N/A","N/A","SAP-8008714-4","Forma de pago estandar a 30 dias",3282,1,0,"USD"]
[{"$f":"D2498&F2498&E2498","v":"SAP ColombiaCloudS4 & Native HANA SolutionsSAP-8008714-5"},{"$f":"E2498&F2498","v":"SAP-8008714-5CloudS4 & Native HANA Solutions"},null,"SAP Colombia","SAP-8008714-5","CloudS4 & Native HANA Solutions",{"$f":"D2498","v":"SAP Colombia"},"USD","N/A","SAP S/4HANA Cloud for Group Reporting, private edition",25,"Serv","Suscripcion","N/A","N/A","N/A","SAP-8008714-5","Forma de pago estandar a 30 dias",2206,1,0,"USD"]
[{"$f":"D2499&F2499&E2499","v":"SAP ColombiaCloudS4 & Native HANA SolutionsSAP-8008716-1"},{"$f":"E2499&F2499","v":"SAP-8008716-1CloudS4 & Native HANA Solutions"},null,"SAP Colombia","SAP-8008716-1","CloudS4 & Native HANA Solutions",{"$f":"D2499","v":"SAP Colombia"},"USD","N/A","SAP S/4HANA Cloud for financial shared service framework, private edition",10000,"Serv","Suscripcion","N/A","N/A","N/A","SAP-8008716-1","Forma de pago estandar a 30 dias",342,1,0,"USD"]
[{"$f":"D2500&F2500&E2500","v":"SAP ColombiaCloudS4 & Native HANA SolutionsSAP-8008716-2"},{"$f":"E2500&F2500","v":"SAP-8008716-2CloudS4 & Native HANA Solutions"},null,"SAP Colombia","SAP-8008716-2","CloudS4 & Native HANA Solutions",{"$f":"D2500","v":"SAP Colombia"},"USD","N/A","SAP S/4HANA Cloud for financial shared service framework, private edition",10000,"Serv","Suscripcion","N/A","N/A","N/A","SAP-8008716-2","Forma de pago estandar a 30 dias",158,1,0,"USD"]
[{"$f":"D2501&F2501&E2501","v":"SAP ColombiaCloudS4 & Native HANA SolutionsSAP-8008716-3"},{"$f":"E2501&F2501","v":"SAP-8008716-3CloudS4 & Native HANA Solutions"},null,"SAP Colombia","SAP-8008716-3","CloudS4 & Native HANA Solutions",{"$f":"D2501","v":"SAP Colombia"},"USD","N/A","SAP S/4HANA Cloud for financial shared service framework, private edition",10000,"Serv","Suscripcion","N/A","N/A","N/A","SAP-8008716-3","Forma de pago estandar a 30 dias",131,1,0,"USD"]
[{"$f":"D2502&F2502&E2502","v":"SAP ColombiaCloudS4 & Native HANA SolutionsSAP-8008716-4"},{"$f":"E2502&F2502","v":"SAP-8008716-4CloudS4 & Native HANA Solutions"},null,"SAP Colombia","SAP-8008716-4","CloudS4 & Native HANA Solutions",{"$f":"D2502","v":"SAP Colombia"},"USD","N/A","SAP S/4HANA Cloud for financial shared service framework, private edition",10000,"Serv","Suscripcion","N/A","N/A","N/A","SAP-8008716-4","Forma de pago estandar a 30 dias",125,1,0,"USD"]
[{"$f":"D2503&F2503&E2503","v":"SAP ColombiaCloudS4 & Native HANA SolutionsSAP-8008716-5"},{"$f":"E2503&F2503","v":"SAP-8008716-5CloudS4 & Native HANA Solutions"},null,"SAP Colombia","SAP-8008716-5","CloudS4 & Native HANA Solutions",{"$f":"D2503","v":"SAP Colombia"},"USD","N/A","SAP S/4HANA Cloud for financial shared service framework, private edition",10000,"Serv","Suscripcion","N/A","N/A","N/A","SAP-8008716-5","Forma de pago estandar a 30 dias",123,1,0,"USD"]
[{"$f":"D2504&F2504&E2504","v":"SAP ColombiaCloudS4 & Native HANA SolutionsSAP-8008719-1"},{"$f":"E2504&F2504","v":"SAP-8008719-1CloudS4 & Native HANA Solutions"},null,"SAP Colombia","SAP-8008719-1","CloudS4 & Native HANA Solutions",{"$f":"D2504","v":"SAP Colombia"},"USD","N/A","SAP S/4HANA Cloud for accounting integration, private edition",10000,"Serv","Suscripcion","N/A","N/A","N/A","SAP-8008719-1","Forma de pago estandar a 30 dias",3058,1,0,"USD"]
[{"$f":"D2505&F2505&E2505","v":"SAP ColombiaCloudS4 & Native HANA SolutionsSAP-8008719-2"},{"$f":"E2505&F2505","v":"SAP-8008719-2CloudS4 & Native HANA Solutions"},null,"SAP Colombia","SAP-8008719-2","CloudS4 & Native HANA Solutions",{"$f":"D2505","v":"SAP Colombia"},"USD","N/A","SAP S/4HANA Cloud for accounting integration, private edition",10000,"Serv","Suscripcion","N/A","N/A","N/A","SAP-8008719-2","Forma de pago estandar a 30 dias",1886,1,0,"USD"]
[{"$f":"D2506&F2506&E2506","v":"SAP ColombiaCloudS4 & Native HANA SolutionsSAP-8008719-3"},{"$f":"E2506&F2506","v":"SAP-8008719-3CloudS4 & Native HANA Solutions"},null,"SAP Colombia","SAP-8008719-3","CloudS4 & Native HANA Solutions",{"$f":"D2506","v":"SAP Colombia"},"USD","N/A","SAP S/4HANA Cloud for accounting integration, private edition",10000,"Serv","Suscripcion","N/A","N/A","N/A","SAP-8008719-3","Forma de pago estandar a 30 dias",1533,1,0,"USD"]
[{"$f":"D2507&F2507&E2507","v":"SAP ColombiaCloudS4 & Native HANA SolutionsSAP-8008722-1"},{"$f":"E2507&F2507","v":"SAP-8008722-1CloudS4 & Native HANA Solutions"},null,"SAP Colombia","SAP-8008722-1","CloudS4 & Native HANA Solutions",{"$f":"D2507","v":"SAP Colombia"},"USD","N/A","SAP S/4HANA Cloud for advanced payment management, private edition",111990000,"Serv","Suscripcion","N/A","N/A","N/A","SAP-8008722-1","Forma de pago estandar a 30 dias",254,1,0,"USD"]
[{"$f":"D2508&F2508&E2508","v":"SAP ColombiaCloudS4 & Native HANA SolutionsSAP-8008722-2"},{"$f":"E2508&F2508","v":"SAP-8008722-2CloudS4 & Native HANA Solutions"},null,"SAP Colombia","SAP-8008722-2","CloudS4 & Native HANA Solutions",{"$f":"D2508","v":"SAP Colombia"},"USD","N/A","SAP S/4HANA Cloud for advanced payment management, private edition",111990000,"Serv","Suscripcion","N/A","N/A","N/A","SAP-8008722-2","Forma de pago estandar a 30 dias",99,1,0,"USD"]
[{"$f":"D2509&F2509&E2509","v":"SAP ColombiaCloudS4 & Native HANA SolutionsSAP-8008722-3"},{"$f":"E2509&F2509","v":"SAP-8008722-3CloudS4 & Native HANA Solutions"},null,"SAP Colombia","SAP-8008722-3","CloudS4 & Native HANA Solutions",{"$f":"D2509","v":"SAP Colombia"},"USD","N/A","SAP S/4HANA Cloud for advanced payment management, private edition",111990000,"Serv","Suscripcion","N/A","N/A","N/A","SAP-8008722-3","Forma de pago estandar a 30 dias",49,1,0,"USD"]
[{"$f":"D2510&F2510&E2510","v":"SAP ColombiaCloudS4 & Native HANA SolutionsSAP-8008722-4"},{"$f":"E2510&F2510","v":"SAP-8008722-4CloudS4 & Native HANA Solutions"},null,"SAP Colombia","SAP-8008722-4","CloudS4 & Native HANA Solutions",{"$f":"D2510","v":"SAP Colombia"},"USD","N/A","SAP S/4HANA Cloud for advanced payment management, private edition",111990000,"Serv","Suscripcion","N/A","N/A","N/A","SAP-8008722-4","Forma de pago estandar a 30 dias",26,1,0,"USD"]
[{"$f":"D2511&F2511&E2511","v":"SAP ColombiaCloudS4 & Native HANA SolutionsSAP-8008722-5"},{"$f":"E2511&F2511","v":"SAP-8008722-5CloudS4 & Native HANA Solutions"},null,"SAP Colombia","SAP-8008722-5","CloudS4 & Native HANA Solutions",{"$f":"D2511","v":"SAP Colombia"},"USD","N/A","SAP S/4HANA Cloud for advanced payment management, private edition",111990000,"Serv","Suscripcion","N/A","N/A","N/A","SAP-8008722-5","Forma de pago estandar a 30 dias",15,1,0,"USD"]
[{"$f":"D2512&F2512&E2512","v":"SAP ColombiaCloudS4 & Native HANA SolutionsSAP-8008747-1"},{"$f":"E2512&F2512","v":"SAP-8008747-1CloudS4 & Native HANA Solutions"},null,"SAP Colombia","SAP-8008747-1","CloudS4 & Native HANA Solutions",{"$f":"D2512","v":"SAP Colombia"},"USD","N/A","SAP S/4HANA Cloud for contract accounting and invoicing, private edition",55995000,"Serv","Suscripcion","N/A","N/A","N/A","SAP-8008747-1","Forma de pago estandar a 30 dias",6467,1,0,"USD"]
[{"$f":"D2513&F2513&E2513","v":"SAP ColombiaCloudS4 & Native HANA SolutionsSAP-8008747-2"},{"$f":"E2513&F2513","v":"SAP-8008747-2CloudS4 & Native HANA Solutions"},null,"SAP Colombia","SAP-8008747-2","CloudS4 & Native HANA Solutions",{"$f":"D2513","v":"SAP Colombia"},"USD","N/A","SAP S/4HANA Cloud for contract accounting and invoicing, private edition",55995000,"Serv","Suscripcion","N/A","N/A","N/A","SAP-8008747-2","Forma de pago estandar a 30 dias",4844,1,0,"USD"]
[{"$f":"D2514&F2514&E2514","v":"SAP ColombiaCloudS4 & Native HANA SolutionsSAP-8008747-3"},{"$f":"E2514&F2514","v":"SAP-8008747-3CloudS4 & Native HANA Solutions"},null,"SAP Colombia","SAP-8008747-3","CloudS4 & Native HANA Solutions",{"$f":"D2514","v":"SAP Colombia"},"USD","N/A","SAP S/4HANA Cloud for contract accounting and invoicing, private edition",55995000,"Serv","Suscripcion","N/A","N/A","N/A","SAP-8008747-3","Forma de pago estandar a 30 dias",3696,1,0,"USD"]
[{"$f":"D2515&F2515&E2515","v":"SAP ColombiaCloudS4 & Native HANA SolutionsSAP-8008747-4"},{"$f":"E2515&F2515","v":"SAP-8008747-4CloudS4 & Native HANA Solutions"},null,"SAP Colombia","SAP-8008747-4","CloudS4 & Native HANA Solutions",{"$f":"D2515","v":"SAP Colombia"},"USD","N/A","SAP S/4HANA Cloud for contract accounting and invoicing, private edition",55995000,"Serv","Suscripcion","N/A","N/A","N/A","SAP-8008747-4","Forma de pago estandar a 30 dias",2033,1,0,"USD"]
[{"$f":"D2516&F2516&E2516","v":"SAP ColombiaCloudS4 & Native HANA SolutionsSAP-8008747-5"},{"$f":"E2516&F2516","v":"SAP-8008747-5CloudS4 & Native HANA Solutions"},null,"SAP Colombia","SAP-8008747-5","CloudS4 & Native HANA Solutions",{"$f":"D2516","v":"SAP Colombia"},"USD","N/A","SAP S/4HANA Cloud for contract accounting and invoicing, private edition",55995000,"Serv","Suscripcion","N/A","N/A","N/A","SAP-8008747-5","Forma de pago estandar a 30 dias",1848,1,0,"USD"]
[{"$f":"D2517&F2517&E2517","v":"SAP ColombiaCloudS4 & Native HANA SolutionsSAP-8008768-1"},{"$f":"E2517&F2517","v":"SAP-8008768-1CloudS4 & Native HANA Solutions"},null,"SAP Colombia","SAP-8008768-1","CloudS4 & Native HANA Solutions",{"$f":"D2517","v":"SAP Colombia"},"USD","N/A","SAP S/4HANA Cloud for treasury and risk management, private edition",111990000,"Serv","Suscripcion","N/A","N/A","N/A","SAP-8008768-1","Forma de pago estandar a 30 dias",181,1,0,"USD"]
[{"$f":"D2518&F2518&E2518","v":"SAP ColombiaCloudS4 & Native HANA SolutionsSAP-8008768-2"},{"$f":"E2518&F2518","v":"SAP-8008768-2CloudS4 & Native HANA Solutions"},null,"SAP Colombia","SAP-8008768-2","CloudS4 & Native HANA Solutions",{"$f":"D2518","v":"SAP Colombia"},"USD","N/A","SAP S/4HANA Cloud for treasury and risk management, private edition",111990000,"Serv","Suscripcion","N/A","N/A","N/A","SAP-8008768-2","Forma de pago estandar a 30 dias",67,1,0,"USD"]
[{"$f":"D2519&F2519&E2519","v":"SAP ColombiaCloudS4 & Native HANA SolutionsSAP-8008768-3"},{"$f":"E2519&F2519","v":"SAP-8008768-3CloudS4 & Native HANA Solutions"},null,"SAP Colombia","SAP-8008768-3","CloudS4 & Native HANA Solutions",{"$f":"D2519","v":"SAP Colombia"},"USD","N/A","SAP S/4HANA Cloud for treasury and risk management, private edition",111990000,"Serv","Suscripcion","N/A","N/A","N/A","SAP-8008768-3","Forma de pago estandar a 30 dias",36,1,0,"USD"]
[{"$f":"D2520&F2520&E2520","v":"SAP ColombiaCloudS4 & Native HANA SolutionsSAP-8008768-4"},{"$f":"E2520&F2520","v":"SAP-8008768-4CloudS4 & Native HANA Solutions"},null,"SAP Colombia","SAP-8008768-4","CloudS4 & Native HANA Solutions",{"$f":"D2520","v":"SAP Colombia"},"USD","N/A","SAP S/4HANA Cloud for treasury and risk management, private edition",111990000,"Serv","Suscripcion","N/A","N/A","N/A","SAP-8008768-4","Forma de pago estandar a 30 dias",24,1,0,"USD"]
[{"$f":"D2521&F2521&E2521","v":"SAP ColombiaCloudS4 & Native HANA SolutionsSAP-8008768-5"},{"$f":"E2521&F2521","v":"SAP-8008768-5CloudS4 & Native HANA Solutions"},null,"SAP Colombia","SAP-8008768-5","CloudS4 & Native HANA Solutions",{"$f":"D2521","v":"SAP Colombia"},"USD","N/A","SAP S/4HANA Cloud for treasury and risk management, private edition",111990000,"Serv","Suscripcion","N/A","N/A","N/A","SAP-8008768-5","Forma de pago estandar a 30 dias",18,1,0,"USD"]
[{"$f":"D2522&F2522&E2522","v":"SAP ColombiaCloudS4 & Native HANA SolutionsSAP-8008769-1"},{"$f":"E2522&F2522","v":"SAP-8008769-1CloudS4 & Native HANA Solutions"},null,"SAP Colombia","SAP-8008769-1","CloudS4 & Native HANA Solutions",{"$f":"D2522","v":"SAP Colombia"},"USD","N/A","SAP S/4HANA Cloud for receivables management, private edition",1,"Serv","Suscripcion","N/A","N/A","N/A","SAP-8008769-1","Forma de pago estandar a 30 dias",103,1,0,"USD"]
[{"$f":"D2523&F2523&E2523","v":"SAP ColombiaCloudS4 & Native HANA SolutionsSAP-8008769-2"},{"$f":"E2523&F2523","v":"SAP-8008769-2CloudS4 & Native HANA Solutions"},null,"SAP Colombia","SAP-8008769-2","CloudS4 & Native HANA Solutions",{"$f":"D2523","v":"SAP Colombia"},"USD","N/A","SAP S/4HANA Cloud for receivables management, private edition",1,"Serv","Suscripcion","N/A","N/A","N/A","SAP-8008769-2","Forma de pago estandar a 30 dias",41,1,0,"USD"]
[{"$f":"D2524&F2524&E2524","v":"SAP ColombiaCloudS4 & Native HANA SolutionsSAP-8008769-3"},{"$f":"E2524&F2524","v":"SAP-8008769-3CloudS4 & Native HANA Solutions"},null,"SAP Colombia","SAP-8008769-3","CloudS4 & Native HANA Solutions",{"$f":"D2524","v":"SAP Colombia"},"USD","N/A","SAP S/4HANA Cloud for receivables management, private edition",1,"Serv","Suscripcion","N/A","N/A","N/A","SAP-8008769-3","Forma de pago estandar a 30 dias",24,1,0,"USD"]
[{"$f":"D2525&F2525&E2525","v":"SAP ColombiaCloudS4 & Native HANA SolutionsSAP-8008769-4"},{"$f":"E2525&F2525","v":"SAP-8008769-4CloudS4 & Native HANA Solutions"},null,"SAP Colombia","SAP-8008769-4","CloudS4 & Native HANA Solutions",{"$f":"D2525","v":"SAP Colombia"},"USD","N/A","SAP S/4HANA Cloud for receivables management, private edition",1,"Serv","Suscripcion","N/A","N/A","N/A","SAP-8008769-4","Forma de pago estandar a 30 dias",12,1,0,"USD"]
[{"$f":"D2526&F2526&E2526","v":"SAP ColombiaCloudS4 & Native HANA SolutionsSAP-8008769-5"},{"$f":"E2526&F2526","v":"SAP-8008769-5CloudS4 & Native HANA Solutions"},null,"SAP Colombia","SAP-8008769-5","CloudS4 & Native HANA Solutions",{"$f":"D2526","v":"SAP Colombia"},"USD","N/A","SAP S/4HANA Cloud for receivables management, private edition",1,"Serv","Suscripcion","N/A","N/A","N/A","SAP-8008769-5","Forma de pago estandar a 30 dias",9.6300000000000008,1,0,"USD"]
[{"$f":"D2527&F2527&E2527","v":"SAP ColombiaCloudS4 & Native HANA SolutionsSAP-8008778-1"},{"$f":"E2527&F2527","v":"SAP-8008778-1CloudS4 & Native HANA Solutions"},null,"SAP Colombia","SAP-8008778-1","CloudS4 & Native HANA Solutions",{"$f":"D2527","v":"SAP Colombia"},"USD","N/A","SAP S/4HANA Cloud for Real Estate Management Cloud, residential property mgmt, private edition",1000,"Serv","Suscripcion","N/A","N/A","N/A","SAP-8008778-1","Forma de pago estandar a 30 dias",197,1,0,"USD"]
[{"$f":"D2528&F2528&E2528","v":"SAP ColombiaCloudS4 & Native HANA SolutionsSAP-8008778-2"},{"$f":"E2528&F2528","v":"SAP-8008778-2CloudS4 & Native HANA Solutions"},null,"SAP Colombia","SAP-8008778-2","CloudS4 & Native HANA Solutions",{"$f":"D2528","v":"SAP Colombia"},"USD","N/A","SAP S/4HANA Cloud for Real Estate Management Cloud, residential property mgmt, private edition",1000,"Serv","Suscripcion","N/A","N/A","N/A","SAP-8008778-2","Forma de pago estandar a 30 dias",134,1,0,"USD"]
[{"$f":"D2529&F2529&E2529","v":"SAP ColombiaCloudS4 & Native HANA SolutionsSAP-8008778-3"},{"$f":"E2529&F2529","v":"SAP-8008778-3CloudS4 & Native HANA Solutions"},null,"SAP Colombia","SAP-8008778-3","CloudS4 & Native HANA Solutions",{"$f":"D2529","v":"SAP Colombia"},"USD","N/A","SAP S/4HANA Cloud for Real Estate Management Cloud, residential property mgmt, private edition",1000,"Serv","Suscripcion","N/A","N/A","N/A","SAP-8008778-3","Forma de pago estandar a 30 dias",112,1,0,"USD"]
[{"$f":"D2530&F2530&E2530","v":"SAP ColombiaCloudS4 & Native HANA SolutionsSAP-8008781-1"},{"$f":"E2530&F2530","v":"SAP-8008781-1CloudS4 & Native HANA Solutions"},null,"SAP Colombia","SAP-8008781-1","CloudS4 & Native HANA Solutions",{"$f":"D2530","v":"SAP Colombia"},"USD","N/A","SAP S/4HANA Cloud for billing and revenue innovation management, private edition",55995000,"Serv","Suscripcion","N/A","N/A","N/A","SAP-8008781-1","Forma de pago estandar a 30 dias",20158,1,0,"USD"]
[{"$f":"D2531&F2531&E2531","v":"SAP ColombiaCloudS4 & Native HANA SolutionsSAP-8008781-2"},{"$f":"E2531&F2531","v":"SAP-8008781-2CloudS4 & Native HANA Solutions"},null,"SAP Colombia","SAP-8008781-2","CloudS4 & Native HANA Solutions",{"$f":"D2531","v":"SAP Colombia"},"USD","N/A","SAP S/4HANA Cloud for billing and revenue innovation management, private edition",55995000,"Serv","Suscripcion","N/A","N/A","N/A","SAP-8008781-2","Forma de pago estandar a 30 dias",13551,1,0,"USD"]
[{"$f":"D2532&F2532&E2532","v":"SAP ColombiaCloudS4 & Native HANA SolutionsSAP-8008781-3"},{"$f":"E2532&F2532","v":"SAP-8008781-3CloudS4 & Native HANA Solutions"},null,"SAP Colombia","SAP-8008781-3","CloudS4 & Native HANA Solutions",{"$f":"D2532","v":"SAP Colombia"},"USD","N/A","SAP S/4HANA Cloud for billing and revenue innovation management, private edition",55995000,"Serv","Suscripcion","N/A","N/A","N/A","SAP-8008781-3","Forma de pago estandar a 30 dias",6719,1,0,"USD"]
[{"$f":"D2533&F2533&E2533","v":"SAP ColombiaCloudS4 & Native HANA SolutionsSAP-8008781-4"},{"$f":"E2533&F2533","v":"SAP-8008781-4CloudS4 & Native HANA Solutions"},null,"SAP Colombia","SAP-8008781-4","CloudS4 & Native HANA Solutions",{"$f":"D2533","v":"SAP Colombia"},"USD","N/A","SAP S/4HANA Cloud for billing and revenue innovation management, private edition",55995000,"Serv","Suscripcion","N/A","N/A","N/A","SAP-8008781-4","Forma de pago estandar a 30 dias",3416,1,0,"USD"]
[{"$f":"D2534&F2534&E2534","v":"SAP ColombiaCloudS4 & Native HANA SolutionsSAP-8008781-5"},{"$f":"E2534&F2534","v":"SAP-8008781-5CloudS4 & Native HANA Solutions"},null,"SAP Colombia","SAP-8008781-5","CloudS4 & Native HANA Solutions",{"$f":"D2534","v":"SAP Colombia"},"USD","N/A","SAP S/4HANA Cloud for billing and revenue innovation management, private edition",55995000,"Serv","Suscripcion","N/A","N/A","N/A","SAP-8008781-5","Forma de pago estandar a 30 dias",3080,1,0,"USD"]
[{"$f":"D2535&F2535&E2535","v":"SAP ColombiaCloudS4 & Native HANA SolutionsSAP-8008797-1"},{"$f":"E2535&F2535","v":"SAP-8008797-1CloudS4 & Native HANA Solutions"},null,"SAP Colombia","SAP-8008797-1","CloudS4 & Native HANA Solutions",{"$f":"D2535","v":"SAP Colombia"},"USD","N/A","SAP Cash Application, add-on for contract accounting",10000,"Serv","Suscripcion","N/A","N/A","N/A","SAP-8008797-1","Forma de pago estandar a 30 dias",467,1,0,"USD"]
[{"$f":"D2536&F2536&E2536","v":"SAP ColombiaCloudS4 & Native HANA SolutionsSAP-8008797-2"},{"$f":"E2536&F2536","v":"SAP-8008797-2CloudS4 & Native HANA Solutions"},null,"SAP Colombia","SAP-8008797-2","CloudS4 & Native HANA Solutions",{"$f":"D2536","v":"SAP Colombia"},"USD","N/A","SAP Cash Application, add-on for contract accounting",10000,"Serv","Suscripcion","N/A","N/A","N/A","SAP-8008797-2","Forma de pago estandar a 30 dias",420,1,0,"USD"]
[{"$f":"D2537&F2537&E2537","v":"SAP ColombiaCloudS4 & Native HANA SolutionsSAP-8008797-3"},{"$f":"E2537&F2537","v":"SAP-8008797-3CloudS4 & Native HANA Solutions"},null,"SAP Colombia","SAP-8008797-3","CloudS4 & Native HANA Solutions",{"$f":"D2537","v":"SAP Colombia"},"USD","N/A","SAP Cash Application, add-on for contract accounting",10000,"Serv","Suscripcion","N/A","N/A","N/A","SAP-8008797-3","Forma de pago estandar a 30 dias",401,1,0,"USD"]
[{"$f":"D2538&F2538&E2538","v":"SAP ColombiaCloudS4 & Native HANA SolutionsSAP-8008797-4"},{"$f":"E2538&F2538","v":"SAP-8008797-4CloudS4 & Native HANA Solutions"},null,"SAP Colombia","SAP-8008797-4","CloudS4 & Native HANA Solutions",{"$f":"D2538","v":"SAP Colombia"},"USD","N/A","SAP Cash Application, add-on for contract accounting",10000,"Serv","Suscripcion","N/A","N/A","N/A","SAP-8008797-4","Forma de pago estandar a 30 dias",373,1,0,"USD"]
[{"$f":"D2539&F2539&E2539","v":"SAP ColombiaCloudS4 & Native HANA SolutionsSAP-8008797-5"},{"$f":"E2539&F2539","v":"SAP-8008797-5CloudS4 & Native HANA Solutions"},null,"SAP Colombia","SAP-8008797-5","CloudS4 & Native HANA Solutions",{"$f":"D2539","v":"SAP Colombia"},"USD","N/A","SAP Cash Application, add-on for contract accounting",10000,"Serv","Suscripcion","N/A","N/A","N/A","SAP-8008797-5","Forma de pago estandar a 30 dias",355,1,0,"USD"]
[{"$f":"D2540&F2540&E2540","v":"SAP ColombiaCloudS4 & Native HANA SolutionsSAP-8008909-1"},{"$f":"E2540&F2540","v":"SAP-8008909-1CloudS4 & Native HANA Solutions"},null,"SAP Colombia","SAP-8008909-1","CloudS4 & Native HANA Solutions",{"$f":"D2540","v":"SAP Colombia"},"USD","N/A","SAP S/4HANA Cloud for Treasury and Risk Management Cloud, impairment accounting extension for expected losses, private edition",1119900000,"Serv","Suscripcion","N/A","N/A","N/A","SAP-8008909-1","Forma de pago estandar a 30 dias",504,1,0,"USD"]
[{"$f":"D2541&F2541&E2541","v":"SAP ColombiaCloudS4 & Native HANA SolutionsSAP-8008909-2"},{"$f":"E2541&F2541","v":"SAP-8008909-2CloudS4 & Native HANA Solutions"},null,"SAP Colombia","SAP-8008909-2","CloudS4 & Native HANA Solutions",{"$f":"D2541","v":"SAP Colombia"},"USD","N/A","SAP S/4HANA Cloud for Treasury and Risk Management Cloud, impairment accounting extension for expected losses, private edition",1119900000,"Serv","Suscripcion","N/A","N/A","N/A","SAP-8008909-2","Forma de pago estandar a 30 dias",420,1,0,"USD"]
[{"$f":"D2542&F2542&E2542","v":"SAP ColombiaCloudS4 & Native HANA SolutionsSAP-8008909-3"},{"$f":"E2542&F2542","v":"SAP-8008909-3CloudS4 & Native HANA Solutions"},null,"SAP Colombia","SAP-8008909-3","CloudS4 & Native HANA Solutions",{"$f":"D2542","v":"SAP Colombia"},"USD","N/A","SAP S/4HANA Cloud for Treasury and Risk Management Cloud, impairment accounting extension for expected losses, private edition",1119900000,"Serv","Suscripcion","N/A","N/A","N/A","SAP-8008909-3","Forma de pago estandar a 30 dias",336,1,0,"USD"]
[{"$f":"D2543&F2543&E2543","v":"SAP ColombiaCloudS4 & Native HANA SolutionsSAP-8008909-4"},{"$f":"E2543&F2543","v":"SAP-8008909-4CloudS4 & Native HANA Solutions"},null,"SAP Colombia","SAP-8008909-4","CloudS4 & Native HANA Solutions",{"$f":"D2543","v":"SAP Colombia"},"USD","N/A","SAP S/4HANA Cloud for Treasury and Risk Management Cloud, impairment accounting extension for expected losses, private edition",1119900000,"Serv","Suscripcion","N/A","N/A","N/A","SAP-8008909-4","Forma de pago estandar a 30 dias",280,1,0,"USD"]
[{"$f":"D2544&F2544&E2544","v":"SAP ColombiaCloudS4 & Native HANA SolutionsSAP-8008909-5"},{"$f":"E2544&F2544","v":"SAP-8008909-5CloudS4 & Native HANA Solutions"},null,"SAP Colombia","SAP-8008909-5","CloudS4 & Native HANA Solutions",{"$f":"D2544","v":"SAP Colombia"},"USD","N/A","SAP S/4HANA Cloud for Treasury and Risk Management Cloud, impairment accounting extension for expected losses, private edition",1119900000,"Serv","Suscripcion","N/A","N/A","N/A","SAP-8008909-5","Forma de pago estandar a 30 dias",224,1,0,"USD"]
[{"$f":"D2545&F2545&E2545","v":"SAP ColombiaCloudS4 & Native HANA SolutionsSAP-8008909-6"},{"$f":"E2545&F2545","v":"SAP-8008909-6CloudS4 & Native HANA Solutions"},null,"SAP Colombia","SAP-8008909-6","CloudS4 & Native HANA Solutions",{"$f":"D2545","v":"SAP Colombia"},"USD","N/A","SAP S/4HANA Cloud for Treasury and Risk Management Cloud, impairment accounting extension for expected losses, private edition",1119900000,"Serv","Suscripcion","N/A","N/A","N/A","SAP-8008909-6","Forma de pago estandar a 30 dias",146,1,0,"USD"]
[{"$f":"D2546&F2546&E2546","v":"SAP ColombiaCloudS4 & Native HANA SolutionsSAP-8008936"},{"$f":"E2546&F2546","v":"SAP-8008936CloudS4 & Native HANA Solutions"},null,"SAP Colombia","SAP-8008936","CloudS4 & Native HANA Solutions",{"$f":"D2546","v":"SAP Colombia"},"USD","N/A","SAP S/4HANA Cloud for financial closing cockpit, private edition",500,"Serv","Suscripcion","N/A","N/A","N/A","SAP-8008936","Forma de pago estandar a 30 dias",421,1,0,"USD"]
[{"$f":"D2547&F2547&E2547","v":"SAP ColombiaCloudS4 & Native HANA SolutionsSAP-8009242-1"},{"$f":"E2547&F2547","v":"SAP-8009242-1CloudS4 & Native HANA Solutions"},null,"SAP Colombia","SAP-8009242-1","CloudS4 & Native HANA Solutions",{"$f":"D2547","v":"SAP Colombia"},"USD","N/A","SAP S/4HANA Cloud for UI data protection logging, private edition",100,"Serv","Suscripcion","N/A","N/A","N/A","SAP-8009242-1","Forma de pago estandar a 30 dias",262,1,0,"USD"]
[{"$f":"D2548&F2548&E2548","v":"SAP ColombiaCloudS4 & Native HANA SolutionsSAP-8009242-2"},{"$f":"E2548&F2548","v":"SAP-8009242-2CloudS4 & Native HANA Solutions"},null,"SAP Colombia","SAP-8009242-2","CloudS4 & Native HANA Solutions",{"$f":"D2548","v":"SAP Colombia"},"USD","N/A","SAP S/4HANA Cloud for UI data protection logging, private edition",100,"Serv","Suscripcion","N/A","N/A","N/A","SAP-8009242-2","Forma de pago estandar a 30 dias",232,1,0,"USD"]
[{"$f":"D2549&F2549&E2549","v":"SAP ColombiaCloudS4 & Native HANA SolutionsSAP-8009242-3"},{"$f":"E2549&F2549","v":"SAP-8009242-3CloudS4 & Native HANA Solutions"},null,"SAP Colombia","SAP-8009242-3","CloudS4 & Native HANA Solutions",{"$f":"D2549","v":"SAP Colombia"},"USD","N/A","SAP S/4HANA Cloud for UI data protection logging, private edition",100,"Serv","Suscripcion","N/A","N/A","N/A","SAP-8009242-3","Forma de pago estandar a 30 dias",160,1,0,"USD"]
[{"$f":"D2550&F2550&E2550","v":"SAP ColombiaCloudS4 & Native HANA SolutionsSAP-8009243-1"},{"$f":"E2550&F2550","v":"SAP-8009243-1CloudS4 & Native HANA Solutions"},null,"SAP Colombia","SAP-8009243-1","CloudS4 & Native HANA Solutions",{"$f":"D2550","v":"SAP Colombia"},"USD","N/A","SAP S/4HANA Cloud for UI data protection masking, private edition",100,"Serv","Suscripcion","N/A","N/A","N/A","SAP-8009243-1","Forma de pago estandar a 30 dias",268,1,0,"USD"]
[{"$f":"D2551&F2551&E2551","v":"SAP ColombiaCloudS4 & Native HANA SolutionsSAP-8009243-2"},{"$f":"E2551&F2551","v":"SAP-8009243-2CloudS4 & Native HANA Solutions"},null,"SAP Colombia","SAP-8009243-2","CloudS4 & Native HANA Solutions",{"$f":"D2551","v":"SAP Colombia"},"USD","N/A","SAP S/4HANA Cloud for UI data protection masking, private edition",100,"Serv","Suscripcion","N/A","N/A","N/A","SAP-8009243-2","Forma de pago estandar a 30 dias",237,1,0,"USD"]
[{"$f":"D2552&F2552&E2552","v":"SAP ColombiaCloudS4 & Native HANA SolutionsSAP-8009243-3"},{"$f":"E2552&F2552","v":"SAP-8009243-3CloudS4 & Native HANA Solutions"},null,"SAP Colombia","SAP-8009243-3","CloudS4 & Native HANA Solutions",{"$f":"D2552","v":"SAP Colombia"},"USD","N/A","SAP S/4HANA Cloud for UI data protection masking, private edition",100,"Serv","Suscripcion","N/A","N/A","N/A","SAP-8009243-3","Forma de pago estandar a 30 dias",164,1,0,"USD"]
[{"$f":"D2553&F2553&E2553","v":"SAP ColombiaCloudS4 & Native HANA SolutionsSAP-8010753-1"},{"$f":"E2553&F2553","v":"SAP-8010753-1CloudS4 & Native HANA Solutions"},null,"SAP Colombia","SAP-8010753-1","CloudS4 & Native HANA Solutions",{"$f":"D2553","v":"SAP Colombia"},"USD","N/A","SAP S/4HANA Cloud for contract and lease management",100,"Serv","Suscripcion","N/A","N/A","N/A","SAP-8010753-1","Forma de pago estandar a 30 dias",373,1,0,"USD"]
[{"$f":"D2554&F2554&E2554","v":"SAP ColombiaCloudS4 & Native HANA SolutionsSAP-8010753-2"},{"$f":"E2554&F2554","v":"SAP-8010753-2CloudS4 & Native HANA Solutions"},null,"SAP Colombia","SAP-8010753-2","CloudS4 & Native HANA Solutions",{"$f":"D2554","v":"SAP Colombia"},"USD","N/A","SAP S/4HANA Cloud for contract and lease management",100,"Serv","Suscripcion","N/A","N/A","N/A","SAP-8010753-2","Forma de pago estandar a 30 dias",215,1,0,"USD"]
[{"$f":"D2555&F2555&E2555","v":"SAP ColombiaCloudS4 & Native HANA SolutionsSAP-8010753-3"},{"$f":"E2555&F2555","v":"SAP-8010753-3CloudS4 & Native HANA Solutions"},null,"SAP Colombia","SAP-8010753-3","CloudS4 & Native HANA Solutions",{"$f":"D2555","v":"SAP Colombia"},"USD","N/A","SAP S/4HANA Cloud for contract and lease management",100,"Serv","Suscripcion","N/A","N/A","N/A","SAP-8010753-3","Forma de pago estandar a 30 dias",94,1,0,"USD"]
[{"$f":"D2556&F2556&E2556","v":"SAP ColombiaCloudS4 & Native HANA SolutionsSAP-8010753-4"},{"$f":"E2556&F2556","v":"SAP-8010753-4CloudS4 & Native HANA Solutions"},null,"SAP Colombia","SAP-8010753-4","CloudS4 & Native HANA Solutions",{"$f":"D2556","v":"SAP Colombia"},"USD","N/A","SAP S/4HANA Cloud for contract and lease management",100,"Serv","Suscripcion","N/A","N/A","N/A","SAP-8010753-4","Forma de pago estandar a 30 dias",31,1,0,"USD"]
[{"$f":"D2557&F2557&E2557","v":"SAP ColombiaCloudS4 & Native HANA SolutionsSAP-8010753-5"},{"$f":"E2557&F2557","v":"SAP-8010753-5CloudS4 & Native HANA Solutions"},null,"SAP Colombia","SAP-8010753-5","CloudS4 & Native HANA Solutions",{"$f":"D2557","v":"SAP Colombia"},"USD","N/A","SAP S/4HANA Cloud for contract and lease management",100,"Serv","Suscripcion","N/A","N/A","N/A","SAP-8010753-5","Forma de pago estandar a 30 dias",16,1,0,"USD"]
[{"$f":"D2558&F2558&E2558","v":"SAP ColombiaCloudS4 & Native HANA SolutionsSAP-8010955-1"},{"$f":"E2558&F2558","v":"SAP-8010955-1CloudS4 & Native HANA Solutions"},null,"SAP Colombia","SAP-8010955-1","CloudS4 & Native HANA Solutions",{"$f":"D2558","v":"SAP Colombia"},"USD","N/A","SAP S/4HANA Cloud for contract, lease and real estate management, private edition",100,"Serv","Suscripcion","N/A","N/A","N/A","SAP-8010955-1","Forma de pago estandar a 30 dias",932,1,0,"USD"]
[{"$f":"D2559&F2559&E2559","v":"SAP ColombiaCloudS4 & Native HANA SolutionsSAP-8010955-2"},{"$f":"E2559&F2559","v":"SAP-8010955-2CloudS4 & Native HANA Solutions"},null,"SAP Colombia","SAP-8010955-2","CloudS4 & Native HANA Solutions",{"$f":"D2559","v":"SAP Colombia"},"USD","N/A","SAP S/4HANA Cloud for contract, lease and real estate management, private edition",100,"Serv","Suscripcion","N/A","N/A","N/A","SAP-8010955-2","Forma de pago estandar a 30 dias",555,1,0,"USD"]
[{"$f":"D2560&F2560&E2560","v":"SAP ColombiaCloudS4 & Native HANA SolutionsSAP-8010955-3"},{"$f":"E2560&F2560","v":"SAP-8010955-3CloudS4 & Native HANA Solutions"},null,"SAP Colombia","SAP-8010955-3","CloudS4 & Native HANA Solutions",{"$f":"D2560","v":"SAP Colombia"},"USD","N/A","SAP S/4HANA Cloud for contract, lease and real estate management, private edition",100,"Serv","Suscripcion","N/A","N/A","N/A","SAP-8010955-3","Forma de pago estandar a 30 dias",376,1,0,"USD"]
[{"$f":"D2561&F2561&E2561","v":"SAP ColombiaCloudS4 & Native HANA SolutionsSAP-8010955-4"},{"$f":"E2561&F2561","v":"SAP-8010955-4CloudS4 & Native HANA Solutions"},null,"SAP Colombia","SAP-8010955-4","CloudS4 & Native HANA Solutions",{"$f":"D2561","v":"SAP Colombia"},"USD","N/A","SAP S/4HANA Cloud for contract, lease and real estate management, private edition",100,"Serv","Suscripcion","N/A","N/A","N/A","SAP-8010955-4","Forma de pago estandar a 30 dias",147,1,0,"USD"]
[{"$f":"D2562&F2562&E2562","v":"SAP ColombiaCloudS4 & Native HANA SolutionsSAP-8010955-5"},{"$f":"E2562&F2562","v":"SAP-8010955-5CloudS4 & Native HANA Solutions"},null,"SAP Colombia","SAP-8010955-5","CloudS4 & Native HANA Solutions",{"$f":"D2562","v":"SAP Colombia"},"USD","N/A","SAP S/4HANA Cloud for contract, lease and real estate management, private edition",100,"Serv","Suscripcion","N/A","N/A","N/A","SAP-8010955-5","Forma de pago estandar a 30 dias",59,1,0,"USD"]
[{"$f":"D2563&F2563&E2563","v":"SAP ColombiaCloudS4 & Native HANA SolutionsSAP-8011042-1"},{"$f":"E2563&F2563","v":"SAP-8011042-1CloudS4 & Native HANA Solutions"},null,"SAP Colombia","SAP-8011042-1","CloudS4 & Native HANA Solutions",{"$f":"D2563","v":"SAP Colombia"},"USD","N/A","SAP S/4HANA Cloud for cash management",1,"Serv","Suscripcion","N/A","N/A","N/A","SAP-8011042-1","Forma de pago estandar a 30 dias",664,1,0,"USD"]
[{"$f":"D2564&F2564&E2564","v":"SAP ColombiaCloudS4 & Native HANA SolutionsSAP-8011042-2"},{"$f":"E2564&F2564","v":"SAP-8011042-2CloudS4 & Native HANA Solutions"},null,"SAP Colombia","SAP-8011042-2","CloudS4 & Native HANA Solutions",{"$f":"D2564","v":"SAP Colombia"},"USD","N/A","SAP S/4HANA Cloud for cash management",1,"Serv","Suscripcion","N/A","N/A","N/A","SAP-8011042-2","Forma de pago estandar a 30 dias",545,1,0,"USD"]
[{"$f":"D2565&F2565&E2565","v":"SAP ColombiaCloudS4 & Native HANA SolutionsSAP-8011042-3"},{"$f":"E2565&F2565","v":"SAP-8011042-3CloudS4 & Native HANA Solutions"},null,"SAP Colombia","SAP-8011042-3","CloudS4 & Native HANA Solutions",{"$f":"D2565","v":"SAP Colombia"},"USD","N/A","SAP S/4HANA Cloud for cash management",1,"Serv","Suscripcion","N/A","N/A","N/A","SAP-8011042-3","Forma de pago estandar a 30 dias",413,1,0,"USD"]
[{"$f":"D2566&F2566&E2566","v":"SAP ColombiaCloudS4 & Native HANA SolutionsSAP-8011043-1"},{"$f":"E2566&F2566","v":"SAP-8011043-1CloudS4 & Native HANA Solutions"},null,"SAP Colombia","SAP-8011043-1","CloudS4 & Native HANA Solutions",{"$f":"D2566","v":"SAP Colombia"},"USD","N/A","SAP S/4HANA Cloud for treasury and risk management",1,"Serv","Suscripcion","N/A","N/A","N/A","SAP-8011043-1","Forma de pago estandar a 30 dias",1091,1,0,"USD"]
[{"$f":"D2567&F2567&E2567","v":"SAP ColombiaCloudS4 & Native HANA SolutionsSAP-8011043-2"},{"$f":"E2567&F2567","v":"SAP-8011043-2CloudS4 & Native HANA Solutions"},null,"SAP Colombia","SAP-8011043-2","CloudS4 & Native HANA Solutions",{"$f":"D2567","v":"SAP Colombia"},"USD","N/A","SAP S/4HANA Cloud for treasury and risk management",1,"Serv","Suscripcion","N/A","N/A","N/A","SAP-8011043-2","Forma de pago estandar a 30 dias",825,1,0,"USD"]
[{"$f":"D2568&F2568&E2568","v":"SAP ColombiaCloudS4 & Native HANA SolutionsSAP-8011043-3"},{"$f":"E2568&F2568","v":"SAP-8011043-3CloudS4 & Native HANA Solutions"},null,"SAP Colombia","SAP-8011043-3","CloudS4 & Native HANA Solutions",{"$f":"D2568","v":"SAP Colombia"},"USD","N/A","SAP S/4HANA Cloud for treasury and risk management",1,"Serv","Suscripcion","N/A","N/A","N/A","SAP-8011043-3","Forma de pago estandar a 30 dias",708,1,0,"USD"]
[{"$f":"D2569&F2569&E2569","v":"SAP ColombiaCloudS4 & Native HANA SolutionsSAP-8011097"},{"$f":"E2569&F2569","v":"SAP-8011097CloudS4 & Native HANA Solutions"},null,"SAP Colombia","SAP-8011097","CloudS4 & Native HANA Solutions",{"$f":"D2569","v":"SAP Colombia"},"USD","N/A","SAP Extended Single Sign-on, private cloud edition",1,"Serv","Suscripcion","N/A","N/A","N/A","SAP-8011097","Forma de pago estandar a 30 dias",17918,1,0,"USD"]
[{"$f":"D2570&F2570&E2570","v":"SAP ColombiaCloudS4 & Native HANA SolutionsSAP-8011454-1"},{"$f":"E2570&F2570","v":"SAP-8011454-1CloudS4 & Native HANA Solutions"},null,"SAP Colombia","SAP-8011454-1","CloudS4 & Native HANA Solutions",{"$f":"D2570","v":"SAP Colombia"},"USD","N/A","SAP S/4HANA Cloud for cash management, version for China, private edition",111990000,"Serv","Suscripcion","N/A","N/A","N/A","SAP-8011454-1","Forma de pago estandar a 30 dias",252,1,0,"USD"]
[{"$f":"D2571&F2571&E2571","v":"SAP ColombiaCloudS4 & Native HANA SolutionsSAP-8011454-2"},{"$f":"E2571&F2571","v":"SAP-8011454-2CloudS4 & Native HANA Solutions"},null,"SAP Colombia","SAP-8011454-2","CloudS4 & Native HANA Solutions",{"$f":"D2571","v":"SAP Colombia"},"USD","N/A","SAP S/4HANA Cloud for cash management, version for China, private edition",111990000,"Serv","Suscripcion","N/A","N/A","N/A","SAP-8011454-2","Forma de pago estandar a 30 dias",109,1,0,"USD"]
[{"$f":"D2572&F2572&E2572","v":"SAP ColombiaCloudS4 & Native HANA SolutionsSAP-8011454-3"},{"$f":"E2572&F2572","v":"SAP-8011454-3CloudS4 & Native HANA Solutions"},null,"SAP Colombia","SAP-8011454-3","CloudS4 & Native HANA Solutions",{"$f":"D2572","v":"SAP Colombia"},"USD","N/A","SAP S/4HANA Cloud for cash management, version for China, private edition",111990000,"Serv","Suscripcion","N/A","N/A","N/A","SAP-8011454-3","Forma de pago estandar a 30 dias",62,1,0,"USD"]
[{"$f":"D2573&F2573&E2573","v":"SAP ColombiaCloudS4 & Native HANA SolutionsSAP-8011454-4"},{"$f":"E2573&F2573","v":"SAP-8011454-4CloudS4 & Native HANA Solutions"},null,"SAP Colombia","SAP-8011454-4","CloudS4 & Native HANA Solutions",{"$f":"D2573","v":"SAP Colombia"},"USD","N/A","SAP S/4HANA Cloud for cash management, version for China, private edition",111990000,"Serv","Suscripcion","N/A","N/A","N/A","SAP-8011454-4","Forma de pago estandar a 30 dias",37,1,0,"USD"]
[{"$f":"D2574&F2574&E2574","v":"SAP ColombiaCloudS4 & Native HANA SolutionsSAP-8011454-5"},{"$f":"E2574&F2574","v":"SAP-8011454-5CloudS4 & Native HANA Solutions"},null,"SAP Colombia","SAP-8011454-5","CloudS4 & Native HANA Solutions",{"$f":"D2574","v":"SAP Colombia"},"USD","N/A","SAP S/4HANA Cloud for cash management, version for China, private edition",111990000,"Serv","Suscripcion","N/A","N/A","N/A","SAP-8011454-5","Forma de pago estandar a 30 dias",28,1,0,"USD"]
[{"$f":"D2575&F2575&E2575","v":"SAP ColombiaCloudS4 & Native HANA SolutionsSAP-8011480-1"},{"$f":"E2575&F2575","v":"SAP-8011480-1CloudS4 & Native HANA Solutions"},null,"SAP Colombia","SAP-8011480-1","CloudS4 & Native HANA Solutions",{"$f":"D2575","v":"SAP Colombia"},"USD","N/A","SAP Document and Reporting Compliance for S/4HANA Cloud",1,"Serv","Suscripcion","N/A","N/A","N/A","SAP-8011480-1","Forma de pago estandar a 30 dias",750,1,0,"USD"]
[{"$f":"D2576&F2576&E2576","v":"SAP ColombiaCloudS4 & Native HANA SolutionsSAP-8011480-2"},{"$f":"E2576&F2576","v":"SAP-8011480-2CloudS4 & Native HANA Solutions"},null,"SAP Colombia","SAP-8011480-2","CloudS4 & Native HANA Solutions",{"$f":"D2576","v":"SAP Colombia"},"USD","N/A","SAP Document and Reporting Compliance for S/4HANA Cloud",1,"Serv","Suscripcion","N/A","N/A","N/A","SAP-8011480-2","Forma de pago estandar a 30 dias",361,1,0,"USD"]
[{"$f":"D2577&F2577&E2577","v":"SAP ColombiaCloudS4 & Native HANA SolutionsSAP-8011480-3"},{"$f":"E2577&F2577","v":"SAP-8011480-3CloudS4 & Native HANA Solutions"},null,"SAP Colombia","SAP-8011480-3","CloudS4 & Native HANA Solutions",{"$f":"D2577","v":"SAP Colombia"},"USD","N/A","SAP Document and Reporting Compliance for S/4HANA Cloud",1,"Serv","Suscripcion","N/A","N/A","N/A","SAP-8011480-3","Forma de pago estandar a 30 dias",218,1,0,"USD"]
[{"$f":"D2578&F2578&E2578","v":"SAP ColombiaCloudS4 & Native HANA SolutionsSAP-8011480-4"},{"$f":"E2578&F2578","v":"SAP-8011480-4CloudS4 & Native HANA Solutions"},null,"SAP Colombia","SAP-8011480-4","CloudS4 & Native HANA Solutions",{"$f":"D2578","v":"SAP Colombia"},"USD","N/A","SAP Document and Reporting Compliance for S/4HANA Cloud",1,"Serv","Suscripcion","N/A","N/A","N/A","SAP-8011480-4","Forma de pago estandar a 30 dias",128,1,0,"USD"]
[{"$f":"D2579&F2579&E2579","v":"SAP ColombiaCloudS4 & Native HANA SolutionsSAP-8011480-5"},{"$f":"E2579&F2579","v":"SAP-8011480-5CloudS4 & Native HANA Solutions"},null,"SAP Colombia","SAP-8011480-5","CloudS4 & Native HANA Solutions",{"$f":"D2579","v":"SAP Colombia"},"USD","N/A","SAP Document and Reporting Compliance for S/4HANA Cloud",1,"Serv","Suscripcion","N/A","N/A","N/A","SAP-8011480-5","Forma de pago estandar a 30 dias",56,1,0,"USD"]
[{"$f":"D2580&F2580&E2580","v":"SAP ColombiaCloudS4 & Native HANA SolutionsSAP-8011481-1"},{"$f":"E2580&F2580","v":"SAP-8011481-1CloudS4 & Native HANA Solutions"},null,"SAP Colombia","SAP-8011481-1","CloudS4 & Native HANA Solutions",{"$f":"D2580","v":"SAP Colombia"},"USD","N/A","SAP Document and Reporting Compliance for S/4HANA Cloud, private edition",1,"Serv","Suscripcion","N/A","N/A","N/A","SAP-8011481-1","Forma de pago estandar a 30 dias",828,1,0,"USD"]
[{"$f":"D2581&F2581&E2581","v":"SAP ColombiaCloudS4 & Native HANA SolutionsSAP-8011481-2"},{"$f":"E2581&F2581","v":"SAP-8011481-2CloudS4 & Native HANA Solutions"},null,"SAP Colombia","SAP-8011481-2","CloudS4 & Native HANA Solutions",{"$f":"D2581","v":"SAP Colombia"},"USD","N/A","SAP Document and Reporting Compliance for S/4HANA Cloud, private edition",1,"Serv","Suscripcion","N/A","N/A","N/A","SAP-8011481-2","Forma de pago estandar a 30 dias",463,1,0,"USD"]
[{"$f":"D2582&F2582&E2582","v":"SAP ColombiaCloudS4 & Native HANA SolutionsSAP-8011481-3"},{"$f":"E2582&F2582","v":"SAP-8011481-3CloudS4 & Native HANA Solutions"},null,"SAP Colombia","SAP-8011481-3","CloudS4 & Native HANA Solutions",{"$f":"D2582","v":"SAP Colombia"},"USD","N/A","SAP Document and Reporting Compliance for S/4HANA Cloud, private edition",1,"Serv","Suscripcion","N/A","N/A","N/A","SAP-8011481-3","Forma de pago estandar a 30 dias",290,1,0,"USD"]
[{"$f":"D2583&F2583&E2583","v":"SAP ColombiaCloudS4 & Native HANA SolutionsSAP-8011481-4"},{"$f":"E2583&F2583","v":"SAP-8011481-4CloudS4 & Native HANA Solutions"},null,"SAP Colombia","SAP-8011481-4","CloudS4 & Native HANA Solutions",{"$f":"D2583","v":"SAP Colombia"},"USD","N/A","SAP Document and Reporting Compliance for S/4HANA Cloud, private edition",1,"Serv","Suscripcion","N/A","N/A","N/A","SAP-8011481-4","Forma de pago estandar a 30 dias",155,1,0,"USD"]
[{"$f":"D2584&F2584&E2584","v":"SAP ColombiaCloudS4 & Native HANA SolutionsSAP-8011481-5"},{"$f":"E2584&F2584","v":"SAP-8011481-5CloudS4 & Native HANA Solutions"},null,"SAP Colombia","SAP-8011481-5","CloudS4 & Native HANA Solutions",{"$f":"D2584","v":"SAP Colombia"},"USD","N/A","SAP Document and Reporting Compliance for S/4HANA Cloud, private edition",1,"Serv","Suscripcion","N/A","N/A","N/A","SAP-8011481-5","Forma de pago estandar a 30 dias",58,1,0,"USD"]
[{"$f":"D2585&F2585&E2585","v":"SAP ColombiaCloudS4 & Native HANA SolutionsSAP-8011552-1"},{"$f":"E2585&F2585","v":"SAP-8011552-1CloudS4 & Native HANA Solutions"},null,"SAP Colombia","SAP-8011552-1","CloudS4 & Native HANA Solutions",{"$f":"D2585","v":"SAP Colombia"},"USD","N/A","SAP S/4HANA for asset retirement obligation, private edition",111990000,"Serv","Suscripcion","N/A","N/A","N/A","SAP-8011552-1","Forma de pago estandar a 30 dias",3408,1,0,"USD"]
[{"$f":"D2586&F2586&E2586","v":"SAP ColombiaCloudS4 & Native HANA SolutionsSAP-8011552-2"},{"$f":"E2586&F2586","v":"SAP-8011552-2CloudS4 & Native HANA Solutions"},null,"SAP Colombia","SAP-8011552-2","CloudS4 & Native HANA Solutions",{"$f":"D2586","v":"SAP Colombia"},"USD","N/A","SAP S/4HANA for asset retirement obligation, private edition",111990000,"Serv","Suscripcion","N/A","N/A","N/A","SAP-8011552-2","Forma de pago estandar a 30 dias",2310,1,0,"USD"]
[{"$f":"D2587&F2587&E2587","v":"SAP ColombiaCloudS4 & Native HANA SolutionsSAP-8011552-3"},{"$f":"E2587&F2587","v":"SAP-8011552-3CloudS4 & Native HANA Solutions"},null,"SAP Colombia","SAP-8011552-3","CloudS4 & Native HANA Solutions",{"$f":"D2587","v":"SAP Colombia"},"USD","N/A","SAP S/4HANA for asset retirement obligation, private edition",111990000,"Serv","Suscripcion","N/A","N/A","N/A","SAP-8011552-3","Forma de pago estandar a 30 dias",1412,1,0,"USD"]
[{"$f":"D2588&F2588&E2588","v":"SAP ColombiaCloudS4 & Native HANA SolutionsSAP-8012123-1"},{"$f":"E2588&F2588","v":"SAP-8012123-1CloudS4 & Native HANA Solutions"},null,"SAP Colombia","SAP-8012123-1","CloudS4 & Native HANA Solutions",{"$f":"D2588","v":"SAP Colombia"},"USD","N/A","SAP Global Trade Services, edition for HANA, private cloud edition",1,"Serv","Suscripcion","N/A","N/A","N/A","SAP-8012123-1","Forma de pago estandar a 30 dias",12147,1,0,"USD"]
[{"$f":"D2589&F2589&E2589","v":"SAP ColombiaCloudS4 & Native HANA SolutionsSAP-8012123-2"},{"$f":"E2589&F2589","v":"SAP-8012123-2CloudS4 & Native HANA Solutions"},null,"SAP Colombia","SAP-8012123-2","CloudS4 & Native HANA Solutions",{"$f":"D2589","v":"SAP Colombia"},"USD","N/A","SAP Global Trade Services, edition for HANA, private cloud edition",1,"Serv","Suscripcion","N/A","N/A","N/A","SAP-8012123-2","Forma de pago estandar a 30 dias",5206,1,0,"USD"]
[{"$f":"D2590&F2590&E2590","v":"SAP ColombiaCloudS4 & Native HANA SolutionsSAP-8012123-3"},{"$f":"E2590&F2590","v":"SAP-8012123-3CloudS4 & Native HANA Solutions"},null,"SAP Colombia","SAP-8012123-3","CloudS4 & Native HANA Solutions",{"$f":"D2590","v":"SAP Colombia"},"USD","N/A","SAP Global Trade Services, edition for HANA, private cloud edition",1,"Serv","Suscripcion","N/A","N/A","N/A","SAP-8012123-3","Forma de pago estandar a 30 dias",3584,1,0,"USD"]
[{"$f":"D2591&F2591&E2591","v":"SAP ColombiaCloudS4 & Native HANA SolutionsSAP-8012123-4"},{"$f":"E2591&F2591","v":"SAP-8012123-4CloudS4 & Native HANA Solutions"},null,"SAP Colombia","SAP-8012123-4","CloudS4 & Native HANA Solutions",{"$f":"D2591","v":"SAP Colombia"},"USD","N/A","SAP Global Trade Services, edition for HANA, private cloud edition",1,"Serv","Suscripcion","N/A","N/A","N/A","SAP-8012123-4","Forma de pago estandar a 30 dias",2464,1,0,"USD"]
[{"$f":"D2592&F2592&E2592","v":"SAP ColombiaCloudS4 & Native HANA SolutionsSAP-8012123-5"},{"$f":"E2592&F2592","v":"SAP-8012123-5CloudS4 & Native HANA Solutions"},null,"SAP Colombia","SAP-8012123-5","CloudS4 & Native HANA Solutions",{"$f":"D2592","v":"SAP Colombia"},"USD","N/A","SAP Global Trade Services, edition for HANA, private cloud edition",1,"Serv","Suscripcion","N/A","N/A","N/A","SAP-8012123-5","Forma de pago estandar a 30 dias",1848,1,0,"USD"]
[{"$f":"D2593&F2593&E2593","v":"SAP ColombiaCloudS4 & Native HANA SolutionsSAP-8012125-1"},{"$f":"E2593&F2593","v":"SAP-8012125-1CloudS4 & Native HANA Solutions"},null,"SAP Colombia","SAP-8012125-1","CloudS4 & Native HANA Solutions",{"$f":"D2593","v":"SAP Colombia"},"USD","N/A","SAP S/4 HANA Cloud for real estate development lifecycle management, private edition",1,"Serv","Suscripcion","N/A","N/A","N/A","SAP-8012125-1","Forma de pago estandar a 30 dias",701,1,0,"USD"]
[{"$f":"D2594&F2594&E2594","v":"SAP ColombiaCloudS4 & Native HANA SolutionsSAP-8012125-2"},{"$f":"E2594&F2594","v":"SAP-8012125-2CloudS4 & Native HANA Solutions"},null,"SAP Colombia","SAP-8012125-2","CloudS4 & Native HANA Solutions",{"$f":"D2594","v":"SAP Colombia"},"USD","N/A","SAP S/4 HANA Cloud for real estate development lifecycle management, private edition",1,"Serv","Suscripcion","N/A","N/A","N/A","SAP-8012125-2","Forma de pago estandar a 30 dias",475,1,0,"USD"]
[{"$f":"D2595&F2595&E2595","v":"SAP ColombiaCloudS4 & Native HANA SolutionsSAP-8012125-3"},{"$f":"E2595&F2595","v":"SAP-8012125-3CloudS4 & Native HANA Solutions"},null,"SAP Colombia","SAP-8012125-3","CloudS4 & Native HANA Solutions",{"$f":"D2595","v":"SAP Colombia"},"USD","N/A","SAP S/4 HANA Cloud for real estate development lifecycle management, private edition",1,"Serv","Suscripcion","N/A","N/A","N/A","SAP-8012125-3","Forma de pago estandar a 30 dias",295,1,0,"USD"]
[{"$f":"D2596&F2596&E2596","v":"SAP ColombiaCloudS4 & Native HANA SolutionsSAP-8012125-4"},{"$f":"E2596&F2596","v":"SAP-8012125-4CloudS4 & Native HANA Solutions"},null,"SAP Colombia","SAP-8012125-4","CloudS4 & Native HANA Solutions",{"$f":"D2596","v":"SAP Colombia"},"USD","N/A","SAP S/4 HANA Cloud for real estate development lifecycle management, private edition",1,"Serv","Suscripcion","N/A","N/A","N/A","SAP-8012125-4","Forma de pago estandar a 30 dias",227,1,0,"USD"]
[{"$f":"D2597&F2597&E2597","v":"SAP ColombiaCloudS4 & Native HANA SolutionsSAP-8012143"},{"$f":"E2597&F2597","v":"SAP-8012143CloudS4 & Native HANA Solutions"},null,"SAP Colombia","SAP-8012143","CloudS4 & Native HANA Solutions",{"$f":"D2597","v":"SAP Colombia"},"USD","N/A","SAP Global Trade Services, additional non-productive tier, private cloud edition (S)",1,"Serv","Suscripcion","N/A","N/A","N/A","SAP-8012143","Forma de pago estandar a 30 dias",11199,1,0,"USD"]
[{"$f":"D2598&F2598&E2598","v":"SAP ColombiaCloudS4 & Native HANA SolutionsSAP-8012144"},{"$f":"E2598&F2598","v":"SAP-8012144CloudS4 & Native HANA Solutions"},null,"SAP Colombia","SAP-8012144","CloudS4 & Native HANA Solutions",{"$f":"D2598","v":"SAP Colombia"},"USD","N/A","SAP Global Trade Services, additional non-productive tier, private cloud edition (M)",1,"Serv","Suscripcion","N/A","N/A","N/A","SAP-8012144","Forma de pago estandar a 30 dias",14461,1,0,"USD"]
[{"$f":"D2599&F2599&E2599","v":"SAP ColombiaCloudS4 & Native HANA SolutionsSAP-8012145"},{"$f":"E2599&F2599","v":"SAP-8012145CloudS4 & Native HANA Solutions"},null,"SAP Colombia","SAP-8012145","CloudS4 & Native HANA Solutions",{"$f":"D2599","v":"SAP Colombia"},"USD","N/A","SAP Global Trade Services, additional non-productive tier, private cloud edition (L)",1,"Serv","Suscripcion","N/A","N/A","N/A","SAP-8012145","Forma de pago estandar a 30 dias",18510,1,0,"USD"]
[{"$f":"D2600&F2600&E2600","v":"SAP ColombiaCloudS4 & Native HANA SolutionsSAP-8012146"},{"$f":"E2600&F2600","v":"SAP-8012146CloudS4 & Native HANA Solutions"},null,"SAP Colombia","SAP-8012146","CloudS4 & Native HANA Solutions",{"$f":"D2600","v":"SAP Colombia"},"USD","N/A","SAP Global Trade Services, additional non-productive tier, private cloud edition (XL)",1,"Serv","Suscripcion","N/A","N/A","N/A","SAP-8012146","Forma de pago estandar a 30 dias",25451,1,0,"USD"]
[{"$f":"D2601&F2601&E2601","v":"SAP ColombiaCloudS4 & Native HANA SolutionsSAP-8012147"},{"$f":"E2601&F2601","v":"SAP-8012147CloudS4 & Native HANA Solutions"},null,"SAP Colombia","SAP-8012147","CloudS4 & Native HANA Solutions",{"$f":"D2601","v":"SAP Colombia"},"USD","N/A","SAP Global Trade Services, additional non-productive tier, private cloud edition (XXL)",1,"Serv","Suscripcion","N/A","N/A","N/A","SAP-8012147","Forma de pago estandar a 30 dias",41647,1,0,"USD"]
[{"$f":"D2602&F2602&E2602","v":"SAP ColombiaCloudS4 & Native HANA SolutionsSAP-8012152-1"},{"$f":"E2602&F2602","v":"SAP-8012152-1CloudS4 & Native HANA Solutions"},null,"SAP Colombia","SAP-8012152-1","CloudS4 & Native HANA Solutions",{"$f":"D2602","v":"SAP Colombia"},"USD","N/A","UI data protection logging for SAP ERP, private cloud edition",100,"Serv","Suscripcion","N/A","N/A","N/A","SAP-8012152-1","Forma de pago estandar a 30 dias",271,1,0,"USD"]
[{"$f":"D2603&F2603&E2603","v":"SAP ColombiaCloudS4 & Native HANA SolutionsSAP-8012152-2"},{"$f":"E2603&F2603","v":"SAP-8012152-2CloudS4 & Native HANA Solutions"},null,"SAP Colombia","SAP-8012152-2","CloudS4 & Native HANA Solutions",{"$f":"D2603","v":"SAP Colombia"},"USD","N/A","UI data protection logging for SAP ERP, private cloud edition",100,"Serv","Suscripcion","N/A","N/A","N/A","SAP-8012152-2","Forma de pago estandar a 30 dias",240,1,0,"USD"]
[{"$f":"D2604&F2604&E2604","v":"SAP ColombiaCloudS4 & Native HANA SolutionsSAP-8012152-3"},{"$f":"E2604&F2604","v":"SAP-8012152-3CloudS4 & Native HANA Solutions"},null,"SAP Colombia","SAP-8012152-3","CloudS4 & Native HANA Solutions",{"$f":"D2604","v":"SAP Colombia"},"USD","N/A","UI data protection logging for SAP ERP, private cloud edition",100,"Serv","Suscripcion","N/A","N/A","N/A","SAP-8012152-3","Forma de pago estandar a 30 dias",166,1,0,"USD"]
[{"$f":"D2605&F2605&E2605","v":"SAP ColombiaCloudS4 & Native HANA SolutionsSAP-8012153-1"},{"$f":"E2605&F2605","v":"SAP-8012153-1CloudS4 & Native HANA Solutions"},null,"SAP Colombia","SAP-8012153-1","CloudS4 & Native HANA Solutions",{"$f":"D2605","v":"SAP Colombia"},"USD","N/A","UI data protection masking for SAP ERP, private cloud edition",100,"Serv","Suscripcion","N/A","N/A","N/A","SAP-8012153-1","Forma de pago estandar a 30 dias",262,1,0,"USD"]
[{"$f":"D2606&F2606&E2606","v":"SAP ColombiaCloudS4 & Native HANA SolutionsSAP-8012153-2"},{"$f":"E2606&F2606","v":"SAP-8012153-2CloudS4 & Native HANA Solutions"},null,"SAP Colombia","SAP-8012153-2","CloudS4 & Native HANA Solutions",{"$f":"D2606","v":"SAP Colombia"},"USD","N/A","UI data protection masking for SAP ERP, private cloud edition",100,"Serv","Suscripcion","N/A","N/A","N/A","SAP-8012153-2","Forma de pago estandar a 30 dias",232,1,0,"USD"]
[{"$f":"D2607&F2607&E2607","v":"SAP ColombiaCloudS4 & Native HANA SolutionsSAP-8012153-3"},{"$f":"E2607&F2607","v":"SAP-8012153-3CloudS4 & Native HANA Solutions"},null,"SAP Colombia","SAP-8012153-3","CloudS4 & Native HANA Solutions",{"$f":"D2607","v":"SAP Colombia"},"USD","N/A","UI data protection masking for SAP ERP, private cloud edition",100,"Serv","Suscripcion","N/A","N/A","N/A","SAP-8012153-3","Forma de pago estandar a 30 dias",160,1,0,"USD"]
[{"$f":"D2608&F2608&E2608","v":"SAP ColombiaCloudS4 & Native HANA SolutionsSAP-8012237-1"},{"$f":"E2608&F2608","v":"SAP-8012237-1CloudS4 & Native HANA Solutions"},null,"SAP Colombia","SAP-8012237-1","CloudS4 & Native HANA Solutions",{"$f":"D2608","v":"SAP Colombia"},"USD","N/A","SAP S/4HANA Cloud for financial posting gateway, private edition",111990000,"Serv","Suscripcion","N/A","N/A","N/A","SAP-8012237-1","Forma de pago estandar a 30 dias",426,1,0,"USD"]
[{"$f":"D2609&F2609&E2609","v":"SAP ColombiaCloudS4 & Native HANA SolutionsSAP-8012237-2"},{"$f":"E2609&F2609","v":"SAP-8012237-2CloudS4 & Native HANA Solutions"},null,"SAP Colombia","SAP-8012237-2","CloudS4 & Native HANA Solutions",{"$f":"D2609","v":"SAP Colombia"},"USD","N/A","SAP S/4HANA Cloud for financial posting gateway, private edition",111990000,"Serv","Suscripcion","N/A","N/A","N/A","SAP-8012237-2","Forma de pago estandar a 30 dias",291,1,0,"USD"]
[{"$f":"D2610&F2610&E2610","v":"SAP ColombiaCloudS4 & Native HANA SolutionsSAP-8012237-3"},{"$f":"E2610&F2610","v":"SAP-8012237-3CloudS4 & Native HANA Solutions"},null,"SAP Colombia","SAP-8012237-3","CloudS4 & Native HANA Solutions",{"$f":"D2610","v":"SAP Colombia"},"USD","N/A","SAP S/4HANA Cloud for financial posting gateway, private edition",111990000,"Serv","Suscripcion","N/A","N/A","N/A","SAP-8012237-3","Forma de pago estandar a 30 dias",190,1,0,"USD"]
[{"$f":"D2611&F2611&E2611","v":"SAP ColombiaCloudS4 & Native HANA SolutionsSAP-8012237-4"},{"$f":"E2611&F2611","v":"SAP-8012237-4CloudS4 & Native HANA Solutions"},null,"SAP Colombia","SAP-8012237-4","CloudS4 & Native HANA Solutions",{"$f":"D2611","v":"SAP Colombia"},"USD","N/A","SAP S/4HANA Cloud for financial posting gateway, private edition",111990000,"Serv","Suscripcion","N/A","N/A","N/A","SAP-8012237-4","Forma de pago estandar a 30 dias",134,1,0,"USD"]
[{"$f":"D2612&F2612&E2612","v":"SAP ColombiaCloudS4 & Native HANA SolutionsSAP-8012237-5"},{"$f":"E2612&F2612","v":"SAP-8012237-5CloudS4 & Native HANA Solutions"},null,"SAP Colombia","SAP-8012237-5","CloudS4 & Native HANA Solutions",{"$f":"D2612","v":"SAP Colombia"},"USD","N/A","SAP S/4HANA Cloud for financial posting gateway, private edition",111990000,"Serv","Suscripcion","N/A","N/A","N/A","SAP-8012237-5","Forma de pago estandar a 30 dias",90,1,0,"USD"]
[{"$f":"D2613&F2613&E2613","v":"SAP ColombiaCloudS4 & Native HANA SolutionsSAP-8012479-1"},{"$f":"E2613&F2613","v":"SAP-8012479-1CloudS4 & Native HANA Solutions"},null,"SAP Colombia","SAP-8012479-1","CloudS4 & Native HANA Solutions",{"$f":"D2613","v":"SAP Colombia"},"USD","N/A","SAP S/4HANA Cloud for business integrity screening, private edition",1,"Serv","Suscripcion","N/A","N/A","N/A","SAP-8012479-1","Forma de pago estandar a 30 dias",840,1,0,"USD"]
[{"$f":"D2614&F2614&E2614","v":"SAP ColombiaCloudS4 & Native HANA SolutionsSAP-8012479-2"},{"$f":"E2614&F2614","v":"SAP-8012479-2CloudS4 & Native HANA Solutions"},null,"SAP Colombia","SAP-8012479-2","CloudS4 & Native HANA Solutions",{"$f":"D2614","v":"SAP Colombia"},"USD","N/A","SAP S/4HANA Cloud for business integrity screening, private edition",1,"Serv","Suscripcion","N/A","N/A","N/A","SAP-8012479-2","Forma de pago estandar a 30 dias",560,1,0,"USD"]
[{"$f":"D2615&F2615&E2615","v":"SAP ColombiaCloudS4 & Native HANA SolutionsSAP-8012479-3"},{"$f":"E2615&F2615","v":"SAP-8012479-3CloudS4 & Native HANA Solutions"},null,"SAP Colombia","SAP-8012479-3","CloudS4 & Native HANA Solutions",{"$f":"D2615","v":"SAP Colombia"},"USD","N/A","SAP S/4HANA Cloud for business integrity screening, private edition",1,"Serv","Suscripcion","N/A","N/A","N/A","SAP-8012479-3","Forma de pago estandar a 30 dias",448,1,0,"USD"]
[{"$f":"D2616&F2616&E2616","v":"SAP ColombiaCloudS4 & Native HANA SolutionsSAP-8012479-4"},{"$f":"E2616&F2616","v":"SAP-8012479-4CloudS4 & Native HANA Solutions"},null,"SAP Colombia","SAP-8012479-4","CloudS4 & Native HANA Solutions",{"$f":"D2616","v":"SAP Colombia"},"USD","N/A","SAP S/4HANA Cloud for business integrity screening, private edition",1,"Serv","Suscripcion","N/A","N/A","N/A","SAP-8012479-4","Forma de pago estandar a 30 dias",364,1,0,"USD"]
[{"$f":"D2617&F2617&E2617","v":"SAP ColombiaCloudS4 & Native HANA SolutionsSAP-8012479-5"},{"$f":"E2617&F2617","v":"SAP-8012479-5CloudS4 & Native HANA Solutions"},null,"SAP Colombia","SAP-8012479-5","CloudS4 & Native HANA Solutions",{"$f":"D2617","v":"SAP Colombia"},"USD","N/A","SAP S/4HANA Cloud for business integrity screening, private edition",1,"Serv","Suscripcion","N/A","N/A","N/A","SAP-8012479-5","Forma de pago estandar a 30 dias",308,1,0,"USD"]
[{"$f":"D2618&F2618&E2618","v":"SAP ColombiaCloudS4 & Native HANA SolutionsSAP-8008783-1"},{"$f":"E2618&F2618","v":"SAP-8008783-1CloudS4 & Native HANA Solutions"},null,"SAP Colombia","SAP-8008783-1","CloudS4 & Native HANA Solutions",{"$f":"D2618","v":"SAP Colombia"},"USD","N/A","SAP Payroll Processing, private cloud edition",1,"Serv","Suscripcion","N/A","N/A","N/A","SAP-8008783-1","Forma de pago estandar a 30 dias",6.07,1,0,"USD"]
[{"$f":"D2619&F2619&E2619","v":"SAP ColombiaCloudS4 & Native HANA SolutionsSAP-8008783-2"},{"$f":"E2619&F2619","v":"SAP-8008783-2CloudS4 & Native HANA Solutions"},null,"SAP Colombia","SAP-8008783-2","CloudS4 & Native HANA Solutions",{"$f":"D2619","v":"SAP Colombia"},"USD","N/A","SAP Payroll Processing, private cloud edition",1,"Serv","Suscripcion","N/A","N/A","N/A","SAP-8008783-2","Forma de pago estandar a 30 dias",4.63,1,0,"USD"]
[{"$f":"D2620&F2620&E2620","v":"SAP ColombiaCloudS4 & Native HANA SolutionsSAP-8008783-3"},{"$f":"E2620&F2620","v":"SAP-8008783-3CloudS4 & Native HANA Solutions"},null,"SAP Colombia","SAP-8008783-3","CloudS4 & Native HANA Solutions",{"$f":"D2620","v":"SAP Colombia"},"USD","N/A","SAP Payroll Processing, private cloud edition",1,"Serv","Suscripcion","N/A","N/A","N/A","SAP-8008783-3","Forma de pago estandar a 30 dias",2.74,1,0,"USD"]
[{"$f":"D2621&F2621&E2621","v":"SAP ColombiaCloudS4 & Native HANA SolutionsSAP-8008783-4"},{"$f":"E2621&F2621","v":"SAP-8008783-4CloudS4 & Native HANA Solutions"},null,"SAP Colombia","SAP-8008783-4","CloudS4 & Native HANA Solutions",{"$f":"D2621","v":"SAP Colombia"},"USD","N/A","SAP Payroll Processing, private cloud edition",1,"Serv","Suscripcion","N/A","N/A","N/A","SAP-8008783-4","Forma de pago estandar a 30 dias",1.69,1,0,"USD"]
[{"$f":"D2622&F2622&E2622","v":"SAP ColombiaCloudS4 & Native HANA SolutionsSAP-8008783-5"},{"$f":"E2622&F2622","v":"SAP-8008783-5CloudS4 & Native HANA Solutions"},null,"SAP Colombia","SAP-8008783-5","CloudS4 & Native HANA Solutions",{"$f":"D2622","v":"SAP Colombia"},"USD","N/A","SAP Payroll Processing, private cloud edition",1,"Serv","Suscripcion","N/A","N/A","N/A","SAP-8008783-5","Forma de pago estandar a 30 dias",1.2,1,0,"USD"]
[{"$f":"D2623&F2623&E2623","v":"SAP ColombiaCloudS4 & Native HANA SolutionsSAP-8008783-6"},{"$f":"E2623&F2623","v":"SAP-8008783-6CloudS4 & Native HANA Solutions"},null,"SAP Colombia","SAP-8008783-6","CloudS4 & Native HANA Solutions",{"$f":"D2623","v":"SAP Colombia"},"USD","N/A","SAP Payroll Processing, private cloud edition",1,"Serv","Suscripcion","N/A","N/A","N/A","SAP-8008783-6","Forma de pago estandar a 30 dias",0.83,1,0,"USD"]
[{"$f":"D2624&F2624&E2624","v":"SAP ColombiaCloudS4 & Native HANA SolutionsSAP-8008783-7"},{"$f":"E2624&F2624","v":"SAP-8008783-7CloudS4 & Native HANA Solutions"},null,"SAP Colombia","SAP-8008783-7","CloudS4 & Native HANA Solutions",{"$f":"D2624","v":"SAP Colombia"},"USD","N/A","SAP Payroll Processing, private cloud edition",1,"Serv","Suscripcion","N/A","N/A","N/A","SAP-8008783-7","Forma de pago estandar a 30 dias",0.74,1,0,"USD"]
[{"$f":"D2625&F2625&E2625","v":"SAP ColombiaCloudS4 & Native HANA SolutionsSAP-8008783-8"},{"$f":"E2625&F2625","v":"SAP-8008783-8CloudS4 & Native HANA Solutions"},null,"SAP Colombia","SAP-8008783-8","CloudS4 & Native HANA Solutions",{"$f":"D2625","v":"SAP Colombia"},"USD","N/A","SAP Payroll Processing, private cloud edition",1,"Serv","Suscripcion","N/A","N/A","N/A","SAP-8008783-8","Forma de pago estandar a 30 dias",0.71,1,0,"USD"]
[{"$f":"D2626&F2626&E2626","v":"SAP ColombiaCloudS4 & Native HANA SolutionsSAP-8008783-9"},{"$f":"E2626&F2626","v":"SAP-8008783-9CloudS4 & Native HANA Solutions"},null,"SAP Colombia","SAP-8008783-9","CloudS4 & Native HANA Solutions",{"$f":"D2626","v":"SAP Colombia"},"USD","N/A","SAP Payroll Processing, private cloud edition",1,"Serv","Suscripcion","N/A","N/A","N/A","SAP-8008783-9","Forma de pago estandar a 30 dias",0.57999999999999996,1,0,"USD"]
[{"$f":"D2627&F2627&E2627","v":"SAP ColombiaCloudS4 & Native HANA SolutionsSAP-8008910-1"},{"$f":"E2627&F2627","v":"SAP-8008910-1CloudS4 & Native HANA Solutions"},null,"SAP Colombia","SAP-8008910-1","CloudS4 & Native HANA Solutions",{"$f":"D2627","v":"SAP Colombia"},"USD","N/A","SAP Core Human Capital Management Cloud, private edition",1,"Serv","Suscripcion","N/A","N/A","N/A","SAP-8008910-1","Forma de pago estandar a 30 dias",2.93,1,0,"USD"]
[{"$f":"D2628&F2628&E2628","v":"SAP ColombiaCloudS4 & Native HANA SolutionsSAP-8008910-2"},{"$f":"E2628&F2628","v":"SAP-8008910-2CloudS4 & Native HANA Solutions"},null,"SAP Colombia","SAP-8008910-2","CloudS4 & Native HANA Solutions",{"$f":"D2628","v":"SAP Colombia"},"USD","N/A","SAP Core Human Capital Management Cloud, private edition",1,"Serv","Suscripcion","N/A","N/A","N/A","SAP-8008910-2","Forma de pago estandar a 30 dias",2,1,0,"USD"]
[{"$f":"D2629&F2629&E2629","v":"SAP ColombiaCloudS4 & Native HANA SolutionsSAP-8008910-3"},{"$f":"E2629&F2629","v":"SAP-8008910-3CloudS4 & Native HANA Solutions"},null,"SAP Colombia","SAP-8008910-3","CloudS4 & Native HANA Solutions",{"$f":"D2629","v":"SAP Colombia"},"USD","N/A","SAP Core Human Capital Management Cloud, private edition",1,"Serv","Suscripcion","N/A","N/A","N/A","SAP-8008910-3","Forma de pago estandar a 30 dias",1.92,1,0,"USD"]
[{"$f":"D2630&F2630&E2630","v":"SAP ColombiaCloudS4 & Native HANA SolutionsSAP-8008910-4"},{"$f":"E2630&F2630","v":"SAP-8008910-4CloudS4 & Native HANA Solutions"},null,"SAP Colombia","SAP-8008910-4","CloudS4 & Native HANA Solutions",{"$f":"D2630","v":"SAP Colombia"},"USD","N/A","SAP Core Human Capital Management Cloud, private edition",1,"Serv","Suscripcion","N/A","N/A","N/A","SAP-8008910-4","Forma de pago estandar a 30 dias",1.79,1,0,"USD"]
[{"$f":"D2631&F2631&E2631","v":"SAP ColombiaCloudS4 & Native HANA SolutionsSAP-8008910-5"},{"$f":"E2631&F2631","v":"SAP-8008910-5CloudS4 & Native HANA Solutions"},null,"SAP Colombia","SAP-8008910-5","CloudS4 & Native HANA Solutions",{"$f":"D2631","v":"SAP Colombia"},"USD","N/A","SAP Core Human Capital Management Cloud, private edition",1,"Serv","Suscripcion","N/A","N/A","N/A","SAP-8008910-5","Forma de pago estandar a 30 dias",1.72,1,0,"USD"]
[{"$f":"D2632&F2632&E2632","v":"SAP ColombiaCloudS4 & Native HANA SolutionsSAP-8008910-6"},{"$f":"E2632&F2632","v":"SAP-8008910-6CloudS4 & Native HANA Solutions"},null,"SAP Colombia","SAP-8008910-6","CloudS4 & Native HANA Solutions",{"$f":"D2632","v":"SAP Colombia"},"USD","N/A","SAP Core Human Capital Management Cloud, private edition",1,"Serv","Suscripcion","N/A","N/A","N/A","SAP-8008910-6","Forma de pago estandar a 30 dias",1.67,1,0,"USD"]
[{"$f":"D2633&F2633&E2633","v":"SAP ColombiaCloudS4 & Native HANA SolutionsSAP-8008910-7"},{"$f":"E2633&F2633","v":"SAP-8008910-7CloudS4 & Native HANA Solutions"},null,"SAP Colombia","SAP-8008910-7","CloudS4 & Native HANA Solutions",{"$f":"D2633","v":"SAP Colombia"},"USD","N/A","SAP Core Human Capital Management Cloud, private edition",1,"Serv","Suscripcion","N/A","N/A","N/A","SAP-8008910-7","Forma de pago estandar a 30 dias",1.3,1,0,"USD"]
[{"$f":"D2634&F2634&E2634","v":"SAP ColombiaCloudS4 & Native HANA SolutionsSAP-8008910-8"},{"$f":"E2634&F2634","v":"SAP-8008910-8CloudS4 & Native HANA Solutions"},null,"SAP Colombia","SAP-8008910-8","CloudS4 & Native HANA Solutions",{"$f":"D2634","v":"SAP Colombia"},"USD","N/A","SAP Core Human Capital Management Cloud, private edition",1,"Serv","Suscripcion","N/A","N/A","N/A","SAP-8008910-8","Forma de pago estandar a 30 dias",1.2,1,0,"USD"]
[{"$f":"D2635&F2635&E2635","v":"SAP ColombiaCloudS4 & Native HANA SolutionsSAP-8008910-9"},{"$f":"E2635&F2635","v":"SAP-8008910-9CloudS4 & Native HANA Solutions"},null,"SAP Colombia","SAP-8008910-9","CloudS4 & Native HANA Solutions",{"$f":"D2635","v":"SAP Colombia"},"USD","N/A","SAP Core Human Capital Management Cloud, private edition",1,"Serv","Suscripcion","N/A","N/A","N/A","SAP-8008910-9","Forma de pago estandar a 30 dias",1.1200000000000001,1,0,"USD"]
[{"$f":"D2636&F2636&E2636","v":"SAP ColombiaCloudS4 & Native HANA SolutionsSAP-8008911-1"},{"$f":"E2636&F2636","v":"SAP-8008911-1CloudS4 & Native HANA Solutions"},null,"SAP Colombia","SAP-8008911-1","CloudS4 & Native HANA Solutions",{"$f":"D2636","v":"SAP Colombia"},"USD","N/A","SAP Time Tracking Cloud, private edition",1,"Serv","Suscripcion","N/A","N/A","N/A","SAP-8008911-1","Forma de pago estandar a 30 dias",2.87,1,0,"USD"]
[{"$f":"D2637&F2637&E2637","v":"SAP ColombiaCloudS4 & Native HANA SolutionsSAP-8008911-2"},{"$f":"E2637&F2637","v":"SAP-8008911-2CloudS4 & Native HANA Solutions"},null,"SAP Colombia","SAP-8008911-2","CloudS4 & Native HANA Solutions",{"$f":"D2637","v":"SAP Colombia"},"USD","N/A","SAP Time Tracking Cloud, private edition",1,"Serv","Suscripcion","N/A","N/A","N/A","SAP-8008911-2","Forma de pago estandar a 30 dias",1.85,1,0,"USD"]
[{"$f":"D2638&F2638&E2638","v":"SAP ColombiaCloudS4 & Native HANA SolutionsSAP-8008911-3"},{"$f":"E2638&F2638","v":"SAP-8008911-3CloudS4 & Native HANA Solutions"},null,"SAP Colombia","SAP-8008911-3","CloudS4 & Native HANA Solutions",{"$f":"D2638","v":"SAP Colombia"},"USD","N/A","SAP Time Tracking Cloud, private edition",1,"Serv","Suscripcion","N/A","N/A","N/A","SAP-8008911-3","Forma de pago estandar a 30 dias",1.69,1,0,"USD"]
[{"$f":"D2639&F2639&E2639","v":"SAP ColombiaCloudS4 & Native HANA SolutionsSAP-8008911-4"},{"$f":"E2639&F2639","v":"SAP-8008911-4CloudS4 & Native HANA Solutions"},null,"SAP Colombia","SAP-8008911-4","CloudS4 & Native HANA Solutions",{"$f":"D2639","v":"SAP Colombia"},"USD","N/A","SAP Time Tracking Cloud, private edition",1,"Serv","Suscripcion","N/A","N/A","N/A","SAP-8008911-4","Forma de pago estandar a 30 dias",1.6,1,0,"USD"]
[{"$f":"D2640&F2640&E2640","v":"SAP ColombiaCloudS4 & Native HANA SolutionsSAP-8008911-5"},{"$f":"E2640&F2640","v":"SAP-8008911-5CloudS4 & Native HANA Solutions"},null,"SAP Colombia","SAP-8008911-5","CloudS4 & Native HANA Solutions",{"$f":"D2640","v":"SAP Colombia"},"USD","N/A","SAP Time Tracking Cloud, private edition",1,"Serv","Suscripcion","N/A","N/A","N/A","SAP-8008911-5","Forma de pago estandar a 30 dias",1.55,1,0,"USD"]
[{"$f":"D2641&F2641&E2641","v":"SAP ColombiaCloudS4 & Native HANA SolutionsSAP-8008911-6"},{"$f":"E2641&F2641","v":"SAP-8008911-6CloudS4 & Native HANA Solutions"},null,"SAP Colombia","SAP-8008911-6","CloudS4 & Native HANA Solutions",{"$f":"D2641","v":"SAP Colombia"},"USD","N/A","SAP Time Tracking Cloud, private edition",1,"Serv","Suscripcion","N/A","N/A","N/A","SAP-8008911-6","Forma de pago estandar a 30 dias",1.48,1,0,"USD"]
[{"$f":"D2642&F2642&E2642","v":"SAP ColombiaCloudS4 & Native HANA SolutionsSAP-8008911-7"},{"$f":"E2642&F2642","v":"SAP-8008911-7CloudS4 & Native HANA Solutions"},null,"SAP Colombia","SAP-8008911-7","CloudS4 & Native HANA Solutions",{"$f":"D2642","v":"SAP Colombia"},"USD","N/A","SAP Time Tracking Cloud, private edition",1,"Serv","Suscripcion","N/A","N/A","N/A","SAP-8008911-7","Forma de pago estandar a 30 dias",1.2,1,0,"USD"]
[{"$f":"D2643&F2643&E2643","v":"SAP ColombiaCloudS4 & Native HANA SolutionsSAP-8008911-8"},{"$f":"E2643&F2643","v":"SAP-8008911-8CloudS4 & Native HANA Solutions"},null,"SAP Colombia","SAP-8008911-8","CloudS4 & Native HANA Solutions",{"$f":"D2643","v":"SAP Colombia"},"USD","N/A","SAP Time Tracking Cloud, private edition",1,"Serv","Suscripcion","N/A","N/A","N/A","SAP-8008911-8","Forma de pago estandar a 30 dias",1.1100000000000001,1,0,"USD"]
[{"$f":"D2644&F2644&E2644","v":"SAP ColombiaCloudS4 & Native HANA SolutionsSAP-8008911-9"},{"$f":"E2644&F2644","v":"SAP-8008911-9CloudS4 & Native HANA Solutions"},null,"SAP Colombia","SAP-8008911-9","CloudS4 & Native HANA Solutions",{"$f":"D2644","v":"SAP Colombia"},"USD","N/A","SAP Time Tracking Cloud, private edition",1,"Serv","Suscripcion","N/A","N/A","N/A","SAP-8008911-9","Forma de pago estandar a 30 dias",1.05,1,0,"USD"]
[{"$f":"D2645&F2645&E2645","v":"SAP ColombiaCloudS4 & Native HANA SolutionsSAP-8012529-1"},{"$f":"E2645&F2645","v":"SAP-8012529-1CloudS4 & Native HANA Solutions"},null,"SAP Colombia","SAP-8012529-1","CloudS4 & Native HANA Solutions",{"$f":"D2645","v":"SAP Colombia"},"USD","N/A","SAP Payroll Processing, private cloud edition, extra stack",1,"Serv","Suscripcion","N/A","N/A","N/A","SAP-8012529-1","Forma de pago estandar a 30 dias",60,1,0,"USD"]
[{"$f":"D2646&F2646&E2646","v":"SAP ColombiaCloudS4 & Native HANA SolutionsSAP-8012529-2"},{"$f":"E2646&F2646","v":"SAP-8012529-2CloudS4 & Native HANA Solutions"},null,"SAP Colombia","SAP-8012529-2","CloudS4 & Native HANA Solutions",{"$f":"D2646","v":"SAP Colombia"},"USD","N/A","SAP Payroll Processing, private cloud edition, extra stack",1,"Serv","Suscripcion","N/A","N/A","N/A","SAP-8012529-2","Forma de pago estandar a 30 dias",30,1,0,"USD"]
[{"$f":"D2647&F2647&E2647","v":"SAP ColombiaCloudS4 & Native HANA SolutionsSAP-8012529-3"},{"$f":"E2647&F2647","v":"SAP-8012529-3CloudS4 & Native HANA Solutions"},null,"SAP Colombia","SAP-8012529-3","CloudS4 & Native HANA Solutions",{"$f":"D2647","v":"SAP Colombia"},"USD","N/A","SAP Payroll Processing, private cloud edition, extra stack",1,"Serv","Suscripcion","N/A","N/A","N/A","SAP-8012529-3","Forma de pago estandar a 30 dias",16,1,0,"USD"]
[{"$f":"D2648&F2648&E2648","v":"SAP ColombiaCloudS4 & Native HANA SolutionsSAP-8012529-4"},{"$f":"E2648&F2648","v":"SAP-8012529-4CloudS4 & Native HANA Solutions"},null,"SAP Colombia","SAP-8012529-4","CloudS4 & Native HANA Solutions",{"$f":"D2648","v":"SAP Colombia"},"USD","N/A","SAP Payroll Processing, private cloud edition, extra stack",1,"Serv","Suscripcion","N/A","N/A","N/A","SAP-8012529-4","Forma de pago estandar a 30 dias",11,1,0,"USD"]
[{"$f":"D2649&F2649&E2649","v":"SAP ColombiaCloudS4 & Native HANA SolutionsSAP-8012529-5"},{"$f":"E2649&F2649","v":"SAP-8012529-5CloudS4 & Native HANA Solutions"},null,"SAP Colombia","SAP-8012529-5","CloudS4 & Native HANA Solutions",{"$f":"D2649","v":"SAP Colombia"},"USD","N/A","SAP Payroll Processing, private cloud edition, extra stack",1,"Serv","Suscripcion","N/A","N/A","N/A","SAP-8012529-5","Forma de pago estandar a 30 dias",7.17,1,0,"USD"]
[{"$f":"D2650&F2650&E2650","v":"SAP ColombiaCloudS4 & Native HANA SolutionsSAP-8012529-6"},{"$f":"E2650&F2650","v":"SAP-8012529-6CloudS4 & Native HANA Solutions"},null,"SAP Colombia","SAP-8012529-6","CloudS4 & Native HANA Solutions",{"$f":"D2650","v":"SAP Colombia"},"USD","N/A","SAP Payroll Processing, private cloud edition, extra stack",1,"Serv","Suscripcion","N/A","N/A","N/A","SAP-8012529-6","Forma de pago estandar a 30 dias",4.93,1,0,"USD"]
[{"$f":"D2651&F2651&E2651","v":"SAP ColombiaCloudS4 & Native HANA SolutionsSAP-8012529-7"},{"$f":"E2651&F2651","v":"SAP-8012529-7CloudS4 & Native HANA Solutions"},null,"SAP Colombia","SAP-8012529-7","CloudS4 & Native HANA Solutions",{"$f":"D2651","v":"SAP Colombia"},"USD","N/A","SAP Payroll Processing, private cloud edition, extra stack",1,"Serv","Suscripcion","N/A","N/A","N/A","SAP-8012529-7","Forma de pago estandar a 30 dias",3.7,1,0,"USD"]
[{"$f":"D2652&F2652&E2652","v":"SAP ColombiaCloudS4 & Native HANA SolutionsSAP-8012529-8"},{"$f":"E2652&F2652","v":"SAP-8012529-8CloudS4 & Native HANA Solutions"},null,"SAP Colombia","SAP-8012529-8","CloudS4 & Native HANA Solutions",{"$f":"D2652","v":"SAP Colombia"},"USD","N/A","SAP Payroll Processing, private cloud edition, extra stack",1,"Serv","Suscripcion","N/A","N/A","N/A","SAP-8012529-8","Forma de pago estandar a 30 dias",2.63,1,0,"USD"]
[{"$f":"D2653&F2653&E2653","v":"SAP ColombiaCloudS4 & Native HANA SolutionsSAP-8012529-9"},{"$f":"E2653&F2653","v":"SAP-8012529-9CloudS4 & Native HANA Solutions"},null,"SAP Colombia","SAP-8012529-9","CloudS4 & Native HANA Solutions",{"$f":"D2653","v":"SAP Colombia"},"USD","N/A","SAP Payroll Processing, private cloud edition, extra stack",1,"Serv","Suscripcion","N/A","N/A","N/A","SAP-8012529-9","Forma de pago estandar a 30 dias",2.02,1,0,"USD"]
[{"$f":"D2654&F2654&E2654","v":"SAP ColombiaCloudS4 & Native HANA SolutionsSAP-8008365-1"},{"$f":"E2654&F2654","v":"SAP-8008365-1CloudS4 & Native HANA Solutions"},null,"SAP Colombia","SAP-8008365-1","CloudS4 & Native HANA Solutions",{"$f":"D2654","v":"SAP Colombia"},"USD","N/A","SAP S/4HANA Cloud for central procurement",1119900,"Serv","Suscripcion","N/A","N/A","N/A","SAP-8008365-1","Forma de pago estandar a 30 dias",927,1,0,"USD"]
[{"$f":"D2655&F2655&E2655","v":"SAP ColombiaCloudS4 & Native HANA SolutionsSAP-8008365-2"},{"$f":"E2655&F2655","v":"SAP-8008365-2CloudS4 & Native HANA Solutions"},null,"SAP Colombia","SAP-8008365-2","CloudS4 & Native HANA Solutions",{"$f":"D2655","v":"SAP Colombia"},"USD","N/A","SAP S/4HANA Cloud for central procurement",1119900,"Serv","Suscripcion","N/A","N/A","N/A","SAP-8008365-2","Forma de pago estandar a 30 dias",618,1,0,"USD"]
[{"$f":"D2656&F2656&E2656","v":"SAP ColombiaCloudS4 & Native HANA SolutionsSAP-8008365-3"},{"$f":"E2656&F2656","v":"SAP-8008365-3CloudS4 & Native HANA Solutions"},null,"SAP Colombia","SAP-8008365-3","CloudS4 & Native HANA Solutions",{"$f":"D2656","v":"SAP Colombia"},"USD","N/A","SAP S/4HANA Cloud for central procurement",1119900,"Serv","Suscripcion","N/A","N/A","N/A","SAP-8008365-3","Forma de pago estandar a 30 dias",538,1,0,"USD"]
[{"$f":"D2657&F2657&E2657","v":"SAP ColombiaCloudS4 & Native HANA SolutionsSAP-8008365-4"},{"$f":"E2657&F2657","v":"SAP-8008365-4CloudS4 & Native HANA Solutions"},null,"SAP Colombia","SAP-8008365-4","CloudS4 & Native HANA Solutions",{"$f":"D2657","v":"SAP Colombia"},"USD","N/A","SAP S/4HANA Cloud for central procurement",1119900,"Serv","Suscripcion","N/A","N/A","N/A","SAP-8008365-4","Forma de pago estandar a 30 dias",457,1,0,"USD"]
[{"$f":"D2658&F2658&E2658","v":"SAP ColombiaCloudS4 & Native HANA SolutionsSAP-8008365-5"},{"$f":"E2658&F2658","v":"SAP-8008365-5CloudS4 & Native HANA Solutions"},null,"SAP Colombia","SAP-8008365-5","CloudS4 & Native HANA Solutions",{"$f":"D2658","v":"SAP Colombia"},"USD","N/A","SAP S/4HANA Cloud for central procurement",1119900,"Serv","Suscripcion","N/A","N/A","N/A","SAP-8008365-5","Forma de pago estandar a 30 dias",376,1,0,"USD"]
[{"$f":"D2659&F2659&E2659","v":"SAP ColombiaCloudS4 & Native HANA SolutionsSAP-8008365-6"},{"$f":"E2659&F2659","v":"SAP-8008365-6CloudS4 & Native HANA Solutions"},null,"SAP Colombia","SAP-8008365-6","CloudS4 & Native HANA Solutions",{"$f":"D2659","v":"SAP Colombia"},"USD","N/A","SAP S/4HANA Cloud for central procurement",1119900,"Serv","Suscripcion","N/A","N/A","N/A","SAP-8008365-6","Forma de pago estandar a 30 dias",309,1,0,"USD"]
[{"$f":"D2660&F2660&E2660","v":"SAP ColombiaCloudS4 & Native HANA SolutionsSAP-8008713-1"},{"$f":"E2660&F2660","v":"SAP-8008713-1CloudS4 & Native HANA Solutions"},null,"SAP Colombia","SAP-8008713-1","CloudS4 & Native HANA Solutions",{"$f":"D2660","v":"SAP Colombia"},"USD","N/A","SAP S/4HANA for procurement planning",1,"Serv","Suscripcion","N/A","N/A","N/A","SAP-8008713-1","Forma de pago estandar a 30 dias",280,1,0,"USD"]
[{"$f":"D2661&F2661&E2661","v":"SAP ColombiaCloudS4 & Native HANA SolutionsSAP-8008713-2"},{"$f":"E2661&F2661","v":"SAP-8008713-2CloudS4 & Native HANA Solutions"},null,"SAP Colombia","SAP-8008713-2","CloudS4 & Native HANA Solutions",{"$f":"D2661","v":"SAP Colombia"},"USD","N/A","SAP S/4HANA for procurement planning",1,"Serv","Suscripcion","N/A","N/A","N/A","SAP-8008713-2","Forma de pago estandar a 30 dias",166,1,0,"USD"]
[{"$f":"D2662&F2662&E2662","v":"SAP ColombiaCloudS4 & Native HANA SolutionsSAP-8008713-3"},{"$f":"E2662&F2662","v":"SAP-8008713-3CloudS4 & Native HANA Solutions"},null,"SAP Colombia","SAP-8008713-3","CloudS4 & Native HANA Solutions",{"$f":"D2662","v":"SAP Colombia"},"USD","N/A","SAP S/4HANA for procurement planning",1,"Serv","Suscripcion","N/A","N/A","N/A","SAP-8008713-3","Forma de pago estandar a 30 dias",121,1,0,"USD"]
[{"$f":"D2663&F2663&E2663","v":"SAP ColombiaCloudS4 & Native HANA SolutionsSAP-8008713-4"},{"$f":"E2663&F2663","v":"SAP-8008713-4CloudS4 & Native HANA Solutions"},null,"SAP Colombia","SAP-8008713-4","CloudS4 & Native HANA Solutions",{"$f":"D2663","v":"SAP Colombia"},"USD","N/A","SAP S/4HANA for procurement planning",1,"Serv","Suscripcion","N/A","N/A","N/A","SAP-8008713-4","Forma de pago estandar a 30 dias",83,1,0,"USD"]
[{"$f":"D2664&F2664&E2664","v":"SAP ColombiaCloudS4 & Native HANA SolutionsSAP-8008713-5"},{"$f":"E2664&F2664","v":"SAP-8008713-5CloudS4 & Native HANA Solutions"},null,"SAP Colombia","SAP-8008713-5","CloudS4 & Native HANA Solutions",{"$f":"D2664","v":"SAP Colombia"},"USD","N/A","SAP S/4HANA for procurement planning",1,"Serv","Suscripcion","N/A","N/A","N/A","SAP-8008713-5","Forma de pago estandar a 30 dias",59,1,0,"USD"]
[{"$f":"D2665&F2665&E2665","v":"SAP ColombiaCloudS4 & Native HANA SolutionsSAP-8008713-6"},{"$f":"E2665&F2665","v":"SAP-8008713-6CloudS4 & Native HANA Solutions"},null,"SAP Colombia","SAP-8008713-6","CloudS4 & Native HANA Solutions",{"$f":"D2665","v":"SAP Colombia"},"USD","N/A","SAP S/4HANA for procurement planning",1,"Serv","Suscripcion","N/A","N/A","N/A","SAP-8008713-6","Forma de pago estandar a 30 dias",39,1,0,"USD"]
[{"$f":"D2666&F2666&E2666","v":"SAP ColombiaCloudS4 & Native HANA SolutionsSAP-8008713-7"},{"$f":"E2666&F2666","v":"SAP-8008713-7CloudS4 & Native HANA Solutions"},null,"SAP Colombia","SAP-8008713-7","CloudS4 & Native HANA Solutions",{"$f":"D2666","v":"SAP Colombia"},"USD","N/A","SAP S/4HANA for procurement planning",1,"Serv","Suscripcion","N/A","N/A","N/A","SAP-8008713-7","Forma de pago estandar a 30 dias",25,1,0,"USD"]
[{"$f":"D2667&F2667&E2667","v":"SAP ColombiaCloudS4 & Native HANA SolutionsSAP-8008713-8"},{"$f":"E2667&F2667","v":"SAP-8008713-8CloudS4 & Native HANA Solutions"},null,"SAP Colombia","SAP-8008713-8","CloudS4 & Native HANA Solutions",{"$f":"D2667","v":"SAP Colombia"},"USD","N/A","SAP S/4HANA for procurement planning",1,"Serv","Suscripcion","N/A","N/A","N/A","SAP-8008713-8","Forma de pago estandar a 30 dias",17,1,0,"USD"]
[{"$f":"D2668&F2668&E2668","v":"SAP ColombiaCloudS4 & Native HANA SolutionsSAP-8008772-1"},{"$f":"E2668&F2668","v":"SAP-8008772-1CloudS4 & Native HANA Solutions"},null,"SAP Colombia","SAP-8008772-1","CloudS4 & Native HANA Solutions",{"$f":"D2668","v":"SAP Colombia"},"USD","N/A","SAP S/4HANA Cloud for central procurement, private edition",1119900,"Serv","Suscripcion","N/A","N/A","N/A","SAP-8008772-1","Forma de pago estandar a 30 dias",927,1,0,"USD"]
[{"$f":"D2669&F2669&E2669","v":"SAP ColombiaCloudS4 & Native HANA SolutionsSAP-8008772-2"},{"$f":"E2669&F2669","v":"SAP-8008772-2CloudS4 & Native HANA Solutions"},null,"SAP Colombia","SAP-8008772-2","CloudS4 & Native HANA Solutions",{"$f":"D2669","v":"SAP Colombia"},"USD","N/A","SAP S/4HANA Cloud for central procurement, private edition",1119900,"Serv","Suscripcion","N/A","N/A","N/A","SAP-8008772-2","Forma de pago estandar a 30 dias",618,1,0,"USD"]
[{"$f":"D2670&F2670&E2670","v":"SAP ColombiaCloudS4 & Native HANA SolutionsSAP-8008772-3"},{"$f":"E2670&F2670","v":"SAP-8008772-3CloudS4 & Native HANA Solutions"},null,"SAP Colombia","SAP-8008772-3","CloudS4 & Native HANA Solutions",{"$f":"D2670","v":"SAP Colombia"},"USD","N/A","SAP S/4HANA Cloud for central procurement, private edition",1119900,"Serv","Suscripcion","N/A","N/A","N/A","SAP-8008772-3","Forma de pago estandar a 30 dias",538,1,0,"USD"]
[{"$f":"D2671&F2671&E2671","v":"SAP ColombiaCloudS4 & Native HANA SolutionsSAP-8008772-4"},{"$f":"E2671&F2671","v":"SAP-8008772-4CloudS4 & Native HANA Solutions"},null,"SAP Colombia","SAP-8008772-4","CloudS4 & Native HANA Solutions",{"$f":"D2671","v":"SAP Colombia"},"USD","N/A","SAP S/4HANA Cloud for central procurement, private edition",1119900,"Serv","Suscripcion","N/A","N/A","N/A","SAP-8008772-4","Forma de pago estandar a 30 dias",457,1,0,"USD"]
[{"$f":"D2672&F2672&E2672","v":"SAP ColombiaCloudS4 & Native HANA SolutionsSAP-8008772-5"},{"$f":"E2672&F2672","v":"SAP-8008772-5CloudS4 & Native HANA Solutions"},null,"SAP Colombia","SAP-8008772-5","CloudS4 & Native HANA Solutions",{"$f":"D2672","v":"SAP Colombia"},"USD","N/A","SAP S/4HANA Cloud for central procurement, private edition",1119900,"Serv","Suscripcion","N/A","N/A","N/A","SAP-8008772-5","Forma de pago estandar a 30 dias",376,1,0,"USD"]
[{"$f":"D2673&F2673&E2673","v":"SAP ColombiaCloudS4 & Native HANA SolutionsSAP-8008772-6"},{"$f":"E2673&F2673","v":"SAP-8008772-6CloudS4 & Native HANA Solutions"},null,"SAP Colombia","SAP-8008772-6","CloudS4 & Native HANA Solutions",{"$f":"D2673","v":"SAP Colombia"},"USD","N/A","SAP S/4HANA Cloud for central procurement, private edition",1119900,"Serv","Suscripcion","N/A","N/A","N/A","SAP-8008772-6","Forma de pago estandar a 30 dias",309,1,0,"USD"]
[{"$f":"D2674&F2674&E2674","v":"SAP ColombiaCloudS4 & Native HANA SolutionsSAP-8008780-1"},{"$f":"E2674&F2674","v":"SAP-8008780-1CloudS4 & Native HANA Solutions"},null,"SAP Colombia","SAP-8008780-1","CloudS4 & Native HANA Solutions",{"$f":"D2674","v":"SAP Colombia"},"USD","N/A","SAP S/4HANA Cloud for Enterprise Contract Management, private edition",1,"Serv","Suscripcion","N/A","N/A","N/A","SAP-8008780-1","Forma de pago estandar a 30 dias",2.4300000000000002,1,0,"USD"]
[{"$f":"D2675&F2675&E2675","v":"SAP ColombiaCloudS4 & Native HANA SolutionsSAP-8008780-2"},{"$f":"E2675&F2675","v":"SAP-8008780-2CloudS4 & Native HANA Solutions"},null,"SAP Colombia","SAP-8008780-2","CloudS4 & Native HANA Solutions",{"$f":"D2675","v":"SAP Colombia"},"USD","N/A","SAP S/4HANA Cloud for Enterprise Contract Management, private edition",1,"Serv","Suscripcion","N/A","N/A","N/A","SAP-8008780-2","Forma de pago estandar a 30 dias",2.15,1,0,"USD"]
[{"$f":"D2676&F2676&E2676","v":"SAP ColombiaCloudS4 & Native HANA SolutionsSAP-8008780-3"},{"$f":"E2676&F2676","v":"SAP-8008780-3CloudS4 & Native HANA Solutions"},null,"SAP Colombia","SAP-8008780-3","CloudS4 & Native HANA Solutions",{"$f":"D2676","v":"SAP Colombia"},"USD","N/A","SAP S/4HANA Cloud for Enterprise Contract Management, private edition",1,"Serv","Suscripcion","N/A","N/A","N/A","SAP-8008780-3","Forma de pago estandar a 30 dias",1.96,1,0,"USD"]
[{"$f":"D2677&F2677&E2677","v":"SAP ColombiaCloudS4 & Native HANA SolutionsSAP-8008780-4"},{"$f":"E2677&F2677","v":"SAP-8008780-4CloudS4 & Native HANA Solutions"},null,"SAP Colombia","SAP-8008780-4","CloudS4 & Native HANA Solutions",{"$f":"D2677","v":"SAP Colombia"},"USD","N/A","SAP S/4HANA Cloud for Enterprise Contract Management, private edition",1,"Serv","Suscripcion","N/A","N/A","N/A","SAP-8008780-4","Forma de pago estandar a 30 dias",1.49,1,0,"USD"]
[{"$f":"D2678&F2678&E2678","v":"SAP ColombiaCloudS4 & Native HANA SolutionsSAP-8008780-5"},{"$f":"E2678&F2678","v":"SAP-8008780-5CloudS4 & Native HANA Solutions"},null,"SAP Colombia","SAP-8008780-5","CloudS4 & Native HANA Solutions",{"$f":"D2678","v":"SAP Colombia"},"USD","N/A","SAP S/4HANA Cloud for Enterprise Contract Management, private edition",1,"Serv","Suscripcion","N/A","N/A","N/A","SAP-8008780-5","Forma de pago estandar a 30 dias",1.1200000000000001,1,0,"USD"]
[{"$f":"D2679&F2679&E2679","v":"SAP ColombiaCloudS4 & Native HANA SolutionsSAP-8009439-1"},{"$f":"E2679&F2679","v":"SAP-8009439-1CloudS4 & Native HANA Solutions"},null,"SAP Colombia","SAP-8009439-1","CloudS4 & Native HANA Solutions",{"$f":"D2679","v":"SAP Colombia"},"USD","N/A","SAP S/4HANA Cloud for Enterprise Contract Management",1000,"Serv","Suscripcion","N/A","N/A","N/A","SAP-8009439-1","Forma de pago estandar a 30 dias",1753,1,0,"USD"]
[{"$f":"D2680&F2680&E2680","v":"SAP ColombiaCloudS4 & Native HANA SolutionsSAP-8009439-2"},{"$f":"E2680&F2680","v":"SAP-8009439-2CloudS4 & Native HANA Solutions"},null,"SAP Colombia","SAP-8009439-2","CloudS4 & Native HANA Solutions",{"$f":"D2680","v":"SAP Colombia"},"USD","N/A","SAP S/4HANA Cloud for Enterprise Contract Management",1000,"Serv","Suscripcion","N/A","N/A","N/A","SAP-8009439-2","Forma de pago estandar a 30 dias",1315,1,0,"USD"]
[{"$f":"D2681&F2681&E2681","v":"SAP ColombiaCloudS4 & Native HANA SolutionsSAP-8009439-3"},{"$f":"E2681&F2681","v":"SAP-8009439-3CloudS4 & Native HANA Solutions"},null,"SAP Colombia","SAP-8009439-3","CloudS4 & Native HANA Solutions",{"$f":"D2681","v":"SAP Colombia"},"USD","N/A","SAP S/4HANA Cloud for Enterprise Contract Management",1000,"Serv","Suscripcion","N/A","N/A","N/A","SAP-8009439-3","Forma de pago estandar a 30 dias",1022,1,0,"USD"]
[{"$f":"D2682&F2682&E2682","v":"SAP ColombiaCloudS4 & Native HANA SolutionsSAP-8009439-4"},{"$f":"E2682&F2682","v":"SAP-8009439-4CloudS4 & Native HANA Solutions"},null,"SAP Colombia","SAP-8009439-4","CloudS4 & Native HANA Solutions",{"$f":"D2682","v":"SAP Colombia"},"USD","N/A","SAP S/4HANA Cloud for Enterprise Contract Management",1000,"Serv","Suscripcion","N/A","N/A","N/A","SAP-8009439-4","Forma de pago estandar a 30 dias",730,1,0,"USD"]
[{"$f":"D2683&F2683&E2683","v":"SAP ColombiaCloudS4 & Native HANA SolutionsSAP-8009439-5"},{"$f":"E2683&F2683","v":"SAP-8009439-5CloudS4 & Native HANA Solutions"},null,"SAP Colombia","SAP-8009439-5","CloudS4 & Native HANA Solutions",{"$f":"D2683","v":"SAP Colombia"},"USD","N/A","SAP S/4HANA Cloud for Enterprise Contract Management",1000,"Serv","Suscripcion","N/A","N/A","N/A","SAP-8009439-5","Forma de pago estandar a 30 dias",463,1,0,"USD"]
[{"$f":"D2684&F2684&E2684","v":"SAP ColombiaCloudS4 & Native HANA SolutionsSAP-8008721-1"},{"$f":"E2684&F2684","v":"SAP-8008721-1CloudS4 & Native HANA Solutions"},null,"SAP Colombia","SAP-8008721-1","CloudS4 & Native HANA Solutions",{"$f":"D2684","v":"SAP Colombia"},"USD","N/A","S/4HANA Cloud for vehicle sales management, private edition",10000,"Serv","Suscripcion","N/A","N/A","N/A","SAP-8008721-1","Forma de pago estandar a 30 dias",1230,1,0,"USD"]
[{"$f":"D2685&F2685&E2685","v":"SAP ColombiaCloudS4 & Native HANA SolutionsSAP-8008721-2"},{"$f":"E2685&F2685","v":"SAP-8008721-2CloudS4 & Native HANA Solutions"},null,"SAP Colombia","SAP-8008721-2","CloudS4 & Native HANA Solutions",{"$f":"D2685","v":"SAP Colombia"},"USD","N/A","S/4HANA Cloud for vehicle sales management, private edition",10000,"Serv","Suscripcion","N/A","N/A","N/A","SAP-8008721-2","Forma de pago estandar a 30 dias",983,1,0,"USD"]
[{"$f":"D2686&F2686&E2686","v":"SAP ColombiaCloudS4 & Native HANA SolutionsSAP-8008721-3"},{"$f":"E2686&F2686","v":"SAP-8008721-3CloudS4 & Native HANA Solutions"},null,"SAP Colombia","SAP-8008721-3","CloudS4 & Native HANA Solutions",{"$f":"D2686","v":"SAP Colombia"},"USD","N/A","S/4HANA Cloud for vehicle sales management, private edition",10000,"Serv","Suscripcion","N/A","N/A","N/A","SAP-8008721-3","Forma de pago estandar a 30 dias",746,1,0,"USD"]
[{"$f":"D2687&F2687&E2687","v":"SAP ColombiaCloudS4 & Native HANA SolutionsSAP-8008676-1"},{"$f":"E2687&F2687","v":"SAP-8008676-1CloudS4 & Native HANA Solutions"},null,"SAP Colombia","SAP-8008676-1","CloudS4 & Native HANA Solutions",{"$f":"D2687","v":"SAP Colombia"},"USD","N/A","SAP S/4HANA Cloud for Student Lifecycle Management, private edition",100,"Serv","Suscripcion","N/A","N/A","N/A","SAP-8008676-1","Forma de pago estandar a 30 dias",648,1,0,"USD"]
[{"$f":"D2688&F2688&E2688","v":"SAP ColombiaCloudS4 & Native HANA SolutionsSAP-8008676-2"},{"$f":"E2688&F2688","v":"SAP-8008676-2CloudS4 & Native HANA Solutions"},null,"SAP Colombia","SAP-8008676-2","CloudS4 & Native HANA Solutions",{"$f":"D2688","v":"SAP Colombia"},"USD","N/A","SAP S/4HANA Cloud for Student Lifecycle Management, private edition",100,"Serv","Suscripcion","N/A","N/A","N/A","SAP-8008676-2","Forma de pago estandar a 30 dias",299,1,0,"USD"]
[{"$f":"D2689&F2689&E2689","v":"SAP ColombiaCloudS4 & Native HANA SolutionsSAP-8008676-3"},{"$f":"E2689&F2689","v":"SAP-8008676-3CloudS4 & Native HANA Solutions"},null,"SAP Colombia","SAP-8008676-3","CloudS4 & Native HANA Solutions",{"$f":"D2689","v":"SAP Colombia"},"USD","N/A","SAP S/4HANA Cloud for Student Lifecycle Management, private edition",100,"Serv","Suscripcion","N/A","N/A","N/A","SAP-8008676-3","Forma de pago estandar a 30 dias",223,1,0,"USD"]
[{"$f":"D2690&F2690&E2690","v":"SAP ColombiaCloudS4 & Native HANA SolutionsSAP-8008676-4"},{"$f":"E2690&F2690","v":"SAP-8008676-4CloudS4 & Native HANA Solutions"},null,"SAP Colombia","SAP-8008676-4","CloudS4 & Native HANA Solutions",{"$f":"D2690","v":"SAP Colombia"},"USD","N/A","SAP S/4HANA Cloud for Student Lifecycle Management, private edition",100,"Serv","Suscripcion","N/A","N/A","N/A","SAP-8008676-4","Forma de pago estandar a 30 dias",136,1,0,"USD"]
[{"$f":"D2691&F2691&E2691","v":"SAP ColombiaCloudS4 & Native HANA SolutionsSAP-8008908-1"},{"$f":"E2691&F2691","v":"SAP-8008908-1CloudS4 & Native HANA Solutions"},null,"SAP Colombia","SAP-8008908-1","CloudS4 & Native HANA Solutions",{"$f":"D2691","v":"SAP Colombia"},"USD","N/A","SAP S/4HANA Cloud for Financial Asset Management, private edition",1119900000,"Serv","Suscripcion","N/A","N/A","N/A","SAP-8008908-1","Forma de pago estandar a 30 dias",1624,1,0,"USD"]
[{"$f":"D2692&F2692&E2692","v":"SAP ColombiaCloudS4 & Native HANA SolutionsSAP-8008908-2"},{"$f":"E2692&F2692","v":"SAP-8008908-2CloudS4 & Native HANA Solutions"},null,"SAP Colombia","SAP-8008908-2","CloudS4 & Native HANA Solutions",{"$f":"D2692","v":"SAP Colombia"},"USD","N/A","SAP S/4HANA Cloud for Financial Asset Management, private edition",1119900000,"Serv","Suscripcion","N/A","N/A","N/A","SAP-8008908-2","Forma de pago estandar a 30 dias",1400,1,0,"USD"]
[{"$f":"D2693&F2693&E2693","v":"SAP ColombiaCloudS4 & Native HANA SolutionsSAP-8008908-3"},{"$f":"E2693&F2693","v":"SAP-8008908-3CloudS4 & Native HANA Solutions"},null,"SAP Colombia","SAP-8008908-3","CloudS4 & Native HANA Solutions",{"$f":"D2693","v":"SAP Colombia"},"USD","N/A","SAP S/4HANA Cloud for Financial Asset Management, private edition",1119900000,"Serv","Suscripcion","N/A","N/A","N/A","SAP-8008908-3","Forma de pago estandar a 30 dias",1176,1,0,"USD"]
[{"$f":"D2694&F2694&E2694","v":"SAP ColombiaCloudS4 & Native HANA SolutionsSAP-8008908-4"},{"$f":"E2694&F2694","v":"SAP-8008908-4CloudS4 & Native HANA Solutions"},null,"SAP Colombia","SAP-8008908-4","CloudS4 & Native HANA Solutions",{"$f":"D2694","v":"SAP Colombia"},"USD","N/A","SAP S/4HANA Cloud for Financial Asset Management, private edition",1119900000,"Serv","Suscripcion","N/A","N/A","N/A","SAP-8008908-4","Forma de pago estandar a 30 dias",1008,1,0,"USD"]
[{"$f":"D2695&F2695&E2695","v":"SAP ColombiaCloudS4 & Native HANA SolutionsSAP-8008908-5"},{"$f":"E2695&F2695","v":"SAP-8008908-5CloudS4 & Native HANA Solutions"},null,"SAP Colombia","SAP-8008908-5","CloudS4 & Native HANA Solutions",{"$f":"D2695","v":"SAP Colombia"},"USD","N/A","SAP S/4HANA Cloud for Financial Asset Management, private edition",1119900000,"Serv","Suscripcion","N/A","N/A","N/A","SAP-8008908-5","Forma de pago estandar a 30 dias",616,1,0,"USD"]
[{"$f":"D2696&F2696&E2696","v":"SAP ColombiaCloudS4 & Native HANA SolutionsSAP-8008908-6"},{"$f":"E2696&F2696","v":"SAP-8008908-6CloudS4 & Native HANA Solutions"},null,"SAP Colombia","SAP-8008908-6","CloudS4 & Native HANA Solutions",{"$f":"D2696","v":"SAP Colombia"},"USD","N/A","SAP S/4HANA Cloud for Financial Asset Management, private edition",1119900000,"Serv","Suscripcion","N/A","N/A","N/A","SAP-8008908-6","Forma de pago estandar a 30 dias",392,1,0,"USD"]
[{"$f":"D2697&F2697&E2697","v":"SAP ColombiaCloudS4 & Native HANA SolutionsSAP-8012328-1"},{"$f":"E2697&F2697","v":"SAP-8012328-1CloudS4 & Native HANA Solutions"},null,"SAP Colombia","SAP-8012328-1","CloudS4 & Native HANA Solutions",{"$f":"D2697","v":"SAP Colombia"},"USD","N/A","SAP S/4HANA Cloud for Reinsurance Assumed Risks, private edition, insurance option",1119900,"Serv","Suscripcion","N/A","N/A","N/A","SAP-8012328-1","Forma de pago estandar a 30 dias",123,1,0,"USD"]
[{"$f":"D2698&F2698&E2698","v":"SAP ColombiaCloudS4 & Native HANA SolutionsSAP-8012328-2"},{"$f":"E2698&F2698","v":"SAP-8012328-2CloudS4 & Native HANA Solutions"},null,"SAP Colombia","SAP-8012328-2","CloudS4 & Native HANA Solutions",{"$f":"D2698","v":"SAP Colombia"},"USD","N/A","SAP S/4HANA Cloud for Reinsurance Assumed Risks, private edition, insurance option",1119900,"Serv","Suscripcion","N/A","N/A","N/A","SAP-8012328-2","Forma de pago estandar a 30 dias",95,1,0,"USD"]
[{"$f":"D2699&F2699&E2699","v":"SAP ColombiaCloudS4 & Native HANA SolutionsSAP-8012328-3"},{"$f":"E2699&F2699","v":"SAP-8012328-3CloudS4 & Native HANA Solutions"},null,"SAP Colombia","SAP-8012328-3","CloudS4 & Native HANA Solutions",{"$f":"D2699","v":"SAP Colombia"},"USD","N/A","SAP S/4HANA Cloud for Reinsurance Assumed Risks, private edition, insurance option",1119900,"Serv","Suscripcion","N/A","N/A","N/A","SAP-8012328-3","Forma de pago estandar a 30 dias",84,1,0,"USD"]
[{"$f":"D2700&F2700&E2700","v":"SAP ColombiaCloudS4 & Native HANA SolutionsSAP-8012328-4"},{"$f":"E2700&F2700","v":"SAP-8012328-4CloudS4 & Native HANA Solutions"},null,"SAP Colombia","SAP-8012328-4","CloudS4 & Native HANA Solutions",{"$f":"D2700","v":"SAP Colombia"},"USD","N/A","SAP S/4HANA Cloud for Reinsurance Assumed Risks, private edition, insurance option",1119900,"Serv","Suscripcion","N/A","N/A","N/A","SAP-8012328-4","Forma de pago estandar a 30 dias",73,1,0,"USD"]
[{"$f":"D2701&F2701&E2701","v":"SAP ColombiaCloudS4 & Native HANA SolutionsSAP-8012328-5"},{"$f":"E2701&F2701","v":"SAP-8012328-5CloudS4 & Native HANA Solutions"},null,"SAP Colombia","SAP-8012328-5","CloudS4 & Native HANA Solutions",{"$f":"D2701","v":"SAP Colombia"},"USD","N/A","SAP S/4HANA Cloud for Reinsurance Assumed Risks, private edition, insurance option",1119900,"Serv","Suscripcion","N/A","N/A","N/A","SAP-8012328-5","Forma de pago estandar a 30 dias",67,1,0,"USD"]
[{"$f":"D2702&F2702&E2702","v":"SAP ColombiaCloudS4 & Native HANA SolutionsSAP-8012328-6"},{"$f":"E2702&F2702","v":"SAP-8012328-6CloudS4 & Native HANA Solutions"},null,"SAP Colombia","SAP-8012328-6","CloudS4 & Native HANA Solutions",{"$f":"D2702","v":"SAP Colombia"},"USD","N/A","SAP S/4HANA Cloud for Reinsurance Assumed Risks, private edition, insurance option",1119900,"Serv","Suscripcion","N/A","N/A","N/A","SAP-8012328-6","Forma de pago estandar a 30 dias",62,1,0,"USD"]
[{"$f":"D2703&F2703&E2703","v":"SAP ColombiaCloudS4 & Native HANA SolutionsSAP-8012329-1"},{"$f":"E2703&F2703","v":"SAP-8012329-1CloudS4 & Native HANA Solutions"},null,"SAP Colombia","SAP-8012329-1","CloudS4 & Native HANA Solutions",{"$f":"D2703","v":"SAP Colombia"},"USD","N/A","SAP S/4HANA Cloud for Reinsurance Ceded Risks, private edition, insurance option",1119900,"Serv","Suscripcion","N/A","N/A","N/A","SAP-8012329-1","Forma de pago estandar a 30 dias",106,1,0,"USD"]
[{"$f":"D2704&F2704&E2704","v":"SAP ColombiaCloudS4 & Native HANA SolutionsSAP-8012329-2"},{"$f":"E2704&F2704","v":"SAP-8012329-2CloudS4 & Native HANA Solutions"},null,"SAP Colombia","SAP-8012329-2","CloudS4 & Native HANA Solutions",{"$f":"D2704","v":"SAP Colombia"},"USD","N/A","SAP S/4HANA Cloud for Reinsurance Ceded Risks, private edition, insurance option",1119900,"Serv","Suscripcion","N/A","N/A","N/A","SAP-8012329-2","Forma de pago estandar a 30 dias",90,1,0,"USD"]
[{"$f":"D2705&F2705&E2705","v":"SAP ColombiaCloudS4 & Native HANA SolutionsSAP-8012329-3"},{"$f":"E2705&F2705","v":"SAP-8012329-3CloudS4 & Native HANA Solutions"},null,"SAP Colombia","SAP-8012329-3","CloudS4 & Native HANA Solutions",{"$f":"D2705","v":"SAP Colombia"},"USD","N/A","SAP S/4HANA Cloud for Reinsurance Ceded Risks, private edition, insurance option",1119900,"Serv","Suscripcion","N/A","N/A","N/A","SAP-8012329-3","Forma de pago estandar a 30 dias",78,1,0,"USD"]
[{"$f":"D2706&F2706&E2706","v":"SAP ColombiaCloudS4 & Native HANA SolutionsSAP-8012329-4"},{"$f":"E2706&F2706","v":"SAP-8012329-4CloudS4 & Native HANA Solutions"},null,"SAP Colombia","SAP-8012329-4","CloudS4 & Native HANA Solutions",{"$f":"D2706","v":"SAP Colombia"},"USD","N/A","SAP S/4HANA Cloud for Reinsurance Ceded Risks, private edition, insurance option",1119900,"Serv","Suscripcion","N/A","N/A","N/A","SAP-8012329-4","Forma de pago estandar a 30 dias",67,1,0,"USD"]
[{"$f":"D2707&F2707&E2707","v":"SAP ColombiaCloudS4 & Native HANA SolutionsSAP-8012329-5"},{"$f":"E2707&F2707","v":"SAP-8012329-5CloudS4 & Native HANA Solutions"},null,"SAP Colombia","SAP-8012329-5","CloudS4 & Native HANA Solutions",{"$f":"D2707","v":"SAP Colombia"},"USD","N/A","SAP S/4HANA Cloud for Reinsurance Ceded Risks, private edition, insurance option",1119900,"Serv","Suscripcion","N/A","N/A","N/A","SAP-8012329-5","Forma de pago estandar a 30 dias",56,1,0,"USD"]
[{"$f":"D2708&F2708&E2708","v":"SAP ColombiaCloudS4 & Native HANA SolutionsSAP-8012329-6"},{"$f":"E2708&F2708","v":"SAP-8012329-6CloudS4 & Native HANA Solutions"},null,"SAP Colombia","SAP-8012329-6","CloudS4 & Native HANA Solutions",{"$f":"D2708","v":"SAP Colombia"},"USD","N/A","SAP S/4HANA Cloud for Reinsurance Ceded Risks, private edition, insurance option",1119900,"Serv","Suscripcion","N/A","N/A","N/A","SAP-8012329-6","Forma de pago estandar a 30 dias",45,1,0,"USD"]
[{"$f":"D2709&F2709&E2709","v":"SAP ColombiaCloudS4 & Native HANA SolutionsSAP-8006361-1"},{"$f":"E2709&F2709","v":"SAP-8006361-1CloudS4 & Native HANA Solutions"},null,"SAP Colombia","SAP-8006361-1","CloudS4 & Native HANA Solutions",{"$f":"D2709","v":"SAP Colombia"},"USD","N/A","SAP S/4HANA Cloud for upstream oil and gas",10000,"Serv","Suscripcion","N/A","N/A","N/A","SAP-8006361-1","Forma de pago estandar a 30 dias",894,1,0,"USD"]
[{"$f":"D2710&F2710&E2710","v":"SAP ColombiaCloudS4 & Native HANA SolutionsSAP-8006361-2"},{"$f":"E2710&F2710","v":"SAP-8006361-2CloudS4 & Native HANA Solutions"},null,"SAP Colombia","SAP-8006361-2","CloudS4 & Native HANA Solutions",{"$f":"D2710","v":"SAP Colombia"},"USD","N/A","SAP S/4HANA Cloud for upstream oil and gas",10000,"Serv","Suscripcion","N/A","N/A","N/A","SAP-8006361-2","Forma de pago estandar a 30 dias",709,1,0,"USD"]
[{"$f":"D2711&F2711&E2711","v":"SAP ColombiaCloudS4 & Native HANA SolutionsSAP-8006361-3"},{"$f":"E2711&F2711","v":"SAP-8006361-3CloudS4 & Native HANA Solutions"},null,"SAP Colombia","SAP-8006361-3","CloudS4 & Native HANA Solutions",{"$f":"D2711","v":"SAP Colombia"},"USD","N/A","SAP S/4HANA Cloud for upstream oil and gas",10000,"Serv","Suscripcion","N/A","N/A","N/A","SAP-8006361-3","Forma de pago estandar a 30 dias",586,1,0,"USD"]
[{"$f":"D2712&F2712&E2712","v":"SAP ColombiaCloudS4 & Native HANA SolutionsSAP-8008684-1"},{"$f":"E2712&F2712","v":"SAP-8008684-1CloudS4 & Native HANA Solutions"},null,"SAP Colombia","SAP-8008684-1","CloudS4 & Native HANA Solutions",{"$f":"D2712","v":"SAP Colombia"},"USD","N/A","SAP S/4HANA Cloud for oil and gas upstream contracts management, private edition",10000,"Serv","Suscripcion","N/A","N/A","N/A","SAP-8008684-1","Forma de pago estandar a 30 dias",1955,1,0,"USD"]
[{"$f":"D2713&F2713&E2713","v":"SAP ColombiaCloudS4 & Native HANA SolutionsSAP-8008684-2"},{"$f":"E2713&F2713","v":"SAP-8008684-2CloudS4 & Native HANA Solutions"},null,"SAP Colombia","SAP-8008684-2","CloudS4 & Native HANA Solutions",{"$f":"D2713","v":"SAP Colombia"},"USD","N/A","SAP S/4HANA Cloud for oil and gas upstream contracts management, private edition",10000,"Serv","Suscripcion","N/A","N/A","N/A","SAP-8008684-2","Forma de pago estandar a 30 dias",1156,1,0,"USD"]
[{"$f":"D2714&F2714&E2714","v":"SAP ColombiaCloudS4 & Native HANA SolutionsSAP-8008684-3"},{"$f":"E2714&F2714","v":"SAP-8008684-3CloudS4 & Native HANA Solutions"},null,"SAP Colombia","SAP-8008684-3","CloudS4 & Native HANA Solutions",{"$f":"D2714","v":"SAP Colombia"},"USD","N/A","SAP S/4HANA Cloud for oil and gas upstream contracts management, private edition",10000,"Serv","Suscripcion","N/A","N/A","N/A","SAP-8008684-3","Forma de pago estandar a 30 dias",1054,1,0,"USD"]
[{"$f":"D2715&F2715&E2715","v":"SAP ColombiaCloudS4 & Native HANA SolutionsSAP-8008700-1"},{"$f":"E2715&F2715","v":"SAP-8008700-1CloudS4 & Native HANA Solutions"},null,"SAP Colombia","SAP-8008700-1","CloudS4 & Native HANA Solutions",{"$f":"D2715","v":"SAP Colombia"},"USD","N/A","SAP S/4HANA Cloud for oil and gas hydrocarbon supply and primary distribution, private edition",10000,"Serv","Suscripcion","N/A","N/A","N/A","SAP-8008700-1","Forma de pago estandar a 30 dias",2867,1,0,"USD"]
[{"$f":"D2716&F2716&E2716","v":"SAP ColombiaCloudS4 & Native HANA SolutionsSAP-8008700-2"},{"$f":"E2716&F2716","v":"SAP-8008700-2CloudS4 & Native HANA Solutions"},null,"SAP Colombia","SAP-8008700-2","CloudS4 & Native HANA Solutions",{"$f":"D2716","v":"SAP Colombia"},"USD","N/A","SAP S/4HANA Cloud for oil and gas hydrocarbon supply and primary distribution, private edition",10000,"Serv","Suscripcion","N/A","N/A","N/A","SAP-8008700-2","Forma de pago estandar a 30 dias",2164,1,0,"USD"]
[{"$f":"D2717&F2717&E2717","v":"SAP ColombiaCloudS4 & Native HANA SolutionsSAP-8008700-3"},{"$f":"E2717&F2717","v":"SAP-8008700-3CloudS4 & Native HANA Solutions"},null,"SAP Colombia","SAP-8008700-3","CloudS4 & Native HANA Solutions",{"$f":"D2717","v":"SAP Colombia"},"USD","N/A","SAP S/4HANA Cloud for oil and gas hydrocarbon supply and primary distribution, private edition",10000,"Serv","Suscripcion","N/A","N/A","N/A","SAP-8008700-3","Forma de pago estandar a 30 dias",2023,1,0,"USD"]
[{"$f":"D2718&F2718&E2718","v":"SAP ColombiaCloudS4 & Native HANA SolutionsSAP-8008725-1"},{"$f":"E2718&F2718","v":"SAP-8008725-1CloudS4 & Native HANA Solutions"},null,"SAP Colombia","SAP-8008725-1","CloudS4 & Native HANA Solutions",{"$f":"D2718","v":"SAP Colombia"},"USD","N/A","SAP S/4HANA Cloud for oil and gas hydrocarbon management, private edition",10000,"Serv","Suscripcion","N/A","N/A","N/A","SAP-8008725-1","Forma de pago estandar a 30 dias",1612,1,0,"USD"]
[{"$f":"D2719&F2719&E2719","v":"SAP ColombiaCloudS4 & Native HANA SolutionsSAP-8008725-2"},{"$f":"E2719&F2719","v":"SAP-8008725-2CloudS4 & Native HANA Solutions"},null,"SAP Colombia","SAP-8008725-2","CloudS4 & Native HANA Solutions",{"$f":"D2719","v":"SAP Colombia"},"USD","N/A","SAP S/4HANA Cloud for oil and gas hydrocarbon management, private edition",10000,"Serv","Suscripcion","N/A","N/A","N/A","SAP-8008725-2","Forma de pago estandar a 30 dias",1034,1,0,"USD"]
[{"$f":"D2720&F2720&E2720","v":"SAP ColombiaCloudS4 & Native HANA SolutionsSAP-8008725-3"},{"$f":"E2720&F2720","v":"SAP-8008725-3CloudS4 & Native HANA Solutions"},null,"SAP Colombia","SAP-8008725-3","CloudS4 & Native HANA Solutions",{"$f":"D2720","v":"SAP Colombia"},"USD","N/A","SAP S/4HANA Cloud for oil and gas hydrocarbon management, private edition",10000,"Serv","Suscripcion","N/A","N/A","N/A","SAP-8008725-3","Forma de pago estandar a 30 dias",866,1,0,"USD"]
[{"$f":"D2721&F2721&E2721","v":"SAP ColombiaCloudS4 & Native HANA SolutionsSAP-8008745-1"},{"$f":"E2721&F2721","v":"SAP-8008745-1CloudS4 & Native HANA Solutions"},null,"SAP Colombia","SAP-8008745-1","CloudS4 & Native HANA Solutions",{"$f":"D2721","v":"SAP Colombia"},"USD","N/A","SAP S/4HANA Cloud for oil and gas upstream hydrocarbon accounting and management, private edition",10000,"Serv","Suscripcion","N/A","N/A","N/A","SAP-8008745-1","Forma de pago estandar a 30 dias",3280,1,0,"USD"]
[{"$f":"D2722&F2722&E2722","v":"SAP ColombiaCloudS4 & Native HANA SolutionsSAP-8008745-2"},{"$f":"E2722&F2722","v":"SAP-8008745-2CloudS4 & Native HANA Solutions"},null,"SAP Colombia","SAP-8008745-2","CloudS4 & Native HANA Solutions",{"$f":"D2722","v":"SAP Colombia"},"USD","N/A","SAP S/4HANA Cloud for oil and gas upstream hydrocarbon accounting and management, private edition",10000,"Serv","Suscripcion","N/A","N/A","N/A","SAP-8008745-2","Forma de pago estandar a 30 dias",2540,1,0,"USD"]
[{"$f":"D2723&F2723&E2723","v":"SAP ColombiaCloudS4 & Native HANA SolutionsSAP-8008745-3"},{"$f":"E2723&F2723","v":"SAP-8008745-3CloudS4 & Native HANA Solutions"},null,"SAP Colombia","SAP-8008745-3","CloudS4 & Native HANA Solutions",{"$f":"D2723","v":"SAP Colombia"},"USD","N/A","SAP S/4HANA Cloud for oil and gas upstream hydrocarbon accounting and management, private edition",10000,"Serv","Suscripcion","N/A","N/A","N/A","SAP-8008745-3","Forma de pago estandar a 30 dias",2438,1,0,"USD"]
[{"$f":"D2724&F2724&E2724","v":"SAP ColombiaCloudS4 & Native HANA SolutionsSAP-8011517-1"},{"$f":"E2724&F2724","v":"SAP-8011517-1CloudS4 & Native HANA Solutions"},null,"SAP Colombia","SAP-8011517-1","CloudS4 & Native HANA Solutions",{"$f":"D2724","v":"SAP Colombia"},"USD","N/A","SAP S/4HANA Cloud for upstream oil and gas revenue management",10000,"Serv","Suscripcion","N/A","N/A","N/A","SAP-8011517-1","Forma de pago estandar a 30 dias",2520,1,0,"USD"]
[{"$f":"D2725&F2725&E2725","v":"SAP ColombiaCloudS4 & Native HANA SolutionsSAP-8011517-2"},{"$f":"E2725&F2725","v":"SAP-8011517-2CloudS4 & Native HANA Solutions"},null,"SAP Colombia","SAP-8011517-2","CloudS4 & Native HANA Solutions",{"$f":"D2725","v":"SAP Colombia"},"USD","N/A","SAP S/4HANA Cloud for upstream oil and gas revenue management",10000,"Serv","Suscripcion","N/A","N/A","N/A","SAP-8011517-2","Forma de pago estandar a 30 dias",1532,1,0,"USD"]
[{"$f":"D2726&F2726&E2726","v":"SAP ColombiaCloudS4 & Native HANA SolutionsSAP-8011517-3"},{"$f":"E2726&F2726","v":"SAP-8011517-3CloudS4 & Native HANA Solutions"},null,"SAP Colombia","SAP-8011517-3","CloudS4 & Native HANA Solutions",{"$f":"D2726","v":"SAP Colombia"},"USD","N/A","SAP S/4HANA Cloud for upstream oil and gas revenue management",10000,"Serv","Suscripcion","N/A","N/A","N/A","SAP-8011517-3","Forma de pago estandar a 30 dias",1246,1,0,"USD"]
[{"$f":"D2727&F2727&E2727","v":"SAP ColombiaCloudS4 & Native HANA SolutionsSAP-8009370-1"},{"$f":"E2727&F2727","v":"SAP-8009370-1CloudS4 & Native HANA Solutions"},null,"SAP Colombia","SAP-8009370-1","CloudS4 & Native HANA Solutions",{"$f":"D2727","v":"SAP Colombia"},"USD","N/A","SAP S/4HANA Cloud for Public Sector for tax, social services and payment processing, private edition",10000,"Serv","Suscripcion","N/A","N/A","N/A","SAP-8009370-1","Forma de pago estandar a 30 dias",1356,1,0,"USD"]
[{"$f":"D2728&F2728&E2728","v":"SAP ColombiaCloudS4 & Native HANA SolutionsSAP-8009370-2"},{"$f":"E2728&F2728","v":"SAP-8009370-2CloudS4 & Native HANA Solutions"},null,"SAP Colombia","SAP-8009370-2","CloudS4 & Native HANA Solutions",{"$f":"D2728","v":"SAP Colombia"},"USD","N/A","SAP S/4HANA Cloud for Public Sector for tax, social services and payment processing, private edition",10000,"Serv","Suscripcion","N/A","N/A","N/A","SAP-8009370-2","Forma de pago estandar a 30 dias",1121,1,0,"USD"]
[{"$f":"D2729&F2729&E2729","v":"SAP ColombiaCloudS4 & Native HANA SolutionsSAP-8009370-3"},{"$f":"E2729&F2729","v":"SAP-8009370-3CloudS4 & Native HANA Solutions"},null,"SAP Colombia","SAP-8009370-3","CloudS4 & Native HANA Solutions",{"$f":"D2729","v":"SAP Colombia"},"USD","N/A","SAP S/4HANA Cloud for Public Sector for tax, social services and payment processing, private edition",10000,"Serv","Suscripcion","N/A","N/A","N/A","SAP-8009370-3","Forma de pago estandar a 30 dias",850,1,0,"USD"]
[{"$f":"D2730&F2730&E2730","v":"SAP ColombiaCloudS4 & Native HANA SolutionsSAP-8009370-4"},{"$f":"E2730&F2730","v":"SAP-8009370-4CloudS4 & Native HANA Solutions"},null,"SAP Colombia","SAP-8009370-4","CloudS4 & Native HANA Solutions",{"$f":"D2730","v":"SAP Colombia"},"USD","N/A","SAP S/4HANA Cloud for Public Sector for tax, social services and payment processing, private edition",10000,"Serv","Suscripcion","N/A","N/A","N/A","SAP-8009370-4","Forma de pago estandar a 30 dias",714,1,0,"USD"]
[{"$f":"D2731&F2731&E2731","v":"SAP ColombiaCloudS4 & Native HANA SolutionsSAP-8011543-1"},{"$f":"E2731&F2731","v":"SAP-8011543-1CloudS4 & Native HANA Solutions"},null,"SAP Colombia","SAP-8011543-1","CloudS4 & Native HANA Solutions",{"$f":"D2731","v":"SAP Colombia"},"USD","N/A","SAP S/4HANA Cloud for behavioral insights, private edition",10000,"Serv","Suscripcion","N/A","N/A","N/A","SAP-8011543-1","Forma de pago estandar a 30 dias",300,1,0,"USD"]
[{"$f":"D2732&F2732&E2732","v":"SAP ColombiaCloudS4 & Native HANA SolutionsSAP-8011543-2"},{"$f":"E2732&F2732","v":"SAP-8011543-2CloudS4 & Native HANA Solutions"},null,"SAP Colombia","SAP-8011543-2","CloudS4 & Native HANA Solutions",{"$f":"D2732","v":"SAP Colombia"},"USD","N/A","SAP S/4HANA Cloud for behavioral insights, private edition",10000,"Serv","Suscripcion","N/A","N/A","N/A","SAP-8011543-2","Forma de pago estandar a 30 dias",247,1,0,"USD"]
[{"$f":"D2733&F2733&E2733","v":"SAP ColombiaCloudS4 & Native HANA SolutionsSAP-8011543-3"},{"$f":"E2733&F2733","v":"SAP-8011543-3CloudS4 & Native HANA Solutions"},null,"SAP Colombia","SAP-8011543-3","CloudS4 & Native HANA Solutions",{"$f":"D2733","v":"SAP Colombia"},"USD","N/A","SAP S/4HANA Cloud for behavioral insights, private edition",10000,"Serv","Suscripcion","N/A","N/A","N/A","SAP-8011543-3","Forma de pago estandar a 30 dias",185,1,0,"USD"]
[{"$f":"D2734&F2734&E2734","v":"SAP ColombiaCloudS4 & Native HANA SolutionsSAP-8011543-4"},{"$f":"E2734&F2734","v":"SAP-8011543-4CloudS4 & Native HANA Solutions"},null,"SAP Colombia","SAP-8011543-4","CloudS4 & Native HANA Solutions",{"$f":"D2734","v":"SAP Colombia"},"USD","N/A","SAP S/4HANA Cloud for behavioral insights, private edition",10000,"Serv","Suscripcion","N/A","N/A","N/A","SAP-8011543-4","Forma de pago estandar a 30 dias",165,1,0,"USD"]
[{"$f":"D2735&F2735&E2735","v":"SAP ColombiaCloudS4 & Native HANA SolutionsSAP-8012631"},{"$f":"E2735&F2735","v":"SAP-8012631CloudS4 & Native HANA Solutions"},null,"SAP Colombia","SAP-8012631","CloudS4 & Native HANA Solutions",{"$f":"D2735","v":"SAP Colombia"},"USD","N/A","SAP S/4HANA Cloud for Retail merchandise management, private edition",1,"Serv","Suscripcion","N/A","N/A","N/A","SAP-8012631","Forma de pago estandar a 30 dias",54315,1,0,"USD"]
[{"$f":"D2736&F2736&E2736","v":"SAP ColombiaCloudS4 & Native HANA SolutionsSAP-8012632"},{"$f":"E2736&F2736","v":"SAP-8012632CloudS4 & Native HANA Solutions"},null,"SAP Colombia","SAP-8012632","CloudS4 & Native HANA Solutions",{"$f":"D2736","v":"SAP Colombia"},"USD","N/A","SAP S/4HANA Cloud for fashion and vertical business, private edition",1,"Serv","Suscripcion","N/A","N/A","N/A","SAP-8012632","Forma de pago estandar a 30 dias",54315,1,0,"USD"]
[{"$f":"D2737&F2737&E2737","v":"SAP ColombiaCloudS4 & Native HANA SolutionsSAP-8012633-1"},{"$f":"E2737&F2737","v":"SAP-8012633-1CloudS4 & Native HANA Solutions"},null,"SAP Colombia","SAP-8012633-1","CloudS4 & Native HANA Solutions",{"$f":"D2737","v":"SAP Colombia"},"USD","N/A","SAP S/4HANA Cloud foundation for retail and fashion, private edition",12000,"Serv","Suscripcion","N/A","N/A","N/A","SAP-8012633-1","Forma de pago estandar a 30 dias",90,1,0,"USD"]
[{"$f":"D2738&F2738&E2738","v":"SAP ColombiaCloudS4 & Native HANA SolutionsSAP-8012633-2"},{"$f":"E2738&F2738","v":"SAP-8012633-2CloudS4 & Native HANA Solutions"},null,"SAP Colombia","SAP-8012633-2","CloudS4 & Native HANA Solutions",{"$f":"D2738","v":"SAP Colombia"},"USD","N/A","SAP S/4HANA Cloud foundation for retail and fashion, private edition",12000,"Serv","Suscripcion","N/A","N/A","N/A","SAP-8012633-2","Forma de pago estandar a 30 dias",84,1,0,"USD"]
[{"$f":"D2739&F2739&E2739","v":"SAP ColombiaCloudS4 & Native HANA SolutionsSAP-8012633-3"},{"$f":"E2739&F2739","v":"SAP-8012633-3CloudS4 & Native HANA Solutions"},null,"SAP Colombia","SAP-8012633-3","CloudS4 & Native HANA Solutions",{"$f":"D2739","v":"SAP Colombia"},"USD","N/A","SAP S/4HANA Cloud foundation for retail and fashion, private edition",12000,"Serv","Suscripcion","N/A","N/A","N/A","SAP-8012633-3","Forma de pago estandar a 30 dias",78,1,0,"USD"]
[{"$f":"D2740&F2740&E2740","v":"SAP ColombiaCloudS4 & Native HANA SolutionsSAP-8012633-4"},{"$f":"E2740&F2740","v":"SAP-8012633-4CloudS4 & Native HANA Solutions"},null,"SAP Colombia","SAP-8012633-4","CloudS4 & Native HANA Solutions",{"$f":"D2740","v":"SAP Colombia"},"USD","N/A","SAP S/4HANA Cloud foundation for retail and fashion, private edition",12000,"Serv","Suscripcion","N/A","N/A","N/A","SAP-8012633-4","Forma de pago estandar a 30 dias",73,1,0,"USD"]
[{"$f":"D2741&F2741&E2741","v":"SAP ColombiaCloudS4 & Native HANA SolutionsSAP-8012633-5"},{"$f":"E2741&F2741","v":"SAP-8012633-5CloudS4 & Native HANA Solutions"},null,"SAP Colombia","SAP-8012633-5","CloudS4 & Native HANA Solutions",{"$f":"D2741","v":"SAP Colombia"},"USD","N/A","SAP S/4HANA Cloud foundation for retail and fashion, private edition",12000,"Serv","Suscripcion","N/A","N/A","N/A","SAP-8012633-5","Forma de pago estandar a 30 dias",62,1,0,"USD"]
[{"$f":"D2742&F2742&E2742","v":"SAP ColombiaCloudS4 & Native HANA SolutionsSAP-8012633-6"},{"$f":"E2742&F2742","v":"SAP-8012633-6CloudS4 & Native HANA Solutions"},null,"SAP Colombia","SAP-8012633-6","CloudS4 & Native HANA Solutions",{"$f":"D2742","v":"SAP Colombia"},"USD","N/A","SAP S/4HANA Cloud foundation for retail and fashion, private edition",12000,"Serv","Suscripcion","N/A","N/A","N/A","SAP-8012633-6","Forma de pago estandar a 30 dias",56,1,0,"USD"]
[{"$f":"D2743&F2743&E2743","v":"SAP ColombiaCloudS4 & Native HANA SolutionsSAP-8008662-1"},{"$f":"E2743&F2743","v":"SAP-8008662-1CloudS4 & Native HANA Solutions"},null,"SAP Colombia","SAP-8008662-1","CloudS4 & Native HANA Solutions",{"$f":"D2743","v":"SAP Colombia"},"USD","N/A","S/4HANA Cloud for water utilities, private edition",1000,"Serv","Suscripcion","N/A","N/A","N/A","SAP-8008662-1","Forma de pago estandar a 30 dias",44,1,0,"USD"]
[{"$f":"D2744&F2744&E2744","v":"SAP ColombiaCloudS4 & Native HANA SolutionsSAP-8008662-2"},{"$f":"E2744&F2744","v":"SAP-8008662-2CloudS4 & Native HANA Solutions"},null,"SAP Colombia","SAP-8008662-2","CloudS4 & Native HANA Solutions",{"$f":"D2744","v":"SAP Colombia"},"USD","N/A","S/4HANA Cloud for water utilities, private edition",1000,"Serv","Suscripcion","N/A","N/A","N/A","SAP-8008662-2","Forma de pago estandar a 30 dias",29,1,0,"USD"]
[{"$f":"D2745&F2745&E2745","v":"SAP ColombiaCloudS4 & Native HANA SolutionsSAP-8008662-3"},{"$f":"E2745&F2745","v":"SAP-8008662-3CloudS4 & Native HANA Solutions"},null,"SAP Colombia","SAP-8008662-3","CloudS4 & Native HANA Solutions",{"$f":"D2745","v":"SAP Colombia"},"USD","N/A","S/4HANA Cloud for water utilities, private edition",1000,"Serv","Suscripcion","N/A","N/A","N/A","SAP-8008662-3","Forma de pago estandar a 30 dias",21,1,0,"USD"]
[{"$f":"D2746&F2746&E2746","v":"SAP ColombiaCloudS4 & Native HANA SolutionsSAP-8008728-1"},{"$f":"E2746&F2746","v":"SAP-8008728-1CloudS4 & Native HANA Solutions"},null,"SAP Colombia","SAP-8008728-1","CloudS4 & Native HANA Solutions",{"$f":"D2746","v":"SAP Colombia"},"USD","N/A","S/4HANA Cloud for energy utilities, private edition",1000,"Serv","Suscripcion","N/A","N/A","N/A","SAP-8008728-1","Forma de pago estandar a 30 dias",44,1,0,"USD"]
[{"$f":"D2747&F2747&E2747","v":"SAP ColombiaCloudS4 & Native HANA SolutionsSAP-8008728-2"},{"$f":"E2747&F2747","v":"SAP-8008728-2CloudS4 & Native HANA Solutions"},null,"SAP Colombia","SAP-8008728-2","CloudS4 & Native HANA Solutions",{"$f":"D2747","v":"SAP Colombia"},"USD","N/A","S/4HANA Cloud for energy utilities, private edition",1000,"Serv","Suscripcion","N/A","N/A","N/A","SAP-8008728-2","Forma de pago estandar a 30 dias",29,1,0,"USD"]
[{"$f":"D2748&F2748&E2748","v":"SAP ColombiaCloudS4 & Native HANA SolutionsSAP-8008728-3"},{"$f":"E2748&F2748","v":"SAP-8008728-3CloudS4 & Native HANA Solutions"},null,"SAP Colombia","SAP-8008728-3","CloudS4 & Native HANA Solutions",{"$f":"D2748","v":"SAP Colombia"},"USD","N/A","S/4HANA Cloud for energy utilities, private edition",1000,"Serv","Suscripcion","N/A","N/A","N/A","SAP-8008728-3","Forma de pago estandar a 30 dias",21,1,0,"USD"]
[{"$f":"D2749&F2749&E2749","v":"SAP ColombiaCloudS4 & Native HANA SolutionsSAP-8008759-1"},{"$f":"E2749&F2749","v":"SAP-8008759-1CloudS4 & Native HANA Solutions"},null,"SAP Colombia","SAP-8008759-1","CloudS4 & Native HANA Solutions",{"$f":"D2749","v":"SAP Colombia"},"USD","N/A","SAP S/4HANA Cloud for utilities customer engagement, private edition",1000,"Serv","Suscripcion","N/A","N/A","N/A","SAP-8008759-1","Forma de pago estandar a 30 dias",15,1,0,"USD"]
[{"$f":"D2750&F2750&E2750","v":"SAP ColombiaCloudS4 & Native HANA SolutionsSAP-8008759-2"},{"$f":"E2750&F2750","v":"SAP-8008759-2CloudS4 & Native HANA Solutions"},null,"SAP Colombia","SAP-8008759-2","CloudS4 & Native HANA Solutions",{"$f":"D2750","v":"SAP Colombia"},"USD","N/A","SAP S/4HANA Cloud for utilities customer engagement, private edition",1000,"Serv","Suscripcion","N/A","N/A","N/A","SAP-8008759-2","Forma de pago estandar a 30 dias",13,1,0,"USD"]
[{"$f":"D2751&F2751&E2751","v":"SAP ColombiaCloudS4 & Native HANA SolutionsSAP-8008759-3"},{"$f":"E2751&F2751","v":"SAP-8008759-3CloudS4 & Native HANA Solutions"},null,"SAP Colombia","SAP-8008759-3","CloudS4 & Native HANA Solutions",{"$f":"D2751","v":"SAP Colombia"},"USD","N/A","SAP S/4HANA Cloud for utilities customer engagement, private edition",1000,"Serv","Suscripcion","N/A","N/A","N/A","SAP-8008759-3","Forma de pago estandar a 30 dias",11,1,0,"USD"]
[{"$f":"D2752&F2752&E2752","v":"SAP ColombiaCloudS4 & Native HANA SolutionsSAP-8008760-1"},{"$f":"E2752&F2752","v":"SAP-8008760-1CloudS4 & Native HANA Solutions"},null,"SAP Colombia","SAP-8008760-1","CloudS4 & Native HANA Solutions",{"$f":"D2752","v":"SAP Colombia"},"USD","N/A","SAP S/4HANA Cloud for EEG billing of German electricity, private edition",1000,"Serv","Suscripcion","N/A","N/A","N/A","SAP-8008760-1","Forma de pago estandar a 30 dias",53,1,0,"USD"]
[{"$f":"D2753&F2753&E2753","v":"SAP ColombiaCloudS4 & Native HANA SolutionsSAP-8008760-2"},{"$f":"E2753&F2753","v":"SAP-8008760-2CloudS4 & Native HANA Solutions"},null,"SAP Colombia","SAP-8008760-2","CloudS4 & Native HANA Solutions",{"$f":"D2753","v":"SAP Colombia"},"USD","N/A","SAP S/4HANA Cloud for EEG billing of German electricity, private edition",1000,"Serv","Suscripcion","N/A","N/A","N/A","SAP-8008760-2","Forma de pago estandar a 30 dias",30,1,0,"USD"]
[{"$f":"D2754&F2754&E2754","v":"SAP ColombiaCloudS4 & Native HANA SolutionsSAP-8008760-3"},{"$f":"E2754&F2754","v":"SAP-8008760-3CloudS4 & Native HANA Solutions"},null,"SAP Colombia","SAP-8008760-3","CloudS4 & Native HANA Solutions",{"$f":"D2754","v":"SAP Colombia"},"USD","N/A","SAP S/4HANA Cloud for EEG billing of German electricity, private edition",1000,"Serv","Suscripcion","N/A","N/A","N/A","SAP-8008760-3","Forma de pago estandar a 30 dias",21,1,0,"USD"]
[{"$f":"D2755&F2755&E2755","v":"SAP ColombiaCloudS4 & Native HANA SolutionsSAP-8008762-1"},{"$f":"E2755&F2755","v":"SAP-8008762-1CloudS4 & Native HANA Solutions"},null,"SAP Colombia","SAP-8008762-1","CloudS4 & Native HANA Solutions",{"$f":"D2755","v":"SAP Colombia"},"USD","N/A","SAP S/4HANA Cloud for intelligent metering of German energy, private edition",1000,"Serv","Suscripcion","N/A","N/A","N/A","SAP-8008762-1","Forma de pago estandar a 30 dias",59,1,0,"USD"]
[{"$f":"D2756&F2756&E2756","v":"SAP ColombiaCloudS4 & Native HANA SolutionsSAP-8008762-2"},{"$f":"E2756&F2756","v":"SAP-8008762-2CloudS4 & Native HANA Solutions"},null,"SAP Colombia","SAP-8008762-2","CloudS4 & Native HANA Solutions",{"$f":"D2756","v":"SAP Colombia"},"USD","N/A","SAP S/4HANA Cloud for intelligent metering of German energy, private edition",1000,"Serv","Suscripcion","N/A","N/A","N/A","SAP-8008762-2","Forma de pago estandar a 30 dias",47,1,0,"USD"]
[{"$f":"D2757&F2757&E2757","v":"SAP ColombiaCloudS4 & Native HANA SolutionsSAP-8008762-3"},{"$f":"E2757&F2757","v":"SAP-8008762-3CloudS4 & Native HANA Solutions"},null,"SAP Colombia","SAP-8008762-3","CloudS4 & Native HANA Solutions",{"$f":"D2757","v":"SAP Colombia"},"USD","N/A","SAP S/4HANA Cloud for intelligent metering of German energy, private edition",1000,"Serv","Suscripcion","N/A","N/A","N/A","SAP-8008762-3","Forma de pago estandar a 30 dias",32,1,0,"USD"]
[{"$f":"D2758&F2758&E2758","v":"SAP ColombiaCloudS4 & Native HANA SolutionsSAP-8008763-1"},{"$f":"E2758&F2758","v":"SAP-8008763-1CloudS4 & Native HANA Solutions"},null,"SAP Colombia","SAP-8008763-1","CloudS4 & Native HANA Solutions",{"$f":"D2758","v":"SAP Colombia"},"USD","N/A","SAP S/4HANA Cloud, utilities master data updates option for Germany, private edition",1000,"Serv","Suscripcion","N/A","N/A","N/A","SAP-8008763-1","Forma de pago estandar a 30 dias",59,1,0,"USD"]
[{"$f":"D2759&F2759&E2759","v":"SAP ColombiaCloudS4 & Native HANA SolutionsSAP-8008763-2"},{"$f":"E2759&F2759","v":"SAP-8008763-2CloudS4 & Native HANA Solutions"},null,"SAP Colombia","SAP-8008763-2","CloudS4 & Native HANA Solutions",{"$f":"D2759","v":"SAP Colombia"},"USD","N/A","SAP S/4HANA Cloud, utilities master data updates option for Germany, private edition",1000,"Serv","Suscripcion","N/A","N/A","N/A","SAP-8008763-2","Forma de pago estandar a 30 dias",47,1,0,"USD"]
[{"$f":"D2760&F2760&E2760","v":"SAP ColombiaCloudS4 & Native HANA SolutionsSAP-8008763-3"},{"$f":"E2760&F2760","v":"SAP-8008763-3CloudS4 & Native HANA Solutions"},null,"SAP Colombia","SAP-8008763-3","CloudS4 & Native HANA Solutions",{"$f":"D2760","v":"SAP Colombia"},"USD","N/A","SAP S/4HANA Cloud, utilities master data updates option for Germany, private edition",1000,"Serv","Suscripcion","N/A","N/A","N/A","SAP-8008763-3","Forma de pago estandar a 30 dias",32,1,0,"USD"]
[{"$f":"D2761&F2761&E2761","v":"SAP ColombiaCloudS4 & Native HANA SolutionsSAP-8008764-1"},{"$f":"E2761&F2761","v":"SAP-8008764-1CloudS4 & Native HANA Solutions"},null,"SAP Colombia","SAP-8008764-1","CloudS4 & Native HANA Solutions",{"$f":"D2761","v":"SAP Colombia"},"USD","N/A","SAP S/4HANA Cloud for German utilities billing enhancements, private edition",1000,"Serv","Suscripcion","N/A","N/A","N/A","SAP-8008764-1","Forma de pago estandar a 30 dias",55,1,0,"USD"]
[{"$f":"D2762&F2762&E2762","v":"SAP ColombiaCloudS4 & Native HANA SolutionsSAP-8008764-2"},{"$f":"E2762&F2762","v":"SAP-8008764-2CloudS4 & Native HANA Solutions"},null,"SAP Colombia","SAP-8008764-2","CloudS4 & Native HANA Solutions",{"$f":"D2762","v":"SAP Colombia"},"USD","N/A","SAP S/4HANA Cloud for German utilities billing enhancements, private edition",1000,"Serv","Suscripcion","N/A","N/A","N/A","SAP-8008764-2","Forma de pago estandar a 30 dias",39,1,0,"USD"]
[{"$f":"D2763&F2763&E2763","v":"SAP ColombiaCloudS4 & Native HANA SolutionsSAP-8008764-3"},{"$f":"E2763&F2763","v":"SAP-8008764-3CloudS4 & Native HANA Solutions"},null,"SAP Colombia","SAP-8008764-3","CloudS4 & Native HANA Solutions",{"$f":"D2763","v":"SAP Colombia"},"USD","N/A","SAP S/4HANA Cloud for German utilities billing enhancements, private edition",1000,"Serv","Suscripcion","N/A","N/A","N/A","SAP-8008764-3","Forma de pago estandar a 30 dias",28,1,0,"USD"]
[{"$f":"D2764&F2764&E2764","v":"SAP ColombiaCloudS4 & Native HANA SolutionsSAP-8008774-1"},{"$f":"E2764&F2764","v":"SAP-8008774-1CloudS4 & Native HANA Solutions"},null,"SAP Colombia","SAP-8008774-1","CloudS4 & Native HANA Solutions",{"$f":"D2764","v":"SAP Colombia"},"USD","N/A","SAP S/4HANA Cloud for market process management for utilities, private edition",1000,"Serv","Suscripcion","N/A","N/A","N/A","SAP-8008774-1","Forma de pago estandar a 30 dias",49,1,0,"USD"]
[{"$f":"D2765&F2765&E2765","v":"SAP ColombiaCloudS4 & Native HANA SolutionsSAP-8008774-2"},{"$f":"E2765&F2765","v":"SAP-8008774-2CloudS4 & Native HANA Solutions"},null,"SAP Colombia","SAP-8008774-2","CloudS4 & Native HANA Solutions",{"$f":"D2765","v":"SAP Colombia"},"USD","N/A","SAP S/4HANA Cloud for market process management for utilities, private edition",1000,"Serv","Suscripcion","N/A","N/A","N/A","SAP-8008774-2","Forma de pago estandar a 30 dias",30,1,0,"USD"]
[{"$f":"D2766&F2766&E2766","v":"SAP ColombiaCloudS4 & Native HANA SolutionsSAP-8008774-3"},{"$f":"E2766&F2766","v":"SAP-8008774-3CloudS4 & Native HANA Solutions"},null,"SAP Colombia","SAP-8008774-3","CloudS4 & Native HANA Solutions",{"$f":"D2766","v":"SAP Colombia"},"USD","N/A","SAP S/4HANA Cloud for market process management for utilities, private edition",1000,"Serv","Suscripcion","N/A","N/A","N/A","SAP-8008774-3","Forma de pago estandar a 30 dias",21,1,0,"USD"]
[{"$f":"D2767&F2767&E2767","v":"SAP ColombiaCloudS4 & Native HANA SolutionsSAP-8011729-1"},{"$f":"E2767&F2767","v":"SAP-8011729-1CloudS4 & Native HANA Solutions"},null,"SAP Colombia","SAP-8011729-1","CloudS4 & Native HANA Solutions",{"$f":"D2767","v":"SAP Colombia"},"USD","N/A","intercompany data exchange for Swiss electricity and gas utilities for SAP S/4HANA Cloud, private edition​",1000,"Serv","Suscripcion","N/A","N/A","N/A","SAP-8011729-1","Forma de pago estandar a 30 dias",78,1,0,"USD"]
[{"$f":"D2768&F2768&E2768","v":"SAP ColombiaCloudS4 & Native HANA SolutionsSAP-8011729-2"},{"$f":"E2768&F2768","v":"SAP-8011729-2CloudS4 & Native HANA Solutions"},null,"SAP Colombia","SAP-8011729-2","CloudS4 & Native HANA Solutions",{"$f":"D2768","v":"SAP Colombia"},"USD","N/A","intercompany data exchange for Swiss electricity and gas utilities for SAP S/4HANA Cloud, private edition​",1000,"Serv","Suscripcion","N/A","N/A","N/A","SAP-8011729-2","Forma de pago estandar a 30 dias",69,1,0,"USD"]
[{"$f":"D2769&F2769&E2769","v":"SAP ColombiaCloudS4 & Native HANA SolutionsSAP-8011729-3"},{"$f":"E2769&F2769","v":"SAP-8011729-3CloudS4 & Native HANA Solutions"},null,"SAP Colombia","SAP-8011729-3","CloudS4 & Native HANA Solutions",{"$f":"D2769","v":"SAP Colombia"},"USD","N/A","intercompany data exchange for Swiss electricity and gas utilities for SAP S/4HANA Cloud, private edition​",1000,"Serv","Suscripcion","N/A","N/A","N/A","SAP-8011729-3","Forma de pago estandar a 30 dias",63,1,0,"USD"]
[{"$f":"D2770&F2770&E2770","v":"SAP ColombiaCloudS4 & Native HANA SolutionsSAP-8005804"},{"$f":"E2770&F2770","v":"SAP-8005804CloudS4 & Native HANA Solutions"},null,"SAP Colombia","SAP-8005804","CloudS4 & Native HANA Solutions",{"$f":"D2770","v":"SAP Colombia"},"USD","N/A","SAP Learning Hub, edition for S/4HANA Cloud",1,"Serv","Suscripcion","N/A","N/A","N/A","SAP-8005804","Forma de pago estandar a 30 dias",140,1,0,"USD"]
[{"$f":"D2771&F2771&E2771","v":"SAP ColombiaCloudS4 & Native HANA SolutionsSAP-8008748-1"},{"$f":"E2771&F2771","v":"SAP-8008748-1CloudS4 & Native HANA Solutions"},null,"SAP Colombia","SAP-8008748-1","CloudS4 & Native HANA Solutions",{"$f":"D2771","v":"SAP Colombia"},"USD","N/A","SAP Profitability and Performance Management Cloud, private edition",111990000,"Serv","Suscripcion","N/A","N/A","N/A","SAP-8008748-1","Forma de pago estandar a 30 dias",1193,1,0,"USD"]
[{"$f":"D2772&F2772&E2772","v":"SAP ColombiaCloudS4 & Native HANA SolutionsSAP-8008748-2"},{"$f":"E2772&F2772","v":"SAP-8008748-2CloudS4 & Native HANA Solutions"},null,"SAP Colombia","SAP-8008748-2","CloudS4 & Native HANA Solutions",{"$f":"D2772","v":"SAP Colombia"},"USD","N/A","SAP Profitability and Performance Management Cloud, private edition",111990000,"Serv","Suscripcion","N/A","N/A","N/A","SAP-8008748-2","Forma de pago estandar a 30 dias",840,1,0,"USD"]
[{"$f":"D2773&F2773&E2773","v":"SAP ColombiaCloudS4 & Native HANA SolutionsSAP-8008748-3"},{"$f":"E2773&F2773","v":"SAP-8008748-3CloudS4 & Native HANA Solutions"},null,"SAP Colombia","SAP-8008748-3","CloudS4 & Native HANA Solutions",{"$f":"D2773","v":"SAP Colombia"},"USD","N/A","SAP Profitability and Performance Management Cloud, private edition",111990000,"Serv","Suscripcion","N/A","N/A","N/A","SAP-8008748-3","Forma de pago estandar a 30 dias",616,1,0,"USD"]
[{"$f":"D2774&F2774&E2774","v":"SAP ColombiaCloudS4 & Native HANA SolutionsSAP-8008748-4"},{"$f":"E2774&F2774","v":"SAP-8008748-4CloudS4 & Native HANA Solutions"},null,"SAP Colombia","SAP-8008748-4","CloudS4 & Native HANA Solutions",{"$f":"D2774","v":"SAP Colombia"},"USD","N/A","SAP Profitability and Performance Management Cloud, private edition",111990000,"Serv","Suscripcion","N/A","N/A","N/A","SAP-8008748-4","Forma de pago estandar a 30 dias",409,1,0,"USD"]
[{"$f":"D2775&F2775&E2775","v":"SAP ColombiaCloudS4 & Native HANA SolutionsSAP-8008748-5"},{"$f":"E2775&F2775","v":"SAP-8008748-5CloudS4 & Native HANA Solutions"},null,"SAP Colombia","SAP-8008748-5","CloudS4 & Native HANA Solutions",{"$f":"D2775","v":"SAP Colombia"},"USD","N/A","SAP Profitability and Performance Management Cloud, private edition",111990000,"Serv","Suscripcion","N/A","N/A","N/A","SAP-8008748-5","Forma de pago estandar a 30 dias",230,1,0,"USD"]
[{"$f":"D2776&F2776&E2776","v":"SAP ColombiaCloudS4 & Native HANA SolutionsSAP-8009215"},{"$f":"E2776&F2776","v":"SAP-8009215CloudS4 & Native HANA Solutions"},null,"SAP Colombia","SAP-8009215","CloudS4 & Native HANA Solutions",{"$f":"D2776","v":"SAP Colombia"},"USD","N/A","SAP Business Planning and Consolidation professional edition for SAP BW/4HANA Cloud, private edition",1,"Serv","Suscripcion","N/A","N/A","N/A","SAP-8009215","Forma de pago estandar a 30 dias",364,1,0,"USD"]
[{"$f":"D2777&F2777&E2777","v":"SAP ColombiaCloudS4 & Native HANA SolutionsSAP-8009216-1"},{"$f":"E2777&F2777","v":"SAP-8009216-1CloudS4 & Native HANA Solutions"},null,"SAP Colombia","SAP-8009216-1","CloudS4 & Native HANA Solutions",{"$f":"D2777","v":"SAP Colombia"},"USD","N/A","SAP Business Planning and Consolidation standard edition for SAP BW/4HANA Cloud, private edition",1,"Serv","Suscripcion","N/A","N/A","N/A","SAP-8009216-1","Forma de pago estandar a 30 dias",134,1,0,"USD"]
[{"$f":"D2778&F2778&E2778","v":"SAP ColombiaCloudS4 & Native HANA SolutionsSAP-8009216-2"},{"$f":"E2778&F2778","v":"SAP-8009216-2CloudS4 & Native HANA Solutions"},null,"SAP Colombia","SAP-8009216-2","CloudS4 & Native HANA Solutions",{"$f":"D2778","v":"SAP Colombia"},"USD","N/A","SAP Business Planning and Consolidation standard edition for SAP BW/4HANA Cloud, private edition",1,"Serv","Suscripcion","N/A","N/A","N/A","SAP-8009216-2","Forma de pago estandar a 30 dias",112,1,0,"USD"]
[{"$f":"D2779&F2779&E2779","v":"SAP ColombiaCloudS4 & Native HANA SolutionsSAP-8009216-3"},{"$f":"E2779&F2779","v":"SAP-8009216-3CloudS4 & Native HANA Solutions"},null,"SAP Colombia","SAP-8009216-3","CloudS4 & Native HANA Solutions",{"$f":"D2779","v":"SAP Colombia"},"USD","N/A","SAP Business Planning and Consolidation standard edition for SAP BW/4HANA Cloud, private edition",1,"Serv","Suscripcion","N/A","N/A","N/A","SAP-8009216-3","Forma de pago estandar a 30 dias",90,1,0,"USD"]
[{"$f":"D2780&F2780&E2780","v":"SAP ColombiaCloudS4 & Native HANA SolutionsSAP-8009216-4"},{"$f":"E2780&F2780","v":"SAP-8009216-4CloudS4 & Native HANA Solutions"},null,"SAP Colombia","SAP-8009216-4","CloudS4 & Native HANA Solutions",{"$f":"D2780","v":"SAP Colombia"},"USD","N/A","SAP Business Planning and Consolidation standard edition for SAP BW/4HANA Cloud, private edition",1,"Serv","Suscripcion","N/A","N/A","N/A","SAP-8009216-4","Forma de pago estandar a 30 dias",67,1,0,"USD"]
[{"$f":"D2781&F2781&E2781","v":"SAP ColombiaCloudS4 & Native HANA SolutionsSAP-8009217"},{"$f":"E2781&F2781","v":"SAP-8009217CloudS4 & Native HANA Solutions"},null,"SAP Colombia","SAP-8009217","CloudS4 & Native HANA Solutions",{"$f":"D2781","v":"SAP Colombia"},"USD","N/A","SAP Business Planning and Consolidation professional edition for SAP BW/4HANA Cloud (planning only), private edition",1,"Serv","Suscripcion","N/A","N/A","N/A","SAP-8009217","Forma de pago estandar a 30 dias",246,1,0,"USD"]
[{"$f":"D2782&F2782&E2782","v":"SAP ColombiaCloudS4 & Native HANA SolutionsSAP-8009218-1"},{"$f":"E2782&F2782","v":"SAP-8009218-1CloudS4 & Native HANA Solutions"},null,"SAP Colombia","SAP-8009218-1","CloudS4 & Native HANA Solutions",{"$f":"D2782","v":"SAP Colombia"},"USD","N/A","SAP Business Planning and Consolidation standard edition for SAP BW/4HANA Cloud (planning only), private edition",1,"Serv","Suscripcion","N/A","N/A","N/A","SAP-8009218-1","Forma de pago estandar a 30 dias",90,1,0,"USD"]
[{"$f":"D2783&F2783&E2783","v":"SAP ColombiaCloudS4 & Native HANA SolutionsSAP-8009218-2"},{"$f":"E2783&F2783","v":"SAP-8009218-2CloudS4 & Native HANA Solutions"},null,"SAP Colombia","SAP-8009218-2","CloudS4 & Native HANA Solutions",{"$f":"D2783","v":"SAP Colombia"},"USD","N/A","SAP Business Planning and Consolidation standard edition for SAP BW/4HANA Cloud (planning only), private edition",1,"Serv","Suscripcion","N/A","N/A","N/A","SAP-8009218-2","Forma de pago estandar a 30 dias",73,1,0,"USD"]
[{"$f":"D2784&F2784&E2784","v":"SAP ColombiaCloudS4 & Native HANA SolutionsSAP-8009218-3"},{"$f":"E2784&F2784","v":"SAP-8009218-3CloudS4 & Native HANA Solutions"},null,"SAP Colombia","SAP-8009218-3","CloudS4 & Native HANA Solutions",{"$f":"D2784","v":"SAP Colombia"},"USD","N/A","SAP Business Planning and Consolidation standard edition for SAP BW/4HANA Cloud (planning only), private edition",1,"Serv","Suscripcion","N/A","N/A","N/A","SAP-8009218-3","Forma de pago estandar a 30 dias",62,1,0,"USD"]
[{"$f":"D2785&F2785&E2785","v":"SAP ColombiaCloudS4 & Native HANA SolutionsSAP-8009218-4"},{"$f":"E2785&F2785","v":"SAP-8009218-4CloudS4 & Native HANA Solutions"},null,"SAP Colombia","SAP-8009218-4","CloudS4 & Native HANA Solutions",{"$f":"D2785","v":"SAP Colombia"},"USD","N/A","SAP Business Planning and Consolidation standard edition for SAP BW/4HANA Cloud (planning only), private edition",1,"Serv","Suscripcion","N/A","N/A","N/A","SAP-8009218-4","Forma de pago estandar a 30 dias",45,1,0,"USD"]
[{"$f":"D2786&F2786&E2786","v":"SAP ColombiaCloudS4 & Native HANA SolutionsSAP-8008668"},{"$f":"E2786&F2786","v":"SAP-8008668CloudS4 & Native HANA Solutions"},null,"SAP Colombia","SAP-8008668","CloudS4 & Native HANA Solutions",{"$f":"D2786","v":"SAP Colombia"},"USD","N/A","SAP Landscape Transformation Replication Server, private cloud edition (16 cores)",1,"Serv","Suscripcion","N/A","N/A","N/A","SAP-8008668","Forma de pago estandar a 30 dias",36853,1,0,"USD"]
[{"$f":"D2787&F2787&E2787","v":"SAP ColombiaCloudS4 & Native HANA SolutionsSAP-8008694"},{"$f":"E2787&F2787","v":"SAP-8008694CloudS4 & Native HANA Solutions"},null,"SAP Colombia","SAP-8008694","CloudS4 & Native HANA Solutions",{"$f":"D2787","v":"SAP Colombia"},"USD","N/A","SAP Landscape Transformation Replication Server, private cloud edition (32 cores)",1,"Serv","Suscripcion","N/A","N/A","N/A","SAP-8008694","Forma de pago estandar a 30 dias",52378,1,0,"USD"]
[{"$f":"D2788&F2788&E2788","v":"SAP ColombiaCloudS4 & Native HANA SolutionsSAP-8008741-1"},{"$f":"E2788&F2788","v":"SAP-8008741-1CloudS4 & Native HANA Solutions"},null,"SAP Colombia","SAP-8008741-1","CloudS4 & Native HANA Solutions",{"$f":"D2788","v":"SAP Colombia"},"USD","N/A","SAP S/4HANA Cloud for master data governance Cloud, private edition",5000,"Serv","Suscripcion","N/A","N/A","N/A","SAP-8008741-1","Forma de pago estandar a 30 dias",526,1,0,"USD"]
[{"$f":"D2789&F2789&E2789","v":"SAP ColombiaCloudS4 & Native HANA SolutionsSAP-8008741-2"},{"$f":"E2789&F2789","v":"SAP-8008741-2CloudS4 & Native HANA Solutions"},null,"SAP Colombia","SAP-8008741-2","CloudS4 & Native HANA Solutions",{"$f":"D2789","v":"SAP Colombia"},"USD","N/A","SAP S/4HANA Cloud for master data governance Cloud, private edition",5000,"Serv","Suscripcion","N/A","N/A","N/A","SAP-8008741-2","Forma de pago estandar a 30 dias",314,1,0,"USD"]
[{"$f":"D2790&F2790&E2790","v":"SAP ColombiaCloudS4 & Native HANA SolutionsSAP-8008741-3"},{"$f":"E2790&F2790","v":"SAP-8008741-3CloudS4 & Native HANA Solutions"},null,"SAP Colombia","SAP-8008741-3","CloudS4 & Native HANA Solutions",{"$f":"D2790","v":"SAP Colombia"},"USD","N/A","SAP S/4HANA Cloud for master data governance Cloud, private edition",5000,"Serv","Suscripcion","N/A","N/A","N/A","SAP-8008741-3","Forma de pago estandar a 30 dias",224,1,0,"USD"]
[{"$f":"D2791&F2791&E2791","v":"SAP ColombiaCloudS4 & Native HANA SolutionsSAP-8008741-4"},{"$f":"E2791&F2791","v":"SAP-8008741-4CloudS4 & Native HANA Solutions"},null,"SAP Colombia","SAP-8008741-4","CloudS4 & Native HANA Solutions",{"$f":"D2791","v":"SAP Colombia"},"USD","N/A","SAP S/4HANA Cloud for master data governance Cloud, private edition",5000,"Serv","Suscripcion","N/A","N/A","N/A","SAP-8008741-4","Forma de pago estandar a 30 dias",179,1,0,"USD"]
[{"$f":"D2792&F2792&E2792","v":"SAP ColombiaCloudS4 & Native HANA SolutionsSAP-8008741-5"},{"$f":"E2792&F2792","v":"SAP-8008741-5CloudS4 & Native HANA Solutions"},null,"SAP Colombia","SAP-8008741-5","CloudS4 & Native HANA Solutions",{"$f":"D2792","v":"SAP Colombia"},"USD","N/A","SAP S/4HANA Cloud for master data governance Cloud, private edition",5000,"Serv","Suscripcion","N/A","N/A","N/A","SAP-8008741-5","Forma de pago estandar a 30 dias",129,1,0,"USD"]
[{"$f":"D2793&F2793&E2793","v":"SAP ColombiaCloudS4 & Native HANA SolutionsSAP-8008744"},{"$f":"E2793&F2793","v":"SAP-8008744CloudS4 & Native HANA Solutions"},null,"SAP Colombia","SAP-8008744","CloudS4 & Native HANA Solutions",{"$f":"D2793","v":"SAP Colombia"},"USD","N/A","SAP Landscape Transformation Replication Server, private cloud edition (8 cores)",1,"Serv","Suscripcion","N/A","N/A","N/A","SAP-8008744","Forma de pago estandar a 30 dias",28929,1,0,"USD"]
[{"$f":"D2794&F2794&E2794","v":"SAP ColombiaCloudS4 & Native HANA SolutionsSAP-8009221"},{"$f":"E2794&F2794","v":"SAP-8009221CloudS4 & Native HANA Solutions"},null,"SAP Colombia","SAP-8009221","CloudS4 & Native HANA Solutions",{"$f":"D2794","v":"SAP Colombia"},"USD","N/A","SAP Landscape Transformation Replication Server, embedded edition for SAP S/4HANA Cloud, private edition (S, 64 GB)",1,"Serv","Suscripcion","N/A","N/A","N/A","SAP-8009221","Forma de pago estandar a 30 dias",5863,1,0,"USD"]
[{"$f":"D2795&F2795&E2795","v":"SAP ColombiaCloudS4 & Native HANA SolutionsSAP-8009222"},{"$f":"E2795&F2795","v":"SAP-8009222CloudS4 & Native HANA Solutions"},null,"SAP Colombia","SAP-8009222","CloudS4 & Native HANA Solutions",{"$f":"D2795","v":"SAP Colombia"},"USD","N/A","SAP Landscape Transformation Replication Server, embedded edition for SAP S/4HANA Cloud, private edition (L, 128 GB)",1,"Serv","Suscripcion","N/A","N/A","N/A","SAP-8009222","Forma de pago estandar a 30 dias",6639,1,0,"USD"]
[{"$f":"D2796&F2796&E2796","v":"SAP ColombiaCloudS4 & Native HANA SolutionsSAP-8009450-1"},{"$f":"E2796&F2796","v":"SAP-8009450-1CloudS4 & Native HANA Solutions"},null,"SAP Colombia","SAP-8009450-1","CloudS4 & Native HANA Solutions",{"$f":"D2796","v":"SAP Colombia"},"USD","N/A","SAP ERP for master data governance, private cloud edition",5000,"Serv","Suscripcion","N/A","N/A","N/A","SAP-8009450-1","Forma de pago estandar a 30 dias",526,1,0,"USD"]
[{"$f":"D2797&F2797&E2797","v":"SAP ColombiaCloudS4 & Native HANA SolutionsSAP-8009450-2"},{"$f":"E2797&F2797","v":"SAP-8009450-2CloudS4 & Native HANA Solutions"},null,"SAP Colombia","SAP-8009450-2","CloudS4 & Native HANA Solutions",{"$f":"D2797","v":"SAP Colombia"},"USD","N/A","SAP ERP for master data governance, private cloud edition",5000,"Serv","Suscripcion","N/A","N/A","N/A","SAP-8009450-2","Forma de pago estandar a 30 dias",314,1,0,"USD"]
[{"$f":"D2798&F2798&E2798","v":"SAP ColombiaCloudS4 & Native HANA SolutionsSAP-8009450-3"},{"$f":"E2798&F2798","v":"SAP-8009450-3CloudS4 & Native HANA Solutions"},null,"SAP Colombia","SAP-8009450-3","CloudS4 & Native HANA Solutions",{"$f":"D2798","v":"SAP Colombia"},"USD","N/A","SAP ERP for master data governance, private cloud edition",5000,"Serv","Suscripcion","N/A","N/A","N/A","SAP-8009450-3","Forma de pago estandar a 30 dias",224,1,0,"USD"]
[{"$f":"D2799&F2799&E2799","v":"SAP ColombiaCloudS4 & Native HANA SolutionsSAP-8009450-4"},{"$f":"E2799&F2799","v":"SAP-8009450-4CloudS4 & Native HANA Solutions"},null,"SAP Colombia","SAP-8009450-4","CloudS4 & Native HANA Solutions",{"$f":"D2799","v":"SAP Colombia"},"USD","N/A","SAP ERP for master data governance, private cloud edition",5000,"Serv","Suscripcion","N/A","N/A","N/A","SAP-8009450-4","Forma de pago estandar a 30 dias",179,1,0,"USD"]
[{"$f":"D2800&F2800&E2800","v":"SAP ColombiaCloudS4 & Native HANA SolutionsSAP-8009450-5"},{"$f":"E2800&F2800","v":"SAP-8009450-5CloudS4 & Native HANA Solutions"},null,"SAP Colombia","SAP-8009450-5","CloudS4 & Native HANA Solutions",{"$f":"D2800","v":"SAP Colombia"},"USD","N/A","SAP ERP for master data governance, private cloud edition",5000,"Serv","Suscripcion","N/A","N/A","N/A","SAP-8009450-5","Forma de pago estandar a 30 dias",129,1,0,"USD"]
[{"$f":"D2801&F2801&E2801","v":"SAP ColombiaCloudS4 & Native HANA SolutionsSAP-8011290-1"},{"$f":"E2801&F2801","v":"SAP-8011290-1CloudS4 & Native HANA Solutions"},null,"SAP Colombia","SAP-8011290-1","CloudS4 & Native HANA Solutions",{"$f":"D2801","v":"SAP Colombia"},"USD","N/A","SAP Information Lifecycle Management, private cloud edition",1,"Serv","Suscripcion","N/A","N/A","N/A","SAP-8011290-1","Forma de pago estandar a 30 dias",11569,1,0,"USD"]
[{"$f":"D2802&F2802&E2802","v":"SAP ColombiaCloudS4 & Native HANA SolutionsSAP-8011290-2"},{"$f":"E2802&F2802","v":"SAP-8011290-2CloudS4 & Native HANA Solutions"},null,"SAP Colombia","SAP-8011290-2","CloudS4 & Native HANA Solutions",{"$f":"D2802","v":"SAP Colombia"},"USD","N/A","SAP Information Lifecycle Management, private cloud edition",1,"Serv","Suscripcion","N/A","N/A","N/A","SAP-8011290-2","Forma de pago estandar a 30 dias",8399,1,0,"USD"]
[{"$f":"D2803&F2803&E2803","v":"SAP ColombiaCloudS4 & Native HANA SolutionsSAP-8011290-3"},{"$f":"E2803&F2803","v":"SAP-8011290-3CloudS4 & Native HANA Solutions"},null,"SAP Colombia","SAP-8011290-3","CloudS4 & Native HANA Solutions",{"$f":"D2803","v":"SAP Colombia"},"USD","N/A","SAP Information Lifecycle Management, private cloud edition",1,"Serv","Suscripcion","N/A","N/A","N/A","SAP-8011290-3","Forma de pago estandar a 30 dias",7173,1,0,"USD"]
[{"$f":"D2804&F2804&E2804","v":"SAP ColombiaCloudS4 & Native HANA SolutionsSAP-8011290-4"},{"$f":"E2804&F2804","v":"SAP-8011290-4CloudS4 & Native HANA Solutions"},null,"SAP Colombia","SAP-8011290-4","CloudS4 & Native HANA Solutions",{"$f":"D2804","v":"SAP Colombia"},"USD","N/A","SAP Information Lifecycle Management, private cloud edition",1,"Serv","Suscripcion","N/A","N/A","N/A","SAP-8011290-4","Forma de pago estandar a 30 dias",5040,1,0,"USD"]
[{"$f":"D2805&F2805&E2805","v":"SAP ColombiaCloudS4 & Native HANA SolutionsSAP-8011456"},{"$f":"E2805&F2805","v":"SAP-8011456CloudS4 & Native HANA Solutions"},null,"SAP Colombia","SAP-8011456","CloudS4 & Native HANA Solutions",{"$f":"D2805","v":"SAP Colombia"},"USD","N/A","SAP Data Services Enterprise, additional non-productive tier, private cloud edition (S)",1,"Serv","Suscripcion","N/A","N/A","N/A","SAP-8011456","Forma de pago estandar a 30 dias",8676,1,0,"USD"]
[{"$f":"D2806&F2806&E2806","v":"SAP ColombiaCloudS4 & Native HANA SolutionsSAP-8011457"},{"$f":"E2806&F2806","v":"SAP-8011457CloudS4 & Native HANA Solutions"},null,"SAP Colombia","SAP-8011457","CloudS4 & Native HANA Solutions",{"$f":"D2806","v":"SAP Colombia"},"USD","N/A","SAP Data Services Enterprise, additional non-productive tier, private cloud edition (M)",1,"Serv","Suscripcion","N/A","N/A","N/A","SAP-8011457","Forma de pago estandar a 30 dias",9255,1,0,"USD"]
[{"$f":"D2807&F2807&E2807","v":"SAP ColombiaCloudS4 & Native HANA SolutionsSAP-8011458"},{"$f":"E2807&F2807","v":"SAP-8011458CloudS4 & Native HANA Solutions"},null,"SAP Colombia","SAP-8011458","CloudS4 & Native HANA Solutions",{"$f":"D2807","v":"SAP Colombia"},"USD","N/A","SAP Data Services Enterprise, additional non-productive tier, private cloud edition (L)",1,"Serv","Suscripcion","N/A","N/A","N/A","SAP-8011458","Forma de pago estandar a 30 dias",10123,1,0,"USD"]
[{"$f":"D2808&F2808&E2808","v":"SAP ColombiaCloudS4 & Native HANA SolutionsSAP-8011459"},{"$f":"E2808&F2808","v":"SAP-8011459CloudS4 & Native HANA Solutions"},null,"SAP Colombia","SAP-8011459","CloudS4 & Native HANA Solutions",{"$f":"D2808","v":"SAP Colombia"},"USD","N/A","SAP Landscape Transformation Replication Server, additional non-productive tier, private cloud edition (S)",1,"Serv","Suscripcion","N/A","N/A","N/A","SAP-8011459","Forma de pago estandar a 30 dias",4917,1,0,"USD"]
[{"$f":"D2809&F2809&E2809","v":"SAP ColombiaCloudS4 & Native HANA SolutionsSAP-8011460"},{"$f":"E2809&F2809","v":"SAP-8011460CloudS4 & Native HANA Solutions"},null,"SAP Colombia","SAP-8011460","CloudS4 & Native HANA Solutions",{"$f":"D2809","v":"SAP Colombia"},"USD","N/A","SAP Landscape Transformation Replication Server, additional non-productive tier, private cloud edition (M)",1,"Serv","Suscripcion","N/A","N/A","N/A","SAP-8011460","Forma de pago estandar a 30 dias",7230,1,0,"USD"]
[{"$f":"D2810&F2810&E2810","v":"SAP ColombiaCloudS4 & Native HANA SolutionsSAP-8011461"},{"$f":"E2810&F2810","v":"SAP-8011461CloudS4 & Native HANA Solutions"},null,"SAP Colombia","SAP-8011461","CloudS4 & Native HANA Solutions",{"$f":"D2810","v":"SAP Colombia"},"USD","N/A","SAP Landscape Transformation Replication Server, additional non-productive tier, private cloud edition (L)",1,"Serv","Suscripcion","N/A","N/A","N/A","SAP-8011461","Forma de pago estandar a 30 dias",8676,1,0,"USD"]
[{"$f":"D2811&F2811&E2811","v":"SAP ColombiaCloudS4 & Native HANA SolutionsSAP-8008673"},{"$f":"E2811&F2811","v":"SAP-8008673CloudS4 & Native HANA Solutions"},null,"SAP Colombia","SAP-8008673","CloudS4 & Native HANA Solutions",{"$f":"D2811","v":"SAP Colombia"},"USD","N/A","SAP Solution Manager for SAP S/4HANA Cloud, private edition, project documentation version",1,"Serv","Suscripcion","N/A","N/A","N/A","SAP-8008673","Forma de pago estandar a 30 dias",13231,1,0,"USD"]
[{"$f":"D2812&F2812&E2812","v":"SAP ColombiaCloudS4 & Native HANA SolutionsSAP-8008689-1"},{"$f":"E2812&F2812","v":"SAP-8008689-1CloudS4 & Native HANA Solutions"},null,"SAP Colombia","SAP-8008689-1","CloudS4 & Native HANA Solutions",{"$f":"D2812","v":"SAP Colombia"},"USD","N/A","SAP S/4HANA Cloud for Application Interface Framework, private edition",1000000,"Serv","Suscripcion","N/A","N/A","N/A","SAP-8008689-1","Forma de pago estandar a 30 dias",1023,1,0,"USD"]
[{"$f":"D2813&F2813&E2813","v":"SAP ColombiaCloudS4 & Native HANA SolutionsSAP-8008689-2"},{"$f":"E2813&F2813","v":"SAP-8008689-2CloudS4 & Native HANA Solutions"},null,"SAP Colombia","SAP-8008689-2","CloudS4 & Native HANA Solutions",{"$f":"D2813","v":"SAP Colombia"},"USD","N/A","SAP S/4HANA Cloud for Application Interface Framework, private edition",1000000,"Serv","Suscripcion","N/A","N/A","N/A","SAP-8008689-2","Forma de pago estandar a 30 dias",802,1,0,"USD"]
[{"$f":"D2814&F2814&E2814","v":"SAP ColombiaCloudS4 & Native HANA SolutionsSAP-8008689-3"},{"$f":"E2814&F2814","v":"SAP-8008689-3CloudS4 & Native HANA Solutions"},null,"SAP Colombia","SAP-8008689-3","CloudS4 & Native HANA Solutions",{"$f":"D2814","v":"SAP Colombia"},"USD","N/A","SAP S/4HANA Cloud for Application Interface Framework, private edition",1000000,"Serv","Suscripcion","N/A","N/A","N/A","SAP-8008689-3","Forma de pago estandar a 30 dias",542,1,0,"USD"]
[{"$f":"D2815&F2815&E2815","v":"SAP ColombiaCloudS4 & Native HANA SolutionsSAP-8008734"},{"$f":"E2815&F2815","v":"SAP-8008734CloudS4 & Native HANA Solutions"},null,"SAP Colombia","SAP-8008734","CloudS4 & Native HANA Solutions",{"$f":"D2815","v":"SAP Colombia"},"USD","N/A","SAP Solution Manager for SAP S/4HANA Cloud, private edition, full version",2,"Serv","Suscripcion","N/A","N/A","N/A","SAP-8008734","Forma de pago estandar a 30 dias",30944,1,0,"USD"]
[{"$f":"D2816&F2816&E2816","v":"SAP ColombiaCloudS4 & Native HANA SolutionsSAP-8009452"},{"$f":"E2816&F2816","v":"SAP-8009452CloudS4 & Native HANA Solutions"},null,"SAP Colombia","SAP-8009452","CloudS4 & Native HANA Solutions",{"$f":"D2816","v":"SAP Colombia"},"USD","N/A","SAP Solution Manager for SAP ERP, private cloud edition, full version",2,"Serv","Suscripcion","N/A","N/A","N/A","SAP-8009452","Forma de pago estandar a 30 dias",29955,1,0,"USD"]
[{"$f":"D2817&F2817&E2817","v":"SAP ColombiaCloudS4 & Native HANA SolutionsSAP-8009453"},{"$f":"E2817&F2817","v":"SAP-8009453CloudS4 & Native HANA Solutions"},null,"SAP Colombia","SAP-8009453","CloudS4 & Native HANA Solutions",{"$f":"D2817","v":"SAP Colombia"},"USD","N/A","SAP Solution Manager for SAP ERP, private cloud edition, project documentation version",1,"Serv","Suscripcion","N/A","N/A","N/A","SAP-8009453","Forma de pago estandar a 30 dias",12583,1,0,"USD"]
[{"$f":"D2818&F2818&E2818","v":"SAP ColombiaCloudS4 & Native HANA SolutionsSAP-8009454-1"},{"$f":"E2818&F2818","v":"SAP-8009454-1CloudS4 & Native HANA Solutions"},null,"SAP Colombia","SAP-8009454-1","CloudS4 & Native HANA Solutions",{"$f":"D2818","v":"SAP Colombia"},"USD","N/A","SAP Document and Reporting Compliance, private cloud edition",10000,"Serv","Suscripcion","N/A","N/A","N/A","SAP-8009454-1","Forma de pago estandar a 30 dias",336,1,0,"USD"]
[{"$f":"D2819&F2819&E2819","v":"SAP ColombiaCloudS4 & Native HANA SolutionsSAP-8009454-2"},{"$f":"E2819&F2819","v":"SAP-8009454-2CloudS4 & Native HANA Solutions"},null,"SAP Colombia","SAP-8009454-2","CloudS4 & Native HANA Solutions",{"$f":"D2819","v":"SAP Colombia"},"USD","N/A","SAP Document and Reporting Compliance, private cloud edition",10000,"Serv","Suscripcion","N/A","N/A","N/A","SAP-8009454-2","Forma de pago estandar a 30 dias",123,1,0,"USD"]
[{"$f":"D2820&F2820&E2820","v":"SAP ColombiaCloudS4 & Native HANA SolutionsSAP-8009454-3"},{"$f":"E2820&F2820","v":"SAP-8009454-3CloudS4 & Native HANA Solutions"},null,"SAP Colombia","SAP-8009454-3","CloudS4 & Native HANA Solutions",{"$f":"D2820","v":"SAP Colombia"},"USD","N/A","SAP Document and Reporting Compliance, private cloud edition",10000,"Serv","Suscripcion","N/A","N/A","N/A","SAP-8009454-3","Forma de pago estandar a 30 dias",67,1,0,"USD"]
[{"$f":"D2821&F2821&E2821","v":"SAP ColombiaCloudS4 & Native HANA SolutionsSAP-8009456-1"},{"$f":"E2821&F2821","v":"SAP-8009456-1CloudS4 & Native HANA Solutions"},null,"SAP Colombia","SAP-8009456-1","CloudS4 & Native HANA Solutions",{"$f":"D2821","v":"SAP Colombia"},"USD","N/A","SAP ERP for Application Interface Framework, private cloud edition",1000000,"Serv","Suscripcion","N/A","N/A","N/A","SAP-8009456-1","Forma de pago estandar a 30 dias",1045,1,0,"USD"]
[{"$f":"D2822&F2822&E2822","v":"SAP ColombiaCloudS4 & Native HANA SolutionsSAP-8009456-2"},{"$f":"E2822&F2822","v":"SAP-8009456-2CloudS4 & Native HANA Solutions"},null,"SAP Colombia","SAP-8009456-2","CloudS4 & Native HANA Solutions",{"$f":"D2822","v":"SAP Colombia"},"USD","N/A","SAP ERP for Application Interface Framework, private cloud edition",1000000,"Serv","Suscripcion","N/A","N/A","N/A","SAP-8009456-2","Forma de pago estandar a 30 dias",819,1,0,"USD"]
[{"$f":"D2823&F2823&E2823","v":"SAP ColombiaCloudS4 & Native HANA SolutionsSAP-8009456-3"},{"$f":"E2823&F2823","v":"SAP-8009456-3CloudS4 & Native HANA Solutions"},null,"SAP Colombia","SAP-8009456-3","CloudS4 & Native HANA Solutions",{"$f":"D2823","v":"SAP Colombia"},"USD","N/A","SAP ERP for Application Interface Framework, private cloud edition",1000000,"Serv","Suscripcion","N/A","N/A","N/A","SAP-8009456-3","Forma de pago estandar a 30 dias",553,1,0,"USD"]
[{"$f":"D2824&F2824&E2824","v":"SAP ColombiaCloudS4 & Native HANA SolutionsSAP-8011369-1"},{"$f":"E2824&F2824","v":"SAP-8011369-1CloudS4 & Native HANA Solutions"},null,"SAP Colombia","SAP-8011369-1","CloudS4 & Native HANA Solutions",{"$f":"D2824","v":"SAP Colombia"},"USD","N/A","SAP Code Vulnerability Analyzer, private cloud edition",1,"Serv","Suscripcion","N/A","N/A","N/A","SAP-8011369-1","Forma de pago estandar a 30 dias",434,1,0,"USD"]
[{"$f":"D2825&F2825&E2825","v":"SAP ColombiaCloudS4 & Native HANA SolutionsSAP-8011369-2"},{"$f":"E2825&F2825","v":"SAP-8011369-2CloudS4 & Native HANA Solutions"},null,"SAP Colombia","SAP-8011369-2","CloudS4 & Native HANA Solutions",{"$f":"D2825","v":"SAP Colombia"},"USD","N/A","SAP Code Vulnerability Analyzer, private cloud edition",1,"Serv","Suscripcion","N/A","N/A","N/A","SAP-8011369-2","Forma de pago estandar a 30 dias",289,1,0,"USD"]
[{"$f":"D2826&F2826&E2826","v":"SAP ColombiaCloudS4 & Native HANA SolutionsSAP-8011369-3"},{"$f":"E2826&F2826","v":"SAP-8011369-3CloudS4 & Native HANA Solutions"},null,"SAP Colombia","SAP-8011369-3","CloudS4 & Native HANA Solutions",{"$f":"D2826","v":"SAP Colombia"},"USD","N/A","SAP Code Vulnerability Analyzer, private cloud edition",1,"Serv","Suscripcion","N/A","N/A","N/A","SAP-8011369-3","Forma de pago estandar a 30 dias",231,1,0,"USD"]
[{"$f":"D2827&F2827&E2827","v":"SAP ColombiaCloudS4 & Native HANA SolutionsSAP-8011369-4"},{"$f":"E2827&F2827","v":"SAP-8011369-4CloudS4 & Native HANA Solutions"},null,"SAP Colombia","SAP-8011369-4","CloudS4 & Native HANA Solutions",{"$f":"D2827","v":"SAP Colombia"},"USD","N/A","SAP Code Vulnerability Analyzer, private cloud edition",1,"Serv","Suscripcion","N/A","N/A","N/A","SAP-8011369-4","Forma de pago estandar a 30 dias",174,1,0,"USD"]
[{"$f":"D2828&F2828&E2828","v":"SAP ColombiaCloudS4 & Native HANA SolutionsSAP-8005458"},{"$f":"E2828&F2828","v":"SAP-8005458CloudS4 & Native HANA Solutions"},null,"SAP Colombia","SAP-8005458","CloudS4 & Native HANA Solutions",{"$f":"D2828","v":"SAP Colombia"},"USD","N/A","SAP Preferred Success for SAP S/4HANA Cloud",1,"Serv","Suscripcion","N/A","N/A","N/A","SAP-8005458","Forma de pago estandar a 30 dias",20,1,0,"USD"]
[{"$f":"D2829&F2829&E2829","v":"SAP ColombiaCloudS4 & Native HANA SolutionsSAP-8011479"},{"$f":"E2829&F2829","v":"SAP-8011479CloudS4 & Native HANA Solutions"},null,"SAP Colombia","SAP-8011479","CloudS4 & Native HANA Solutions",{"$f":"D2829","v":"SAP Colombia"},"USD","N/A","SAP Preferred Success for SAP S/4HANA Cloud, private edition",1,"Serv","Suscripcion","N/A","N/A","N/A","SAP-8011479","Forma de pago estandar a 30 dias",20,1,0,"USD"]
[{"$f":"D2830&F2830&E2830","v":"SAP ColombiaCloudS4 & Native HANA SolutionsSAP-8012477-1"},{"$f":"E2830&F2830","v":"SAP-8012477-1CloudS4 & Native HANA Solutions"},null,"SAP Colombia","SAP-8012477-1","CloudS4 & Native HANA Solutions",{"$f":"D2830","v":"SAP Colombia"},"USD","N/A","SAP Sales Insights for Retail Cloud, private edition",10000,"Serv","Suscripcion","N/A","N/A","N/A","SAP-8012477-1","Forma de pago estandar a 30 dias",1.18,1,0,"USD"]
[{"$f":"D2831&F2831&E2831","v":"SAP ColombiaCloudS4 & Native HANA SolutionsSAP-8012477-2"},{"$f":"E2831&F2831","v":"SAP-8012477-2CloudS4 & Native HANA Solutions"},null,"SAP Colombia","SAP-8012477-2","CloudS4 & Native HANA Solutions",{"$f":"D2831","v":"SAP Colombia"},"USD","N/A","SAP Sales Insights for Retail Cloud, private edition",10000,"Serv","Suscripcion","N/A","N/A","N/A","SAP-8012477-2","Forma de pago estandar a 30 dias",0.67,1,0,"USD"]
[{"$f":"D2832&F2832&E2832","v":"SAP ColombiaCloudS4 & Native HANA SolutionsSAP-8012477-3"},{"$f":"E2832&F2832","v":"SAP-8012477-3CloudS4 & Native HANA Solutions"},null,"SAP Colombia","SAP-8012477-3","CloudS4 & Native HANA Solutions",{"$f":"D2832","v":"SAP Colombia"},"USD","N/A","SAP Sales Insights for Retail Cloud, private edition",10000,"Serv","Suscripcion","N/A","N/A","N/A","SAP-8012477-3","Forma de pago estandar a 30 dias",0.49,1,0,"USD"]
[{"$f":"D2833&F2833&E2833","v":"SAP ColombiaCloudS4 & Native HANA SolutionsSAP-8012477-4"},{"$f":"E2833&F2833","v":"SAP-8012477-4CloudS4 & Native HANA Solutions"},null,"SAP Colombia","SAP-8012477-4","CloudS4 & Native HANA Solutions",{"$f":"D2833","v":"SAP Colombia"},"USD","N/A","SAP Sales Insights for Retail Cloud, private edition",10000,"Serv","Suscripcion","N/A","N/A","N/A","SAP-8012477-4","Forma de pago estandar a 30 dias",0.4,1,0,"USD"]
[{"$f":"D2834&F2834&E2834","v":"SAP ColombiaCloudS4 & Native HANA SolutionsSAP-8012477-5"},{"$f":"E2834&F2834","v":"SAP-8012477-5CloudS4 & Native HANA Solutions"},null,"SAP Colombia","SAP-8012477-5","CloudS4 & Native HANA Solutions",{"$f":"D2834","v":"SAP Colombia"},"USD","N/A","SAP Sales Insights for Retail Cloud, private edition",10000,"Serv","Suscripcion","N/A","N/A","N/A","SAP-8012477-5","Forma de pago estandar a 30 dias",0.31,1,0,"USD"]
[{"$f":"D2835&F2835&E2835","v":"SAP ColombiaCloudS4 & Native HANA SolutionsSAP-8012477-6"},{"$f":"E2835&F2835","v":"SAP-8012477-6CloudS4 & Native HANA Solutions"},null,"SAP Colombia","SAP-8012477-6","CloudS4 & Native HANA Solutions",{"$f":"D2835","v":"SAP Colombia"},"USD","N/A","SAP Sales Insights for Retail Cloud, private edition",10000,"Serv","Suscripcion","N/A","N/A","N/A","SAP-8012477-6","Forma de pago estandar a 30 dias",0.27,1,0,"USD"]
[{"$f":"D2836&F2836&E2836","v":"SAP ColombiaCloudS4 & Native HANA SolutionsSAP-8012478-1"},{"$f":"E2836&F2836","v":"SAP-8012478-1CloudS4 & Native HANA Solutions"},null,"SAP Colombia","SAP-8012478-1","CloudS4 & Native HANA Solutions",{"$f":"D2836","v":"SAP Colombia"},"USD","N/A","retail promotion analyzer Cloud, private edition",10000,"Serv","Suscripcion","N/A","N/A","N/A","SAP-8012478-1","Forma de pago estandar a 30 dias",3.58,1,0,"USD"]
[{"$f":"D2837&F2837&E2837","v":"SAP ColombiaCloudS4 & Native HANA SolutionsSAP-8012478-2"},{"$f":"E2837&F2837","v":"SAP-8012478-2CloudS4 & Native HANA Solutions"},null,"SAP Colombia","SAP-8012478-2","CloudS4 & Native HANA Solutions",{"$f":"D2837","v":"SAP Colombia"},"USD","N/A","retail promotion analyzer Cloud, private edition",10000,"Serv","Suscripcion","N/A","N/A","N/A","SAP-8012478-2","Forma de pago estandar a 30 dias",1.97,1,0,"USD"]
[{"$f":"D2838&F2838&E2838","v":"SAP ColombiaCloudS4 & Native HANA SolutionsSAP-8012478-3"},{"$f":"E2838&F2838","v":"SAP-8012478-3CloudS4 & Native HANA Solutions"},null,"SAP Colombia","SAP-8012478-3","CloudS4 & Native HANA Solutions",{"$f":"D2838","v":"SAP Colombia"},"USD","N/A","retail promotion analyzer Cloud, private edition",10000,"Serv","Suscripcion","N/A","N/A","N/A","SAP-8012478-3","Forma de pago estandar a 30 dias",1.48,1,0,"USD"]
[{"$f":"D2839&F2839&E2839","v":"SAP ColombiaCloudS4 & Native HANA SolutionsSAP-8012478-4"},{"$f":"E2839&F2839","v":"SAP-8012478-4CloudS4 & Native HANA Solutions"},null,"SAP Colombia","SAP-8012478-4","CloudS4 & Native HANA Solutions",{"$f":"D2839","v":"SAP Colombia"},"USD","N/A","retail promotion analyzer Cloud, private edition",10000,"Serv","Suscripcion","N/A","N/A","N/A","SAP-8012478-4","Forma de pago estandar a 30 dias",1.19,1,0,"USD"]
[{"$f":"D2840&F2840&E2840","v":"SAP ColombiaCloudS4 & Native HANA SolutionsSAP-8012478-5"},{"$f":"E2840&F2840","v":"SAP-8012478-5CloudS4 & Native HANA Solutions"},null,"SAP Colombia","SAP-8012478-5","CloudS4 & Native HANA Solutions",{"$f":"D2840","v":"SAP Colombia"},"USD","N/A","retail promotion analyzer Cloud, private edition",10000,"Serv","Suscripcion","N/A","N/A","N/A","SAP-8012478-5","Forma de pago estandar a 30 dias",0.93,1,0,"USD"]
[{"$f":"D2841&F2841&E2841","v":"SAP ColombiaCloudS4 & Native HANA SolutionsSAP-8012478-6"},{"$f":"E2841&F2841","v":"SAP-8012478-6CloudS4 & Native HANA Solutions"},null,"SAP Colombia","SAP-8012478-6","CloudS4 & Native HANA Solutions",{"$f":"D2841","v":"SAP Colombia"},"USD","N/A","retail promotion analyzer Cloud, private edition",10000,"Serv","Suscripcion","N/A","N/A","N/A","SAP-8012478-6","Forma de pago estandar a 30 dias",0.78,1,0,"USD"]
[{"$f":"D2842&F2842&E2842","v":"SAP ColombiaCloud Classic SAP SolutionsSAP-8011437-1"},{"$f":"E2842&F2842","v":"SAP-8011437-1Cloud Classic SAP Solutions"},null,"SAP Colombia","SAP-8011437-1","Cloud Classic SAP Solutions",{"$f":"D2842","v":"SAP Colombia"},"USD","N/A","SAP Signavio Process Manager",1,"Serv","Suscripcion","N/A","N/A","N/A","SAP-8011437-1","Forma de pago estandar a 30 dias",747,1,0,"USD"]
[{"$f":"D2843&F2843&E2843","v":"SAP ColombiaCloud Classic SAP SolutionsSAP-8011437-2"},{"$f":"E2843&F2843","v":"SAP-8011437-2Cloud Classic SAP Solutions"},null,"SAP Colombia","SAP-8011437-2","Cloud Classic SAP Solutions",{"$f":"D2843","v":"SAP Colombia"},"USD","N/A","SAP Signavio Process Manager",1,"Serv","Suscripcion","N/A","N/A","N/A","SAP-8011437-2","Forma de pago estandar a 30 dias",560,1,0,"USD"]
[{"$f":"D2844&F2844&E2844","v":"SAP ColombiaCloud Classic SAP SolutionsSAP-8011437-3"},{"$f":"E2844&F2844","v":"SAP-8011437-3Cloud Classic SAP Solutions"},null,"SAP Colombia","SAP-8011437-3","Cloud Classic SAP Solutions",{"$f":"D2844","v":"SAP Colombia"},"USD","N/A","SAP Signavio Process Manager",1,"Serv","Suscripcion","N/A","N/A","N/A","SAP-8011437-3","Forma de pago estandar a 30 dias",429,1,0,"USD"]
[{"$f":"D2845&F2845&E2845","v":"SAP ColombiaCloud Classic SAP SolutionsSAP-8011437-4"},{"$f":"E2845&F2845","v":"SAP-8011437-4Cloud Classic SAP Solutions"},null,"SAP Colombia","SAP-8011437-4","Cloud Classic SAP Solutions",{"$f":"D2845","v":"SAP Colombia"},"USD","N/A","SAP Signavio Process Manager",1,"Serv","Suscripcion","N/A","N/A","N/A","SAP-8011437-4","Forma de pago estandar a 30 dias",317,1,0,"USD"]
[{"$f":"D2846&F2846&E2846","v":"SAP ColombiaCloud Classic SAP SolutionsSAP-8011437-5"},{"$f":"E2846&F2846","v":"SAP-8011437-5Cloud Classic SAP Solutions"},null,"SAP Colombia","SAP-8011437-5","Cloud Classic SAP Solutions",{"$f":"D2846","v":"SAP Colombia"},"USD","N/A","SAP Signavio Process Manager",1,"Serv","Suscripcion","N/A","N/A","N/A","SAP-8011437-5","Forma de pago estandar a 30 dias",233,1,0,"USD"]
[{"$f":"D2847&F2847&E2847","v":"SAP ColombiaCloud Classic SAP SolutionsSAP-8011438-1"},{"$f":"E2847&F2847","v":"SAP-8011438-1Cloud Classic SAP Solutions"},null,"SAP Colombia","SAP-8011438-1","Cloud Classic SAP Solutions",{"$f":"D2847","v":"SAP Colombia"},"USD","N/A","SAP Signavio Journey Modeler",1,"Serv","Suscripcion","N/A","N/A","N/A","SAP-8011438-1","Forma de pago estandar a 30 dias",653,1,0,"USD"]
[{"$f":"D2848&F2848&E2848","v":"SAP ColombiaCloud Classic SAP SolutionsSAP-8011438-2"},{"$f":"E2848&F2848","v":"SAP-8011438-2Cloud Classic SAP Solutions"},null,"SAP Colombia","SAP-8011438-2","Cloud Classic SAP Solutions",{"$f":"D2848","v":"SAP Colombia"},"USD","N/A","SAP Signavio Journey Modeler",1,"Serv","Suscripcion","N/A","N/A","N/A","SAP-8011438-2","Forma de pago estandar a 30 dias",504,1,0,"USD"]
[{"$f":"D2849&F2849&E2849","v":"SAP ColombiaCloud Classic SAP SolutionsSAP-8011438-3"},{"$f":"E2849&F2849","v":"SAP-8011438-3Cloud Classic SAP Solutions"},null,"SAP Colombia","SAP-8011438-3","Cloud Classic SAP Solutions",{"$f":"D2849","v":"SAP Colombia"},"USD","N/A","SAP Signavio Journey Modeler",1,"Serv","Suscripcion","N/A","N/A","N/A","SAP-8011438-3","Forma de pago estandar a 30 dias",373,1,0,"USD"]
[{"$f":"D2850&F2850&E2850","v":"SAP ColombiaCloud Classic SAP SolutionsSAP-8011438-4"},{"$f":"E2850&F2850","v":"SAP-8011438-4Cloud Classic SAP Solutions"},null,"SAP Colombia","SAP-8011438-4","Cloud Classic SAP Solutions",{"$f":"D2850","v":"SAP Colombia"},"USD","N/A","SAP Signavio Journey Modeler",1,"Serv","Suscripcion","N/A","N/A","N/A","SAP-8011438-4","Forma de pago estandar a 30 dias",271,1,0,"USD"]
[{"$f":"D2851&F2851&E2851","v":"SAP ColombiaCloud Classic SAP SolutionsSAP-8011438-5"},{"$f":"E2851&F2851","v":"SAP-8011438-5Cloud Classic SAP Solutions"},null,"SAP Colombia","SAP-8011438-5","Cloud Classic SAP Solutions",{"$f":"D2851","v":"SAP Colombia"},"USD","N/A","SAP Signavio Journey Modeler",1,"Serv","Suscripcion","N/A","N/A","N/A","SAP-8011438-5","Forma de pago estandar a 30 dias",205,1,0,"USD"]
[{"$f":"D2852&F2852&E2852","v":"SAP ColombiaCloud Classic SAP SolutionsSAP-8011439-1"},{"$f":"E2852&F2852","v":"SAP-8011439-1Cloud Classic SAP Solutions"},null,"SAP Colombia","SAP-8011439-1","Cloud Classic SAP Solutions",{"$f":"D2852","v":"SAP Colombia"},"USD","N/A","SAP Signavio Process Governance",1,"Serv","Suscripcion","N/A","N/A","N/A","SAP-8011439-1","Forma de pago estandar a 30 dias",65,1,0,"USD"]
[{"$f":"D2853&F2853&E2853","v":"SAP ColombiaCloud Classic SAP SolutionsSAP-8011439-2"},{"$f":"E2853&F2853","v":"SAP-8011439-2Cloud Classic SAP Solutions"},null,"SAP Colombia","SAP-8011439-2","Cloud Classic SAP Solutions",{"$f":"D2853","v":"SAP Colombia"},"USD","N/A","SAP Signavio Process Governance",1,"Serv","Suscripcion","N/A","N/A","N/A","SAP-8011439-2","Forma de pago estandar a 30 dias",56,1,0,"USD"]
[{"$f":"D2854&F2854&E2854","v":"SAP ColombiaCloud Classic SAP SolutionsSAP-8011439-3"},{"$f":"E2854&F2854","v":"SAP-8011439-3Cloud Classic SAP Solutions"},null,"SAP Colombia","SAP-8011439-3","Cloud Classic SAP Solutions",{"$f":"D2854","v":"SAP Colombia"},"USD","N/A","SAP Signavio Process Governance",1,"Serv","Suscripcion","N/A","N/A","N/A","SAP-8011439-3","Forma de pago estandar a 30 dias",43,1,0,"USD"]
[{"$f":"D2855&F2855&E2855","v":"SAP ColombiaCloud Classic SAP SolutionsSAP-8011439-4"},{"$f":"E2855&F2855","v":"SAP-8011439-4Cloud Classic SAP Solutions"},null,"SAP Colombia","SAP-8011439-4","Cloud Classic SAP Solutions",{"$f":"D2855","v":"SAP Colombia"},"USD","N/A","SAP Signavio Process Governance",1,"Serv","Suscripcion","N/A","N/A","N/A","SAP-8011439-4","Forma de pago estandar a 30 dias",31,1,0,"USD"]
[{"$f":"D2856&F2856&E2856","v":"SAP ColombiaCloud Classic SAP SolutionsSAP-8011439-5"},{"$f":"E2856&F2856","v":"SAP-8011439-5Cloud Classic SAP Solutions"},null,"SAP Colombia","SAP-8011439-5","Cloud Classic SAP Solutions",{"$f":"D2856","v":"SAP Colombia"},"USD","N/A","SAP Signavio Process Governance",1,"Serv","Suscripcion","N/A","N/A","N/A","SAP-8011439-5","Forma de pago estandar a 30 dias",24,1,0,"USD"]
[{"$f":"D2857&F2857&E2857","v":"SAP ColombiaCloud Classic SAP SolutionsSAP-8011440-1"},{"$f":"E2857&F2857","v":"SAP-8011440-1Cloud Classic SAP Solutions"},null,"SAP Colombia","SAP-8011440-1","Cloud Classic SAP Solutions",{"$f":"D2857","v":"SAP Colombia"},"USD","N/A","SAP Signavio Process Collaboration Hub",10,"Serv","Suscripcion","N/A","N/A","N/A","SAP-8011440-1","Forma de pago estandar a 30 dias",75,1,0,"USD"]
[{"$f":"D2858&F2858&E2858","v":"SAP ColombiaCloud Classic SAP SolutionsSAP-8011440-2"},{"$f":"E2858&F2858","v":"SAP-8011440-2Cloud Classic SAP Solutions"},null,"SAP Colombia","SAP-8011440-2","Cloud Classic SAP Solutions",{"$f":"D2858","v":"SAP Colombia"},"USD","N/A","SAP Signavio Process Collaboration Hub",10,"Serv","Suscripcion","N/A","N/A","N/A","SAP-8011440-2","Forma de pago estandar a 30 dias",56,1,0,"USD"]
[{"$f":"D2859&F2859&E2859","v":"SAP ColombiaCloud Classic SAP SolutionsSAP-8011440-3"},{"$f":"E2859&F2859","v":"SAP-8011440-3Cloud Classic SAP Solutions"},null,"SAP Colombia","SAP-8011440-3","Cloud Classic SAP Solutions",{"$f":"D2859","v":"SAP Colombia"},"USD","N/A","SAP Signavio Process Collaboration Hub",10,"Serv","Suscripcion","N/A","N/A","N/A","SAP-8011440-3","Forma de pago estandar a 30 dias",37,1,0,"USD"]
[{"$f":"D2860&F2860&E2860","v":"SAP ColombiaCloud Classic SAP SolutionsSAP-8011440-4"},{"$f":"E2860&F2860","v":"SAP-8011440-4Cloud Classic SAP Solutions"},null,"SAP Colombia","SAP-8011440-4","Cloud Classic SAP Solutions",{"$f":"D2860","v":"SAP Colombia"},"USD","N/A","SAP Signavio Process Collaboration Hub",10,"Serv","Suscripcion","N/A","N/A","N/A","SAP-8011440-4","Forma de pago estandar a 30 dias",28,1,0,"USD"]
[{"$f":"D2861&F2861&E2861","v":"SAP ColombiaCloud Classic SAP SolutionsSAP-8011441-1"},{"$f":"E2861&F2861","v":"SAP-8011441-1Cloud Classic SAP Solutions"},null,"SAP Colombia","SAP-8011441-1","Cloud Classic SAP Solutions",{"$f":"D2861","v":"SAP Colombia"},"USD","N/A","SAP Signavio Process Governance Collaborator",10,"Serv","Suscripcion","N/A","N/A","N/A","SAP-8011441-1","Forma de pago estandar a 30 dias",140,1,0,"USD"]
[{"$f":"D2862&F2862&E2862","v":"SAP ColombiaCloud Classic SAP SolutionsSAP-8011441-2"},{"$f":"E2862&F2862","v":"SAP-8011441-2Cloud Classic SAP Solutions"},null,"SAP Colombia","SAP-8011441-2","Cloud Classic SAP Solutions",{"$f":"D2862","v":"SAP Colombia"},"USD","N/A","SAP Signavio Process Governance Collaborator",10,"Serv","Suscripcion","N/A","N/A","N/A","SAP-8011441-2","Forma de pago estandar a 30 dias",93,1,0,"USD"]
[{"$f":"D2863&F2863&E2863","v":"SAP ColombiaCloud Classic SAP SolutionsSAP-8011441-3"},{"$f":"E2863&F2863","v":"SAP-8011441-3Cloud Classic SAP Solutions"},null,"SAP Colombia","SAP-8011441-3","Cloud Classic SAP Solutions",{"$f":"D2863","v":"SAP Colombia"},"USD","N/A","SAP Signavio Process Governance Collaborator",10,"Serv","Suscripcion","N/A","N/A","N/A","SAP-8011441-3","Forma de pago estandar a 30 dias",75,1,0,"USD"]
[{"$f":"D2864&F2864&E2864","v":"SAP ColombiaCloud Classic SAP SolutionsSAP-8011441-4"},{"$f":"E2864&F2864","v":"SAP-8011441-4Cloud Classic SAP Solutions"},null,"SAP Colombia","SAP-8011441-4","Cloud Classic SAP Solutions",{"$f":"D2864","v":"SAP Colombia"},"USD","N/A","SAP Signavio Process Governance Collaborator",10,"Serv","Suscripcion","N/A","N/A","N/A","SAP-8011441-4","Forma de pago estandar a 30 dias",56,1,0,"USD"]
[{"$f":"D2865&F2865&E2865","v":"SAP ColombiaCloud Classic SAP SolutionsSAP-8011442-1"},{"$f":"E2865&F2865","v":"SAP-8011442-1Cloud Classic SAP Solutions"},null,"SAP Colombia","SAP-8011442-1","Cloud Classic SAP Solutions",{"$f":"D2865","v":"SAP Colombia"},"USD","N/A","SAP Signavio Process Intelligence",200000,"Serv","Suscripcion","N/A","N/A","N/A","SAP-8011442-1","Forma de pago estandar a 30 dias",2987,1,0,"USD"]
[{"$f":"D2866&F2866&E2866","v":"SAP ColombiaCloud Classic SAP SolutionsSAP-8011442-2"},{"$f":"E2866&F2866","v":"SAP-8011442-2Cloud Classic SAP Solutions"},null,"SAP Colombia","SAP-8011442-2","Cloud Classic SAP Solutions",{"$f":"D2866","v":"SAP Colombia"},"USD","N/A","SAP Signavio Process Intelligence",200000,"Serv","Suscripcion","N/A","N/A","N/A","SAP-8011442-2","Forma de pago estandar a 30 dias",2240,1,0,"USD"]
[{"$f":"D2867&F2867&E2867","v":"SAP ColombiaCloud Classic SAP SolutionsSAP-8011442-3"},{"$f":"E2867&F2867","v":"SAP-8011442-3Cloud Classic SAP Solutions"},null,"SAP Colombia","SAP-8011442-3","Cloud Classic SAP Solutions",{"$f":"D2867","v":"SAP Colombia"},"USD","N/A","SAP Signavio Process Intelligence",200000,"Serv","Suscripcion","N/A","N/A","N/A","SAP-8011442-3","Forma de pago estandar a 30 dias",1307,1,0,"USD"]
[{"$f":"D2868&F2868&E2868","v":"SAP ColombiaCloud Classic SAP SolutionsSAP-8011442-4"},{"$f":"E2868&F2868","v":"SAP-8011442-4Cloud Classic SAP Solutions"},null,"SAP Colombia","SAP-8011442-4","Cloud Classic SAP Solutions",{"$f":"D2868","v":"SAP Colombia"},"USD","N/A","SAP Signavio Process Intelligence",200000,"Serv","Suscripcion","N/A","N/A","N/A","SAP-8011442-4","Forma de pago estandar a 30 dias",840,1,0,"USD"]
[{"$f":"D2869&F2869&E2869","v":"SAP ColombiaCloud Classic SAP SolutionsSAP-8011442-5"},{"$f":"E2869&F2869","v":"SAP-8011442-5Cloud Classic SAP Solutions"},null,"SAP Colombia","SAP-8011442-5","Cloud Classic SAP Solutions",{"$f":"D2869","v":"SAP Colombia"},"USD","N/A","SAP Signavio Process Intelligence",200000,"Serv","Suscripcion","N/A","N/A","N/A","SAP-8011442-5","Forma de pago estandar a 30 dias",541,1,0,"USD"]
[{"$f":"D2870&F2870&E2870","v":"SAP ColombiaCloud Classic SAP SolutionsSAP-8011443"},{"$f":"E2870&F2870","v":"SAP-8011443Cloud Classic SAP Solutions"},null,"SAP Colombia","SAP-8011443","Cloud Classic SAP Solutions",{"$f":"D2870","v":"SAP Colombia"},"USD","N/A","SAP Process Insights, base package",1,"Serv","Suscripcion","N/A","N/A","N/A","SAP-8011443","Forma de pago estandar a 30 dias",9351,1,0,"USD"]
[{"$f":"D2871&F2871&E2871","v":"SAP ColombiaCloud Classic SAP SolutionsSAP-8011444"},{"$f":"E2871&F2871","v":"SAP-8011444Cloud Classic SAP Solutions"},null,"SAP Colombia","SAP-8011444","Cloud Classic SAP Solutions",{"$f":"D2871","v":"SAP Colombia"},"USD","N/A","SAP Process Insights, additional storage",50,"Serv","Suscripcion","N/A","N/A","N/A","SAP-8011444","Forma de pago estandar a 30 dias",2335,1,0,"USD"]
[{"$f":"D2872&F2872&E2872","v":"SAP ColombiaCloud Classic SAP SolutionsSAP-8013422"},{"$f":"E2872&F2872","v":"SAP-8013422Cloud Classic SAP Solutions"},null,"SAP Colombia","SAP-8013422","Cloud Classic SAP Solutions",{"$f":"D2872","v":"SAP Colombia"},"USD","N/A","SAP Signavio Process Transformation Suite, private cloud edition",1,"Serv","Suscripcion","N/A","N/A","N/A","SAP-8013422","Forma de pago estandar a 30 dias",133268,1,0,"USD"]
[{"$f":"D2873&F2873&E2873","v":"SAP ColombiaCloud Classic SAP SolutionsSAP-8008794"},{"$f":"E2873&F2873","v":"SAP-8008794Cloud Classic SAP Solutions"},null,"SAP Colombia","SAP-8008794","Cloud Classic SAP Solutions",{"$f":"D2873","v":"SAP Colombia"},"USD","N/A","SAP Additional File Storage, private cloud edition",100,"Serv","Suscripcion","N/A","N/A","N/A","SAP-8008794","Forma de pago estandar a 30 dias",138,1,0,"USD"]
[{"$f":"D2874&F2874&E2874","v":"SAP ColombiaCloud Classic SAP SolutionsSAP-8008844"},{"$f":"E2874&F2874","v":"SAP-8008844Cloud Classic SAP Solutions"},null,"SAP Colombia","SAP-8008844","Cloud Classic SAP Solutions",{"$f":"D2874","v":"SAP Colombia"},"USD","N/A","SAP App Server Linux Cloud, private edition",64,"Serv","Suscripcion","N/A","N/A","N/A","SAP-8008844","Forma de pago estandar a 30 dias",2688,1,0,"USD"]
[{"$f":"D2875&F2875&E2875","v":"SAP ColombiaCloud Classic SAP SolutionsSAP-8008860"},{"$f":"E2875&F2875","v":"SAP-8008860Cloud Classic SAP Solutions"},null,"SAP Colombia","SAP-8008860","Cloud Classic SAP Solutions",{"$f":"D2875","v":"SAP Colombia"},"USD","N/A","SAP Fiori Hub on ASE Cloud, private edition (XXS)",1,"Serv","Suscripcion","N/A","N/A","N/A","SAP-8008860","Forma de pago estandar a 30 dias",10547,1,0,"USD"]
[{"$f":"D2876&F2876&E2876","v":"SAP ColombiaCloud Classic SAP SolutionsSAP-8008861"},{"$f":"E2876&F2876","v":"SAP-8008861Cloud Classic SAP Solutions"},null,"SAP Colombia","SAP-8008861","Cloud Classic SAP Solutions",{"$f":"D2876","v":"SAP Colombia"},"USD","N/A","SAP Fiori Hub on ASE Cloud, private edition (XS)",1,"Serv","Suscripcion","N/A","N/A","N/A","SAP-8008861","Forma de pago estandar a 30 dias",13811,1,0,"USD"]
[{"$f":"D2877&F2877&E2877","v":"SAP ColombiaCloud Classic SAP SolutionsSAP-8008862"},{"$f":"E2877&F2877","v":"SAP-8008862Cloud Classic SAP Solutions"},null,"SAP Colombia","SAP-8008862","Cloud Classic SAP Solutions",{"$f":"D2877","v":"SAP Colombia"},"USD","N/A","SAP Fiori Hub on ASE Cloud, private edition (S)",1,"Serv","Suscripcion","N/A","N/A","N/A","SAP-8008862","Forma de pago estandar a 30 dias",14223,1,0,"USD"]
[{"$f":"D2878&F2878&E2878","v":"SAP ColombiaCloud Classic SAP SolutionsSAP-8008863"},{"$f":"E2878&F2878","v":"SAP-8008863Cloud Classic SAP Solutions"},null,"SAP Colombia","SAP-8008863","Cloud Classic SAP Solutions",{"$f":"D2878","v":"SAP Colombia"},"USD","N/A","SAP Fiori Hub on ASE Cloud, private edition (M)",1,"Serv","Suscripcion","N/A","N/A","N/A","SAP-8008863","Forma de pago estandar a 30 dias",15466,1,0,"USD"]
[{"$f":"D2879&F2879&E2879","v":"SAP ColombiaCloud Classic SAP SolutionsSAP-8008864"},{"$f":"E2879&F2879","v":"SAP-8008864Cloud Classic SAP Solutions"},null,"SAP Colombia","SAP-8008864","Cloud Classic SAP Solutions",{"$f":"D2879","v":"SAP Colombia"},"USD","N/A","SAP Fiori Hub on ASE Cloud, private edition (L)",1,"Serv","Suscripcion","N/A","N/A","N/A","SAP-8008864","Forma de pago estandar a 30 dias",18551,1,0,"USD"]
[{"$f":"D2880&F2880&E2880","v":"SAP ColombiaCloud Classic SAP SolutionsSAP-8008865"},{"$f":"E2880&F2880","v":"SAP-8008865Cloud Classic SAP Solutions"},null,"SAP Colombia","SAP-8008865","Cloud Classic SAP Solutions",{"$f":"D2880","v":"SAP Colombia"},"USD","N/A","SAP Fiori Hub on ASE Cloud, private edition (XL)",1,"Serv","Suscripcion","N/A","N/A","N/A","SAP-8008865","Forma de pago estandar a 30 dias",22603,1,0,"USD"]
[{"$f":"D2881&F2881&E2881","v":"SAP ColombiaCloud Classic SAP SolutionsSAP-8009314"},{"$f":"E2881&F2881","v":"SAP-8009314Cloud Classic SAP Solutions"},null,"SAP Colombia","SAP-8009314","Cloud Classic SAP Solutions",{"$f":"D2881","v":"SAP Colombia"},"USD","N/A","SAP IaaS server Windows Cloud, private edition (32GB)",1,"Serv","Suscripcion","N/A","N/A","N/A","SAP-8009314","Forma de pago estandar a 30 dias",1120,1,0,"USD"]
[{"$f":"D2882&F2882&E2882","v":"SAP ColombiaCloud Classic SAP SolutionsSAP-8009318"},{"$f":"E2882&F2882","v":"SAP-8009318Cloud Classic SAP Solutions"},null,"SAP Colombia","SAP-8009318","Cloud Classic SAP Solutions",{"$f":"D2882","v":"SAP Colombia"},"USD","N/A","SAP IaaS server Linux Cloud, private edition (64GB)",1,"Serv","Suscripcion","N/A","N/A","N/A","SAP-8009318","Forma de pago estandar a 30 dias",1456,1,0,"USD"]
[{"$f":"D2883&F2883&E2883","v":"SAP ColombiaCloud Classic SAP SolutionsSAP-8009319"},{"$f":"E2883&F2883","v":"SAP-8009319Cloud Classic SAP Solutions"},null,"SAP Colombia","SAP-8009319","Cloud Classic SAP Solutions",{"$f":"D2883","v":"SAP Colombia"},"USD","N/A","SAP IaaS server Linux Cloud, private edition (128GB)",1,"Serv","Suscripcion","N/A","N/A","N/A","SAP-8009319","Forma de pago estandar a 30 dias",2352,1,0,"USD"]
[{"$f":"D2884&F2884&E2884","v":"SAP ColombiaCloud Classic SAP SolutionsSAP-8009320"},{"$f":"E2884&F2884","v":"SAP-8009320Cloud Classic SAP Solutions"},null,"SAP Colombia","SAP-8009320","Cloud Classic SAP Solutions",{"$f":"D2884","v":"SAP Colombia"},"USD","N/A","SAP IaaS server Windows Cloud, private edition (64GB)",1,"Serv","Suscripcion","N/A","N/A","N/A","SAP-8009320","Forma de pago estandar a 30 dias",1496,1,0,"USD"]
[{"$f":"D2885&F2885&E2885","v":"SAP ColombiaCloud Classic SAP SolutionsSAP-8009321"},{"$f":"E2885&F2885","v":"SAP-8009321Cloud Classic SAP Solutions"},null,"SAP Colombia","SAP-8009321","Cloud Classic SAP Solutions",{"$f":"D2885","v":"SAP Colombia"},"USD","N/A","SAP IaaS server Windows Cloud, private edition (128GB)",1,"Serv","Suscripcion","N/A","N/A","N/A","SAP-8009321","Forma de pago estandar a 30 dias",2352,1,0,"USD"]
[{"$f":"D2886&F2886&E2886","v":"SAP ColombiaCloud Classic SAP SolutionsSAP-8009322"},{"$f":"E2886&F2886","v":"SAP-8009322Cloud Classic SAP Solutions"},null,"SAP Colombia","SAP-8009322","Cloud Classic SAP Solutions",{"$f":"D2886","v":"SAP Colombia"},"USD","N/A","SAP IaaS server Linux Cloud, private edition (32GB)",1,"Serv","Suscripcion","N/A","N/A","N/A","SAP-8009322","Forma de pago estandar a 30 dias",1120,1,0,"USD"]
[{"$f":"D2887&F2887&E2887","v":"SAP ColombiaCloud Classic SAP SolutionsSAP-8009323"},{"$f":"E2887&F2887","v":"SAP-8009323Cloud Classic SAP Solutions"},null,"SAP Colombia","SAP-8009323","Cloud Classic SAP Solutions",{"$f":"D2887","v":"SAP Colombia"},"USD","N/A","SAP content server Cloud, private edition (S)",1,"Serv","Suscripcion","N/A","N/A","N/A","SAP-8009323","Forma de pago estandar a 30 dias",12059,1,0,"USD"]
[{"$f":"D2888&F2888&E2888","v":"SAP ColombiaCloud Classic SAP SolutionsSAP-8009324"},{"$f":"E2888&F2888","v":"SAP-8009324Cloud Classic SAP Solutions"},null,"SAP Colombia","SAP-8009324","Cloud Classic SAP Solutions",{"$f":"D2888","v":"SAP Colombia"},"USD","N/A","SAP content server Cloud, private edition (M)",1,"Serv","Suscripcion","N/A","N/A","N/A","SAP-8009324","Forma de pago estandar a 30 dias",19038,1,0,"USD"]
[{"$f":"D2889&F2889&E2889","v":"SAP ColombiaCloud Classic SAP SolutionsSAP-8009325"},{"$f":"E2889&F2889","v":"SAP-8009325Cloud Classic SAP Solutions"},null,"SAP Colombia","SAP-8009325","Cloud Classic SAP Solutions",{"$f":"D2889","v":"SAP Colombia"},"USD","N/A","SAP content server Cloud, private edition (L)",1,"Serv","Suscripcion","N/A","N/A","N/A","SAP-8009325","Forma de pago estandar a 30 dias",27651,1,0,"USD"]
[{"$f":"D2890&F2890&E2890","v":"SAP ColombiaCloud Classic SAP SolutionsSAP-8010812"},{"$f":"E2890&F2890","v":"SAP-8010812Cloud Classic SAP Solutions"},null,"SAP Colombia","SAP-8010812","Cloud Classic SAP Solutions",{"$f":"D2890","v":"SAP Colombia"},"USD","N/A","SAP ERP, disaster recovery, private cloud edition",1,"Serv","Suscripcion","N/A","N/A","N/A","SAP-8010812","Forma de pago estandar a 30 dias",17,1,0,"USD"]
[{"$f":"D2891&F2891&E2891","v":"SAP ColombiaCloud Classic SAP SolutionsSAP-8010813-1"},{"$f":"E2891&F2891","v":"SAP-8010813-1Cloud Classic SAP Solutions"},null,"SAP Colombia","SAP-8010813-1","Cloud Classic SAP Solutions",{"$f":"D2891","v":"SAP Colombia"},"USD","N/A","SAP ERP, Digital Access, private cloud edition",1000,"Serv","Suscripcion","N/A","N/A","N/A","SAP-8010813-1","Forma de pago estandar a 30 dias",9.07,1,0,"USD"]
[{"$f":"D2892&F2892&E2892","v":"SAP ColombiaCloud Classic SAP SolutionsSAP-8010813-2"},{"$f":"E2892&F2892","v":"SAP-8010813-2Cloud Classic SAP Solutions"},null,"SAP Colombia","SAP-8010813-2","Cloud Classic SAP Solutions",{"$f":"D2892","v":"SAP Colombia"},"USD","N/A","SAP ERP, Digital Access, private cloud edition",1000,"Serv","Suscripcion","N/A","N/A","N/A","SAP-8010813-2","Forma de pago estandar a 30 dias",6.07,1,0,"USD"]
[{"$f":"D2893&F2893&E2893","v":"SAP ColombiaCloud Classic SAP SolutionsSAP-8010813-3"},{"$f":"E2893&F2893","v":"SAP-8010813-3Cloud Classic SAP Solutions"},null,"SAP Colombia","SAP-8010813-3","Cloud Classic SAP Solutions",{"$f":"D2893","v":"SAP Colombia"},"USD","N/A","SAP ERP, Digital Access, private cloud edition",1000,"Serv","Suscripcion","N/A","N/A","N/A","SAP-8010813-3","Forma de pago estandar a 30 dias",5.13,1,0,"USD"]
[{"$f":"D2894&F2894&E2894","v":"SAP ColombiaCloud Classic SAP SolutionsSAP-8010813-4"},{"$f":"E2894&F2894","v":"SAP-8010813-4Cloud Classic SAP Solutions"},null,"SAP Colombia","SAP-8010813-4","Cloud Classic SAP Solutions",{"$f":"D2894","v":"SAP Colombia"},"USD","N/A","SAP ERP, Digital Access, private cloud edition",1000,"Serv","Suscripcion","N/A","N/A","N/A","SAP-8010813-4","Forma de pago estandar a 30 dias",4.43,1,0,"USD"]
[{"$f":"D2895&F2895&E2895","v":"SAP ColombiaCloud Classic SAP SolutionsSAP-8010813-5"},{"$f":"E2895&F2895","v":"SAP-8010813-5Cloud Classic SAP Solutions"},null,"SAP Colombia","SAP-8010813-5","Cloud Classic SAP Solutions",{"$f":"D2895","v":"SAP Colombia"},"USD","N/A","SAP ERP, Digital Access, private cloud edition",1000,"Serv","Suscripcion","N/A","N/A","N/A","SAP-8010813-5","Forma de pago estandar a 30 dias",3.73,1,0,"USD"]
[{"$f":"D2896&F2896&E2896","v":"SAP ColombiaCloud Classic SAP SolutionsSAP-8010813-6"},{"$f":"E2896&F2896","v":"SAP-8010813-6Cloud Classic SAP Solutions"},null,"SAP Colombia","SAP-8010813-6","Cloud Classic SAP Solutions",{"$f":"D2896","v":"SAP Colombia"},"USD","N/A","SAP ERP, Digital Access, private cloud edition",1000,"Serv","Suscripcion","N/A","N/A","N/A","SAP-8010813-6","Forma de pago estandar a 30 dias",2.8,1,0,"USD"]
[{"$f":"D2897&F2897&E2897","v":"SAP ColombiaCloud Classic SAP SolutionsSAP-8010813-7"},{"$f":"E2897&F2897","v":"SAP-8010813-7Cloud Classic SAP Solutions"},null,"SAP Colombia","SAP-8010813-7","Cloud Classic SAP Solutions",{"$f":"D2897","v":"SAP Colombia"},"USD","N/A","SAP ERP, Digital Access, private cloud edition",1000,"Serv","Suscripcion","N/A","N/A","N/A","SAP-8010813-7","Forma de pago estandar a 30 dias",2.11,1,0,"USD"]
[{"$f":"D2898&F2898&E2898","v":"SAP ColombiaCloud Classic SAP SolutionsSAP-8010813-8"},{"$f":"E2898&F2898","v":"SAP-8010813-8Cloud Classic SAP Solutions"},null,"SAP Colombia","SAP-8010813-8","Cloud Classic SAP Solutions",{"$f":"D2898","v":"SAP Colombia"},"USD","N/A","SAP ERP, Digital Access, private cloud edition",1000,"Serv","Suscripcion","N/A","N/A","N/A","SAP-8010813-8","Forma de pago estandar a 30 dias",1.1599999999999999,1,0,"USD"]
[{"$f":"D2899&F2899&E2899","v":"SAP ColombiaCloud Classic SAP SolutionsSAP-8010814"},{"$f":"E2899&F2899","v":"SAP-8010814Cloud Classic SAP Solutions"},null,"SAP Colombia","SAP-8010814","Cloud Classic SAP Solutions",{"$f":"D2899","v":"SAP Colombia"},"USD","N/A","SAP ERP, additional non-productive tier, private cloud edition (XS)",1,"Serv","Suscripcion","N/A","N/A","N/A","SAP-8010814","Forma de pago estandar a 30 dias",13023,1,0,"USD"]
[{"$f":"D2900&F2900&E2900","v":"SAP ColombiaCloud Classic SAP SolutionsSAP-8010817"},{"$f":"E2900&F2900","v":"SAP-8010817Cloud Classic SAP Solutions"},null,"SAP Colombia","SAP-8010817","Cloud Classic SAP Solutions",{"$f":"D2900","v":"SAP Colombia"},"USD","N/A","SAP ERP, GxP, private cloud edition",1,"Serv","Suscripcion","N/A","N/A","N/A","SAP-8010817","Forma de pago estandar a 30 dias",11,1,0,"USD"]
[{"$f":"D2901&F2901&E2901","v":"SAP ColombiaCloud Classic SAP SolutionsSAP-8010818"},{"$f":"E2901&F2901","v":"SAP-8010818Cloud Classic SAP Solutions"},null,"SAP Colombia","SAP-8010818","Cloud Classic SAP Solutions",{"$f":"D2901","v":"SAP Colombia"},"USD","N/A","SAP ERP, additional non-productive tier, private cloud edition (M)",1,"Serv","Suscripcion","N/A","N/A","N/A","SAP-8010818","Forma de pago estandar a 30 dias",24526,1,0,"USD"]
[{"$f":"D2902&F2902&E2902","v":"SAP ColombiaCloud Classic SAP SolutionsSAP-8010819"},{"$f":"E2902&F2902","v":"SAP-8010819Cloud Classic SAP Solutions"},null,"SAP Colombia","SAP-8010819","Cloud Classic SAP Solutions",{"$f":"D2902","v":"SAP Colombia"},"USD","N/A","SAP ERP, additional non-productive tier, private cloud edition (S)",1,"Serv","Suscripcion","N/A","N/A","N/A","SAP-8010819","Forma de pago estandar a 30 dias",17134,1,0,"USD"]
[{"$f":"D2903&F2903&E2903","v":"SAP ColombiaCloud Classic SAP SolutionsSAP-8010822"},{"$f":"E2903&F2903","v":"SAP-8010822Cloud Classic SAP Solutions"},null,"SAP Colombia","SAP-8010822","Cloud Classic SAP Solutions",{"$f":"D2903","v":"SAP Colombia"},"USD","N/A","SAP ERP, additional non-productive tier, private cloud edition (L)",1,"Serv","Suscripcion","N/A","N/A","N/A","SAP-8010822","Forma de pago estandar a 30 dias",36733,1,0,"USD"]
[{"$f":"D2904&F2904&E2904","v":"SAP ColombiaCloud Classic SAP SolutionsSAP-8010823-1"},{"$f":"E2904&F2904","v":"SAP-8010823-1Cloud Classic SAP Solutions"},null,"SAP Colombia","SAP-8010823-1","Cloud Classic SAP Solutions",{"$f":"D2904","v":"SAP Colombia"},"USD","N/A","SAP ERP, customer evaluation system, private cloud edition",256,"Serv","Suscripcion","N/A","N/A","N/A","SAP-8010823-1","Forma de pago estandar a 30 dias",54058,1,0,"USD"]
[{"$f":"D2905&F2905&E2905","v":"SAP ColombiaCloud Classic SAP SolutionsSAP-8010823-2"},{"$f":"E2905&F2905","v":"SAP-8010823-2Cloud Classic SAP Solutions"},null,"SAP Colombia","SAP-8010823-2","Cloud Classic SAP Solutions",{"$f":"D2905","v":"SAP Colombia"},"USD","N/A","SAP ERP, customer evaluation system, private cloud edition",256,"Serv","Suscripcion","N/A","N/A","N/A","SAP-8010823-2","Forma de pago estandar a 30 dias",35463,1,0,"USD"]
[{"$f":"D2906&F2906&E2906","v":"SAP ColombiaCloud Classic SAP SolutionsSAP-8010824"},{"$f":"E2906&F2906","v":"SAP-8010824Cloud Classic SAP Solutions"},null,"SAP Colombia","SAP-8010824","Cloud Classic SAP Solutions",{"$f":"D2906","v":"SAP Colombia"},"USD","N/A","SAP ERP, additional non-productive tier, private cloud edition (XXL)",1,"Serv","Suscripcion","N/A","N/A","N/A","SAP-8010824","Forma de pago estandar a 30 dias",78303,1,0,"USD"]
[{"$f":"D2907&F2907&E2907","v":"SAP ColombiaCloud Classic SAP SolutionsSAP-8010973"},{"$f":"E2907&F2907","v":"SAP-8010973Cloud Classic SAP Solutions"},null,"SAP Colombia","SAP-8010973","Cloud Classic SAP Solutions",{"$f":"D2907","v":"SAP Colombia"},"USD","N/A","SAP ERP, 4 hour recovery time objective, private cloud edition",1,"Serv","Suscripcion","N/A","N/A","N/A","SAP-8010973","Forma de pago estandar a 30 dias",5,1,0,"USD"]
[{"$f":"D2908&F2908&E2908","v":"SAP ColombiaCloud Classic SAP SolutionsSAP-8011014"},{"$f":"E2908&F2908","v":"SAP-8011014Cloud Classic SAP Solutions"},null,"SAP Colombia","SAP-8011014","Cloud Classic SAP Solutions",{"$f":"D2908","v":"SAP Colombia"},"USD","N/A","SAP ERP, additional productive tier (XS), private cloud edition",1,"Serv","Suscripcion","N/A","N/A","N/A","SAP-8011014","Forma de pago estandar a 30 dias",18212,1,0,"USD"]
[{"$f":"D2909&F2909&E2909","v":"SAP ColombiaCloud Classic SAP SolutionsSAP-8011015"},{"$f":"E2909&F2909","v":"SAP-8011015Cloud Classic SAP Solutions"},null,"SAP Colombia","SAP-8011015","Cloud Classic SAP Solutions",{"$f":"D2909","v":"SAP Colombia"},"USD","N/A","SAP ERP, additional productive tier (S), private cloud edition",1,"Serv","Suscripcion","N/A","N/A","N/A","SAP-8011015","Forma de pago estandar a 30 dias",21411,1,0,"USD"]
[{"$f":"D2910&F2910&E2910","v":"SAP ColombiaCloud Classic SAP SolutionsSAP-8011016"},{"$f":"E2910&F2910","v":"SAP-8011016Cloud Classic SAP Solutions"},null,"SAP Colombia","SAP-8011016","Cloud Classic SAP Solutions",{"$f":"D2910","v":"SAP Colombia"},"USD","N/A","SAP ERP, additional productive tier (M), private cloud edition",1,"Serv","Suscripcion","N/A","N/A","N/A","SAP-8011016","Forma de pago estandar a 30 dias",27910,1,0,"USD"]
[{"$f":"D2911&F2911&E2911","v":"SAP ColombiaCloud Classic SAP SolutionsSAP-8011017"},{"$f":"E2911&F2911","v":"SAP-8011017Cloud Classic SAP Solutions"},null,"SAP Colombia","SAP-8011017","Cloud Classic SAP Solutions",{"$f":"D2911","v":"SAP Colombia"},"USD","N/A","SAP ERP, additional productive tier (L), private cloud edition",1,"Serv","Suscripcion","N/A","N/A","N/A","SAP-8011017","Forma de pago estandar a 30 dias",38850,1,0,"USD"]
[{"$f":"D2912&F2912&E2912","v":"SAP ColombiaCloud Classic SAP SolutionsSAP-8011019"},{"$f":"E2912&F2912","v":"SAP-8011019Cloud Classic SAP Solutions"},null,"SAP Colombia","SAP-8011019","Cloud Classic SAP Solutions",{"$f":"D2912","v":"SAP Colombia"},"USD","N/A","SAP ERP, additional productive tier (XXL), private cloud edition",1,"Serv","Suscripcion","N/A","N/A","N/A","SAP-8011019","Forma de pago estandar a 30 dias",86654,1,0,"USD"]
[{"$f":"D2913&F2913&E2913","v":"SAP ColombiaCloud Classic SAP SolutionsSAP-8011283"},{"$f":"E2913&F2913","v":"SAP-8011283Cloud Classic SAP Solutions"},null,"SAP Colombia","SAP-8011283","Cloud Classic SAP Solutions",{"$f":"D2913","v":"SAP Colombia"},"USD","N/A","SAP NetWeaver ABAP Server on ASE Cloud, private edition (M)",1,"Serv","Suscripcion","N/A","N/A","N/A","SAP-8011283","Forma de pago estandar a 30 dias",130353,1,0,"USD"]
[{"$f":"D2914&F2914&E2914","v":"SAP ColombiaCloud Classic SAP SolutionsSAP-8011291"},{"$f":"E2914&F2914","v":"SAP-8011291Cloud Classic SAP Solutions"},null,"SAP Colombia","SAP-8011291","Cloud Classic SAP Solutions",{"$f":"D2914","v":"SAP Colombia"},"USD","N/A","SAP NetWeaver ABAP Server on ASE Cloud, private edition (XL)",1,"Serv","Suscripcion","N/A","N/A","N/A","SAP-8011291","Forma de pago estandar a 30 dias",249774,1,0,"USD"]
[{"$f":"D2915&F2915&E2915","v":"SAP ColombiaCloud Classic SAP SolutionsSAP-8011292"},{"$f":"E2915&F2915","v":"SAP-8011292Cloud Classic SAP Solutions"},null,"SAP Colombia","SAP-8011292","Cloud Classic SAP Solutions",{"$f":"D2915","v":"SAP Colombia"},"USD","N/A","SAP NetWeaver ABAP Server on ASE Cloud, private edition (XS)",1,"Serv","Suscripcion","N/A","N/A","N/A","SAP-8011292","Forma de pago estandar a 30 dias",89217,1,0,"USD"]
[{"$f":"D2916&F2916&E2916","v":"SAP ColombiaCloud Classic SAP SolutionsSAP-8011293"},{"$f":"E2916&F2916","v":"SAP-8011293Cloud Classic SAP Solutions"},null,"SAP Colombia","SAP-8011293","Cloud Classic SAP Solutions",{"$f":"D2916","v":"SAP Colombia"},"USD","N/A","SAP NetWeaver ABAP Server on ASE Cloud, private edition (S)",1,"Serv","Suscripcion","N/A","N/A","N/A","SAP-8011293","Forma de pago estandar a 30 dias",110880,1,0,"USD"]
[{"$f":"D2917&F2917&E2917","v":"SAP ColombiaCloud Classic SAP SolutionsSAP-8011294"},{"$f":"E2917&F2917","v":"SAP-8011294Cloud Classic SAP Solutions"},null,"SAP Colombia","SAP-8011294","Cloud Classic SAP Solutions",{"$f":"D2917","v":"SAP Colombia"},"USD","N/A","SAP NetWeaver ABAP Server on ASE Cloud, private edition (L)",1,"Serv","Suscripcion","N/A","N/A","N/A","SAP-8011294","Forma de pago estandar a 30 dias",179426,1,0,"USD"]
[{"$f":"D2918&F2918&E2918","v":"SAP ColombiaCloud Classic SAP SolutionsSAP-8011322"},{"$f":"E2918&F2918","v":"SAP-8011322Cloud Classic SAP Solutions"},null,"SAP Colombia","SAP-8011322","Cloud Classic SAP Solutions",{"$f":"D2918","v":"SAP Colombia"},"USD","N/A","SAP NetWeaver ABAP Server Cloud on HANA, private edition (S)",1,"Serv","Suscripcion","N/A","N/A","N/A","SAP-8011322","Forma de pago estandar a 30 dias",54475,1,0,"USD"]
[{"$f":"D2919&F2919&E2919","v":"SAP ColombiaCloud Classic SAP SolutionsSAP-8011323"},{"$f":"E2919&F2919","v":"SAP-8011323Cloud Classic SAP Solutions"},null,"SAP Colombia","SAP-8011323","Cloud Classic SAP Solutions",{"$f":"D2919","v":"SAP Colombia"},"USD","N/A","SAP NetWeaver ABAP Server Cloud on HANA, private edition (M)",1,"Serv","Suscripcion","N/A","N/A","N/A","SAP-8011323","Forma de pago estandar a 30 dias",66016,1,0,"USD"]
[{"$f":"D2920&F2920&E2920","v":"SAP ColombiaCloud Classic SAP SolutionsSAP-8011324"},{"$f":"E2920&F2920","v":"SAP-8011324Cloud Classic SAP Solutions"},null,"SAP Colombia","SAP-8011324","Cloud Classic SAP Solutions",{"$f":"D2920","v":"SAP Colombia"},"USD","N/A","SAP NetWeaver ABAP Server Cloud on HANA, private edition (L)",1,"Serv","Suscripcion","N/A","N/A","N/A","SAP-8011324","Forma de pago estandar a 30 dias",92048,1,0,"USD"]
[{"$f":"D2921&F2921&E2921","v":"SAP ColombiaCloud Classic SAP SolutionsSAP-8011325"},{"$f":"E2921&F2921","v":"SAP-8011325Cloud Classic SAP Solutions"},null,"SAP Colombia","SAP-8011325","Cloud Classic SAP Solutions",{"$f":"D2921","v":"SAP Colombia"},"USD","N/A","SAP NetWeaver ABAP Server Cloud on HANA, private edition (XL)",1,"Serv","Suscripcion","N/A","N/A","N/A","SAP-8011325","Forma de pago estandar a 30 dias",138330,1,0,"USD"]
[{"$f":"D2922&F2922&E2922","v":"SAP ColombiaCloud Classic SAP SolutionsSAP-8011326"},{"$f":"E2922&F2922","v":"SAP-8011326Cloud Classic SAP Solutions"},null,"SAP Colombia","SAP-8011326","Cloud Classic SAP Solutions",{"$f":"D2922","v":"SAP Colombia"},"USD","N/A","SAP NetWeaver ABAP Server Cloud on HANA, private edition (XXL)",1,"Serv","Suscripcion","N/A","N/A","N/A","SAP-8011326","Forma de pago estandar a 30 dias",180986,1,0,"USD"]
[{"$f":"D2923&F2923&E2923","v":"SAP ColombiaCloud Classic SAP SolutionsSAP-8011327"},{"$f":"E2923&F2923","v":"SAP-8011327Cloud Classic SAP Solutions"},null,"SAP Colombia","SAP-8011327","Cloud Classic SAP Solutions",{"$f":"D2923","v":"SAP Colombia"},"USD","N/A","SAP NetWeaver ABAP Server Cloud on HANA, private edition (4XL)",1,"Serv","Suscripcion","N/A","N/A","N/A","SAP-8011327","Forma de pago estandar a 30 dias",385108,1,0,"USD"]
[{"$f":"D2924&F2924&E2924","v":"SAP ColombiaCloud Classic SAP SolutionsSAP-8011726"},{"$f":"E2924&F2924","v":"SAP-8011726Cloud Classic SAP Solutions"},null,"SAP Colombia","SAP-8011726","Cloud Classic SAP Solutions",{"$f":"D2924","v":"SAP Colombia"},"USD","N/A","SAP Cloud, memory extension for productive tiers, private edition",256,"Serv","Suscripcion","N/A","N/A","N/A","SAP-8011726","Forma de pago estandar a 30 dias",3374,1,0,"USD"]
[{"$f":"D2925&F2925&E2925","v":"SAP ColombiaCloud Classic SAP SolutionsSAP-8011727"},{"$f":"E2925&F2925","v":"SAP-8011727Cloud Classic SAP Solutions"},null,"SAP Colombia","SAP-8011727","Cloud Classic SAP Solutions",{"$f":"D2925","v":"SAP Colombia"},"USD","N/A","SAP Cloud, memory extension for non-productive tiers, private edition",256,"Serv","Suscripcion","N/A","N/A","N/A","SAP-8011727","Forma de pago estandar a 30 dias",1735,1,0,"USD"]
[{"$f":"D2926&F2926&E2926","v":"SAP ColombiaCloud Classic SAP SolutionsSAP-8012156"},{"$f":"E2926&F2926","v":"SAP-8012156Cloud Classic SAP Solutions"},null,"SAP Colombia","SAP-8012156","Cloud Classic SAP Solutions",{"$f":"D2926","v":"SAP Colombia"},"USD","N/A","SAP content server Cloud, private edition (XL)",1,"Serv","Suscripcion","N/A","N/A","N/A","SAP-8012156","Forma de pago estandar a 30 dias",47720,1,0,"USD"]
[{"$f":"D2927&F2927&E2927","v":"SAP ColombiaCloud Classic SAP SolutionsSAP-8012157"},{"$f":"E2927&F2927","v":"SAP-8012157Cloud Classic SAP Solutions"},null,"SAP Colombia","SAP-8012157","Cloud Classic SAP Solutions",{"$f":"D2927","v":"SAP Colombia"},"USD","N/A","SAP content server Cloud, private edition (XXL)",1,"Serv","Suscripcion","N/A","N/A","N/A","SAP-8012157","Forma de pago estandar a 30 dias",65941,1,0,"USD"]
[{"$f":"D2928&F2928&E2928","v":"SAP ColombiaCloud Classic SAP SolutionsSAP-8012230-1"},{"$f":"E2928&F2928","v":"SAP-8012230-1Cloud Classic SAP Solutions"},null,"SAP Colombia","SAP-8012230-1","Cloud Classic SAP Solutions",{"$f":"D2928","v":"SAP Colombia"},"USD","N/A","PLM systems integration for SAP ERP, private cloud edition",10,"Serv","Suscripcion","N/A","N/A","N/A","SAP-8012230-1","Forma de pago estandar a 30 dias",25,1,0,"USD"]
[{"$f":"D2929&F2929&E2929","v":"SAP ColombiaCloud Classic SAP SolutionsSAP-8012230-2"},{"$f":"E2929&F2929","v":"SAP-8012230-2Cloud Classic SAP Solutions"},null,"SAP Colombia","SAP-8012230-2","Cloud Classic SAP Solutions",{"$f":"D2929","v":"SAP Colombia"},"USD","N/A","PLM systems integration for SAP ERP, private cloud edition",10,"Serv","Suscripcion","N/A","N/A","N/A","SAP-8012230-2","Forma de pago estandar a 30 dias",20,1,0,"USD"]
[{"$f":"D2930&F2930&E2930","v":"SAP ColombiaCloud Classic SAP SolutionsSAP-8012230-3"},{"$f":"E2930&F2930","v":"SAP-8012230-3Cloud Classic SAP Solutions"},null,"SAP Colombia","SAP-8012230-3","Cloud Classic SAP Solutions",{"$f":"D2930","v":"SAP Colombia"},"USD","N/A","PLM systems integration for SAP ERP, private cloud edition",10,"Serv","Suscripcion","N/A","N/A","N/A","SAP-8012230-3","Forma de pago estandar a 30 dias",15,1,0,"USD"]
[{"$f":"D2931&F2931&E2931","v":"SAP ColombiaCloud Classic SAP SolutionsSAP-8012230-4"},{"$f":"E2931&F2931","v":"SAP-8012230-4Cloud Classic SAP Solutions"},null,"SAP Colombia","SAP-8012230-4","Cloud Classic SAP Solutions",{"$f":"D2931","v":"SAP Colombia"},"USD","N/A","PLM systems integration for SAP ERP, private cloud edition",10,"Serv","Suscripcion","N/A","N/A","N/A","SAP-8012230-4","Forma de pago estandar a 30 dias",11,1,0,"USD"]
[{"$f":"D2932&F2932&E2932","v":"SAP ColombiaCloud Classic SAP SolutionsSAP-8012230-5"},{"$f":"E2932&F2932","v":"SAP-8012230-5Cloud Classic SAP Solutions"},null,"SAP Colombia","SAP-8012230-5","Cloud Classic SAP Solutions",{"$f":"D2932","v":"SAP Colombia"},"USD","N/A","PLM systems integration for SAP ERP, private cloud edition",10,"Serv","Suscripcion","N/A","N/A","N/A","SAP-8012230-5","Forma de pago estandar a 30 dias",7.84,1,0,"USD"]
[{"$f":"D2933&F2933&E2933","v":"SAP ColombiaCloud Classic SAP SolutionsSAP-8012327-1"},{"$f":"E2933&F2933","v":"SAP-8012327-1Cloud Classic SAP Solutions"},null,"SAP Colombia","SAP-8012327-1","Cloud Classic SAP Solutions",{"$f":"D2933","v":"SAP Colombia"},"USD","N/A","SAP ERP, private cloud edition",1,"Serv","Suscripcion","N/A","N/A","N/A","SAP-8012327-1","Forma de pago estandar a 30 dias",414,1,0,"USD"]
[{"$f":"D2934&F2934&E2934","v":"SAP ColombiaCloud Classic SAP SolutionsSAP-8012327-2"},{"$f":"E2934&F2934","v":"SAP-8012327-2Cloud Classic SAP Solutions"},null,"SAP Colombia","SAP-8012327-2","Cloud Classic SAP Solutions",{"$f":"D2934","v":"SAP Colombia"},"USD","N/A","SAP ERP, private cloud edition",1,"Serv","Suscripcion","N/A","N/A","N/A","SAP-8012327-2","Forma de pago estandar a 30 dias",409,1,0,"USD"]
[{"$f":"D2935&F2935&E2935","v":"SAP ColombiaCloud Classic SAP SolutionsSAP-8012327-3"},{"$f":"E2935&F2935","v":"SAP-8012327-3Cloud Classic SAP Solutions"},null,"SAP Colombia","SAP-8012327-3","Cloud Classic SAP Solutions",{"$f":"D2935","v":"SAP Colombia"},"USD","N/A","SAP ERP, private cloud edition",1,"Serv","Suscripcion","N/A","N/A","N/A","SAP-8012327-3","Forma de pago estandar a 30 dias",241,1,0,"USD"]
[{"$f":"D2936&F2936&E2936","v":"SAP ColombiaCloud Classic SAP SolutionsSAP-8012327-4"},{"$f":"E2936&F2936","v":"SAP-8012327-4Cloud Classic SAP Solutions"},null,"SAP Colombia","SAP-8012327-4","Cloud Classic SAP Solutions",{"$f":"D2936","v":"SAP Colombia"},"USD","N/A","SAP ERP, private cloud edition",1,"Serv","Suscripcion","N/A","N/A","N/A","SAP-8012327-4","Forma de pago estandar a 30 dias",168,1,0,"USD"]
[{"$f":"D2937&F2937&E2937","v":"SAP ColombiaCloud Classic SAP SolutionsSAP-8012327-5"},{"$f":"E2937&F2937","v":"SAP-8012327-5Cloud Classic SAP Solutions"},null,"SAP Colombia","SAP-8012327-5","Cloud Classic SAP Solutions",{"$f":"D2937","v":"SAP Colombia"},"USD","N/A","SAP ERP, private cloud edition",1,"Serv","Suscripcion","N/A","N/A","N/A","SAP-8012327-5","Forma de pago estandar a 30 dias",118,1,0,"USD"]
[{"$f":"D2938&F2938&E2938","v":"SAP ColombiaCloud Classic SAP SolutionsSAP-8012327-6"},{"$f":"E2938&F2938","v":"SAP-8012327-6Cloud Classic SAP Solutions"},null,"SAP Colombia","SAP-8012327-6","Cloud Classic SAP Solutions",{"$f":"D2938","v":"SAP Colombia"},"USD","N/A","SAP ERP, private cloud edition",1,"Serv","Suscripcion","N/A","N/A","N/A","SAP-8012327-6","Forma de pago estandar a 30 dias",67,1,0,"USD"]
[{"$f":"D2939&F2939&E2939","v":"SAP ColombiaCloud Classic SAP SolutionsSAP-8012327-7"},{"$f":"E2939&F2939","v":"SAP-8012327-7Cloud Classic SAP Solutions"},null,"SAP Colombia","SAP-8012327-7","Cloud Classic SAP Solutions",{"$f":"D2939","v":"SAP Colombia"},"USD","N/A","SAP ERP, private cloud edition",1,"Serv","Suscripcion","N/A","N/A","N/A","SAP-8012327-7","Forma de pago estandar a 30 dias",50,1,0,"USD"]
[{"$f":"D2940&F2940&E2940","v":"SAP ColombiaCloud Classic SAP SolutionsSAP-8012327-8"},{"$f":"E2940&F2940","v":"SAP-8012327-8Cloud Classic SAP Solutions"},null,"SAP Colombia","SAP-8012327-8","Cloud Classic SAP Solutions",{"$f":"D2940","v":"SAP Colombia"},"USD","N/A","SAP ERP, private cloud edition",1,"Serv","Suscripcion","N/A","N/A","N/A","SAP-8012327-8","Forma de pago estandar a 30 dias",39,1,0,"USD"]
[{"$f":"D2941&F2941&E2941","v":"SAP ColombiaCloud Classic SAP SolutionsSAP-8012327-9"},{"$f":"E2941&F2941","v":"SAP-8012327-9Cloud Classic SAP Solutions"},null,"SAP Colombia","SAP-8012327-9","Cloud Classic SAP Solutions",{"$f":"D2941","v":"SAP Colombia"},"USD","N/A","SAP ERP, private cloud edition",1,"Serv","Suscripcion","N/A","N/A","N/A","SAP-8012327-9","Forma de pago estandar a 30 dias",28,1,0,"USD"]
[{"$f":"D2942&F2942&E2942","v":"SAP ColombiaCloud Classic SAP SolutionsSAP-8012625"},{"$f":"E2942&F2942","v":"SAP-8012625Cloud Classic SAP Solutions"},null,"SAP Colombia","SAP-8012625","Cloud Classic SAP Solutions",{"$f":"D2942","v":"SAP Colombia"},"USD","N/A","SAP Fiori Hub for HANA, private cloud edition (XXS)",1,"Serv","Suscripcion","N/A","N/A","N/A","SAP-8012625","Forma de pago estandar a 30 dias",13439,1,0,"USD"]
[{"$f":"D2943&F2943&E2943","v":"SAP ColombiaCloud Classic SAP SolutionsSAP-8012626"},{"$f":"E2943&F2943","v":"SAP-8012626Cloud Classic SAP Solutions"},null,"SAP Colombia","SAP-8012626","Cloud Classic SAP Solutions",{"$f":"D2943","v":"SAP Colombia"},"USD","N/A","SAP Fiori Hub for HANA, private cloud edition (XS)",1,"Serv","Suscripcion","N/A","N/A","N/A","SAP-8012626","Forma de pago estandar a 30 dias",18618,1,0,"USD"]
[{"$f":"D2944&F2944&E2944","v":"SAP ColombiaCloud Classic SAP SolutionsSAP-8012627"},{"$f":"E2944&F2944","v":"SAP-8012627Cloud Classic SAP Solutions"},null,"SAP Colombia","SAP-8012627","Cloud Classic SAP Solutions",{"$f":"D2944","v":"SAP Colombia"},"USD","N/A","SAP Fiori Hub for HANA, private cloud edition (S)",1,"Serv","Suscripcion","N/A","N/A","N/A","SAP-8012627","Forma de pago estandar a 30 dias",19038,1,0,"USD"]
[{"$f":"D2945&F2945&E2945","v":"SAP ColombiaCloud Classic SAP SolutionsSAP-8012628"},{"$f":"E2945&F2945","v":"SAP-8012628Cloud Classic SAP Solutions"},null,"SAP Colombia","SAP-8012628","Cloud Classic SAP Solutions",{"$f":"D2945","v":"SAP Colombia"},"USD","N/A","SAP Fiori Hub for HANA, private cloud edition (M)",1,"Serv","Suscripcion","N/A","N/A","N/A","SAP-8012628","Forma de pago estandar a 30 dias",20231,1,0,"USD"]
[{"$f":"D2946&F2946&E2946","v":"SAP ColombiaCloud Classic SAP SolutionsSAP-8012629"},{"$f":"E2946&F2946","v":"SAP-8012629Cloud Classic SAP Solutions"},null,"SAP Colombia","SAP-8012629","Cloud Classic SAP Solutions",{"$f":"D2946","v":"SAP Colombia"},"USD","N/A","SAP Fiori Hub for HANA, private cloud edition (L)",1,"Serv","Suscripcion","N/A","N/A","N/A","SAP-8012629","Forma de pago estandar a 30 dias",23322,1,0,"USD"]
[{"$f":"D2947&F2947&E2947","v":"SAP ColombiaCloud Classic SAP SolutionsSAP-8012630"},{"$f":"E2947&F2947","v":"SAP-8012630Cloud Classic SAP Solutions"},null,"SAP Colombia","SAP-8012630","Cloud Classic SAP Solutions",{"$f":"D2947","v":"SAP Colombia"},"USD","N/A","SAP Fiori Hub for HANA, private cloud edition (XL)",1,"Serv","Suscripcion","N/A","N/A","N/A","SAP-8012630","Forma de pago estandar a 30 dias",27438,1,0,"USD"]
[{"$f":"D2948&F2948&E2948","v":"SAP ColombiaCloud Classic SAP SolutionsSAP-8013379"},{"$f":"E2948&F2948","v":"SAP-8013379Cloud Classic SAP Solutions"},null,"SAP Colombia","SAP-8013379","Cloud Classic SAP Solutions",{"$f":"D2948","v":"SAP Colombia"},"USD","N/A","SAP ERP 99.9% SLA, private edition",1,"Serv","Suscripcion","N/A","N/A","N/A","SAP-8013379","Forma de pago estandar a 30 dias",50,1,0,"USD"]
[{"$f":"D2949&F2949&E2949","v":"SAP ColombiaCloud Classic SAP SolutionsSAP-8000981"},{"$f":"E2949&F2949","v":"SAP-8000981Cloud Classic SAP Solutions"},null,"SAP Colombia","SAP-8000981","Cloud Classic SAP Solutions",{"$f":"D2949","v":"SAP Colombia"},"USD","N/A","SAP Sales and Service Core, private edition",1,"Serv","Suscripcion","N/A","N/A","N/A","SAP-8000981","Forma de pago estandar a 30 dias",16799,1,0,"USD"]
[{"$f":"D2950&F2950&E2950","v":"SAP ColombiaCloud Classic SAP SolutionsSAP-8003186"},{"$f":"E2950&F2950","v":"SAP-8003186Cloud Classic SAP Solutions"},null,"SAP Colombia","SAP-8003186","Cloud Classic SAP Solutions",{"$f":"D2950","v":"SAP Colombia"},"USD","N/A","SAP Sales and Service Core, limited access edition",1,"Serv","Suscripcion","N/A","N/A","N/A","SAP-8003186","Forma de pago estandar a 30 dias",56,1,0,"USD"]
[{"$f":"D2951&F2951&E2951","v":"SAP ColombiaCloud Classic SAP SolutionsSAP-8006205-1"},{"$f":"E2951&F2951","v":"SAP-8006205-1Cloud Classic SAP Solutions"},null,"SAP Colombia","SAP-8006205-1","Cloud Classic SAP Solutions",{"$f":"D2951","v":"SAP Colombia"},"USD","N/A","SAP CPQ, standard edition",1,"Serv","Suscripcion","N/A","N/A","N/A","SAP-8006205-1","Forma de pago estandar a 30 dias",67,1,0,"USD"]
[{"$f":"D2952&F2952&E2952","v":"SAP ColombiaCloud Classic SAP SolutionsSAP-8006205-2"},{"$f":"E2952&F2952","v":"SAP-8006205-2Cloud Classic SAP Solutions"},null,"SAP Colombia","SAP-8006205-2","Cloud Classic SAP Solutions",{"$f":"D2952","v":"SAP Colombia"},"USD","N/A","SAP CPQ, standard edition",1,"Serv","Suscripcion","N/A","N/A","N/A","SAP-8006205-2","Forma de pago estandar a 30 dias",55,1,0,"USD"]
[{"$f":"D2953&F2953&E2953","v":"SAP ColombiaCloud Classic SAP SolutionsSAP-8006205-3"},{"$f":"E2953&F2953","v":"SAP-8006205-3Cloud Classic SAP Solutions"},null,"SAP Colombia","SAP-8006205-3","Cloud Classic SAP Solutions",{"$f":"D2953","v":"SAP Colombia"},"USD","N/A","SAP CPQ, standard edition",1,"Serv","Suscripcion","N/A","N/A","N/A","SAP-8006205-3","Forma de pago estandar a 30 dias",48,1,0,"USD"]
[{"$f":"D2954&F2954&E2954","v":"SAP ColombiaCloud Classic SAP SolutionsSAP-8006205-4"},{"$f":"E2954&F2954","v":"SAP-8006205-4Cloud Classic SAP Solutions"},null,"SAP Colombia","SAP-8006205-4","Cloud Classic SAP Solutions",{"$f":"D2954","v":"SAP Colombia"},"USD","N/A","SAP CPQ, standard edition",1,"Serv","Suscripcion","N/A","N/A","N/A","SAP-8006205-4","Forma de pago estandar a 30 dias",37,1,0,"USD"]
[{"$f":"D2955&F2955&E2955","v":"SAP ColombiaCloud Classic SAP SolutionsSAP-8006205-5"},{"$f":"E2955&F2955","v":"SAP-8006205-5Cloud Classic SAP Solutions"},null,"SAP Colombia","SAP-8006205-5","Cloud Classic SAP Solutions",{"$f":"D2955","v":"SAP Colombia"},"USD","N/A","SAP CPQ, standard edition",1,"Serv","Suscripcion","N/A","N/A","N/A","SAP-8006205-5","Forma de pago estandar a 30 dias",30,1,0,"USD"]
[{"$f":"D2956&F2956&E2956","v":"SAP ColombiaCloud Classic SAP SolutionsSAP-8006207"},{"$f":"E2956&F2956","v":"SAP-8006207Cloud Classic SAP Solutions"},null,"SAP Colombia","SAP-8006207","Cloud Classic SAP Solutions",{"$f":"D2956","v":"SAP Colombia"},"USD","N/A","SAP CPQ, extra storage",1,"Serv","Suscripcion","N/A","N/A","N/A","SAP-8006207","Forma de pago estandar a 30 dias",1.4,1,0,"USD"]
[{"$f":"D2957&F2957&E2957","v":"SAP ColombiaCloud Classic SAP SolutionsSAP-8007056-1"},{"$f":"E2957&F2957","v":"SAP-8007056-1Cloud Classic SAP Solutions"},null,"SAP Colombia","SAP-8007056-1","Cloud Classic SAP Solutions",{"$f":"D2957","v":"SAP Colombia"},"USD","N/A","SAP CPQ, professional edition",1,"Serv","Suscripcion","N/A","N/A","N/A","SAP-8007056-1","Forma de pago estandar a 30 dias",106,1,0,"USD"]
[{"$f":"D2958&F2958&E2958","v":"SAP ColombiaCloud Classic SAP SolutionsSAP-8007056-2"},{"$f":"E2958&F2958","v":"SAP-8007056-2Cloud Classic SAP Solutions"},null,"SAP Colombia","SAP-8007056-2","Cloud Classic SAP Solutions",{"$f":"D2958","v":"SAP Colombia"},"USD","N/A","SAP CPQ, professional edition",1,"Serv","Suscripcion","N/A","N/A","N/A","SAP-8007056-2","Forma de pago estandar a 30 dias",84,1,0,"USD"]
[{"$f":"D2959&F2959&E2959","v":"SAP ColombiaCloud Classic SAP SolutionsSAP-8007056-3"},{"$f":"E2959&F2959","v":"SAP-8007056-3Cloud Classic SAP Solutions"},null,"SAP Colombia","SAP-8007056-3","Cloud Classic SAP Solutions",{"$f":"D2959","v":"SAP Colombia"},"USD","N/A","SAP CPQ, professional edition",1,"Serv","Suscripcion","N/A","N/A","N/A","SAP-8007056-3","Forma de pago estandar a 30 dias",67,1,0,"USD"]
[{"$f":"D2960&F2960&E2960","v":"SAP ColombiaCloud Classic SAP SolutionsSAP-8007056-4"},{"$f":"E2960&F2960","v":"SAP-8007056-4Cloud Classic SAP Solutions"},null,"SAP Colombia","SAP-8007056-4","Cloud Classic SAP Solutions",{"$f":"D2960","v":"SAP Colombia"},"USD","N/A","SAP CPQ, professional edition",1,"Serv","Suscripcion","N/A","N/A","N/A","SAP-8007056-4","Forma de pago estandar a 30 dias",56,1,0,"USD"]
[{"$f":"D2961&F2961&E2961","v":"SAP ColombiaCloud Classic SAP SolutionsSAP-8007056-5"},{"$f":"E2961&F2961","v":"SAP-8007056-5Cloud Classic SAP Solutions"},null,"SAP Colombia","SAP-8007056-5","Cloud Classic SAP Solutions",{"$f":"D2961","v":"SAP Colombia"},"USD","N/A","SAP CPQ, professional edition",1,"Serv","Suscripcion","N/A","N/A","N/A","SAP-8007056-5","Forma de pago estandar a 30 dias",45,1,0,"USD"]
[{"$f":"D2962&F2962&E2962","v":"SAP ColombiaCloud Classic SAP SolutionsSAP-8007699-1"},{"$f":"E2962&F2962","v":"SAP-8007699-1Cloud Classic SAP Solutions"},null,"SAP Colombia","SAP-8007699-1","Cloud Classic SAP Solutions",{"$f":"D2962","v":"SAP Colombia"},"USD","N/A","SAP Omnichannel Promotion Pricing",1000000,"Serv","Suscripcion","N/A","N/A","N/A","SAP-8007699-1","Forma de pago estandar a 30 dias",40,1,0,"USD"]
[{"$f":"D2963&F2963&E2963","v":"SAP ColombiaCloud Classic SAP SolutionsSAP-8007699-2"},{"$f":"E2963&F2963","v":"SAP-8007699-2Cloud Classic SAP Solutions"},null,"SAP Colombia","SAP-8007699-2","Cloud Classic SAP Solutions",{"$f":"D2963","v":"SAP Colombia"},"USD","N/A","SAP Omnichannel Promotion Pricing",1000000,"Serv","Suscripcion","N/A","N/A","N/A","SAP-8007699-2","Forma de pago estandar a 30 dias",36,1,0,"USD"]
[{"$f":"D2964&F2964&E2964","v":"SAP ColombiaCloud Classic SAP SolutionsSAP-8007699-3"},{"$f":"E2964&F2964","v":"SAP-8007699-3Cloud Classic SAP Solutions"},null,"SAP Colombia","SAP-8007699-3","Cloud Classic SAP Solutions",{"$f":"D2964","v":"SAP Colombia"},"USD","N/A","SAP Omnichannel Promotion Pricing",1000000,"Serv","Suscripcion","N/A","N/A","N/A","SAP-8007699-3","Forma de pago estandar a 30 dias",30,1,0,"USD"]
[{"$f":"D2965&F2965&E2965","v":"SAP ColombiaCloud Classic SAP SolutionsSAP-8008051"},{"$f":"E2965&F2965","v":"SAP-8008051Cloud Classic SAP Solutions"},null,"SAP Colombia","SAP-8008051","Cloud Classic SAP Solutions",{"$f":"D2965","v":"SAP Colombia"},"USD","N/A","SAP Commerce Cloud, financial services accelerator, access",50000,"Serv","Suscripcion","N/A","N/A","N/A","SAP-8008051","Forma de pago estandar a 30 dias",8457,1,0,"USD"]
[{"$f":"D2966&F2966&E2966","v":"SAP ColombiaCloud Classic SAP SolutionsSAP-8008052-1"},{"$f":"E2966&F2966","v":"SAP-8008052-1Cloud Classic SAP Solutions"},null,"SAP Colombia","SAP-8008052-1","Cloud Classic SAP Solutions",{"$f":"D2966","v":"SAP Colombia"},"USD","N/A","SAP Commerce Cloud, financial services accelerator",50000,"Serv","Suscripcion","N/A","N/A","N/A","SAP-8008052-1","Forma de pago estandar a 30 dias",1344,1,0,"USD"]
[{"$f":"D2967&F2967&E2967","v":"SAP ColombiaCloud Classic SAP SolutionsSAP-8008052-2"},{"$f":"E2967&F2967","v":"SAP-8008052-2Cloud Classic SAP Solutions"},null,"SAP Colombia","SAP-8008052-2","Cloud Classic SAP Solutions",{"$f":"D2967","v":"SAP Colombia"},"USD","N/A","SAP Commerce Cloud, financial services accelerator",50000,"Serv","Suscripcion","N/A","N/A","N/A","SAP-8008052-2","Forma de pago estandar a 30 dias",882,1,0,"USD"]
[{"$f":"D2968&F2968&E2968","v":"SAP ColombiaCloud Classic SAP SolutionsSAP-8008052-3"},{"$f":"E2968&F2968","v":"SAP-8008052-3Cloud Classic SAP Solutions"},null,"SAP Colombia","SAP-8008052-3","Cloud Classic SAP Solutions",{"$f":"D2968","v":"SAP Colombia"},"USD","N/A","SAP Commerce Cloud, financial services accelerator",50000,"Serv","Suscripcion","N/A","N/A","N/A","SAP-8008052-3","Forma de pago estandar a 30 dias",784,1,0,"USD"]
[{"$f":"D2969&F2969&E2969","v":"SAP ColombiaCloud Classic SAP SolutionsSAP-8008052-4"},{"$f":"E2969&F2969","v":"SAP-8008052-4Cloud Classic SAP Solutions"},null,"SAP Colombia","SAP-8008052-4","Cloud Classic SAP Solutions",{"$f":"D2969","v":"SAP Colombia"},"USD","N/A","SAP Commerce Cloud, financial services accelerator",50000,"Serv","Suscripcion","N/A","N/A","N/A","SAP-8008052-4","Forma de pago estandar a 30 dias",756,1,0,"USD"]
[{"$f":"D2970&F2970&E2970","v":"SAP ColombiaCloud Classic SAP SolutionsSAP-8008052-5"},{"$f":"E2970&F2970","v":"SAP-8008052-5Cloud Classic SAP Solutions"},null,"SAP Colombia","SAP-8008052-5","Cloud Classic SAP Solutions",{"$f":"D2970","v":"SAP Colombia"},"USD","N/A","SAP Commerce Cloud, financial services accelerator",50000,"Serv","Suscripcion","N/A","N/A","N/A","SAP-8008052-5","Forma de pago estandar a 30 dias",637,1,0,"USD"]
[{"$f":"D2971&F2971&E2971","v":"SAP ColombiaCloud Classic SAP SolutionsSAP-8008053"},{"$f":"E2971&F2971","v":"SAP-8008053Cloud Classic SAP Solutions"},null,"SAP Colombia","SAP-8008053","Cloud Classic SAP Solutions",{"$f":"D2971","v":"SAP Colombia"},"USD","N/A","SAP Commerce Cloud, citizen engagement accelerator, access",50000,"Serv","Suscripcion","N/A","N/A","N/A","SAP-8008053","Forma de pago estandar a 30 dias",5040,1,0,"USD"]
[{"$f":"D2972&F2972&E2972","v":"SAP ColombiaCloud Classic SAP SolutionsSAP-8008054-1"},{"$f":"E2972&F2972","v":"SAP-8008054-1Cloud Classic SAP Solutions"},null,"SAP Colombia","SAP-8008054-1","Cloud Classic SAP Solutions",{"$f":"D2972","v":"SAP Colombia"},"USD","N/A","SAP Commerce Cloud, citizen engagement accelerator",50000,"Serv","Suscripcion","N/A","N/A","N/A","SAP-8008054-1","Forma de pago estandar a 30 dias",989,1,0,"USD"]
[{"$f":"D2973&F2973&E2973","v":"SAP ColombiaCloud Classic SAP SolutionsSAP-8008054-2"},{"$f":"E2973&F2973","v":"SAP-8008054-2Cloud Classic SAP Solutions"},null,"SAP Colombia","SAP-8008054-2","Cloud Classic SAP Solutions",{"$f":"D2973","v":"SAP Colombia"},"USD","N/A","SAP Commerce Cloud, citizen engagement accelerator",50000,"Serv","Suscripcion","N/A","N/A","N/A","SAP-8008054-2","Forma de pago estandar a 30 dias",577,1,0,"USD"]
[{"$f":"D2974&F2974&E2974","v":"SAP ColombiaCloud Classic SAP SolutionsSAP-8008054-3"},{"$f":"E2974&F2974","v":"SAP-8008054-3Cloud Classic SAP Solutions"},null,"SAP Colombia","SAP-8008054-3","Cloud Classic SAP Solutions",{"$f":"D2974","v":"SAP Colombia"},"USD","N/A","SAP Commerce Cloud, citizen engagement accelerator",50000,"Serv","Suscripcion","N/A","N/A","N/A","SAP-8008054-3","Forma de pago estandar a 30 dias",493,1,0,"USD"]
[{"$f":"D2975&F2975&E2975","v":"SAP ColombiaCloud Classic SAP SolutionsSAP-8008054-4"},{"$f":"E2975&F2975","v":"SAP-8008054-4Cloud Classic SAP Solutions"},null,"SAP Colombia","SAP-8008054-4","Cloud Classic SAP Solutions",{"$f":"D2975","v":"SAP Colombia"},"USD","N/A","SAP Commerce Cloud, citizen engagement accelerator",50000,"Serv","Suscripcion","N/A","N/A","N/A","SAP-8008054-4","Forma de pago estandar a 30 dias",370,1,0,"USD"]
[{"$f":"D2976&F2976&E2976","v":"SAP ColombiaCloud Classic SAP SolutionsSAP-8008054-5"},{"$f":"E2976&F2976","v":"SAP-8008054-5Cloud Classic SAP Solutions"},null,"SAP Colombia","SAP-8008054-5","Cloud Classic SAP Solutions",{"$f":"D2976","v":"SAP Colombia"},"USD","N/A","SAP Commerce Cloud, citizen engagement accelerator",50000,"Serv","Suscripcion","N/A","N/A","N/A","SAP-8008054-5","Forma de pago estandar a 30 dias",330,1,0,"USD"]
[{"$f":"D2977&F2977&E2977","v":"SAP ColombiaCloud Classic SAP SolutionsSAP-8008055"},{"$f":"E2977&F2977","v":"SAP-8008055Cloud Classic SAP Solutions"},null,"SAP Colombia","SAP-8008055","Cloud Classic SAP Solutions",{"$f":"D2977","v":"SAP Colombia"},"USD","N/A","SAP Commerce Cloud, Travel  accelerator, access",50000,"Serv","Suscripcion","N/A","N/A","N/A","SAP-8008055","Forma de pago estandar a 30 dias",8457,1,0,"USD"]
[{"$f":"D2978&F2978&E2978","v":"SAP ColombiaCloud Classic SAP SolutionsSAP-8008056-1"},{"$f":"E2978&F2978","v":"SAP-8008056-1Cloud Classic SAP Solutions"},null,"SAP Colombia","SAP-8008056-1","Cloud Classic SAP Solutions",{"$f":"D2978","v":"SAP Colombia"},"USD","N/A","SAP Commerce Cloud, Travel  accelerator",50000,"Serv","Suscripcion","N/A","N/A","N/A","SAP-8008056-1","Forma de pago estandar a 30 dias",1344,1,0,"USD"]
[{"$f":"D2979&F2979&E2979","v":"SAP ColombiaCloud Classic SAP SolutionsSAP-8008056-2"},{"$f":"E2979&F2979","v":"SAP-8008056-2Cloud Classic SAP Solutions"},null,"SAP Colombia","SAP-8008056-2","Cloud Classic SAP Solutions",{"$f":"D2979","v":"SAP Colombia"},"USD","N/A","SAP Commerce Cloud, Travel  accelerator",50000,"Serv","Suscripcion","N/A","N/A","N/A","SAP-8008056-2","Forma de pago estandar a 30 dias",882,1,0,"USD"]
[{"$f":"D2980&F2980&E2980","v":"SAP ColombiaCloud Classic SAP SolutionsSAP-8008056-3"},{"$f":"E2980&F2980","v":"SAP-8008056-3Cloud Classic SAP Solutions"},null,"SAP Colombia","SAP-8008056-3","Cloud Classic SAP Solutions",{"$f":"D2980","v":"SAP Colombia"},"USD","N/A","SAP Commerce Cloud, Travel  accelerator",50000,"Serv","Suscripcion","N/A","N/A","N/A","SAP-8008056-3","Forma de pago estandar a 30 dias",784,1,0,"USD"]
[{"$f":"D2981&F2981&E2981","v":"SAP ColombiaCloud Classic SAP SolutionsSAP-8008056-4"},{"$f":"E2981&F2981","v":"SAP-8008056-4Cloud Classic SAP Solutions"},null,"SAP Colombia","SAP-8008056-4","Cloud Classic SAP Solutions",{"$f":"D2981","v":"SAP Colombia"},"USD","N/A","SAP Commerce Cloud, Travel  accelerator",50000,"Serv","Suscripcion","N/A","N/A","N/A","SAP-8008056-4","Forma de pago estandar a 30 dias",567,1,0,"USD"]
[{"$f":"D2982&F2982&E2982","v":"SAP ColombiaCloud Classic SAP SolutionsSAP-8008056-5"},{"$f":"E2982&F2982","v":"SAP-8008056-5Cloud Classic SAP Solutions"},null,"SAP Colombia","SAP-8008056-5","Cloud Classic SAP Solutions",{"$f":"D2982","v":"SAP Colombia"},"USD","N/A","SAP Commerce Cloud, Travel  accelerator",50000,"Serv","Suscripcion","N/A","N/A","N/A","SAP-8008056-5","Forma de pago estandar a 30 dias",491,1,0,"USD"]
[{"$f":"D2983&F2983&E2983","v":"SAP ColombiaCloud Classic SAP SolutionsSAP-8008057"},{"$f":"E2983&F2983","v":"SAP-8008057Cloud Classic SAP Solutions"},null,"SAP Colombia","SAP-8008057","Cloud Classic SAP Solutions",{"$f":"D2983","v":"SAP Colombia"},"USD","N/A","SAP Commerce Cloud, telco and utilities accelerator, orders, access",50000,"Serv","Suscripcion","N/A","N/A","N/A","SAP-8008057","Forma de pago estandar a 30 dias",8457,1,0,"USD"]
[{"$f":"D2984&F2984&E2984","v":"SAP ColombiaCloud Classic SAP SolutionsSAP-8008058-1"},{"$f":"E2984&F2984","v":"SAP-8008058-1Cloud Classic SAP Solutions"},null,"SAP Colombia","SAP-8008058-1","Cloud Classic SAP Solutions",{"$f":"D2984","v":"SAP Colombia"},"USD","N/A","SAP Commerce Cloud, telco and utilities accelerator, orders",50000,"Serv","Suscripcion","N/A","N/A","N/A","SAP-8008058-1","Forma de pago estandar a 30 dias",1344,1,0,"USD"]
[{"$f":"D2985&F2985&E2985","v":"SAP ColombiaCloud Classic SAP SolutionsSAP-8008058-2"},{"$f":"E2985&F2985","v":"SAP-8008058-2Cloud Classic SAP Solutions"},null,"SAP Colombia","SAP-8008058-2","Cloud Classic SAP Solutions",{"$f":"D2985","v":"SAP Colombia"},"USD","N/A","SAP Commerce Cloud, telco and utilities accelerator, orders",50000,"Serv","Suscripcion","N/A","N/A","N/A","SAP-8008058-2","Forma de pago estandar a 30 dias",882,1,0,"USD"]
[{"$f":"D2986&F2986&E2986","v":"SAP ColombiaCloud Classic SAP SolutionsSAP-8008058-3"},{"$f":"E2986&F2986","v":"SAP-8008058-3Cloud Classic SAP Solutions"},null,"SAP Colombia","SAP-8008058-3","Cloud Classic SAP Solutions",{"$f":"D2986","v":"SAP Colombia"},"USD","N/A","SAP Commerce Cloud, telco and utilities accelerator, orders",50000,"Serv","Suscripcion","N/A","N/A","N/A","SAP-8008058-3","Forma de pago estandar a 30 dias",784,1,0,"USD"]
[{"$f":"D2987&F2987&E2987","v":"SAP ColombiaCloud Classic SAP SolutionsSAP-8008058-4"},{"$f":"E2987&F2987","v":"SAP-8008058-4Cloud Classic SAP Solutions"},null,"SAP Colombia","SAP-8008058-4","Cloud Classic SAP Solutions",{"$f":"D2987","v":"SAP Colombia"},"USD","N/A","SAP Commerce Cloud, telco and utilities accelerator, orders",50000,"Serv","Suscripcion","N/A","N/A","N/A","SAP-8008058-4","Forma de pago estandar a 30 dias",567,1,0,"USD"]
[{"$f":"D2988&F2988&E2988","v":"SAP ColombiaCloud Classic SAP SolutionsSAP-8008058-5"},{"$f":"E2988&F2988","v":"SAP-8008058-5Cloud Classic SAP Solutions"},null,"SAP Colombia","SAP-8008058-5","Cloud Classic SAP Solutions",{"$f":"D2988","v":"SAP Colombia"},"USD","N/A","SAP Commerce Cloud, telco and utilities accelerator, orders",50000,"Serv","Suscripcion","N/A","N/A","N/A","SAP-8008058-5","Forma de pago estandar a 30 dias",491,1,0,"USD"]
[{"$f":"D2989&F2989&E2989","v":"SAP ColombiaCloud Classic SAP SolutionsSAP-8008059"},{"$f":"E2989&F2989","v":"SAP-8008059Cloud Classic SAP Solutions"},null,"SAP Colombia","SAP-8008059","Cloud Classic SAP Solutions",{"$f":"D2989","v":"SAP Colombia"},"USD","N/A","SAP Commerce Cloud, telco and utilities accelerator, GMV, access",13438800,"Serv","Suscripcion","N/A","N/A","N/A","SAP-8008059","Forma de pago estandar a 30 dias",105271,1,0,"USD"]
[{"$f":"D2990&F2990&E2990","v":"SAP ColombiaCloud Classic SAP SolutionsSAP-8008060-1"},{"$f":"E2990&F2990","v":"SAP-8008060-1Cloud Classic SAP Solutions"},null,"SAP Colombia","SAP-8008060-1","Cloud Classic SAP Solutions",{"$f":"D2990","v":"SAP Colombia"},"USD","N/A","SAP Commerce Cloud, telco and utilities accelerator, GMV",1,"Serv","Suscripcion","N/A","N/A","N/A","SAP-8008060-1","Forma de pago estandar a 30 dias",1.05,1,0,"USD"]
[{"$f":"D2991&F2991&E2991","v":"SAP ColombiaCloud Classic SAP SolutionsSAP-8008060-2"},{"$f":"E2991&F2991","v":"SAP-8008060-2Cloud Classic SAP Solutions"},null,"SAP Colombia","SAP-8008060-2","Cloud Classic SAP Solutions",{"$f":"D2991","v":"SAP Colombia"},"USD","N/A","SAP Commerce Cloud, telco and utilities accelerator, GMV",1,"Serv","Suscripcion","N/A","N/A","N/A","SAP-8008060-2","Forma de pago estandar a 30 dias",0.86,1,0,"USD"]
[{"$f":"D2992&F2992&E2992","v":"SAP ColombiaCloud Classic SAP SolutionsSAP-8008060-3"},{"$f":"E2992&F2992","v":"SAP-8008060-3Cloud Classic SAP Solutions"},null,"SAP Colombia","SAP-8008060-3","Cloud Classic SAP Solutions",{"$f":"D2992","v":"SAP Colombia"},"USD","N/A","SAP Commerce Cloud, telco and utilities accelerator, GMV",1,"Serv","Suscripcion","N/A","N/A","N/A","SAP-8008060-3","Forma de pago estandar a 30 dias",0.75,1,0,"USD"]
[{"$f":"D2993&F2993&E2993","v":"SAP ColombiaCloud Classic SAP SolutionsSAP-8008060-4"},{"$f":"E2993&F2993","v":"SAP-8008060-4Cloud Classic SAP Solutions"},null,"SAP Colombia","SAP-8008060-4","Cloud Classic SAP Solutions",{"$f":"D2993","v":"SAP Colombia"},"USD","N/A","SAP Commerce Cloud, telco and utilities accelerator, GMV",1,"Serv","Suscripcion","N/A","N/A","N/A","SAP-8008060-4","Forma de pago estandar a 30 dias",0.56000000000000005,1,0,"USD"]
[{"$f":"D2994&F2994&E2994","v":"SAP ColombiaCloud Classic SAP SolutionsSAP-8008060-5"},{"$f":"E2994&F2994","v":"SAP-8008060-5Cloud Classic SAP Solutions"},null,"SAP Colombia","SAP-8008060-5","Cloud Classic SAP Solutions",{"$f":"D2994","v":"SAP Colombia"},"USD","N/A","SAP Commerce Cloud, telco and utilities accelerator, GMV",1,"Serv","Suscripcion","N/A","N/A","N/A","SAP-8008060-5","Forma de pago estandar a 30 dias",0.49,1,0,"USD"]
[{"$f":"D2995&F2995&E2995","v":"SAP ColombiaCloud Classic SAP SolutionsSAP-8008064-1"},{"$f":"E2995&F2995","v":"SAP-8008064-1Cloud Classic SAP Solutions"},null,"SAP Colombia","SAP-8008064-1","Cloud Classic SAP Solutions",{"$f":"D2995","v":"SAP Colombia"},"USD","N/A","SAP Customer Identity, B2B add-on",50000,"Serv","Suscripcion","N/A","N/A","N/A","SAP-8008064-1","Forma de pago estandar a 30 dias",3808,1,0,"USD"]
[{"$f":"D2996&F2996&E2996","v":"SAP ColombiaCloud Classic SAP SolutionsSAP-8008064-2"},{"$f":"E2996&F2996","v":"SAP-8008064-2Cloud Classic SAP Solutions"},null,"SAP Colombia","SAP-8008064-2","Cloud Classic SAP Solutions",{"$f":"D2996","v":"SAP Colombia"},"USD","N/A","SAP Customer Identity, B2B add-on",50000,"Serv","Suscripcion","N/A","N/A","N/A","SAP-8008064-2","Forma de pago estandar a 30 dias",2800,1,0,"USD"]
[{"$f":"D2997&F2997&E2997","v":"SAP ColombiaCloud Classic SAP SolutionsSAP-8008064-3"},{"$f":"E2997&F2997","v":"SAP-8008064-3Cloud Classic SAP Solutions"},null,"SAP Colombia","SAP-8008064-3","Cloud Classic SAP Solutions",{"$f":"D2997","v":"SAP Colombia"},"USD","N/A","SAP Customer Identity, B2B add-on",50000,"Serv","Suscripcion","N/A","N/A","N/A","SAP-8008064-3","Forma de pago estandar a 30 dias",2128,1,0,"USD"]
[{"$f":"D2998&F2998&E2998","v":"SAP ColombiaCloud Classic SAP SolutionsSAP-8008064-4"},{"$f":"E2998&F2998","v":"SAP-8008064-4Cloud Classic SAP Solutions"},null,"SAP Colombia","SAP-8008064-4","Cloud Classic SAP Solutions",{"$f":"D2998","v":"SAP Colombia"},"USD","N/A","SAP Customer Identity, B2B add-on",50000,"Serv","Suscripcion","N/A","N/A","N/A","SAP-8008064-4","Forma de pago estandar a 30 dias",1680,1,0,"USD"]
[{"$f":"D2999&F2999&E2999","v":"SAP ColombiaCloud Classic SAP SolutionsSAP-8008139"},{"$f":"E2999&F2999","v":"SAP-8008139Cloud Classic SAP Solutions"},null,"SAP Colombia","SAP-8008139","Cloud Classic SAP Solutions",{"$f":"D2999","v":"SAP Colombia"},"USD","N/A","SAP Sales and Service Core, test tenant",1,"Serv","Suscripcion","N/A","N/A","N/A","SAP-8008139","Forma de pago estandar a 30 dias",980,1,0,"USD"]
[{"$f":"D3000&F3000&E3000","v":"SAP ColombiaCloud Classic SAP SolutionsSAP-8008144"},{"$f":"E3000&F3000","v":"SAP-8008144Cloud Classic SAP Solutions"},null,"SAP Colombia","SAP-8008144","Cloud Classic SAP Solutions",{"$f":"D3000","v":"SAP Colombia"},"USD","N/A","SAP Commerce Cloud, additional storage",500,"Serv","Suscripcion","N/A","N/A","N/A","SAP-8008144","Forma de pago estandar a 30 dias",62,1,0,"USD"]
[{"$f":"D3001&F3001&E3001","v":"SAP ColombiaCloud Classic SAP SolutionsSAP-8008148"},{"$f":"E3001&F3001","v":"SAP-8008148Cloud Classic SAP Solutions"},null,"SAP Colombia","SAP-8008148","Cloud Classic SAP Solutions",{"$f":"D3001","v":"SAP Colombia"},"USD","N/A","SAP Commerce Cloud, data hub",1,"Serv","Suscripcion","N/A","N/A","N/A","SAP-8008148","Forma de pago estandar a 30 dias",5600,1,0,"USD"]
[{"$f":"D3002&F3002&E3002","v":"SAP ColombiaCloud Classic SAP SolutionsSAP-8008154"},{"$f":"E3002&F3002","v":"SAP-8008154Cloud Classic SAP Solutions"},null,"SAP Colombia","SAP-8008154","Cloud Classic SAP Solutions",{"$f":"D3002","v":"SAP Colombia"},"USD","N/A","SAP CPQ, professional edition, test tenant",1,"Serv","Suscripcion","N/A","N/A","N/A","SAP-8008154","Forma de pago estandar a 30 dias",5600,1,0,"USD"]
[{"$f":"D3003&F3003&E3003","v":"SAP ColombiaCloud Classic SAP SolutionsSAP-8008158"},{"$f":"E3003&F3003","v":"SAP-8008158Cloud Classic SAP Solutions"},null,"SAP Colombia","SAP-8008158","Cloud Classic SAP Solutions",{"$f":"D3003","v":"SAP Colombia"},"USD","N/A","SAP Commerce Cloud, evaluation system",1,"Serv","Suscripcion","N/A","N/A","N/A","SAP-8008158","Forma de pago estandar a 30 dias",0,1,0,"USD"]
[{"$f":"D3004&F3004&E3004","v":"SAP ColombiaCloud Classic SAP SolutionsSAP-8008227"},{"$f":"E3004&F3004","v":"SAP-8008227Cloud Classic SAP Solutions"},null,"SAP Colombia","SAP-8008227","Cloud Classic SAP Solutions",{"$f":"D3004","v":"SAP Colombia"},"USD","N/A","SAP CPQ, standard edition, test tenant",1,"Serv","Suscripcion","N/A","N/A","N/A","SAP-8008227","Forma de pago estandar a 30 dias",4480,1,0,"USD"]
[{"$f":"D3005&F3005&E3005","v":"SAP ColombiaCloud Classic SAP SolutionsSAP-8008501"},{"$f":"E3005&F3005","v":"SAP-8008501Cloud Classic SAP Solutions"},null,"SAP Colombia","SAP-8008501","Cloud Classic SAP Solutions",{"$f":"D3005","v":"SAP Colombia"},"USD","N/A","SAP CPQ, professional edition for SAP Commerce, GMV, access",13438800,"Serv","Suscripcion","N/A","N/A","N/A","SAP-8008501","Forma de pago estandar a 30 dias",167985,1,0,"USD"]
[{"$f":"D3006&F3006&E3006","v":"SAP ColombiaCloud Classic SAP SolutionsSAP-8008502-1"},{"$f":"E3006&F3006","v":"SAP-8008502-1Cloud Classic SAP Solutions"},null,"SAP Colombia","SAP-8008502-1","Cloud Classic SAP Solutions",{"$f":"D3006","v":"SAP Colombia"},"USD","N/A","SAP CPQ, professional edition for SAP Commerce, GMV",1,"Serv","Suscripcion","N/A","N/A","N/A","SAP-8008502-1","Forma de pago estandar a 30 dias",0.6,1,0,"USD"]
[{"$f":"D3007&F3007&E3007","v":"SAP ColombiaCloud Classic SAP SolutionsSAP-8008502-2"},{"$f":"E3007&F3007","v":"SAP-8008502-2Cloud Classic SAP Solutions"},null,"SAP Colombia","SAP-8008502-2","Cloud Classic SAP Solutions",{"$f":"D3007","v":"SAP Colombia"},"USD","N/A","SAP CPQ, professional edition for SAP Commerce, GMV",1,"Serv","Suscripcion","N/A","N/A","N/A","SAP-8008502-2","Forma de pago estandar a 30 dias",0.5,1,0,"USD"]
[{"$f":"D3008&F3008&E3008","v":"SAP ColombiaCloud Classic SAP SolutionsSAP-8008502-3"},{"$f":"E3008&F3008","v":"SAP-8008502-3Cloud Classic SAP Solutions"},null,"SAP Colombia","SAP-8008502-3","Cloud Classic SAP Solutions",{"$f":"D3008","v":"SAP Colombia"},"USD","N/A","SAP CPQ, professional edition for SAP Commerce, GMV",1,"Serv","Suscripcion","N/A","N/A","N/A","SAP-8008502-3","Forma de pago estandar a 30 dias",0.4,1,0,"USD"]
[{"$f":"D3009&F3009&E3009","v":"SAP ColombiaCloud Classic SAP SolutionsSAP-8008502-4"},{"$f":"E3009&F3009","v":"SAP-8008502-4Cloud Classic SAP Solutions"},null,"SAP Colombia","SAP-8008502-4","Cloud Classic SAP Solutions",{"$f":"D3009","v":"SAP Colombia"},"USD","N/A","SAP CPQ, professional edition for SAP Commerce, GMV",1,"Serv","Suscripcion","N/A","N/A","N/A","SAP-8008502-4","Forma de pago estandar a 30 dias",0.3,1,0,"USD"]
[{"$f":"D3010&F3010&E3010","v":"SAP ColombiaCloud Classic SAP SolutionsSAP-8008502-5"},{"$f":"E3010&F3010","v":"SAP-8008502-5Cloud Classic SAP Solutions"},null,"SAP Colombia","SAP-8008502-5","Cloud Classic SAP Solutions",{"$f":"D3010","v":"SAP Colombia"},"USD","N/A","SAP CPQ, professional edition for SAP Commerce, GMV",1,"Serv","Suscripcion","N/A","N/A","N/A","SAP-8008502-5","Forma de pago estandar a 30 dias",0.2,1,0,"USD"]
[{"$f":"D3011&F3011&E3011","v":"SAP ColombiaCloud Classic SAP SolutionsSAP-8008503"},{"$f":"E3011&F3011","v":"SAP-8008503Cloud Classic SAP Solutions"},null,"SAP Colombia","SAP-8008503","Cloud Classic SAP Solutions",{"$f":"D3011","v":"SAP Colombia"},"USD","N/A","SAP CPQ, professional edition for SAP Commerce, orders, access",50000,"Serv","Suscripcion","N/A","N/A","N/A","SAP-8008503","Forma de pago estandar a 30 dias",13999,1,0,"USD"]
[{"$f":"D3012&F3012&E3012","v":"SAP ColombiaCloud Classic SAP SolutionsSAP-8008504-1"},{"$f":"E3012&F3012","v":"SAP-8008504-1Cloud Classic SAP Solutions"},null,"SAP Colombia","SAP-8008504-1","Cloud Classic SAP Solutions",{"$f":"D3012","v":"SAP Colombia"},"USD","N/A","SAP CPQ, professional edition for SAP Commerce, orders",50000,"Serv","Suscripcion","N/A","N/A","N/A","SAP-8008504-1","Forma de pago estandar a 30 dias",2240,1,0,"USD"]
[{"$f":"D3013&F3013&E3013","v":"SAP ColombiaCloud Classic SAP SolutionsSAP-8008504-2"},{"$f":"E3013&F3013","v":"SAP-8008504-2Cloud Classic SAP Solutions"},null,"SAP Colombia","SAP-8008504-2","Cloud Classic SAP Solutions",{"$f":"D3013","v":"SAP Colombia"},"USD","N/A","SAP CPQ, professional edition for SAP Commerce, orders",50000,"Serv","Suscripcion","N/A","N/A","N/A","SAP-8008504-2","Forma de pago estandar a 30 dias",1792,1,0,"USD"]
[{"$f":"D3014&F3014&E3014","v":"SAP ColombiaCloud Classic SAP SolutionsSAP-8008504-3"},{"$f":"E3014&F3014","v":"SAP-8008504-3Cloud Classic SAP Solutions"},null,"SAP Colombia","SAP-8008504-3","Cloud Classic SAP Solutions",{"$f":"D3014","v":"SAP Colombia"},"USD","N/A","SAP CPQ, professional edition for SAP Commerce, orders",50000,"Serv","Suscripcion","N/A","N/A","N/A","SAP-8008504-3","Forma de pago estandar a 30 dias",1344,1,0,"USD"]
[{"$f":"D3015&F3015&E3015","v":"SAP ColombiaCloud Classic SAP SolutionsSAP-8008504-4"},{"$f":"E3015&F3015","v":"SAP-8008504-4Cloud Classic SAP Solutions"},null,"SAP Colombia","SAP-8008504-4","Cloud Classic SAP Solutions",{"$f":"D3015","v":"SAP Colombia"},"USD","N/A","SAP CPQ, professional edition for SAP Commerce, orders",50000,"Serv","Suscripcion","N/A","N/A","N/A","SAP-8008504-4","Forma de pago estandar a 30 dias",896,1,0,"USD"]
[{"$f":"D3016&F3016&E3016","v":"SAP ColombiaCloud Classic SAP SolutionsSAP-8008504-5"},{"$f":"E3016&F3016","v":"SAP-8008504-5Cloud Classic SAP Solutions"},null,"SAP Colombia","SAP-8008504-5","Cloud Classic SAP Solutions",{"$f":"D3016","v":"SAP Colombia"},"USD","N/A","SAP CPQ, professional edition for SAP Commerce, orders",50000,"Serv","Suscripcion","N/A","N/A","N/A","SAP-8008504-5","Forma de pago estandar a 30 dias",448,1,0,"USD"]
[{"$f":"D3017&F3017&E3017","v":"SAP ColombiaCloud Classic SAP SolutionsSAP-8008506"},{"$f":"E3017&F3017","v":"SAP-8008506Cloud Classic SAP Solutions"},null,"SAP Colombia","SAP-8008506","Cloud Classic SAP Solutions",{"$f":"D3017","v":"SAP Colombia"},"USD","N/A","SAP Commerce Cloud, solution sales configuration, GMV, access",13438800,"Serv","Suscripcion","N/A","N/A","N/A","SAP-8008506","Forma de pago estandar a 30 dias",335970,1,0,"USD"]
[{"$f":"D3018&F3018&E3018","v":"SAP ColombiaCloud Classic SAP SolutionsSAP-8008507-1"},{"$f":"E3018&F3018","v":"SAP-8008507-1Cloud Classic SAP Solutions"},null,"SAP Colombia","SAP-8008507-1","Cloud Classic SAP Solutions",{"$f":"D3018","v":"SAP Colombia"},"USD","N/A","SAP Commerce Cloud, solution sales configuration, GMV",1,"Serv","Suscripcion","N/A","N/A","N/A","SAP-8008507-1","Forma de pago estandar a 30 dias",0.61,1,0,"USD"]
[{"$f":"D3019&F3019&E3019","v":"SAP ColombiaCloud Classic SAP SolutionsSAP-8008507-2"},{"$f":"E3019&F3019","v":"SAP-8008507-2Cloud Classic SAP Solutions"},null,"SAP Colombia","SAP-8008507-2","Cloud Classic SAP Solutions",{"$f":"D3019","v":"SAP Colombia"},"USD","N/A","SAP Commerce Cloud, solution sales configuration, GMV",1,"Serv","Suscripcion","N/A","N/A","N/A","SAP-8008507-2","Forma de pago estandar a 30 dias",0.51,1,0,"USD"]
[{"$f":"D3020&F3020&E3020","v":"SAP ColombiaCloud Classic SAP SolutionsSAP-8008507-3"},{"$f":"E3020&F3020","v":"SAP-8008507-3Cloud Classic SAP Solutions"},null,"SAP Colombia","SAP-8008507-3","Cloud Classic SAP Solutions",{"$f":"D3020","v":"SAP Colombia"},"USD","N/A","SAP Commerce Cloud, solution sales configuration, GMV",1,"Serv","Suscripcion","N/A","N/A","N/A","SAP-8008507-3","Forma de pago estandar a 30 dias",0.41,1,0,"USD"]
[{"$f":"D3021&F3021&E3021","v":"SAP ColombiaCloud Classic SAP SolutionsSAP-8008507-4"},{"$f":"E3021&F3021","v":"SAP-8008507-4Cloud Classic SAP Solutions"},null,"SAP Colombia","SAP-8008507-4","Cloud Classic SAP Solutions",{"$f":"D3021","v":"SAP Colombia"},"USD","N/A","SAP Commerce Cloud, solution sales configuration, GMV",1,"Serv","Suscripcion","N/A","N/A","N/A","SAP-8008507-4","Forma de pago estandar a 30 dias",0.3,1,0,"USD"]
[{"$f":"D3022&F3022&E3022","v":"SAP ColombiaCloud Classic SAP SolutionsSAP-8008507-5"},{"$f":"E3022&F3022","v":"SAP-8008507-5Cloud Classic SAP Solutions"},null,"SAP Colombia","SAP-8008507-5","Cloud Classic SAP Solutions",{"$f":"D3022","v":"SAP Colombia"},"USD","N/A","SAP Commerce Cloud, solution sales configuration, GMV",1,"Serv","Suscripcion","N/A","N/A","N/A","SAP-8008507-5","Forma de pago estandar a 30 dias",0.26,1,0,"USD"]
[{"$f":"D3023&F3023&E3023","v":"SAP ColombiaCloud Classic SAP SolutionsSAP-8008508"},{"$f":"E3023&F3023","v":"SAP-8008508Cloud Classic SAP Solutions"},null,"SAP Colombia","SAP-8008508","Cloud Classic SAP Solutions",{"$f":"D3023","v":"SAP Colombia"},"USD","N/A","SAP Commerce Cloud, solution sales configuration, orders, access",50000,"Serv","Suscripcion","N/A","N/A","N/A","SAP-8008508","Forma de pago estandar a 30 dias",27998,1,0,"USD"]
[{"$f":"D3024&F3024&E3024","v":"SAP ColombiaCloud Classic SAP SolutionsSAP-8008509-1"},{"$f":"E3024&F3024","v":"SAP-8008509-1Cloud Classic SAP Solutions"},null,"SAP Colombia","SAP-8008509-1","Cloud Classic SAP Solutions",{"$f":"D3024","v":"SAP Colombia"},"USD","N/A","SAP Commerce Cloud, solution sales configuration, orders",50000,"Serv","Suscripcion","N/A","N/A","N/A","SAP-8008509-1","Forma de pago estandar a 30 dias",2352,1,0,"USD"]
[{"$f":"D3025&F3025&E3025","v":"SAP ColombiaCloud Classic SAP SolutionsSAP-8008509-2"},{"$f":"E3025&F3025","v":"SAP-8008509-2Cloud Classic SAP Solutions"},null,"SAP Colombia","SAP-8008509-2","Cloud Classic SAP Solutions",{"$f":"D3025","v":"SAP Colombia"},"USD","N/A","SAP Commerce Cloud, solution sales configuration, orders",50000,"Serv","Suscripcion","N/A","N/A","N/A","SAP-8008509-2","Forma de pago estandar a 30 dias",2016,1,0,"USD"]
[{"$f":"D3026&F3026&E3026","v":"SAP ColombiaCloud Classic SAP SolutionsSAP-8008509-3"},{"$f":"E3026&F3026","v":"SAP-8008509-3Cloud Classic SAP Solutions"},null,"SAP Colombia","SAP-8008509-3","Cloud Classic SAP Solutions",{"$f":"D3026","v":"SAP Colombia"},"USD","N/A","SAP Commerce Cloud, solution sales configuration, orders",50000,"Serv","Suscripcion","N/A","N/A","N/A","SAP-8008509-3","Forma de pago estandar a 30 dias",1568,1,0,"USD"]
[{"$f":"D3027&F3027&E3027","v":"SAP ColombiaCloud Classic SAP SolutionsSAP-8008509-4"},{"$f":"E3027&F3027","v":"SAP-8008509-4Cloud Classic SAP Solutions"},null,"SAP Colombia","SAP-8008509-4","Cloud Classic SAP Solutions",{"$f":"D3027","v":"SAP Colombia"},"USD","N/A","SAP Commerce Cloud, solution sales configuration, orders",50000,"Serv","Suscripcion","N/A","N/A","N/A","SAP-8008509-4","Forma de pago estandar a 30 dias",1120,1,0,"USD"]
[{"$f":"D3028&F3028&E3028","v":"SAP ColombiaCloud Classic SAP SolutionsSAP-8008509-5"},{"$f":"E3028&F3028","v":"SAP-8008509-5Cloud Classic SAP Solutions"},null,"SAP Colombia","SAP-8008509-5","Cloud Classic SAP Solutions",{"$f":"D3028","v":"SAP Colombia"},"USD","N/A","SAP Commerce Cloud, solution sales configuration, orders",50000,"Serv","Suscripcion","N/A","N/A","N/A","SAP-8008509-5","Forma de pago estandar a 30 dias",560,1,0,"USD"]
[{"$f":"D3029&F3029&E3029","v":"SAP ColombiaCloud Classic SAP SolutionsSAP-8008884-1"},{"$f":"E3029&F3029","v":"SAP-8008884-1Cloud Classic SAP Solutions"},null,"SAP Colombia","SAP-8008884-1","Cloud Classic SAP Solutions",{"$f":"D3029","v":"SAP Colombia"},"USD","N/A","SAP Customer Identity",100000,"Serv","Suscripcion","N/A","N/A","N/A","SAP-8008884-1","Forma de pago estandar a 30 dias",1633,1,0,"USD"]
[{"$f":"D3030&F3030&E3030","v":"SAP ColombiaCloud Classic SAP SolutionsSAP-8008884-2"},{"$f":"E3030&F3030","v":"SAP-8008884-2Cloud Classic SAP Solutions"},null,"SAP Colombia","SAP-8008884-2","Cloud Classic SAP Solutions",{"$f":"D3030","v":"SAP Colombia"},"USD","N/A","SAP Customer Identity",100000,"Serv","Suscripcion","N/A","N/A","N/A","SAP-8008884-2","Forma de pago estandar a 30 dias",954,1,0,"USD"]
[{"$f":"D3031&F3031&E3031","v":"SAP ColombiaCloud Classic SAP SolutionsSAP-8008884-3"},{"$f":"E3031&F3031","v":"SAP-8008884-3Cloud Classic SAP Solutions"},null,"SAP Colombia","SAP-8008884-3","Cloud Classic SAP Solutions",{"$f":"D3031","v":"SAP Colombia"},"USD","N/A","SAP Customer Identity",100000,"Serv","Suscripcion","N/A","N/A","N/A","SAP-8008884-3","Forma de pago estandar a 30 dias",757,1,0,"USD"]
[{"$f":"D3032&F3032&E3032","v":"SAP ColombiaCloud Classic SAP SolutionsSAP-8008884-4"},{"$f":"E3032&F3032","v":"SAP-8008884-4Cloud Classic SAP Solutions"},null,"SAP Colombia","SAP-8008884-4","Cloud Classic SAP Solutions",{"$f":"D3032","v":"SAP Colombia"},"USD","N/A","SAP Customer Identity",100000,"Serv","Suscripcion","N/A","N/A","N/A","SAP-8008884-4","Forma de pago estandar a 30 dias",645,1,0,"USD"]
[{"$f":"D3033&F3033&E3033","v":"SAP ColombiaCloud Classic SAP SolutionsSAP-8008884-5"},{"$f":"E3033&F3033","v":"SAP-8008884-5Cloud Classic SAP Solutions"},null,"SAP Colombia","SAP-8008884-5","Cloud Classic SAP Solutions",{"$f":"D3033","v":"SAP Colombia"},"USD","N/A","SAP Customer Identity",100000,"Serv","Suscripcion","N/A","N/A","N/A","SAP-8008884-5","Forma de pago estandar a 30 dias",586,1,0,"USD"]
[{"$f":"D3034&F3034&E3034","v":"SAP ColombiaCloud Classic SAP SolutionsSAP-8008884-6"},{"$f":"E3034&F3034","v":"SAP-8008884-6Cloud Classic SAP Solutions"},null,"SAP Colombia","SAP-8008884-6","Cloud Classic SAP Solutions",{"$f":"D3034","v":"SAP Colombia"},"USD","N/A","SAP Customer Identity",100000,"Serv","Suscripcion","N/A","N/A","N/A","SAP-8008884-6","Forma de pago estandar a 30 dias",525,1,0,"USD"]
[{"$f":"D3035&F3035&E3035","v":"SAP ColombiaCloud Classic SAP SolutionsSAP-8008885-1"},{"$f":"E3035&F3035","v":"SAP-8008885-1Cloud Classic SAP Solutions"},null,"SAP Colombia","SAP-8008885-1","Cloud Classic SAP Solutions",{"$f":"D3035","v":"SAP Colombia"},"USD","N/A","SAP Customer Consent",100000,"Serv","Suscripcion","N/A","N/A","N/A","SAP-8008885-1","Forma de pago estandar a 30 dias",1633,1,0,"USD"]
[{"$f":"D3036&F3036&E3036","v":"SAP ColombiaCloud Classic SAP SolutionsSAP-8008885-2"},{"$f":"E3036&F3036","v":"SAP-8008885-2Cloud Classic SAP Solutions"},null,"SAP Colombia","SAP-8008885-2","Cloud Classic SAP Solutions",{"$f":"D3036","v":"SAP Colombia"},"USD","N/A","SAP Customer Consent",100000,"Serv","Suscripcion","N/A","N/A","N/A","SAP-8008885-2","Forma de pago estandar a 30 dias",954,1,0,"USD"]
[{"$f":"D3037&F3037&E3037","v":"SAP ColombiaCloud Classic SAP SolutionsSAP-8008885-3"},{"$f":"E3037&F3037","v":"SAP-8008885-3Cloud Classic SAP Solutions"},null,"SAP Colombia","SAP-8008885-3","Cloud Classic SAP Solutions",{"$f":"D3037","v":"SAP Colombia"},"USD","N/A","SAP Customer Consent",100000,"Serv","Suscripcion","N/A","N/A","N/A","SAP-8008885-3","Forma de pago estandar a 30 dias",757,1,0,"USD"]
[{"$f":"D3038&F3038&E3038","v":"SAP ColombiaCloud Classic SAP SolutionsSAP-8008885-4"},{"$f":"E3038&F3038","v":"SAP-8008885-4Cloud Classic SAP Solutions"},null,"SAP Colombia","SAP-8008885-4","Cloud Classic SAP Solutions",{"$f":"D3038","v":"SAP Colombia"},"USD","N/A","SAP Customer Consent",100000,"Serv","Suscripcion","N/A","N/A","N/A","SAP-8008885-4","Forma de pago estandar a 30 dias",645,1,0,"USD"]
[{"$f":"D3039&F3039&E3039","v":"SAP ColombiaCloud Classic SAP SolutionsSAP-8008885-5"},{"$f":"E3039&F3039","v":"SAP-8008885-5Cloud Classic SAP Solutions"},null,"SAP Colombia","SAP-8008885-5","Cloud Classic SAP Solutions",{"$f":"D3039","v":"SAP Colombia"},"USD","N/A","SAP Customer Consent",100000,"Serv","Suscripcion","N/A","N/A","N/A","SAP-8008885-5","Forma de pago estandar a 30 dias",586,1,0,"USD"]
[{"$f":"D3040&F3040&E3040","v":"SAP ColombiaCloud Classic SAP SolutionsSAP-8008885-6"},{"$f":"E3040&F3040","v":"SAP-8008885-6Cloud Classic SAP Solutions"},null,"SAP Colombia","SAP-8008885-6","Cloud Classic SAP Solutions",{"$f":"D3040","v":"SAP Colombia"},"USD","N/A","SAP Customer Consent",100000,"Serv","Suscripcion","N/A","N/A","N/A","SAP-8008885-6","Forma de pago estandar a 30 dias",525,1,0,"USD"]
[{"$f":"D3041&F3041&E3041","v":"SAP ColombiaCloud Classic SAP SolutionsSAP-8008889"},{"$f":"E3041&F3041","v":"SAP-8008889Cloud Classic SAP Solutions"},null,"SAP Colombia","SAP-8008889","Cloud Classic SAP Solutions",{"$f":"D3041","v":"SAP Colombia"},"USD","N/A","SAP CPQ, standard edition for SAP Commerce, GMV, access",13438800,"Serv","Suscripcion","N/A","N/A","N/A","SAP-8008889","Forma de pago estandar a 30 dias",127669,1,0,"USD"]
[{"$f":"D3042&F3042&E3042","v":"SAP ColombiaCloud Classic SAP SolutionsSAP-8008890-1"},{"$f":"E3042&F3042","v":"SAP-8008890-1Cloud Classic SAP Solutions"},null,"SAP Colombia","SAP-8008890-1","Cloud Classic SAP Solutions",{"$f":"D3042","v":"SAP Colombia"},"USD","N/A","SAP CPQ, standard edition for SAP Commerce, GMV",1,"Serv","Suscripcion","N/A","N/A","N/A","SAP-8008890-1","Forma de pago estandar a 30 dias",0.5,1,0,"USD"]
[{"$f":"D3043&F3043&E3043","v":"SAP ColombiaCloud Classic SAP SolutionsSAP-8008890-2"},{"$f":"E3043&F3043","v":"SAP-8008890-2Cloud Classic SAP Solutions"},null,"SAP Colombia","SAP-8008890-2","Cloud Classic SAP Solutions",{"$f":"D3043","v":"SAP Colombia"},"USD","N/A","SAP CPQ, standard edition for SAP Commerce, GMV",1,"Serv","Suscripcion","N/A","N/A","N/A","SAP-8008890-2","Forma de pago estandar a 30 dias",0.4,1,0,"USD"]
[{"$f":"D3044&F3044&E3044","v":"SAP ColombiaCloud Classic SAP SolutionsSAP-8008890-3"},{"$f":"E3044&F3044","v":"SAP-8008890-3Cloud Classic SAP Solutions"},null,"SAP Colombia","SAP-8008890-3","Cloud Classic SAP Solutions",{"$f":"D3044","v":"SAP Colombia"},"USD","N/A","SAP CPQ, standard edition for SAP Commerce, GMV",1,"Serv","Suscripcion","N/A","N/A","N/A","SAP-8008890-3","Forma de pago estandar a 30 dias",0.3,1,0,"USD"]
[{"$f":"D3045&F3045&E3045","v":"SAP ColombiaCloud Classic SAP SolutionsSAP-8008890-4"},{"$f":"E3045&F3045","v":"SAP-8008890-4Cloud Classic SAP Solutions"},null,"SAP Colombia","SAP-8008890-4","Cloud Classic SAP Solutions",{"$f":"D3045","v":"SAP Colombia"},"USD","N/A","SAP CPQ, standard edition for SAP Commerce, GMV",1,"Serv","Suscripcion","N/A","N/A","N/A","SAP-8008890-4","Forma de pago estandar a 30 dias",0.25,1,0,"USD"]
[{"$f":"D3046&F3046&E3046","v":"SAP ColombiaCloud Classic SAP SolutionsSAP-8008890-5"},{"$f":"E3046&F3046","v":"SAP-8008890-5Cloud Classic SAP Solutions"},null,"SAP Colombia","SAP-8008890-5","Cloud Classic SAP Solutions",{"$f":"D3046","v":"SAP Colombia"},"USD","N/A","SAP CPQ, standard edition for SAP Commerce, GMV",1,"Serv","Suscripcion","N/A","N/A","N/A","SAP-8008890-5","Forma de pago estandar a 30 dias",0.15,1,0,"USD"]
[{"$f":"D3047&F3047&E3047","v":"SAP ColombiaCloud Classic SAP SolutionsSAP-8008891"},{"$f":"E3047&F3047","v":"SAP-8008891Cloud Classic SAP Solutions"},null,"SAP Colombia","SAP-8008891","Cloud Classic SAP Solutions",{"$f":"D3047","v":"SAP Colombia"},"USD","N/A","SAP CPQ, standard edition for SAP Commerce, orders, access",50000,"Serv","Suscripcion","N/A","N/A","N/A","SAP-8008891","Forma de pago estandar a 30 dias",10639,1,0,"USD"]
[{"$f":"D3048&F3048&E3048","v":"SAP ColombiaCloud Classic SAP SolutionsSAP-8008892-1"},{"$f":"E3048&F3048","v":"SAP-8008892-1Cloud Classic SAP Solutions"},null,"SAP Colombia","SAP-8008892-1","Cloud Classic SAP Solutions",{"$f":"D3048","v":"SAP Colombia"},"USD","N/A","SAP CPQ, standard edition for SAP Commerce, orders",50000,"Serv","Suscripcion","N/A","N/A","N/A","SAP-8008892-1","Forma de pago estandar a 30 dias",1680,1,0,"USD"]
[{"$f":"D3049&F3049&E3049","v":"SAP ColombiaCloud Classic SAP SolutionsSAP-8008892-2"},{"$f":"E3049&F3049","v":"SAP-8008892-2Cloud Classic SAP Solutions"},null,"SAP Colombia","SAP-8008892-2","Cloud Classic SAP Solutions",{"$f":"D3049","v":"SAP Colombia"},"USD","N/A","SAP CPQ, standard edition for SAP Commerce, orders",50000,"Serv","Suscripcion","N/A","N/A","N/A","SAP-8008892-2","Forma de pago estandar a 30 dias",1344,1,0,"USD"]
[{"$f":"D3050&F3050&E3050","v":"SAP ColombiaCloud Classic SAP SolutionsSAP-8008892-3"},{"$f":"E3050&F3050","v":"SAP-8008892-3Cloud Classic SAP Solutions"},null,"SAP Colombia","SAP-8008892-3","Cloud Classic SAP Solutions",{"$f":"D3050","v":"SAP Colombia"},"USD","N/A","SAP CPQ, standard edition for SAP Commerce, orders",50000,"Serv","Suscripcion","N/A","N/A","N/A","SAP-8008892-3","Forma de pago estandar a 30 dias",1008,1,0,"USD"]
[{"$f":"D3051&F3051&E3051","v":"SAP ColombiaCloud Classic SAP SolutionsSAP-8008892-4"},{"$f":"E3051&F3051","v":"SAP-8008892-4Cloud Classic SAP Solutions"},null,"SAP Colombia","SAP-8008892-4","Cloud Classic SAP Solutions",{"$f":"D3051","v":"SAP Colombia"},"USD","N/A","SAP CPQ, standard edition for SAP Commerce, orders",50000,"Serv","Suscripcion","N/A","N/A","N/A","SAP-8008892-4","Forma de pago estandar a 30 dias",672,1,0,"USD"]
[{"$f":"D3052&F3052&E3052","v":"SAP ColombiaCloud Classic SAP SolutionsSAP-8008892-5"},{"$f":"E3052&F3052","v":"SAP-8008892-5Cloud Classic SAP Solutions"},null,"SAP Colombia","SAP-8008892-5","Cloud Classic SAP Solutions",{"$f":"D3052","v":"SAP Colombia"},"USD","N/A","SAP CPQ, standard edition for SAP Commerce, orders",50000,"Serv","Suscripcion","N/A","N/A","N/A","SAP-8008892-5","Forma de pago estandar a 30 dias",336,1,0,"USD"]
[{"$f":"D3053&F3053&E3053","v":"SAP ColombiaCloud Classic SAP SolutionsSAP-8009246-1"},{"$f":"E3053&F3053","v":"SAP-8009246-1Cloud Classic SAP Solutions"},null,"SAP Colombia","SAP-8009246-1","Cloud Classic SAP Solutions",{"$f":"D3053","v":"SAP Colombia"},"USD","N/A","SAP Customer Data Platform",1000000,"Serv","Suscripcion","N/A","N/A","N/A","SAP-8009246-1","Forma de pago estandar a 30 dias",7839,1,0,"USD"]
[{"$f":"D3054&F3054&E3054","v":"SAP ColombiaCloud Classic SAP SolutionsSAP-8009246-2"},{"$f":"E3054&F3054","v":"SAP-8009246-2Cloud Classic SAP Solutions"},null,"SAP Colombia","SAP-8009246-2","Cloud Classic SAP Solutions",{"$f":"D3054","v":"SAP Colombia"},"USD","N/A","SAP Customer Data Platform",1000000,"Serv","Suscripcion","N/A","N/A","N/A","SAP-8009246-2","Forma de pago estandar a 30 dias",6719,1,0,"USD"]
[{"$f":"D3055&F3055&E3055","v":"SAP ColombiaCloud Classic SAP SolutionsSAP-8009246-3"},{"$f":"E3055&F3055","v":"SAP-8009246-3Cloud Classic SAP Solutions"},null,"SAP Colombia","SAP-8009246-3","Cloud Classic SAP Solutions",{"$f":"D3055","v":"SAP Colombia"},"USD","N/A","SAP Customer Data Platform",1000000,"Serv","Suscripcion","N/A","N/A","N/A","SAP-8009246-3","Forma de pago estandar a 30 dias",6159,1,0,"USD"]
[{"$f":"D3056&F3056&E3056","v":"SAP ColombiaCloud Classic SAP SolutionsSAP-8009246-4"},{"$f":"E3056&F3056","v":"SAP-8009246-4Cloud Classic SAP Solutions"},null,"SAP Colombia","SAP-8009246-4","Cloud Classic SAP Solutions",{"$f":"D3056","v":"SAP Colombia"},"USD","N/A","SAP Customer Data Platform",1000000,"Serv","Suscripcion","N/A","N/A","N/A","SAP-8009246-4","Forma de pago estandar a 30 dias",5935,1,0,"USD"]
[{"$f":"D3057&F3057&E3057","v":"SAP ColombiaCloud Classic SAP SolutionsSAP-8009246-5"},{"$f":"E3057&F3057","v":"SAP-8009246-5Cloud Classic SAP Solutions"},null,"SAP Colombia","SAP-8009246-5","Cloud Classic SAP Solutions",{"$f":"D3057","v":"SAP Colombia"},"USD","N/A","SAP Customer Data Platform",1000000,"Serv","Suscripcion","N/A","N/A","N/A","SAP-8009246-5","Forma de pago estandar a 30 dias",5711,1,0,"USD"]
[{"$f":"D3058&F3058&E3058","v":"SAP ColombiaCloud Classic SAP SolutionsSAP-8009246-6"},{"$f":"E3058&F3058","v":"SAP-8009246-6Cloud Classic SAP Solutions"},null,"SAP Colombia","SAP-8009246-6","Cloud Classic SAP Solutions",{"$f":"D3058","v":"SAP Colombia"},"USD","N/A","SAP Customer Data Platform",1000000,"Serv","Suscripcion","N/A","N/A","N/A","SAP-8009246-6","Forma de pago estandar a 30 dias",5600,1,0,"USD"]
[{"$f":"D3059&F3059&E3059","v":"SAP ColombiaCloud Classic SAP SolutionsSAP-8009247"},{"$f":"E3059&F3059","v":"SAP-8009247Cloud Classic SAP Solutions"},null,"SAP Colombia","SAP-8009247","Cloud Classic SAP Solutions",{"$f":"D3059","v":"SAP Colombia"},"USD","N/A","SAP Customer Data Platform, additional storage",120,"Serv","Suscripcion","N/A","N/A","N/A","SAP-8009247","Forma de pago estandar a 30 dias",1120,1,0,"USD"]
[{"$f":"D3060&F3060&E3060","v":"SAP ColombiaCloud Classic SAP SolutionsSAP-8009248"},{"$f":"E3060&F3060","v":"SAP-8009248Cloud Classic SAP Solutions"},null,"SAP Colombia","SAP-8009248","Cloud Classic SAP Solutions",{"$f":"D3060","v":"SAP Colombia"},"USD","N/A","SAP Customer Data Platform, additional activations",10000000,"Serv","Suscripcion","N/A","N/A","N/A","SAP-8009248","Forma de pago estandar a 30 dias",224,1,0,"USD"]
[{"$f":"D3061&F3061&E3061","v":"SAP ColombiaCloud Classic SAP SolutionsSAP-8010965"},{"$f":"E3061&F3061","v":"SAP-8010965Cloud Classic SAP Solutions"},null,"SAP Colombia","SAP-8010965","Cloud Classic SAP Solutions",{"$f":"D3061","v":"SAP Colombia"},"USD","N/A","SAP Sales and Service Core, intelligent sales add-on",1,"Serv","Suscripcion","N/A","N/A","N/A","SAP-8010965","Forma de pago estandar a 30 dias",39,1,0,"USD"]
[{"$f":"D3062&F3062&E3062","v":"SAP ColombiaCloud Classic SAP SolutionsSAP-8010990-1"},{"$f":"E3062&F3062","v":"SAP-8010990-1Cloud Classic SAP Solutions"},null,"SAP Colombia","SAP-8010990-1","Cloud Classic SAP Solutions",{"$f":"D3062","v":"SAP Colombia"},"USD","N/A","SAP Emarsys Customer Engagement",100000,"Serv","Suscripcion","N/A","N/A","N/A","SAP-8010990-1","Forma de pago estandar a 30 dias",1120,1,0,"USD"]
[{"$f":"D3063&F3063&E3063","v":"SAP ColombiaCloud Classic SAP SolutionsSAP-8010990-2"},{"$f":"E3063&F3063","v":"SAP-8010990-2Cloud Classic SAP Solutions"},null,"SAP Colombia","SAP-8010990-2","Cloud Classic SAP Solutions",{"$f":"D3063","v":"SAP Colombia"},"USD","N/A","SAP Emarsys Customer Engagement",100000,"Serv","Suscripcion","N/A","N/A","N/A","SAP-8010990-2","Forma de pago estandar a 30 dias",952,1,0,"USD"]
[{"$f":"D3064&F3064&E3064","v":"SAP ColombiaCloud Classic SAP SolutionsSAP-8010990-3"},{"$f":"E3064&F3064","v":"SAP-8010990-3Cloud Classic SAP Solutions"},null,"SAP Colombia","SAP-8010990-3","Cloud Classic SAP Solutions",{"$f":"D3064","v":"SAP Colombia"},"USD","N/A","SAP Emarsys Customer Engagement",100000,"Serv","Suscripcion","N/A","N/A","N/A","SAP-8010990-3","Forma de pago estandar a 30 dias",840,1,0,"USD"]
[{"$f":"D3065&F3065&E3065","v":"SAP ColombiaCloud Classic SAP SolutionsSAP-8010990-4"},{"$f":"E3065&F3065","v":"SAP-8010990-4Cloud Classic SAP Solutions"},null,"SAP Colombia","SAP-8010990-4","Cloud Classic SAP Solutions",{"$f":"D3065","v":"SAP Colombia"},"USD","N/A","SAP Emarsys Customer Engagement",100000,"Serv","Suscripcion","N/A","N/A","N/A","SAP-8010990-4","Forma de pago estandar a 30 dias",756,1,0,"USD"]
[{"$f":"D3066&F3066&E3066","v":"SAP ColombiaCloud Classic SAP SolutionsSAP-8010990-5"},{"$f":"E3066&F3066","v":"SAP-8010990-5Cloud Classic SAP Solutions"},null,"SAP Colombia","SAP-8010990-5","Cloud Classic SAP Solutions",{"$f":"D3066","v":"SAP Colombia"},"USD","N/A","SAP Emarsys Customer Engagement",100000,"Serv","Suscripcion","N/A","N/A","N/A","SAP-8010990-5","Forma de pago estandar a 30 dias",644,1,0,"USD"]
[{"$f":"D3067&F3067&E3067","v":"SAP ColombiaCloud Classic SAP SolutionsSAP-8010990-6"},{"$f":"E3067&F3067","v":"SAP-8010990-6Cloud Classic SAP Solutions"},null,"SAP Colombia","SAP-8010990-6","Cloud Classic SAP Solutions",{"$f":"D3067","v":"SAP Colombia"},"USD","N/A","SAP Emarsys Customer Engagement",100000,"Serv","Suscripcion","N/A","N/A","N/A","SAP-8010990-6","Forma de pago estandar a 30 dias",560,1,0,"USD"]
[{"$f":"D3068&F3068&E3068","v":"SAP ColombiaCloud Classic SAP SolutionsSAP-8010993-1"},{"$f":"E3068&F3068","v":"SAP-8010993-1Cloud Classic SAP Solutions"},null,"SAP Colombia","SAP-8010993-1","Cloud Classic SAP Solutions",{"$f":"D3068","v":"SAP Colombia"},"USD","N/A","SAP Emarsys Customer Engagement, advanced integration capabilities",100000,"Serv","Suscripcion","N/A","N/A","N/A","SAP-8010993-1","Forma de pago estandar a 30 dias",840,1,0,"USD"]
[{"$f":"D3069&F3069&E3069","v":"SAP ColombiaCloud Classic SAP SolutionsSAP-8010993-2"},{"$f":"E3069&F3069","v":"SAP-8010993-2Cloud Classic SAP Solutions"},null,"SAP Colombia","SAP-8010993-2","Cloud Classic SAP Solutions",{"$f":"D3069","v":"SAP Colombia"},"USD","N/A","SAP Emarsys Customer Engagement, advanced integration capabilities",100000,"Serv","Suscripcion","N/A","N/A","N/A","SAP-8010993-2","Forma de pago estandar a 30 dias",644,1,0,"USD"]
[{"$f":"D3070&F3070&E3070","v":"SAP ColombiaCloud Classic SAP SolutionsSAP-8010993-3"},{"$f":"E3070&F3070","v":"SAP-8010993-3Cloud Classic SAP Solutions"},null,"SAP Colombia","SAP-8010993-3","Cloud Classic SAP Solutions",{"$f":"D3070","v":"SAP Colombia"},"USD","N/A","SAP Emarsys Customer Engagement, advanced integration capabilities",100000,"Serv","Suscripcion","N/A","N/A","N/A","SAP-8010993-3","Forma de pago estandar a 30 dias",560,1,0,"USD"]
[{"$f":"D3071&F3071&E3071","v":"SAP ColombiaCloud Classic SAP SolutionsSAP-8010993-4"},{"$f":"E3071&F3071","v":"SAP-8010993-4Cloud Classic SAP Solutions"},null,"SAP Colombia","SAP-8010993-4","Cloud Classic SAP Solutions",{"$f":"D3071","v":"SAP Colombia"},"USD","N/A","SAP Emarsys Customer Engagement, advanced integration capabilities",100000,"Serv","Suscripcion","N/A","N/A","N/A","SAP-8010993-4","Forma de pago estandar a 30 dias",420,1,0,"USD"]
[{"$f":"D3072&F3072&E3072","v":"SAP ColombiaCloud Classic SAP SolutionsSAP-8010993-5"},{"$f":"E3072&F3072","v":"SAP-8010993-5Cloud Classic SAP Solutions"},null,"SAP Colombia","SAP-8010993-5","Cloud Classic SAP Solutions",{"$f":"D3072","v":"SAP Colombia"},"USD","N/A","SAP Emarsys Customer Engagement, advanced integration capabilities",100000,"Serv","Suscripcion","N/A","N/A","N/A","SAP-8010993-5","Forma de pago estandar a 30 dias",336,1,0,"USD"]
[{"$f":"D3073&F3073&E3073","v":"SAP ColombiaCloud Classic SAP SolutionsSAP-8010993-6"},{"$f":"E3073&F3073","v":"SAP-8010993-6Cloud Classic SAP Solutions"},null,"SAP Colombia","SAP-8010993-6","Cloud Classic SAP Solutions",{"$f":"D3073","v":"SAP Colombia"},"USD","N/A","SAP Emarsys Customer Engagement, advanced integration capabilities",100000,"Serv","Suscripcion","N/A","N/A","N/A","SAP-8010993-6","Forma de pago estandar a 30 dias",280,1,0,"USD"]
[{"$f":"D3074&F3074&E3074","v":"SAP ColombiaCloud Classic SAP SolutionsSAP-8010994-1"},{"$f":"E3074&F3074","v":"SAP-8010994-1Cloud Classic SAP Solutions"},null,"SAP Colombia","SAP-8010994-1","Cloud Classic SAP Solutions",{"$f":"D3074","v":"SAP Colombia"},"USD","N/A","SAP Emarsys Customer Engagement, e-commerce accelerator, loyalty module",100000,"Serv","Suscripcion","N/A","N/A","N/A","SAP-8010994-1","Forma de pago estandar a 30 dias",840,1,0,"USD"]
[{"$f":"D3075&F3075&E3075","v":"SAP ColombiaCloud Classic SAP SolutionsSAP-8010994-2"},{"$f":"E3075&F3075","v":"SAP-8010994-2Cloud Classic SAP Solutions"},null,"SAP Colombia","SAP-8010994-2","Cloud Classic SAP Solutions",{"$f":"D3075","v":"SAP Colombia"},"USD","N/A","SAP Emarsys Customer Engagement, e-commerce accelerator, loyalty module",100000,"Serv","Suscripcion","N/A","N/A","N/A","SAP-8010994-2","Forma de pago estandar a 30 dias",801,1,0,"USD"]
[{"$f":"D3076&F3076&E3076","v":"SAP ColombiaCloud Classic SAP SolutionsSAP-8010994-3"},{"$f":"E3076&F3076","v":"SAP-8010994-3Cloud Classic SAP Solutions"},null,"SAP Colombia","SAP-8010994-3","Cloud Classic SAP Solutions",{"$f":"D3076","v":"SAP Colombia"},"USD","N/A","SAP Emarsys Customer Engagement, e-commerce accelerator, loyalty module",100000,"Serv","Suscripcion","N/A","N/A","N/A","SAP-8010994-3","Forma de pago estandar a 30 dias",728,1,0,"USD"]
[{"$f":"D3077&F3077&E3077","v":"SAP ColombiaCloud Classic SAP SolutionsSAP-8010994-4"},{"$f":"E3077&F3077","v":"SAP-8010994-4Cloud Classic SAP Solutions"},null,"SAP Colombia","SAP-8010994-4","Cloud Classic SAP Solutions",{"$f":"D3077","v":"SAP Colombia"},"USD","N/A","SAP Emarsys Customer Engagement, e-commerce accelerator, loyalty module",100000,"Serv","Suscripcion","N/A","N/A","N/A","SAP-8010994-4","Forma de pago estandar a 30 dias",616,1,0,"USD"]
[{"$f":"D3078&F3078&E3078","v":"SAP ColombiaCloud Classic SAP SolutionsSAP-8010994-5"},{"$f":"E3078&F3078","v":"SAP-8010994-5Cloud Classic SAP Solutions"},null,"SAP Colombia","SAP-8010994-5","Cloud Classic SAP Solutions",{"$f":"D3078","v":"SAP Colombia"},"USD","N/A","SAP Emarsys Customer Engagement, e-commerce accelerator, loyalty module",100000,"Serv","Suscripcion","N/A","N/A","N/A","SAP-8010994-5","Forma de pago estandar a 30 dias",560,1,0,"USD"]
[{"$f":"D3079&F3079&E3079","v":"SAP ColombiaCloud Classic SAP SolutionsSAP-8010994-6"},{"$f":"E3079&F3079","v":"SAP-8010994-6Cloud Classic SAP Solutions"},null,"SAP Colombia","SAP-8010994-6","Cloud Classic SAP Solutions",{"$f":"D3079","v":"SAP Colombia"},"USD","N/A","SAP Emarsys Customer Engagement, e-commerce accelerator, loyalty module",100000,"Serv","Suscripcion","N/A","N/A","N/A","SAP-8010994-6","Forma de pago estandar a 30 dias",504,1,0,"USD"]
[{"$f":"D3080&F3080&E3080","v":"SAP ColombiaCloud Classic SAP SolutionsSAP-8010995-1"},{"$f":"E3080&F3080","v":"SAP-8010995-1Cloud Classic SAP Solutions"},null,"SAP Colombia","SAP-8010995-1","Cloud Classic SAP Solutions",{"$f":"D3080","v":"SAP Colombia"},"USD","N/A","SAP Emarsys Customer Engagement, e-commerce accelerator",100000,"Serv","Suscripcion","N/A","N/A","N/A","SAP-8010995-1","Forma de pago estandar a 30 dias",1680,1,0,"USD"]
[{"$f":"D3081&F3081&E3081","v":"SAP ColombiaCloud Classic SAP SolutionsSAP-8010995-2"},{"$f":"E3081&F3081","v":"SAP-8010995-2Cloud Classic SAP Solutions"},null,"SAP Colombia","SAP-8010995-2","Cloud Classic SAP Solutions",{"$f":"D3081","v":"SAP Colombia"},"USD","N/A","SAP Emarsys Customer Engagement, e-commerce accelerator",100000,"Serv","Suscripcion","N/A","N/A","N/A","SAP-8010995-2","Forma de pago estandar a 30 dias",1400,1,0,"USD"]
[{"$f":"D3082&F3082&E3082","v":"SAP ColombiaCloud Classic SAP SolutionsSAP-8010995-3"},{"$f":"E3082&F3082","v":"SAP-8010995-3Cloud Classic SAP Solutions"},null,"SAP Colombia","SAP-8010995-3","Cloud Classic SAP Solutions",{"$f":"D3082","v":"SAP Colombia"},"USD","N/A","SAP Emarsys Customer Engagement, e-commerce accelerator",100000,"Serv","Suscripcion","N/A","N/A","N/A","SAP-8010995-3","Forma de pago estandar a 30 dias",1120,1,0,"USD"]
[{"$f":"D3083&F3083&E3083","v":"SAP ColombiaCloud Classic SAP SolutionsSAP-8010995-4"},{"$f":"E3083&F3083","v":"SAP-8010995-4Cloud Classic SAP Solutions"},null,"SAP Colombia","SAP-8010995-4","Cloud Classic SAP Solutions",{"$f":"D3083","v":"SAP Colombia"},"USD","N/A","SAP Emarsys Customer Engagement, e-commerce accelerator",100000,"Serv","Suscripcion","N/A","N/A","N/A","SAP-8010995-4","Forma de pago estandar a 30 dias",952,1,0,"USD"]
[{"$f":"D3084&F3084&E3084","v":"SAP ColombiaCloud Classic SAP SolutionsSAP-8010995-5"},{"$f":"E3084&F3084","v":"SAP-8010995-5Cloud Classic SAP Solutions"},null,"SAP Colombia","SAP-8010995-5","Cloud Classic SAP Solutions",{"$f":"D3084","v":"SAP Colombia"},"USD","N/A","SAP Emarsys Customer Engagement, e-commerce accelerator",100000,"Serv","Suscripcion","N/A","N/A","N/A","SAP-8010995-5","Forma de pago estandar a 30 dias",784,1,0,"USD"]
[{"$f":"D3085&F3085&E3085","v":"SAP ColombiaCloud Classic SAP SolutionsSAP-8010995-6"},{"$f":"E3085&F3085","v":"SAP-8010995-6Cloud Classic SAP Solutions"},null,"SAP Colombia","SAP-8010995-6","Cloud Classic SAP Solutions",{"$f":"D3085","v":"SAP Colombia"},"USD","N/A","SAP Emarsys Customer Engagement, e-commerce accelerator",100000,"Serv","Suscripcion","N/A","N/A","N/A","SAP-8010995-6","Forma de pago estandar a 30 dias",672,1,0,"USD"]
[{"$f":"D3086&F3086&E3086","v":"SAP ColombiaCloud Classic SAP SolutionsSAP-8010996-1"},{"$f":"E3086&F3086","v":"SAP-8010996-1Cloud Classic SAP Solutions"},null,"SAP Colombia","SAP-8010996-1","Cloud Classic SAP Solutions",{"$f":"D3086","v":"SAP Colombia"},"USD","N/A","SAP Emarsys Customer Engagement, e-commerce accelerator, offline stores option",100000,"Serv","Suscripcion","N/A","N/A","N/A","SAP-8010996-1","Forma de pago estandar a 30 dias",896,1,0,"USD"]
[{"$f":"D3087&F3087&E3087","v":"SAP ColombiaCloud Classic SAP SolutionsSAP-8010996-2"},{"$f":"E3087&F3087","v":"SAP-8010996-2Cloud Classic SAP Solutions"},null,"SAP Colombia","SAP-8010996-2","Cloud Classic SAP Solutions",{"$f":"D3087","v":"SAP Colombia"},"USD","N/A","SAP Emarsys Customer Engagement, e-commerce accelerator, offline stores option",100000,"Serv","Suscripcion","N/A","N/A","N/A","SAP-8010996-2","Forma de pago estandar a 30 dias",728,1,0,"USD"]
[{"$f":"D3088&F3088&E3088","v":"SAP ColombiaCloud Classic SAP SolutionsSAP-8010996-3"},{"$f":"E3088&F3088","v":"SAP-8010996-3Cloud Classic SAP Solutions"},null,"SAP Colombia","SAP-8010996-3","Cloud Classic SAP Solutions",{"$f":"D3088","v":"SAP Colombia"},"USD","N/A","SAP Emarsys Customer Engagement, e-commerce accelerator, offline stores option",100000,"Serv","Suscripcion","N/A","N/A","N/A","SAP-8010996-3","Forma de pago estandar a 30 dias",644,1,0,"USD"]
[{"$f":"D3089&F3089&E3089","v":"SAP ColombiaCloud Classic SAP SolutionsSAP-8010996-4"},{"$f":"E3089&F3089","v":"SAP-8010996-4Cloud Classic SAP Solutions"},null,"SAP Colombia","SAP-8010996-4","Cloud Classic SAP Solutions",{"$f":"D3089","v":"SAP Colombia"},"USD","N/A","SAP Emarsys Customer Engagement, e-commerce accelerator, offline stores option",100000,"Serv","Suscripcion","N/A","N/A","N/A","SAP-8010996-4","Forma de pago estandar a 30 dias",526,1,0,"USD"]
[{"$f":"D3090&F3090&E3090","v":"SAP ColombiaCloud Classic SAP SolutionsSAP-8010996-5"},{"$f":"E3090&F3090","v":"SAP-8010996-5Cloud Classic SAP Solutions"},null,"SAP Colombia","SAP-8010996-5","Cloud Classic SAP Solutions",{"$f":"D3090","v":"SAP Colombia"},"USD","N/A","SAP Emarsys Customer Engagement, e-commerce accelerator, offline stores option",100000,"Serv","Suscripcion","N/A","N/A","N/A","SAP-8010996-5","Forma de pago estandar a 30 dias",392,1,0,"USD"]
[{"$f":"D3091&F3091&E3091","v":"SAP ColombiaCloud Classic SAP SolutionsSAP-8010996-6"},{"$f":"E3091&F3091","v":"SAP-8010996-6Cloud Classic SAP Solutions"},null,"SAP Colombia","SAP-8010996-6","Cloud Classic SAP Solutions",{"$f":"D3091","v":"SAP Colombia"},"USD","N/A","SAP Emarsys Customer Engagement, e-commerce accelerator, offline stores option",100000,"Serv","Suscripcion","N/A","N/A","N/A","SAP-8010996-6","Forma de pago estandar a 30 dias",336,1,0,"USD"]
[{"$f":"D3092&F3092&E3092","v":"SAP ColombiaCloud Classic SAP SolutionsSAP-8011001"},{"$f":"E3092&F3092","v":"SAP-8011001Cloud Classic SAP Solutions"},null,"SAP Colombia","SAP-8011001","Cloud Classic SAP Solutions",{"$f":"D3092","v":"SAP Colombia"},"USD","N/A","SAP Emarsys Customer Engagement, additional emails",100000,"Serv","Suscripcion","N/A","N/A","N/A","SAP-8011001","Forma de pago estandar a 30 dias",7.84,1,0,"USD"]
[{"$f":"D3093&F3093&E3093","v":"SAP ColombiaCloud Classic SAP SolutionsSAP-8011002"},{"$f":"E3093&F3093","v":"SAP-8011002Cloud Classic SAP Solutions"},null,"SAP Colombia","SAP-8011002","Cloud Classic SAP Solutions",{"$f":"D3093","v":"SAP Colombia"},"USD","N/A","SAP Emarsys Customer Engagement, additional Web channel impressions",100000,"Serv","Suscripcion","N/A","N/A","N/A","SAP-8011002","Forma de pago estandar a 30 dias",112,1,0,"USD"]
[{"$f":"D3094&F3094&E3094","v":"SAP ColombiaCloud Classic SAP SolutionsSAP-8011003"},{"$f":"E3094&F3094","v":"SAP-8011003Cloud Classic SAP Solutions"},null,"SAP Colombia","SAP-8011003","Cloud Classic SAP Solutions",{"$f":"D3094","v":"SAP Colombia"},"USD","N/A","SAP Emarsys Customer Engagement, additional accounts",1,"Serv","Suscripcion","N/A","N/A","N/A","SAP-8011003","Forma de pago estandar a 30 dias",1344,1,0,"USD"]
[{"$f":"D3095&F3095&E3095","v":"SAP ColombiaCloud Classic SAP SolutionsSAP-8011004"},{"$f":"E3095&F3095","v":"SAP-8011004Cloud Classic SAP Solutions"},null,"SAP Colombia","SAP-8011004","Cloud Classic SAP Solutions",{"$f":"D3095","v":"SAP Colombia"},"USD","N/A","SAP Emarsys Customer Engagement, test tenant",1,"Serv","Suscripcion","N/A","N/A","N/A","SAP-8011004","Forma de pago estandar a 30 dias",1344,1,0,"USD"]
[{"$f":"D3096&F3096&E3096","v":"SAP ColombiaCloud Classic SAP SolutionsSAP-8011334-1"},{"$f":"E3096&F3096","v":"SAP-8011334-1Cloud Classic SAP Solutions"},null,"SAP Colombia","SAP-8011334-1","Cloud Classic SAP Solutions",{"$f":"D3096","v":"SAP Colombia"},"USD","N/A","SAP Sales and Service Core",1,"Serv","Suscripcion","N/A","N/A","N/A","SAP-8011334-1","Forma de pago estandar a 30 dias",162,1,0,"USD"]
[{"$f":"D3097&F3097&E3097","v":"SAP ColombiaCloud Classic SAP SolutionsSAP-8011334-2"},{"$f":"E3097&F3097","v":"SAP-8011334-2Cloud Classic SAP Solutions"},null,"SAP Colombia","SAP-8011334-2","Cloud Classic SAP Solutions",{"$f":"D3097","v":"SAP Colombia"},"USD","N/A","SAP Sales and Service Core",1,"Serv","Suscripcion","N/A","N/A","N/A","SAP-8011334-2","Forma de pago estandar a 30 dias",157,1,0,"USD"]
[{"$f":"D3098&F3098&E3098","v":"SAP ColombiaCloud Classic SAP SolutionsSAP-8011334-3"},{"$f":"E3098&F3098","v":"SAP-8011334-3Cloud Classic SAP Solutions"},null,"SAP Colombia","SAP-8011334-3","Cloud Classic SAP Solutions",{"$f":"D3098","v":"SAP Colombia"},"USD","N/A","SAP Sales and Service Core",1,"Serv","Suscripcion","N/A","N/A","N/A","SAP-8011334-3","Forma de pago estandar a 30 dias",146,1,0,"USD"]
[{"$f":"D3099&F3099&E3099","v":"SAP ColombiaCloud Classic SAP SolutionsSAP-8011334-4"},{"$f":"E3099&F3099","v":"SAP-8011334-4Cloud Classic SAP Solutions"},null,"SAP Colombia","SAP-8011334-4","Cloud Classic SAP Solutions",{"$f":"D3099","v":"SAP Colombia"},"USD","N/A","SAP Sales and Service Core",1,"Serv","Suscripcion","N/A","N/A","N/A","SAP-8011334-4","Forma de pago estandar a 30 dias",129,1,0,"USD"]
[{"$f":"D3100&F3100&E3100","v":"SAP ColombiaCloud Classic SAP SolutionsSAP-8011334-5"},{"$f":"E3100&F3100","v":"SAP-8011334-5Cloud Classic SAP Solutions"},null,"SAP Colombia","SAP-8011334-5","Cloud Classic SAP Solutions",{"$f":"D3100","v":"SAP Colombia"},"USD","N/A","SAP Sales and Service Core",1,"Serv","Suscripcion","N/A","N/A","N/A","SAP-8011334-5","Forma de pago estandar a 30 dias",118,1,0,"USD"]
[{"$f":"D3101&F3101&E3101","v":"SAP ColombiaCloud Classic SAP SolutionsSAP-8011339"},{"$f":"E3101&F3101","v":"SAP-8011339Cloud Classic SAP Solutions"},null,"SAP Colombia","SAP-8011339","Cloud Classic SAP Solutions",{"$f":"D3101","v":"SAP Colombia"},"USD","N/A","SAP Sales and Service Core, service agent console",1,"Serv","Suscripcion","N/A","N/A","N/A","SAP-8011339","Forma de pago estandar a 30 dias",45,1,0,"USD"]
[{"$f":"D3102&F3102&E3102","v":"SAP ColombiaCloud Classic SAP SolutionsSAP-8011340"},{"$f":"E3102&F3102","v":"SAP-8011340Cloud Classic SAP Solutions"},null,"SAP Colombia","SAP-8011340","Cloud Classic SAP Solutions",{"$f":"D3102","v":"SAP Colombia"},"USD","N/A","SAP Sales and Service Core, dynamic visit planning add-on",1,"Serv","Suscripcion","N/A","N/A","N/A","SAP-8011340","Forma de pago estandar a 30 dias",56,1,0,"USD"]
[{"$f":"D3103&F3103&E3103","v":"SAP ColombiaCloud Classic SAP SolutionsSAP-8011348"},{"$f":"E3103&F3103","v":"SAP-8011348Cloud Classic SAP Solutions"},null,"SAP Colombia","SAP-8011348","Cloud Classic SAP Solutions",{"$f":"D3103","v":"SAP Colombia"},"USD","N/A","SAP Commerce Cloud, standard edition, GMV, access",13438800,"Serv","Suscripcion","N/A","N/A","N/A","SAP-8011348","Forma de pago estandar a 30 dias",251978,1,0,"USD"]
[{"$f":"D3104&F3104&E3104","v":"SAP ColombiaCloud Classic SAP SolutionsSAP-8011349-1"},{"$f":"E3104&F3104","v":"SAP-8011349-1Cloud Classic SAP Solutions"},null,"SAP Colombia","SAP-8011349-1","Cloud Classic SAP Solutions",{"$f":"D3104","v":"SAP Colombia"},"USD","N/A","SAP Commerce Cloud, standard edition, GMV",1,"Serv","Suscripcion","N/A","N/A","N/A","SAP-8011349-1","Forma de pago estandar a 30 dias",1.63,1,0,"USD"]
[{"$f":"D3105&F3105&E3105","v":"SAP ColombiaCloud Classic SAP SolutionsSAP-8011349-2"},{"$f":"E3105&F3105","v":"SAP-8011349-2Cloud Classic SAP Solutions"},null,"SAP Colombia","SAP-8011349-2","Cloud Classic SAP Solutions",{"$f":"D3105","v":"SAP Colombia"},"USD","N/A","SAP Commerce Cloud, standard edition, GMV",1,"Serv","Suscripcion","N/A","N/A","N/A","SAP-8011349-2","Forma de pago estandar a 30 dias",1.1299999999999999,1,0,"USD"]
[{"$f":"D3106&F3106&E3106","v":"SAP ColombiaCloud Classic SAP SolutionsSAP-8011349-3"},{"$f":"E3106&F3106","v":"SAP-8011349-3Cloud Classic SAP Solutions"},null,"SAP Colombia","SAP-8011349-3","Cloud Classic SAP Solutions",{"$f":"D3106","v":"SAP Colombia"},"USD","N/A","SAP Commerce Cloud, standard edition, GMV",1,"Serv","Suscripcion","N/A","N/A","N/A","SAP-8011349-3","Forma de pago estandar a 30 dias",0.88,1,0,"USD"]
[{"$f":"D3107&F3107&E3107","v":"SAP ColombiaCloud Classic SAP SolutionsSAP-8011349-4"},{"$f":"E3107&F3107","v":"SAP-8011349-4Cloud Classic SAP Solutions"},null,"SAP Colombia","SAP-8011349-4","Cloud Classic SAP Solutions",{"$f":"D3107","v":"SAP Colombia"},"USD","N/A","SAP Commerce Cloud, standard edition, GMV",1,"Serv","Suscripcion","N/A","N/A","N/A","SAP-8011349-4","Forma de pago estandar a 30 dias",0.73,1,0,"USD"]
[{"$f":"D3108&F3108&E3108","v":"SAP ColombiaCloud Classic SAP SolutionsSAP-8011349-5"},{"$f":"E3108&F3108","v":"SAP-8011349-5Cloud Classic SAP Solutions"},null,"SAP Colombia","SAP-8011349-5","Cloud Classic SAP Solutions",{"$f":"D3108","v":"SAP Colombia"},"USD","N/A","SAP Commerce Cloud, standard edition, GMV",1,"Serv","Suscripcion","N/A","N/A","N/A","SAP-8011349-5","Forma de pago estandar a 30 dias",0.63,1,0,"USD"]
[{"$f":"D3109&F3109&E3109","v":"SAP ColombiaCloud Classic SAP SolutionsSAP-8011350"},{"$f":"E3109&F3109","v":"SAP-8011350Cloud Classic SAP Solutions"},null,"SAP Colombia","SAP-8011350","Cloud Classic SAP Solutions",{"$f":"D3109","v":"SAP Colombia"},"USD","N/A","SAP Commerce Cloud, standard edition, orders, access",50000,"Serv","Suscripcion","N/A","N/A","N/A","SAP-8011350","Forma de pago estandar a 30 dias",20998,1,0,"USD"]
[{"$f":"D3110&F3110&E3110","v":"SAP ColombiaCloud Classic SAP SolutionsSAP-8011351-1"},{"$f":"E3110&F3110","v":"SAP-8011351-1Cloud Classic SAP Solutions"},null,"SAP Colombia","SAP-8011351-1","Cloud Classic SAP Solutions",{"$f":"D3110","v":"SAP Colombia"},"USD","N/A","SAP Commerce Cloud, standard edition, orders",50000,"Serv","Suscripcion","N/A","N/A","N/A","SAP-8011351-1","Forma de pago estandar a 30 dias",5600,1,0,"USD"]
[{"$f":"D3111&F3111&E3111","v":"SAP ColombiaCloud Classic SAP SolutionsSAP-8011351-2"},{"$f":"E3111&F3111","v":"SAP-8011351-2Cloud Classic SAP Solutions"},null,"SAP Colombia","SAP-8011351-2","Cloud Classic SAP Solutions",{"$f":"D3111","v":"SAP Colombia"},"USD","N/A","SAP Commerce Cloud, standard edition, orders",50000,"Serv","Suscripcion","N/A","N/A","N/A","SAP-8011351-2","Forma de pago estandar a 30 dias",2800,1,0,"USD"]
[{"$f":"D3112&F3112&E3112","v":"SAP ColombiaCloud Classic SAP SolutionsSAP-8011351-3"},{"$f":"E3112&F3112","v":"SAP-8011351-3Cloud Classic SAP Solutions"},null,"SAP Colombia","SAP-8011351-3","Cloud Classic SAP Solutions",{"$f":"D3112","v":"SAP Colombia"},"USD","N/A","SAP Commerce Cloud, standard edition, orders",50000,"Serv","Suscripcion","N/A","N/A","N/A","SAP-8011351-3","Forma de pago estandar a 30 dias",2100,1,0,"USD"]
[{"$f":"D3113&F3113&E3113","v":"SAP ColombiaCloud Classic SAP SolutionsSAP-8011351-4"},{"$f":"E3113&F3113","v":"SAP-8011351-4Cloud Classic SAP Solutions"},null,"SAP Colombia","SAP-8011351-4","Cloud Classic SAP Solutions",{"$f":"D3113","v":"SAP Colombia"},"USD","N/A","SAP Commerce Cloud, standard edition, orders",50000,"Serv","Suscripcion","N/A","N/A","N/A","SAP-8011351-4","Forma de pago estandar a 30 dias",1680,1,0,"USD"]
[{"$f":"D3114&F3114&E3114","v":"SAP ColombiaCloud Classic SAP SolutionsSAP-8011351-5"},{"$f":"E3114&F3114","v":"SAP-8011351-5Cloud Classic SAP Solutions"},null,"SAP Colombia","SAP-8011351-5","Cloud Classic SAP Solutions",{"$f":"D3114","v":"SAP Colombia"},"USD","N/A","SAP Commerce Cloud, standard edition, orders",50000,"Serv","Suscripcion","N/A","N/A","N/A","SAP-8011351-5","Forma de pago estandar a 30 dias",1120,1,0,"USD"]
[{"$f":"D3115&F3115&E3115","v":"SAP ColombiaCloud Classic SAP SolutionsSAP-8011352"},{"$f":"E3115&F3115","v":"SAP-8011352Cloud Classic SAP Solutions"},null,"SAP Colombia","SAP-8011352","Cloud Classic SAP Solutions",{"$f":"D3115","v":"SAP Colombia"},"USD","N/A","SAP Commerce Cloud, professional edition, GMV, access",13438800,"Serv","Suscripcion","N/A","N/A","N/A","SAP-8011352","Forma de pago estandar a 30 dias",503955,1,0,"USD"]
[{"$f":"D3116&F3116&E3116","v":"SAP ColombiaCloud Classic SAP SolutionsSAP-8011353-1"},{"$f":"E3116&F3116","v":"SAP-8011353-1Cloud Classic SAP Solutions"},null,"SAP Colombia","SAP-8011353-1","Cloud Classic SAP Solutions",{"$f":"D3116","v":"SAP Colombia"},"USD","N/A","SAP Commerce Cloud, professional edition, GMV",1,"Serv","Suscripcion","N/A","N/A","N/A","SAP-8011353-1","Forma de pago estandar a 30 dias",2.0299999999999998,1,0,"USD"]
[{"$f":"D3117&F3117&E3117","v":"SAP ColombiaCloud Classic SAP SolutionsSAP-8011353-2"},{"$f":"E3117&F3117","v":"SAP-8011353-2Cloud Classic SAP Solutions"},null,"SAP Colombia","SAP-8011353-2","Cloud Classic SAP Solutions",{"$f":"D3117","v":"SAP Colombia"},"USD","N/A","SAP Commerce Cloud, professional edition, GMV",1,"Serv","Suscripcion","N/A","N/A","N/A","SAP-8011353-2","Forma de pago estandar a 30 dias",1.35,1,0,"USD"]
[{"$f":"D3118&F3118&E3118","v":"SAP ColombiaCloud Classic SAP SolutionsSAP-8011353-3"},{"$f":"E3118&F3118","v":"SAP-8011353-3Cloud Classic SAP Solutions"},null,"SAP Colombia","SAP-8011353-3","Cloud Classic SAP Solutions",{"$f":"D3118","v":"SAP Colombia"},"USD","N/A","SAP Commerce Cloud, professional edition, GMV",1,"Serv","Suscripcion","N/A","N/A","N/A","SAP-8011353-3","Forma de pago estandar a 30 dias",1.05,1,0,"USD"]
[{"$f":"D3119&F3119&E3119","v":"SAP ColombiaCloud Classic SAP SolutionsSAP-8011353-4"},{"$f":"E3119&F3119","v":"SAP-8011353-4Cloud Classic SAP Solutions"},null,"SAP Colombia","SAP-8011353-4","Cloud Classic SAP Solutions",{"$f":"D3119","v":"SAP Colombia"},"USD","N/A","SAP Commerce Cloud, professional edition, GMV",1,"Serv","Suscripcion","N/A","N/A","N/A","SAP-8011353-4","Forma de pago estandar a 30 dias",0.87,1,0,"USD"]
[{"$f":"D3120&F3120&E3120","v":"SAP ColombiaCloud Classic SAP SolutionsSAP-8011353-5"},{"$f":"E3120&F3120","v":"SAP-8011353-5Cloud Classic SAP Solutions"},null,"SAP Colombia","SAP-8011353-5","Cloud Classic SAP Solutions",{"$f":"D3120","v":"SAP Colombia"},"USD","N/A","SAP Commerce Cloud, professional edition, GMV",1,"Serv","Suscripcion","N/A","N/A","N/A","SAP-8011353-5","Forma de pago estandar a 30 dias",0.75,1,0,"USD"]
[{"$f":"D3121&F3121&E3121","v":"SAP ColombiaCloud Classic SAP SolutionsSAP-8011354"},{"$f":"E3121&F3121","v":"SAP-8011354Cloud Classic SAP Solutions"},null,"SAP Colombia","SAP-8011354","Cloud Classic SAP Solutions",{"$f":"D3121","v":"SAP Colombia"},"USD","N/A","SAP Commerce Cloud, professional edition, orders, access",50000,"Serv","Suscripcion","N/A","N/A","N/A","SAP-8011354","Forma de pago estandar a 30 dias",41996,1,0,"USD"]
[{"$f":"D3122&F3122&E3122","v":"SAP ColombiaCloud Classic SAP SolutionsSAP-8011355-1"},{"$f":"E3122&F3122","v":"SAP-8011355-1Cloud Classic SAP Solutions"},null,"SAP Colombia","SAP-8011355-1","Cloud Classic SAP Solutions",{"$f":"D3122","v":"SAP Colombia"},"USD","N/A","SAP Commerce Cloud, professional edition, orders",50000,"Serv","Suscripcion","N/A","N/A","N/A","SAP-8011355-1","Forma de pago estandar a 30 dias",6999,1,0,"USD"]
[{"$f":"D3123&F3123&E3123","v":"SAP ColombiaCloud Classic SAP SolutionsSAP-8011355-2"},{"$f":"E3123&F3123","v":"SAP-8011355-2Cloud Classic SAP Solutions"},null,"SAP Colombia","SAP-8011355-2","Cloud Classic SAP Solutions",{"$f":"D3123","v":"SAP Colombia"},"USD","N/A","SAP Commerce Cloud, professional edition, orders",50000,"Serv","Suscripcion","N/A","N/A","N/A","SAP-8011355-2","Forma de pago estandar a 30 dias",3500,1,0,"USD"]
[{"$f":"D3124&F3124&E3124","v":"SAP ColombiaCloud Classic SAP SolutionsSAP-8011355-3"},{"$f":"E3124&F3124","v":"SAP-8011355-3Cloud Classic SAP Solutions"},null,"SAP Colombia","SAP-8011355-3","Cloud Classic SAP Solutions",{"$f":"D3124","v":"SAP Colombia"},"USD","N/A","SAP Commerce Cloud, professional edition, orders",50000,"Serv","Suscripcion","N/A","N/A","N/A","SAP-8011355-3","Forma de pago estandar a 30 dias",2660,1,0,"USD"]
[{"$f":"D3125&F3125&E3125","v":"SAP ColombiaCloud Classic SAP SolutionsSAP-8011355-4"},{"$f":"E3125&F3125","v":"SAP-8011355-4Cloud Classic SAP Solutions"},null,"SAP Colombia","SAP-8011355-4","Cloud Classic SAP Solutions",{"$f":"D3125","v":"SAP Colombia"},"USD","N/A","SAP Commerce Cloud, professional edition, orders",50000,"Serv","Suscripcion","N/A","N/A","N/A","SAP-8011355-4","Forma de pago estandar a 30 dias",2100,1,0,"USD"]
[{"$f":"D3126&F3126&E3126","v":"SAP ColombiaCloud Classic SAP SolutionsSAP-8011355-5"},{"$f":"E3126&F3126","v":"SAP-8011355-5Cloud Classic SAP Solutions"},null,"SAP Colombia","SAP-8011355-5","Cloud Classic SAP Solutions",{"$f":"D3126","v":"SAP Colombia"},"USD","N/A","SAP Commerce Cloud, professional edition, orders",50000,"Serv","Suscripcion","N/A","N/A","N/A","SAP-8011355-5","Forma de pago estandar a 30 dias",1400,1,0,"USD"]
[{"$f":"D3127&F3127&E3127","v":"SAP ColombiaCloud Classic SAP SolutionsSAP-8011356"},{"$f":"E3127&F3127","v":"SAP-8011356Cloud Classic SAP Solutions"},null,"SAP Colombia","SAP-8011356","Cloud Classic SAP Solutions",{"$f":"D3127","v":"SAP Colombia"},"USD","N/A","SAP Commerce Cloud, scalability add-on",1,"Serv","Suscripcion","N/A","N/A","N/A","SAP-8011356","Forma de pago estandar a 30 dias",5600,1,0,"USD"]
[{"$f":"D3128&F3128&E3128","v":"SAP ColombiaCloud Classic SAP SolutionsSAP-8011357"},{"$f":"E3128&F3128","v":"SAP-8011357Cloud Classic SAP Solutions"},null,"SAP Colombia","SAP-8011357","Cloud Classic SAP Solutions",{"$f":"D3128","v":"SAP Colombia"},"USD","N/A","experience management bundle for commerce (orders, access)",50000,"Serv","Suscripcion","N/A","N/A","N/A","SAP-8011357","Forma de pago estandar a 30 dias",50396,1,0,"USD"]
[{"$f":"D3129&F3129&E3129","v":"SAP ColombiaCloud Classic SAP SolutionsSAP-8011358"},{"$f":"E3129&F3129","v":"SAP-8011358Cloud Classic SAP Solutions"},null,"SAP Colombia","SAP-8011358","Cloud Classic SAP Solutions",{"$f":"D3129","v":"SAP Colombia"},"USD","N/A","experience management bundle for commerce (GMV, access)",13438800,"Serv","Suscripcion","N/A","N/A","N/A","SAP-8011358","Forma de pago estandar a 30 dias",604746,1,0,"USD"]
[{"$f":"D3130&F3130&E3130","v":"SAP ColombiaCloud Classic SAP SolutionsSAP-8011359"},{"$f":"E3130&F3130","v":"SAP-8011359Cloud Classic SAP Solutions"},null,"SAP Colombia","SAP-8011359","Cloud Classic SAP Solutions",{"$f":"D3130","v":"SAP Colombia"},"USD","N/A","SAP Commerce Cloud, enterprise edition, orders, access",50000,"Serv","Suscripcion","N/A","N/A","N/A","SAP-8011359","Forma de pago estandar a 30 dias",69994,1,0,"USD"]
[{"$f":"D3131&F3131&E3131","v":"SAP ColombiaCloud Classic SAP SolutionsSAP-8011360-1"},{"$f":"E3131&F3131","v":"SAP-8011360-1Cloud Classic SAP Solutions"},null,"SAP Colombia","SAP-8011360-1","Cloud Classic SAP Solutions",{"$f":"D3131","v":"SAP Colombia"},"USD","N/A","SAP Commerce Cloud, enterprise edition, orders",50000,"Serv","Suscripcion","N/A","N/A","N/A","SAP-8011360-1","Forma de pago estandar a 30 dias",12879,1,0,"USD"]
[{"$f":"D3132&F3132&E3132","v":"SAP ColombiaCloud Classic SAP SolutionsSAP-8011360-2"},{"$f":"E3132&F3132","v":"SAP-8011360-2Cloud Classic SAP Solutions"},null,"SAP Colombia","SAP-8011360-2","Cloud Classic SAP Solutions",{"$f":"D3132","v":"SAP Colombia"},"USD","N/A","SAP Commerce Cloud, enterprise edition, orders",50000,"Serv","Suscripcion","N/A","N/A","N/A","SAP-8011360-2","Forma de pago estandar a 30 dias",7699,1,0,"USD"]
[{"$f":"D3133&F3133&E3133","v":"SAP ColombiaCloud Classic SAP SolutionsSAP-8011360-3"},{"$f":"E3133&F3133","v":"SAP-8011360-3Cloud Classic SAP Solutions"},null,"SAP Colombia","SAP-8011360-3","Cloud Classic SAP Solutions",{"$f":"D3133","v":"SAP Colombia"},"USD","N/A","SAP Commerce Cloud, enterprise edition, orders",50000,"Serv","Suscripcion","N/A","N/A","N/A","SAP-8011360-3","Forma de pago estandar a 30 dias",6999,1,0,"USD"]
[{"$f":"D3134&F3134&E3134","v":"SAP ColombiaCloud Classic SAP SolutionsSAP-8011360-4"},{"$f":"E3134&F3134","v":"SAP-8011360-4Cloud Classic SAP Solutions"},null,"SAP Colombia","SAP-8011360-4","Cloud Classic SAP Solutions",{"$f":"D3134","v":"SAP Colombia"},"USD","N/A","SAP Commerce Cloud, enterprise edition, orders",50000,"Serv","Suscripcion","N/A","N/A","N/A","SAP-8011360-4","Forma de pago estandar a 30 dias",6159,1,0,"USD"]
[{"$f":"D3135&F3135&E3135","v":"SAP ColombiaCloud Classic SAP SolutionsSAP-8011360-5"},{"$f":"E3135&F3135","v":"SAP-8011360-5Cloud Classic SAP Solutions"},null,"SAP Colombia","SAP-8011360-5","Cloud Classic SAP Solutions",{"$f":"D3135","v":"SAP Colombia"},"USD","N/A","SAP Commerce Cloud, enterprise edition, orders",50000,"Serv","Suscripcion","N/A","N/A","N/A","SAP-8011360-5","Forma de pago estandar a 30 dias",3360,1,0,"USD"]
[{"$f":"D3136&F3136&E3136","v":"SAP ColombiaCloud Classic SAP SolutionsSAP-8011361"},{"$f":"E3136&F3136","v":"SAP-8011361Cloud Classic SAP Solutions"},null,"SAP Colombia","SAP-8011361","Cloud Classic SAP Solutions",{"$f":"D3136","v":"SAP Colombia"},"USD","N/A","SAP Commerce Cloud, enterprise edition, GMV, access",13438800,"Serv","Suscripcion","N/A","N/A","N/A","SAP-8011361","Forma de pago estandar a 30 dias",839925,1,0,"USD"]
[{"$f":"D3137&F3137&E3137","v":"SAP ColombiaCloud Classic SAP SolutionsSAP-8011362-1"},{"$f":"E3137&F3137","v":"SAP-8011362-1Cloud Classic SAP Solutions"},null,"SAP Colombia","SAP-8011362-1","Cloud Classic SAP Solutions",{"$f":"D3137","v":"SAP Colombia"},"USD","N/A","SAP Commerce Cloud, enterprise edition, GMV",1,"Serv","Suscripcion","N/A","N/A","N/A","SAP-8011362-1","Forma de pago estandar a 30 dias",2.4300000000000002,1,0,"USD"]
[{"$f":"D3138&F3138&E3138","v":"SAP ColombiaCloud Classic SAP SolutionsSAP-8011362-2"},{"$f":"E3138&F3138","v":"SAP-8011362-2Cloud Classic SAP Solutions"},null,"SAP Colombia","SAP-8011362-2","Cloud Classic SAP Solutions",{"$f":"D3138","v":"SAP Colombia"},"USD","N/A","SAP Commerce Cloud, enterprise edition, GMV",1,"Serv","Suscripcion","N/A","N/A","N/A","SAP-8011362-2","Forma de pago estandar a 30 dias",1.68,1,0,"USD"]
[{"$f":"D3139&F3139&E3139","v":"SAP ColombiaCloud Classic SAP SolutionsSAP-8011362-3"},{"$f":"E3139&F3139","v":"SAP-8011362-3Cloud Classic SAP Solutions"},null,"SAP Colombia","SAP-8011362-3","Cloud Classic SAP Solutions",{"$f":"D3139","v":"SAP Colombia"},"USD","N/A","SAP Commerce Cloud, enterprise edition, GMV",1,"Serv","Suscripcion","N/A","N/A","N/A","SAP-8011362-3","Forma de pago estandar a 30 dias",1.3,1,0,"USD"]
[{"$f":"D3140&F3140&E3140","v":"SAP ColombiaCloud Classic SAP SolutionsSAP-8011362-4"},{"$f":"E3140&F3140","v":"SAP-8011362-4Cloud Classic SAP Solutions"},null,"SAP Colombia","SAP-8011362-4","Cloud Classic SAP Solutions",{"$f":"D3140","v":"SAP Colombia"},"USD","N/A","SAP Commerce Cloud, enterprise edition, GMV",1,"Serv","Suscripcion","N/A","N/A","N/A","SAP-8011362-4","Forma de pago estandar a 30 dias",1.08,1,0,"USD"]
[{"$f":"D3141&F3141&E3141","v":"SAP ColombiaCloud Classic SAP SolutionsSAP-8011362-5"},{"$f":"E3141&F3141","v":"SAP-8011362-5Cloud Classic SAP Solutions"},null,"SAP Colombia","SAP-8011362-5","Cloud Classic SAP Solutions",{"$f":"D3141","v":"SAP Colombia"},"USD","N/A","SAP Commerce Cloud, enterprise edition, GMV",1,"Serv","Suscripcion","N/A","N/A","N/A","SAP-8011362-5","Forma de pago estandar a 30 dias",0.95,1,0,"USD"]
[{"$f":"D3142&F3142&E3142","v":"SAP ColombiaCloud Classic SAP SolutionsSAP-8011363"},{"$f":"E3142&F3142","v":"SAP-8011363Cloud Classic SAP Solutions"},null,"SAP Colombia","SAP-8011363","Cloud Classic SAP Solutions",{"$f":"D3142","v":"SAP Colombia"},"USD","N/A","SAP Commerce Cloud, sandbox environment, small",1,"Serv","Suscripcion","N/A","N/A","N/A","SAP-8011363","Forma de pago estandar a 30 dias",3500,1,0,"USD"]
[{"$f":"D3143&F3143&E3143","v":"SAP ColombiaCloud Classic SAP SolutionsSAP-8011364"},{"$f":"E3143&F3143","v":"SAP-8011364Cloud Classic SAP Solutions"},null,"SAP Colombia","SAP-8011364","Cloud Classic SAP Solutions",{"$f":"D3143","v":"SAP Colombia"},"USD","N/A","SAP Commerce Cloud, sandbox environment, medium",1,"Serv","Suscripcion","N/A","N/A","N/A","SAP-8011364","Forma de pago estandar a 30 dias",6999,1,0,"USD"]
[{"$f":"D3144&F3144&E3144","v":"SAP ColombiaCloud Classic SAP SolutionsSAP-8011365"},{"$f":"E3144&F3144","v":"SAP-8011365Cloud Classic SAP Solutions"},null,"SAP Colombia","SAP-8011365","Cloud Classic SAP Solutions",{"$f":"D3144","v":"SAP Colombia"},"USD","N/A","SAP Commerce Cloud, sandbox environment, large",1,"Serv","Suscripcion","N/A","N/A","N/A","SAP-8011365","Forma de pago estandar a 30 dias",22398,1,0,"USD"]
[{"$f":"D3145&F3145&E3145","v":"SAP ColombiaCloud Classic SAP SolutionsSAP-8011366"},{"$f":"E3145&F3145","v":"SAP-8011366Cloud Classic SAP Solutions"},null,"SAP Colombia","SAP-8011366","Cloud Classic SAP Solutions",{"$f":"D3145","v":"SAP Colombia"},"USD","N/A","SAP Commerce Cloud, sandbox environment, x-large",1,"Serv","Suscripcion","N/A","N/A","N/A","SAP-8011366","Forma de pago estandar a 30 dias",74193,1,0,"USD"]
[{"$f":"D3146&F3146&E3146","v":"SAP ColombiaCloud Classic SAP SolutionsSAP-8011376"},{"$f":"E3146&F3146","v":"SAP-8011376Cloud Classic SAP Solutions"},null,"SAP Colombia","SAP-8011376","Cloud Classic SAP Solutions",{"$f":"D3146","v":"SAP Colombia"},"USD","N/A","SAP Commerce Cloud, code-replication production environment",1,"Serv","Suscripcion","N/A","N/A","N/A","SAP-8011376","Forma de pago estandar a 30 dias",17638,1,0,"USD"]
[{"$f":"D3147&F3147&E3147","v":"SAP ColombiaCloud Classic SAP SolutionsSAP-8011377"},{"$f":"E3147&F3147","v":"SAP-8011377Cloud Classic SAP Solutions"},null,"SAP Colombia","SAP-8011377","Cloud Classic SAP Solutions",{"$f":"D3147","v":"SAP Colombia"},"USD","N/A","SAP Commerce Cloud, code-replication data center",1,"Serv","Suscripcion","N/A","N/A","N/A","SAP-8011377","Forma de pago estandar a 30 dias",23238,1,0,"USD"]
[{"$f":"D3148&F3148&E3148","v":"SAP ColombiaCloud Classic SAP SolutionsSAP-8012227-1"},{"$f":"E3148&F3148","v":"SAP-8012227-1Cloud Classic SAP Solutions"},null,"SAP Colombia","SAP-8012227-1","Cloud Classic SAP Solutions",{"$f":"D3148","v":"SAP Colombia"},"USD","N/A","SAP Emarsys Customer Engagement, omnichannel marketing option",100000,"Serv","Suscripcion","N/A","N/A","N/A","SAP-8012227-1","Forma de pago estandar a 30 dias",653,1,0,"USD"]
[{"$f":"D3149&F3149&E3149","v":"SAP ColombiaCloud Classic SAP SolutionsSAP-8012227-2"},{"$f":"E3149&F3149","v":"SAP-8012227-2Cloud Classic SAP Solutions"},null,"SAP Colombia","SAP-8012227-2","Cloud Classic SAP Solutions",{"$f":"D3149","v":"SAP Colombia"},"USD","N/A","SAP Emarsys Customer Engagement, omnichannel marketing option",100000,"Serv","Suscripcion","N/A","N/A","N/A","SAP-8012227-2","Forma de pago estandar a 30 dias",607,1,0,"USD"]
[{"$f":"D3150&F3150&E3150","v":"SAP ColombiaCloud Classic SAP SolutionsSAP-8012227-3"},{"$f":"E3150&F3150","v":"SAP-8012227-3Cloud Classic SAP Solutions"},null,"SAP Colombia","SAP-8012227-3","Cloud Classic SAP Solutions",{"$f":"D3150","v":"SAP Colombia"},"USD","N/A","SAP Emarsys Customer Engagement, omnichannel marketing option",100000,"Serv","Suscripcion","N/A","N/A","N/A","SAP-8012227-3","Forma de pago estandar a 30 dias",560,1,0,"USD"]
[{"$f":"D3151&F3151&E3151","v":"SAP ColombiaCloud Classic SAP SolutionsSAP-8012227-4"},{"$f":"E3151&F3151","v":"SAP-8012227-4Cloud Classic SAP Solutions"},null,"SAP Colombia","SAP-8012227-4","Cloud Classic SAP Solutions",{"$f":"D3151","v":"SAP Colombia"},"USD","N/A","SAP Emarsys Customer Engagement, omnichannel marketing option",100000,"Serv","Suscripcion","N/A","N/A","N/A","SAP-8012227-4","Forma de pago estandar a 30 dias",513,1,0,"USD"]
[{"$f":"D3152&F3152&E3152","v":"SAP ColombiaCloud Classic SAP SolutionsSAP-8012227-5"},{"$f":"E3152&F3152","v":"SAP-8012227-5Cloud Classic SAP Solutions"},null,"SAP Colombia","SAP-8012227-5","Cloud Classic SAP Solutions",{"$f":"D3152","v":"SAP Colombia"},"USD","N/A","SAP Emarsys Customer Engagement, omnichannel marketing option",100000,"Serv","Suscripcion","N/A","N/A","N/A","SAP-8012227-5","Forma de pago estandar a 30 dias",467,1,0,"USD"]
[{"$f":"D3153&F3153&E3153","v":"SAP ColombiaCloud Classic SAP SolutionsSAP-8012227-6"},{"$f":"E3153&F3153","v":"SAP-8012227-6Cloud Classic SAP Solutions"},null,"SAP Colombia","SAP-8012227-6","Cloud Classic SAP Solutions",{"$f":"D3153","v":"SAP Colombia"},"USD","N/A","SAP Emarsys Customer Engagement, omnichannel marketing option",100000,"Serv","Suscripcion","N/A","N/A","N/A","SAP-8012227-6","Forma de pago estandar a 30 dias",420,1,0,"USD"]
[{"$f":"D3154&F3154&E3154","v":"SAP ColombiaCloud Classic SAP SolutionsSAP-8012228-1"},{"$f":"E3154&F3154","v":"SAP-8012228-1Cloud Classic SAP Solutions"},null,"SAP Colombia","SAP-8012228-1","Cloud Classic SAP Solutions",{"$f":"D3154","v":"SAP Colombia"},"USD","N/A","SAP Emarsys Customer Engagement, mobile app marketing option",100000,"Serv","Suscripcion","N/A","N/A","N/A","SAP-8012228-1","Forma de pago estandar a 30 dias",672,1,0,"USD"]
[{"$f":"D3155&F3155&E3155","v":"SAP ColombiaCloud Classic SAP SolutionsSAP-8012228-2"},{"$f":"E3155&F3155","v":"SAP-8012228-2Cloud Classic SAP Solutions"},null,"SAP Colombia","SAP-8012228-2","Cloud Classic SAP Solutions",{"$f":"D3155","v":"SAP Colombia"},"USD","N/A","SAP Emarsys Customer Engagement, mobile app marketing option",100000,"Serv","Suscripcion","N/A","N/A","N/A","SAP-8012228-2","Forma de pago estandar a 30 dias",627,1,0,"USD"]
[{"$f":"D3156&F3156&E3156","v":"SAP ColombiaCloud Classic SAP SolutionsSAP-8012228-3"},{"$f":"E3156&F3156","v":"SAP-8012228-3Cloud Classic SAP Solutions"},null,"SAP Colombia","SAP-8012228-3","Cloud Classic SAP Solutions",{"$f":"D3156","v":"SAP Colombia"},"USD","N/A","SAP Emarsys Customer Engagement, mobile app marketing option",100000,"Serv","Suscripcion","N/A","N/A","N/A","SAP-8012228-3","Forma de pago estandar a 30 dias",571,1,0,"USD"]
[{"$f":"D3157&F3157&E3157","v":"SAP ColombiaCloud Classic SAP SolutionsSAP-8012228-4"},{"$f":"E3157&F3157","v":"SAP-8012228-4Cloud Classic SAP Solutions"},null,"SAP Colombia","SAP-8012228-4","Cloud Classic SAP Solutions",{"$f":"D3157","v":"SAP Colombia"},"USD","N/A","SAP Emarsys Customer Engagement, mobile app marketing option",100000,"Serv","Suscripcion","N/A","N/A","N/A","SAP-8012228-4","Forma de pago estandar a 30 dias",470,1,0,"USD"]
[{"$f":"D3158&F3158&E3158","v":"SAP ColombiaCloud Classic SAP SolutionsSAP-8012228-5"},{"$f":"E3158&F3158","v":"SAP-8012228-5Cloud Classic SAP Solutions"},null,"SAP Colombia","SAP-8012228-5","Cloud Classic SAP Solutions",{"$f":"D3158","v":"SAP Colombia"},"USD","N/A","SAP Emarsys Customer Engagement, mobile app marketing option",100000,"Serv","Suscripcion","N/A","N/A","N/A","SAP-8012228-5","Forma de pago estandar a 30 dias",426,1,0,"USD"]
[{"$f":"D3159&F3159&E3159","v":"SAP ColombiaCloud Classic SAP SolutionsSAP-8012228-6"},{"$f":"E3159&F3159","v":"SAP-8012228-6Cloud Classic SAP Solutions"},null,"SAP Colombia","SAP-8012228-6","Cloud Classic SAP Solutions",{"$f":"D3159","v":"SAP Colombia"},"USD","N/A","SAP Emarsys Customer Engagement, mobile app marketing option",100000,"Serv","Suscripcion","N/A","N/A","N/A","SAP-8012228-6","Forma de pago estandar a 30 dias",403,1,0,"USD"]
[{"$f":"D3160&F3160&E3160","v":"SAP ColombiaCloud Classic SAP SolutionsSAP-8012579-1"},{"$f":"E3160&F3160","v":"SAP-8012579-1Cloud Classic SAP Solutions"},null,"SAP Colombia","SAP-8012579-1","Cloud Classic SAP Solutions",{"$f":"D3160","v":"SAP Colombia"},"USD","N/A","SAP Service Cloud Version 2",1,"Serv","Suscripcion","N/A","N/A","N/A","SAP-8012579-1","Forma de pago estandar a 30 dias",112,1,0,"USD"]
[{"$f":"D3161&F3161&E3161","v":"SAP ColombiaCloud Classic SAP SolutionsSAP-8012579-2"},{"$f":"E3161&F3161","v":"SAP-8012579-2Cloud Classic SAP Solutions"},null,"SAP Colombia","SAP-8012579-2","Cloud Classic SAP Solutions",{"$f":"D3161","v":"SAP Colombia"},"USD","N/A","SAP Service Cloud Version 2",1,"Serv","Suscripcion","N/A","N/A","N/A","SAP-8012579-2","Forma de pago estandar a 30 dias",106,1,0,"USD"]
[{"$f":"D3162&F3162&E3162","v":"SAP ColombiaCloud Classic SAP SolutionsSAP-8012579-3"},{"$f":"E3162&F3162","v":"SAP-8012579-3Cloud Classic SAP Solutions"},null,"SAP Colombia","SAP-8012579-3","Cloud Classic SAP Solutions",{"$f":"D3162","v":"SAP Colombia"},"USD","N/A","SAP Service Cloud Version 2",1,"Serv","Suscripcion","N/A","N/A","N/A","SAP-8012579-3","Forma de pago estandar a 30 dias",101,1,0,"USD"]
[{"$f":"D3163&F3163&E3163","v":"SAP ColombiaCloud Classic SAP SolutionsSAP-8012579-4"},{"$f":"E3163&F3163","v":"SAP-8012579-4Cloud Classic SAP Solutions"},null,"SAP Colombia","SAP-8012579-4","Cloud Classic SAP Solutions",{"$f":"D3163","v":"SAP Colombia"},"USD","N/A","SAP Service Cloud Version 2",1,"Serv","Suscripcion","N/A","N/A","N/A","SAP-8012579-4","Forma de pago estandar a 30 dias",95,1,0,"USD"]
[{"$f":"D3164&F3164&E3164","v":"SAP ColombiaCloud Classic SAP SolutionsSAP-8012579-5"},{"$f":"E3164&F3164","v":"SAP-8012579-5Cloud Classic SAP Solutions"},null,"SAP Colombia","SAP-8012579-5","Cloud Classic SAP Solutions",{"$f":"D3164","v":"SAP Colombia"},"USD","N/A","SAP Service Cloud Version 2",1,"Serv","Suscripcion","N/A","N/A","N/A","SAP-8012579-5","Forma de pago estandar a 30 dias",90,1,0,"USD"]
[{"$f":"D3165&F3165&E3165","v":"SAP ColombiaCloud Classic SAP SolutionsSAP-8012580"},{"$f":"E3165&F3165","v":"SAP-8012580Cloud Classic SAP Solutions"},null,"SAP Colombia","SAP-8012580","Cloud Classic SAP Solutions",{"$f":"D3165","v":"SAP Colombia"},"USD","N/A","SAP Service Cloud Version 2, test tenant",1,"Serv","Suscripcion","N/A","N/A","N/A","SAP-8012580","Forma de pago estandar a 30 dias",1120,1,0,"USD"]
[{"$f":"D3166&F3166&E3166","v":"SAP ColombiaCloud Classic SAP SolutionsSAP-8013363-1"},{"$f":"E3166&F3166","v":"SAP-8013363-1Cloud Classic SAP Solutions"},null,"SAP Colombia","SAP-8013363-1","Cloud Classic SAP Solutions",{"$f":"D3166","v":"SAP Colombia"},"USD","N/A","SAP Emarsys Customer Engagement, account engagement option",10000,"Serv","Suscripcion","N/A","N/A","N/A","SAP-8013363-1","Forma de pago estandar a 30 dias",840,1,0,"USD"]
[{"$f":"D3167&F3167&E3167","v":"SAP ColombiaCloud Classic SAP SolutionsSAP-8013363-2"},{"$f":"E3167&F3167","v":"SAP-8013363-2Cloud Classic SAP Solutions"},null,"SAP Colombia","SAP-8013363-2","Cloud Classic SAP Solutions",{"$f":"D3167","v":"SAP Colombia"},"USD","N/A","SAP Emarsys Customer Engagement, account engagement option",10000,"Serv","Suscripcion","N/A","N/A","N/A","SAP-8013363-2","Forma de pago estandar a 30 dias",672,1,0,"USD"]
[{"$f":"D3168&F3168&E3168","v":"SAP ColombiaCloud Classic SAP SolutionsSAP-8013363-3"},{"$f":"E3168&F3168","v":"SAP-8013363-3Cloud Classic SAP Solutions"},null,"SAP Colombia","SAP-8013363-3","Cloud Classic SAP Solutions",{"$f":"D3168","v":"SAP Colombia"},"USD","N/A","SAP Emarsys Customer Engagement, account engagement option",10000,"Serv","Suscripcion","N/A","N/A","N/A","SAP-8013363-3","Forma de pago estandar a 30 dias",504,1,0,"USD"]
[{"$f":"D3169&F3169&E3169","v":"SAP ColombiaCloud Classic SAP SolutionsSAP-8013363-4"},{"$f":"E3169&F3169","v":"SAP-8013363-4Cloud Classic SAP Solutions"},null,"SAP Colombia","SAP-8013363-4","Cloud Classic SAP Solutions",{"$f":"D3169","v":"SAP Colombia"},"USD","N/A","SAP Emarsys Customer Engagement, account engagement option",10000,"Serv","Suscripcion","N/A","N/A","N/A","SAP-8013363-4","Forma de pago estandar a 30 dias",392,1,0,"USD"]
[{"$f":"D3170&F3170&E3170","v":"SAP ColombiaCloud Classic SAP SolutionsSAP-8013363-5"},{"$f":"E3170&F3170","v":"SAP-8013363-5Cloud Classic SAP Solutions"},null,"SAP Colombia","SAP-8013363-5","Cloud Classic SAP Solutions",{"$f":"D3170","v":"SAP Colombia"},"USD","N/A","SAP Emarsys Customer Engagement, account engagement option",10000,"Serv","Suscripcion","N/A","N/A","N/A","SAP-8013363-5","Forma de pago estandar a 30 dias",280,1,0,"USD"]
[{"$f":"D3171&F3171&E3171","v":"SAP ColombiaCloud Classic SAP SolutionsSAP-8013363-6"},{"$f":"E3171&F3171","v":"SAP-8013363-6Cloud Classic SAP Solutions"},null,"SAP Colombia","SAP-8013363-6","Cloud Classic SAP Solutions",{"$f":"D3171","v":"SAP Colombia"},"USD","N/A","SAP Emarsys Customer Engagement, account engagement option",10000,"Serv","Suscripcion","N/A","N/A","N/A","SAP-8013363-6","Forma de pago estandar a 30 dias",235,1,0,"USD"]
[{"$f":"D3172&F3172&E3172","v":"SAP ColombiaCloud Classic SAP SolutionsSAP-8005063-1"},{"$f":"E3172&F3172","v":"SAP-8005063-1Cloud Classic SAP Solutions"},null,"SAP Colombia","SAP-8005063-1","Cloud Classic SAP Solutions",{"$f":"D3172","v":"SAP Colombia"},"USD","N/A","SAP Work Manager, cloud edition",1,"Serv","Suscripcion","N/A","N/A","N/A","SAP-8005063-1","Forma de pago estandar a 30 dias",168,1,0,"USD"]
[{"$f":"D3173&F3173&E3173","v":"SAP ColombiaCloud Classic SAP SolutionsSAP-8005063-2"},{"$f":"E3173&F3173","v":"SAP-8005063-2Cloud Classic SAP Solutions"},null,"SAP Colombia","SAP-8005063-2","Cloud Classic SAP Solutions",{"$f":"D3173","v":"SAP Colombia"},"USD","N/A","SAP Work Manager, cloud edition",1,"Serv","Suscripcion","N/A","N/A","N/A","SAP-8005063-2","Forma de pago estandar a 30 dias",140,1,0,"USD"]
[{"$f":"D3174&F3174&E3174","v":"SAP ColombiaCloud Classic SAP SolutionsSAP-8005063-3"},{"$f":"E3174&F3174","v":"SAP-8005063-3Cloud Classic SAP Solutions"},null,"SAP Colombia","SAP-8005063-3","Cloud Classic SAP Solutions",{"$f":"D3174","v":"SAP Colombia"},"USD","N/A","SAP Work Manager, cloud edition",1,"Serv","Suscripcion","N/A","N/A","N/A","SAP-8005063-3","Forma de pago estandar a 30 dias",112,1,0,"USD"]
[{"$f":"D3175&F3175&E3175","v":"SAP ColombiaCloud Classic SAP SolutionsSAP-8005063-4"},{"$f":"E3175&F3175","v":"SAP-8005063-4Cloud Classic SAP Solutions"},null,"SAP Colombia","SAP-8005063-4","Cloud Classic SAP Solutions",{"$f":"D3175","v":"SAP Colombia"},"USD","N/A","SAP Work Manager, cloud edition",1,"Serv","Suscripcion","N/A","N/A","N/A","SAP-8005063-4","Forma de pago estandar a 30 dias",101,1,0,"USD"]
[{"$f":"D3176&F3176&E3176","v":"SAP ColombiaCloud Classic SAP SolutionsSAP-8005675"},{"$f":"E3176&F3176","v":"SAP-8005675Cloud Classic SAP Solutions"},null,"SAP Colombia","SAP-8005675","Cloud Classic SAP Solutions",{"$f":"D3176","v":"SAP Colombia"},"USD","N/A","SAP Information Collaboration Hub for Life Sciences",1,"Serv","Suscripcion","N/A","N/A","N/A","SAP-8005675","Forma de pago estandar a 30 dias",6383,1,0,"USD"]
[{"$f":"D3177&F3177&E3177","v":"SAP ColombiaCloud Classic SAP SolutionsSAP-8005676"},{"$f":"E3177&F3177","v":"SAP-8005676Cloud Classic SAP Solutions"},null,"SAP Colombia","SAP-8005676","Cloud Classic SAP Solutions",{"$f":"D3177","v":"SAP Colombia"},"USD","N/A","SAP Information Collaboration Hub for Life Sciences, option for supply chain partner collaboration",1,"Serv","Suscripcion","N/A","N/A","N/A","SAP-8005676","Forma de pago estandar a 30 dias",437,1,0,"USD"]
[{"$f":"D3178&F3178&E3178","v":"SAP ColombiaCloud Classic SAP SolutionsSAP-8006012"},{"$f":"E3178&F3178","v":"SAP-8006012Cloud Classic SAP Solutions"},null,"SAP Colombia","SAP-8006012","Cloud Classic SAP Solutions",{"$f":"D3178","v":"SAP Colombia"},"USD","N/A","SAP Information Collaboration Hub for Life Sciences, option for regulatory reporting",1,"Serv","Suscripcion","N/A","N/A","N/A","SAP-8006012","Forma de pago estandar a 30 dias",4480,1,0,"USD"]
[{"$f":"D3179&F3179&E3179","v":"SAP ColombiaCloud Classic SAP SolutionsSAP-8007113-1"},{"$f":"E3179&F3179","v":"SAP-8007113-1Cloud Classic SAP Solutions"},null,"SAP Colombia","SAP-8007113-1","Cloud Classic SAP Solutions",{"$f":"D3179","v":"SAP Colombia"},"USD","N/A","SAP Crowd Service",10000,"Serv","Suscripcion","N/A","N/A","N/A","SAP-8007113-1","Forma de pago estandar a 30 dias",4704,1,0,"USD"]
[{"$f":"D3180&F3180&E3180","v":"SAP ColombiaCloud Classic SAP SolutionsSAP-8007113-2"},{"$f":"E3180&F3180","v":"SAP-8007113-2Cloud Classic SAP Solutions"},null,"SAP Colombia","SAP-8007113-2","Cloud Classic SAP Solutions",{"$f":"D3180","v":"SAP Colombia"},"USD","N/A","SAP Crowd Service",10000,"Serv","Suscripcion","N/A","N/A","N/A","SAP-8007113-2","Forma de pago estandar a 30 dias",4032,1,0,"USD"]
[{"$f":"D3181&F3181&E3181","v":"SAP ColombiaCloud Classic SAP SolutionsSAP-8007113-3"},{"$f":"E3181&F3181","v":"SAP-8007113-3Cloud Classic SAP Solutions"},null,"SAP Colombia","SAP-8007113-3","Cloud Classic SAP Solutions",{"$f":"D3181","v":"SAP Colombia"},"USD","N/A","SAP Crowd Service",10000,"Serv","Suscripcion","N/A","N/A","N/A","SAP-8007113-3","Forma de pago estandar a 30 dias",3696,1,0,"USD"]
[{"$f":"D3182&F3182&E3182","v":"SAP ColombiaCloud Classic SAP SolutionsSAP-8007113-4"},{"$f":"E3182&F3182","v":"SAP-8007113-4Cloud Classic SAP Solutions"},null,"SAP Colombia","SAP-8007113-4","Cloud Classic SAP Solutions",{"$f":"D3182","v":"SAP Colombia"},"USD","N/A","SAP Crowd Service",10000,"Serv","Suscripcion","N/A","N/A","N/A","SAP-8007113-4","Forma de pago estandar a 30 dias",3472,1,0,"USD"]
[{"$f":"D3183&F3183&E3183","v":"SAP ColombiaCloud Classic SAP SolutionsSAP-8007123-1"},{"$f":"E3183&F3183","v":"SAP-8007123-1Cloud Classic SAP Solutions"},null,"SAP Colombia","SAP-8007123-1","Cloud Classic SAP Solutions",{"$f":"D3183","v":"SAP Colombia"},"USD","N/A","SAP Information Collaboration Hub, option for US",1000000,"Serv","Suscripcion","N/A","N/A","N/A","SAP-8007123-1","Forma de pago estandar a 30 dias",448,1,0,"USD"]
[{"$f":"D3184&F3184&E3184","v":"SAP ColombiaCloud Classic SAP SolutionsSAP-8007123-2"},{"$f":"E3184&F3184","v":"SAP-8007123-2Cloud Classic SAP Solutions"},null,"SAP Colombia","SAP-8007123-2","Cloud Classic SAP Solutions",{"$f":"D3184","v":"SAP Colombia"},"USD","N/A","SAP Information Collaboration Hub, option for US",1000000,"Serv","Suscripcion","N/A","N/A","N/A","SAP-8007123-2","Forma de pago estandar a 30 dias",269,1,0,"USD"]
[{"$f":"D3185&F3185&E3185","v":"SAP ColombiaCloud Classic SAP SolutionsSAP-8007123-3"},{"$f":"E3185&F3185","v":"SAP-8007123-3Cloud Classic SAP Solutions"},null,"SAP Colombia","SAP-8007123-3","Cloud Classic SAP Solutions",{"$f":"D3185","v":"SAP Colombia"},"USD","N/A","SAP Information Collaboration Hub, option for US",1000000,"Serv","Suscripcion","N/A","N/A","N/A","SAP-8007123-3","Forma de pago estandar a 30 dias",202,1,0,"USD"]
[{"$f":"D3186&F3186&E3186","v":"SAP ColombiaCloud Classic SAP SolutionsSAP-8007123-4"},{"$f":"E3186&F3186","v":"SAP-8007123-4Cloud Classic SAP Solutions"},null,"SAP Colombia","SAP-8007123-4","Cloud Classic SAP Solutions",{"$f":"D3186","v":"SAP Colombia"},"USD","N/A","SAP Information Collaboration Hub, option for US",1000000,"Serv","Suscripcion","N/A","N/A","N/A","SAP-8007123-4","Forma de pago estandar a 30 dias",151,1,0,"USD"]
[{"$f":"D3187&F3187&E3187","v":"SAP ColombiaCloud Classic SAP SolutionsSAP-8007123-5"},{"$f":"E3187&F3187","v":"SAP-8007123-5Cloud Classic SAP Solutions"},null,"SAP Colombia","SAP-8007123-5","Cloud Classic SAP Solutions",{"$f":"D3187","v":"SAP Colombia"},"USD","N/A","SAP Information Collaboration Hub, option for US",1000000,"Serv","Suscripcion","N/A","N/A","N/A","SAP-8007123-5","Forma de pago estandar a 30 dias",118,1,0,"USD"]
[{"$f":"D3188&F3188&E3188","v":"SAP ColombiaCloud Classic SAP SolutionsSAP-8007860-1"},{"$f":"E3188&F3188","v":"SAP-8007860-1Cloud Classic SAP Solutions"},null,"SAP Colombia","SAP-8007860-1","Cloud Classic SAP Solutions",{"$f":"D3188","v":"SAP Colombia"},"USD","N/A","SAP Integrated Business Planning for sales & operations",559950000,"Serv","Suscripcion","N/A","N/A","N/A","SAP-8007860-1","Forma de pago estandar a 30 dias",8399,1,0,"USD"]
[{"$f":"D3189&F3189&E3189","v":"SAP ColombiaCloud Classic SAP SolutionsSAP-8007860-2"},{"$f":"E3189&F3189","v":"SAP-8007860-2Cloud Classic SAP Solutions"},null,"SAP Colombia","SAP-8007860-2","Cloud Classic SAP Solutions",{"$f":"D3189","v":"SAP Colombia"},"USD","N/A","SAP Integrated Business Planning for sales & operations",559950000,"Serv","Suscripcion","N/A","N/A","N/A","SAP-8007860-2","Forma de pago estandar a 30 dias",7167,1,0,"USD"]
[{"$f":"D3190&F3190&E3190","v":"SAP ColombiaCloud Classic SAP SolutionsSAP-8007860-3"},{"$f":"E3190&F3190","v":"SAP-8007860-3Cloud Classic SAP Solutions"},null,"SAP Colombia","SAP-8007860-3","Cloud Classic SAP Solutions",{"$f":"D3190","v":"SAP Colombia"},"USD","N/A","SAP Integrated Business Planning for sales & operations",559950000,"Serv","Suscripcion","N/A","N/A","N/A","SAP-8007860-3","Forma de pago estandar a 30 dias",5264,1,0,"USD"]
[{"$f":"D3191&F3191&E3191","v":"SAP ColombiaCloud Classic SAP SolutionsSAP-8007860-4"},{"$f":"E3191&F3191","v":"SAP-8007860-4Cloud Classic SAP Solutions"},null,"SAP Colombia","SAP-8007860-4","Cloud Classic SAP Solutions",{"$f":"D3191","v":"SAP Colombia"},"USD","N/A","SAP Integrated Business Planning for sales & operations",559950000,"Serv","Suscripcion","N/A","N/A","N/A","SAP-8007860-4","Forma de pago estandar a 30 dias",4144,1,0,"USD"]
[{"$f":"D3192&F3192&E3192","v":"SAP ColombiaCloud Classic SAP SolutionsSAP-8007860-5"},{"$f":"E3192&F3192","v":"SAP-8007860-5Cloud Classic SAP Solutions"},null,"SAP Colombia","SAP-8007860-5","Cloud Classic SAP Solutions",{"$f":"D3192","v":"SAP Colombia"},"USD","N/A","SAP Integrated Business Planning for sales & operations",559950000,"Serv","Suscripcion","N/A","N/A","N/A","SAP-8007860-5","Forma de pago estandar a 30 dias",3584,1,0,"USD"]
[{"$f":"D3193&F3193&E3193","v":"SAP ColombiaCloud Classic SAP SolutionsSAP-8007860-6"},{"$f":"E3193&F3193","v":"SAP-8007860-6Cloud Classic SAP Solutions"},null,"SAP Colombia","SAP-8007860-6","Cloud Classic SAP Solutions",{"$f":"D3193","v":"SAP Colombia"},"USD","N/A","SAP Integrated Business Planning for sales & operations",559950000,"Serv","Suscripcion","N/A","N/A","N/A","SAP-8007860-6","Forma de pago estandar a 30 dias",3024,1,0,"USD"]
[{"$f":"D3194&F3194&E3194","v":"SAP ColombiaCloud Classic SAP SolutionsSAP-8007861-1"},{"$f":"E3194&F3194","v":"SAP-8007861-1Cloud Classic SAP Solutions"},null,"SAP Colombia","SAP-8007861-1","Cloud Classic SAP Solutions",{"$f":"D3194","v":"SAP Colombia"},"USD","N/A","SAP Integrated Business Planning for response and supply",559950000,"Serv","Suscripcion","N/A","N/A","N/A","SAP-8007861-1","Forma de pago estandar a 30 dias",8399,1,0,"USD"]
[{"$f":"D3195&F3195&E3195","v":"SAP ColombiaCloud Classic SAP SolutionsSAP-8007861-2"},{"$f":"E3195&F3195","v":"SAP-8007861-2Cloud Classic SAP Solutions"},null,"SAP Colombia","SAP-8007861-2","Cloud Classic SAP Solutions",{"$f":"D3195","v":"SAP Colombia"},"USD","N/A","SAP Integrated Business Planning for response and supply",559950000,"Serv","Suscripcion","N/A","N/A","N/A","SAP-8007861-2","Forma de pago estandar a 30 dias",7167,1,0,"USD"]
[{"$f":"D3196&F3196&E3196","v":"SAP ColombiaCloud Classic SAP SolutionsSAP-8007861-3"},{"$f":"E3196&F3196","v":"SAP-8007861-3Cloud Classic SAP Solutions"},null,"SAP Colombia","SAP-8007861-3","Cloud Classic SAP Solutions",{"$f":"D3196","v":"SAP Colombia"},"USD","N/A","SAP Integrated Business Planning for response and supply",559950000,"Serv","Suscripcion","N/A","N/A","N/A","SAP-8007861-3","Forma de pago estandar a 30 dias",5264,1,0,"USD"]
[{"$f":"D3197&F3197&E3197","v":"SAP ColombiaCloud Classic SAP SolutionsSAP-8007861-4"},{"$f":"E3197&F3197","v":"SAP-8007861-4Cloud Classic SAP Solutions"},null,"SAP Colombia","SAP-8007861-4","Cloud Classic SAP Solutions",{"$f":"D3197","v":"SAP Colombia"},"USD","N/A","SAP Integrated Business Planning for response and supply",559950000,"Serv","Suscripcion","N/A","N/A","N/A","SAP-8007861-4","Forma de pago estandar a 30 dias",4144,1,0,"USD"]
[{"$f":"D3198&F3198&E3198","v":"SAP ColombiaCloud Classic SAP SolutionsSAP-8007861-5"},{"$f":"E3198&F3198","v":"SAP-8007861-5Cloud Classic SAP Solutions"},null,"SAP Colombia","SAP-8007861-5","Cloud Classic SAP Solutions",{"$f":"D3198","v":"SAP Colombia"},"USD","N/A","SAP Integrated Business Planning for response and supply",559950000,"Serv","Suscripcion","N/A","N/A","N/A","SAP-8007861-5","Forma de pago estandar a 30 dias",3584,1,0,"USD"]
[{"$f":"D3199&F3199&E3199","v":"SAP ColombiaCloud Classic SAP SolutionsSAP-8007861-6"},{"$f":"E3199&F3199","v":"SAP-8007861-6Cloud Classic SAP Solutions"},null,"SAP Colombia","SAP-8007861-6","Cloud Classic SAP Solutions",{"$f":"D3199","v":"SAP Colombia"},"USD","N/A","SAP Integrated Business Planning for response and supply",559950000,"Serv","Suscripcion","N/A","N/A","N/A","SAP-8007861-6","Forma de pago estandar a 30 dias",3024,1,0,"USD"]
[{"$f":"D3200&F3200&E3200","v":"SAP ColombiaCloud Classic SAP SolutionsSAP-8007862-1"},{"$f":"E3200&F3200","v":"SAP-8007862-1Cloud Classic SAP Solutions"},null,"SAP Colombia","SAP-8007862-1","Cloud Classic SAP Solutions",{"$f":"D3200","v":"SAP Colombia"},"USD","N/A","SAP Integrated Business Planning for inventory",559950000,"Serv","Suscripcion","N/A","N/A","N/A","SAP-8007862-1","Forma de pago estandar a 30 dias",8399,1,0,"USD"]
[{"$f":"D3201&F3201&E3201","v":"SAP ColombiaCloud Classic SAP SolutionsSAP-8007862-2"},{"$f":"E3201&F3201","v":"SAP-8007862-2Cloud Classic SAP Solutions"},null,"SAP Colombia","SAP-8007862-2","Cloud Classic SAP Solutions",{"$f":"D3201","v":"SAP Colombia"},"USD","N/A","SAP Integrated Business Planning for inventory",559950000,"Serv","Suscripcion","N/A","N/A","N/A","SAP-8007862-2","Forma de pago estandar a 30 dias",7167,1,0,"USD"]
[{"$f":"D3202&F3202&E3202","v":"SAP ColombiaCloud Classic SAP SolutionsSAP-8007862-3"},{"$f":"E3202&F3202","v":"SAP-8007862-3Cloud Classic SAP Solutions"},null,"SAP Colombia","SAP-8007862-3","Cloud Classic SAP Solutions",{"$f":"D3202","v":"SAP Colombia"},"USD","N/A","SAP Integrated Business Planning for inventory",559950000,"Serv","Suscripcion","N/A","N/A","N/A","SAP-8007862-3","Forma de pago estandar a 30 dias",5264,1,0,"USD"]
[{"$f":"D3203&F3203&E3203","v":"SAP ColombiaCloud Classic SAP SolutionsSAP-8007862-4"},{"$f":"E3203&F3203","v":"SAP-8007862-4Cloud Classic SAP Solutions"},null,"SAP Colombia","SAP-8007862-4","Cloud Classic SAP Solutions",{"$f":"D3203","v":"SAP Colombia"},"USD","N/A","SAP Integrated Business Planning for inventory",559950000,"Serv","Suscripcion","N/A","N/A","N/A","SAP-8007862-4","Forma de pago estandar a 30 dias",4144,1,0,"USD"]
[{"$f":"D3204&F3204&E3204","v":"SAP ColombiaCloud Classic SAP SolutionsSAP-8007862-5"},{"$f":"E3204&F3204","v":"SAP-8007862-5Cloud Classic SAP Solutions"},null,"SAP Colombia","SAP-8007862-5","Cloud Classic SAP Solutions",{"$f":"D3204","v":"SAP Colombia"},"USD","N/A","SAP Integrated Business Planning for inventory",559950000,"Serv","Suscripcion","N/A","N/A","N/A","SAP-8007862-5","Forma de pago estandar a 30 dias",3584,1,0,"USD"]
[{"$f":"D3205&F3205&E3205","v":"SAP ColombiaCloud Classic SAP SolutionsSAP-8007862-6"},{"$f":"E3205&F3205","v":"SAP-8007862-6Cloud Classic SAP Solutions"},null,"SAP Colombia","SAP-8007862-6","Cloud Classic SAP Solutions",{"$f":"D3205","v":"SAP Colombia"},"USD","N/A","SAP Integrated Business Planning for inventory",559950000,"Serv","Suscripcion","N/A","N/A","N/A","SAP-8007862-6","Forma de pago estandar a 30 dias",3024,1,0,"USD"]
[{"$f":"D3206&F3206&E3206","v":"SAP ColombiaCloud Classic SAP SolutionsSAP-8007863-1"},{"$f":"E3206&F3206","v":"SAP-8007863-1Cloud Classic SAP Solutions"},null,"SAP Colombia","SAP-8007863-1","Cloud Classic SAP Solutions",{"$f":"D3206","v":"SAP Colombia"},"USD","N/A","SAP Integrated Business Planning for demand",559950000,"Serv","Suscripcion","N/A","N/A","N/A","SAP-8007863-1","Forma de pago estandar a 30 dias",8399,1,0,"USD"]
[{"$f":"D3207&F3207&E3207","v":"SAP ColombiaCloud Classic SAP SolutionsSAP-8007863-2"},{"$f":"E3207&F3207","v":"SAP-8007863-2Cloud Classic SAP Solutions"},null,"SAP Colombia","SAP-8007863-2","Cloud Classic SAP Solutions",{"$f":"D3207","v":"SAP Colombia"},"USD","N/A","SAP Integrated Business Planning for demand",559950000,"Serv","Suscripcion","N/A","N/A","N/A","SAP-8007863-2","Forma de pago estandar a 30 dias",7167,1,0,"USD"]
[{"$f":"D3208&F3208&E3208","v":"SAP ColombiaCloud Classic SAP SolutionsSAP-8007863-3"},{"$f":"E3208&F3208","v":"SAP-8007863-3Cloud Classic SAP Solutions"},null,"SAP Colombia","SAP-8007863-3","Cloud Classic SAP Solutions",{"$f":"D3208","v":"SAP Colombia"},"USD","N/A","SAP Integrated Business Planning for demand",559950000,"Serv","Suscripcion","N/A","N/A","N/A","SAP-8007863-3","Forma de pago estandar a 30 dias",5264,1,0,"USD"]
[{"$f":"D3209&F3209&E3209","v":"SAP ColombiaCloud Classic SAP SolutionsSAP-8007863-4"},{"$f":"E3209&F3209","v":"SAP-8007863-4Cloud Classic SAP Solutions"},null,"SAP Colombia","SAP-8007863-4","Cloud Classic SAP Solutions",{"$f":"D3209","v":"SAP Colombia"},"USD","N/A","SAP Integrated Business Planning for demand",559950000,"Serv","Suscripcion","N/A","N/A","N/A","SAP-8007863-4","Forma de pago estandar a 30 dias",4144,1,0,"USD"]
[{"$f":"D3210&F3210&E3210","v":"SAP ColombiaCloud Classic SAP SolutionsSAP-8007863-5"},{"$f":"E3210&F3210","v":"SAP-8007863-5Cloud Classic SAP Solutions"},null,"SAP Colombia","SAP-8007863-5","Cloud Classic SAP Solutions",{"$f":"D3210","v":"SAP Colombia"},"USD","N/A","SAP Integrated Business Planning for demand",559950000,"Serv","Suscripcion","N/A","N/A","N/A","SAP-8007863-5","Forma de pago estandar a 30 dias",3584,1,0,"USD"]
[{"$f":"D3211&F3211&E3211","v":"SAP ColombiaCloud Classic SAP SolutionsSAP-8007863-6"},{"$f":"E3211&F3211","v":"SAP-8007863-6Cloud Classic SAP Solutions"},null,"SAP Colombia","SAP-8007863-6","Cloud Classic SAP Solutions",{"$f":"D3211","v":"SAP Colombia"},"USD","N/A","SAP Integrated Business Planning for demand",559950000,"Serv","Suscripcion","N/A","N/A","N/A","SAP-8007863-6","Forma de pago estandar a 30 dias",3024,1,0,"USD"]
[{"$f":"D3212&F3212&E3212","v":"SAP ColombiaCloud Classic SAP SolutionsSAP-8007864-1"},{"$f":"E3212&F3212","v":"SAP-8007864-1Cloud Classic SAP Solutions"},null,"SAP Colombia","SAP-8007864-1","Cloud Classic SAP Solutions",{"$f":"D3212","v":"SAP Colombia"},"USD","N/A","SAP Supply Chain Control Tower",559950000,"Serv","Suscripcion","N/A","N/A","N/A","SAP-8007864-1","Forma de pago estandar a 30 dias",8399,1,0,"USD"]
[{"$f":"D3213&F3213&E3213","v":"SAP ColombiaCloud Classic SAP SolutionsSAP-8007864-2"},{"$f":"E3213&F3213","v":"SAP-8007864-2Cloud Classic SAP Solutions"},null,"SAP Colombia","SAP-8007864-2","Cloud Classic SAP Solutions",{"$f":"D3213","v":"SAP Colombia"},"USD","N/A","SAP Supply Chain Control Tower",559950000,"Serv","Suscripcion","N/A","N/A","N/A","SAP-8007864-2","Forma de pago estandar a 30 dias",7167,1,0,"USD"]
[{"$f":"D3214&F3214&E3214","v":"SAP ColombiaCloud Classic SAP SolutionsSAP-8007864-3"},{"$f":"E3214&F3214","v":"SAP-8007864-3Cloud Classic SAP Solutions"},null,"SAP Colombia","SAP-8007864-3","Cloud Classic SAP Solutions",{"$f":"D3214","v":"SAP Colombia"},"USD","N/A","SAP Supply Chain Control Tower",559950000,"Serv","Suscripcion","N/A","N/A","N/A","SAP-8007864-3","Forma de pago estandar a 30 dias",5264,1,0,"USD"]
[{"$f":"D3215&F3215&E3215","v":"SAP ColombiaCloud Classic SAP SolutionsSAP-8007864-4"},{"$f":"E3215&F3215","v":"SAP-8007864-4Cloud Classic SAP Solutions"},null,"SAP Colombia","SAP-8007864-4","Cloud Classic SAP Solutions",{"$f":"D3215","v":"SAP Colombia"},"USD","N/A","SAP Supply Chain Control Tower",559950000,"Serv","Suscripcion","N/A","N/A","N/A","SAP-8007864-4","Forma de pago estandar a 30 dias",4144,1,0,"USD"]
[{"$f":"D3216&F3216&E3216","v":"SAP ColombiaCloud Classic SAP SolutionsSAP-8007864-5"},{"$f":"E3216&F3216","v":"SAP-8007864-5Cloud Classic SAP Solutions"},null,"SAP Colombia","SAP-8007864-5","Cloud Classic SAP Solutions",{"$f":"D3216","v":"SAP Colombia"},"USD","N/A","SAP Supply Chain Control Tower",559950000,"Serv","Suscripcion","N/A","N/A","N/A","SAP-8007864-5","Forma de pago estandar a 30 dias",3584,1,0,"USD"]
[{"$f":"D3217&F3217&E3217","v":"SAP ColombiaCloud Classic SAP SolutionsSAP-8007864-6"},{"$f":"E3217&F3217","v":"SAP-8007864-6Cloud Classic SAP Solutions"},null,"SAP Colombia","SAP-8007864-6","Cloud Classic SAP Solutions",{"$f":"D3217","v":"SAP Colombia"},"USD","N/A","SAP Supply Chain Control Tower",559950000,"Serv","Suscripcion","N/A","N/A","N/A","SAP-8007864-6","Forma de pago estandar a 30 dias",3024,1,0,"USD"]
[{"$f":"D3218&F3218&E3218","v":"SAP ColombiaCloud Classic SAP SolutionsSAP-8007865-1"},{"$f":"E3218&F3218","v":"SAP-8007865-1Cloud Classic SAP Solutions"},null,"SAP Colombia","SAP-8007865-1","Cloud Classic SAP Solutions",{"$f":"D3218","v":"SAP Colombia"},"USD","N/A","SAP Integrated Business Planning for demand-driven replenishment",559950000,"Serv","Suscripcion","N/A","N/A","N/A","SAP-8007865-1","Forma de pago estandar a 30 dias",8399,1,0,"USD"]
[{"$f":"D3219&F3219&E3219","v":"SAP ColombiaCloud Classic SAP SolutionsSAP-8007865-2"},{"$f":"E3219&F3219","v":"SAP-8007865-2Cloud Classic SAP Solutions"},null,"SAP Colombia","SAP-8007865-2","Cloud Classic SAP Solutions",{"$f":"D3219","v":"SAP Colombia"},"USD","N/A","SAP Integrated Business Planning for demand-driven replenishment",559950000,"Serv","Suscripcion","N/A","N/A","N/A","SAP-8007865-2","Forma de pago estandar a 30 dias",7167,1,0,"USD"]
[{"$f":"D3220&F3220&E3220","v":"SAP ColombiaCloud Classic SAP SolutionsSAP-8007865-3"},{"$f":"E3220&F3220","v":"SAP-8007865-3Cloud Classic SAP Solutions"},null,"SAP Colombia","SAP-8007865-3","Cloud Classic SAP Solutions",{"$f":"D3220","v":"SAP Colombia"},"USD","N/A","SAP Integrated Business Planning for demand-driven replenishment",559950000,"Serv","Suscripcion","N/A","N/A","N/A","SAP-8007865-3","Forma de pago estandar a 30 dias",5264,1,0,"USD"]
[{"$f":"D3221&F3221&E3221","v":"SAP ColombiaCloud Classic SAP SolutionsSAP-8007865-4"},{"$f":"E3221&F3221","v":"SAP-8007865-4Cloud Classic SAP Solutions"},null,"SAP Colombia","SAP-8007865-4","Cloud Classic SAP Solutions",{"$f":"D3221","v":"SAP Colombia"},"USD","N/A","SAP Integrated Business Planning for demand-driven replenishment",559950000,"Serv","Suscripcion","N/A","N/A","N/A","SAP-8007865-4","Forma de pago estandar a 30 dias",4144,1,0,"USD"]
[{"$f":"D3222&F3222&E3222","v":"SAP ColombiaCloud Classic SAP SolutionsSAP-8007865-5"},{"$f":"E3222&F3222","v":"SAP-8007865-5Cloud Classic SAP Solutions"},null,"SAP Colombia","SAP-8007865-5","Cloud Classic SAP Solutions",{"$f":"D3222","v":"SAP Colombia"},"USD","N/A","SAP Integrated Business Planning for demand-driven replenishment",559950000,"Serv","Suscripcion","N/A","N/A","N/A","SAP-8007865-5","Forma de pago estandar a 30 dias",3584,1,0,"USD"]
[{"$f":"D3223&F3223&E3223","v":"SAP ColombiaCloud Classic SAP SolutionsSAP-8007865-6"},{"$f":"E3223&F3223","v":"SAP-8007865-6Cloud Classic SAP Solutions"},null,"SAP Colombia","SAP-8007865-6","Cloud Classic SAP Solutions",{"$f":"D3223","v":"SAP Colombia"},"USD","N/A","SAP Integrated Business Planning for demand-driven replenishment",559950000,"Serv","Suscripcion","N/A","N/A","N/A","SAP-8007865-6","Forma de pago estandar a 30 dias",3024,1,0,"USD"]
[{"$f":"D3224&F3224&E3224","v":"SAP ColombiaCloud Classic SAP SolutionsSAP-8008006"},{"$f":"E3224&F3224","v":"SAP-8008006Cloud Classic SAP Solutions"},null,"SAP Colombia","SAP-8008006","Cloud Classic SAP Solutions",{"$f":"D3224","v":"SAP Colombia"},"USD","N/A","SAP Integrated Business Planning, additional test tenant",1,"Serv","Suscripcion","N/A","N/A","N/A","SAP-8008006","Forma de pago estandar a 30 dias",2520,1,0,"USD"]
[{"$f":"D3225&F3225&E3225","v":"SAP ColombiaCloud Classic SAP SolutionsSAP-8008007"},{"$f":"E3225&F3225","v":"SAP-8008007Cloud Classic SAP Solutions"},null,"SAP Colombia","SAP-8008007","Cloud Classic SAP Solutions",{"$f":"D3225","v":"SAP Colombia"},"USD","N/A","SAP Integrated Business Planning, additional test tenant HANA upgrade",256,"Serv","Suscripcion","N/A","N/A","N/A","SAP-8008007","Forma de pago estandar a 30 dias",728,1,0,"USD"]
[{"$f":"D3226&F3226&E3226","v":"SAP ColombiaCloud Classic SAP SolutionsSAP-8008012-1"},{"$f":"E3226&F3226","v":"SAP-8008012-1Cloud Classic SAP Solutions"},null,"SAP Colombia","SAP-8008012-1","Cloud Classic SAP Solutions",{"$f":"D3226","v":"SAP Colombia"},"USD","N/A","SAP Excise Tax Management",50000,"Serv","Suscripcion","N/A","N/A","N/A","SAP-8008012-1","Forma de pago estandar a 30 dias",336,1,0,"USD"]
[{"$f":"D3227&F3227&E3227","v":"SAP ColombiaCloud Classic SAP SolutionsSAP-8008012-2"},{"$f":"E3227&F3227","v":"SAP-8008012-2Cloud Classic SAP Solutions"},null,"SAP Colombia","SAP-8008012-2","Cloud Classic SAP Solutions",{"$f":"D3227","v":"SAP Colombia"},"USD","N/A","SAP Excise Tax Management",50000,"Serv","Suscripcion","N/A","N/A","N/A","SAP-8008012-2","Forma de pago estandar a 30 dias",280,1,0,"USD"]
[{"$f":"D3228&F3228&E3228","v":"SAP ColombiaCloud Classic SAP SolutionsSAP-8008012-3"},{"$f":"E3228&F3228","v":"SAP-8008012-3Cloud Classic SAP Solutions"},null,"SAP Colombia","SAP-8008012-3","Cloud Classic SAP Solutions",{"$f":"D3228","v":"SAP Colombia"},"USD","N/A","SAP Excise Tax Management",50000,"Serv","Suscripcion","N/A","N/A","N/A","SAP-8008012-3","Forma de pago estandar a 30 dias",252,1,0,"USD"]
[{"$f":"D3229&F3229&E3229","v":"SAP ColombiaCloud Classic SAP SolutionsSAP-8008012-4"},{"$f":"E3229&F3229","v":"SAP-8008012-4Cloud Classic SAP Solutions"},null,"SAP Colombia","SAP-8008012-4","Cloud Classic SAP Solutions",{"$f":"D3229","v":"SAP Colombia"},"USD","N/A","SAP Excise Tax Management",50000,"Serv","Suscripcion","N/A","N/A","N/A","SAP-8008012-4","Forma de pago estandar a 30 dias",235,1,0,"USD"]
[{"$f":"D3230&F3230&E3230","v":"SAP ColombiaCloud Classic SAP SolutionsSAP-8008019-1"},{"$f":"E3230&F3230","v":"SAP-8008019-1Cloud Classic SAP Solutions"},null,"SAP Colombia","SAP-8008019-1","Cloud Classic SAP Solutions",{"$f":"D3230","v":"SAP Colombia"},"USD","N/A","SAP Logistics Business Network, freight collaboration option",10000,"Serv","Suscripcion","N/A","N/A","N/A","SAP-8008019-1","Forma de pago estandar a 30 dias",585,1,0,"USD"]
[{"$f":"D3231&F3231&E3231","v":"SAP ColombiaCloud Classic SAP SolutionsSAP-8008019-2"},{"$f":"E3231&F3231","v":"SAP-8008019-2Cloud Classic SAP Solutions"},null,"SAP Colombia","SAP-8008019-2","Cloud Classic SAP Solutions",{"$f":"D3231","v":"SAP Colombia"},"USD","N/A","SAP Logistics Business Network, freight collaboration option",10000,"Serv","Suscripcion","N/A","N/A","N/A","SAP-8008019-2","Forma de pago estandar a 30 dias",400,1,0,"USD"]
[{"$f":"D3232&F3232&E3232","v":"SAP ColombiaCloud Classic SAP SolutionsSAP-8008019-3"},{"$f":"E3232&F3232","v":"SAP-8008019-3Cloud Classic SAP Solutions"},null,"SAP Colombia","SAP-8008019-3","Cloud Classic SAP Solutions",{"$f":"D3232","v":"SAP Colombia"},"USD","N/A","SAP Logistics Business Network, freight collaboration option",10000,"Serv","Suscripcion","N/A","N/A","N/A","SAP-8008019-3","Forma de pago estandar a 30 dias",308,1,0,"USD"]
[{"$f":"D3233&F3233&E3233","v":"SAP ColombiaCloud Classic SAP SolutionsSAP-8008019-4"},{"$f":"E3233&F3233","v":"SAP-8008019-4Cloud Classic SAP Solutions"},null,"SAP Colombia","SAP-8008019-4","Cloud Classic SAP Solutions",{"$f":"D3233","v":"SAP Colombia"},"USD","N/A","SAP Logistics Business Network, freight collaboration option",10000,"Serv","Suscripcion","N/A","N/A","N/A","SAP-8008019-4","Forma de pago estandar a 30 dias",234,1,0,"USD"]
[{"$f":"D3234&F3234&E3234","v":"SAP ColombiaCloud Classic SAP SolutionsSAP-8008019-5"},{"$f":"E3234&F3234","v":"SAP-8008019-5Cloud Classic SAP Solutions"},null,"SAP Colombia","SAP-8008019-5","Cloud Classic SAP Solutions",{"$f":"D3234","v":"SAP Colombia"},"USD","N/A","SAP Logistics Business Network, freight collaboration option",10000,"Serv","Suscripcion","N/A","N/A","N/A","SAP-8008019-5","Forma de pago estandar a 30 dias",185,1,0,"USD"]
[{"$f":"D3235&F3235&E3235","v":"SAP ColombiaCloud Classic SAP SolutionsSAP-8008021-1"},{"$f":"E3235&F3235","v":"SAP-8008021-1Cloud Classic SAP Solutions"},null,"SAP Colombia","SAP-8008021-1","Cloud Classic SAP Solutions",{"$f":"D3235","v":"SAP Colombia"},"USD","N/A","SAP Logistics Business Network, material traceability owner option",10000,"Serv","Suscripcion","N/A","N/A","N/A","SAP-8008021-1","Forma de pago estandar a 30 dias",1008,1,0,"USD"]
[{"$f":"D3236&F3236&E3236","v":"SAP ColombiaCloud Classic SAP SolutionsSAP-8008021-2"},{"$f":"E3236&F3236","v":"SAP-8008021-2Cloud Classic SAP Solutions"},null,"SAP Colombia","SAP-8008021-2","Cloud Classic SAP Solutions",{"$f":"D3236","v":"SAP Colombia"},"USD","N/A","SAP Logistics Business Network, material traceability owner option",10000,"Serv","Suscripcion","N/A","N/A","N/A","SAP-8008021-2","Forma de pago estandar a 30 dias",672,1,0,"USD"]
[{"$f":"D3237&F3237&E3237","v":"SAP ColombiaCloud Classic SAP SolutionsSAP-8008021-3"},{"$f":"E3237&F3237","v":"SAP-8008021-3Cloud Classic SAP Solutions"},null,"SAP Colombia","SAP-8008021-3","Cloud Classic SAP Solutions",{"$f":"D3237","v":"SAP Colombia"},"USD","N/A","SAP Logistics Business Network, material traceability owner option",10000,"Serv","Suscripcion","N/A","N/A","N/A","SAP-8008021-3","Forma de pago estandar a 30 dias",504,1,0,"USD"]
[{"$f":"D3238&F3238&E3238","v":"SAP ColombiaCloud Classic SAP SolutionsSAP-8008022-1"},{"$f":"E3238&F3238","v":"SAP-8008022-1Cloud Classic SAP Solutions"},null,"SAP Colombia","SAP-8008022-1","Cloud Classic SAP Solutions",{"$f":"D3238","v":"SAP Colombia"},"USD","N/A","SAP Logistics Business Network, material traceability participant option",10000,"Serv","Suscripcion","N/A","N/A","N/A","SAP-8008022-1","Forma de pago estandar a 30 dias",392,1,0,"USD"]
[{"$f":"D3239&F3239&E3239","v":"SAP ColombiaCloud Classic SAP SolutionsSAP-8008022-2"},{"$f":"E3239&F3239","v":"SAP-8008022-2Cloud Classic SAP Solutions"},null,"SAP Colombia","SAP-8008022-2","Cloud Classic SAP Solutions",{"$f":"D3239","v":"SAP Colombia"},"USD","N/A","SAP Logistics Business Network, material traceability participant option",10000,"Serv","Suscripcion","N/A","N/A","N/A","SAP-8008022-2","Forma de pago estandar a 30 dias",336,1,0,"USD"]
[{"$f":"D3240&F3240&E3240","v":"SAP ColombiaCloud Classic SAP SolutionsSAP-8008022-3"},{"$f":"E3240&F3240","v":"SAP-8008022-3Cloud Classic SAP Solutions"},null,"SAP Colombia","SAP-8008022-3","Cloud Classic SAP Solutions",{"$f":"D3240","v":"SAP Colombia"},"USD","N/A","SAP Logistics Business Network, material traceability participant option",10000,"Serv","Suscripcion","N/A","N/A","N/A","SAP-8008022-3","Forma de pago estandar a 30 dias",280,1,0,"USD"]
[{"$f":"D3241&F3241&E3241","v":"SAP ColombiaCloud Classic SAP SolutionsSAP-8008109-1"},{"$f":"E3241&F3241","v":"SAP-8008109-1Cloud Classic SAP Solutions"},null,"SAP Colombia","SAP-8008109-1","Cloud Classic SAP Solutions",{"$f":"D3241","v":"SAP Colombia"},"USD","N/A","SAP Warehouse Insights",1,"Serv","Suscripcion","N/A","N/A","N/A","SAP-8008109-1","Forma de pago estandar a 30 dias",280,1,0,"USD"]
[{"$f":"D3242&F3242&E3242","v":"SAP ColombiaCloud Classic SAP SolutionsSAP-8008109-2"},{"$f":"E3242&F3242","v":"SAP-8008109-2Cloud Classic SAP Solutions"},null,"SAP Colombia","SAP-8008109-2","Cloud Classic SAP Solutions",{"$f":"D3242","v":"SAP Colombia"},"USD","N/A","SAP Warehouse Insights",1,"Serv","Suscripcion","N/A","N/A","N/A","SAP-8008109-2","Forma de pago estandar a 30 dias",246,1,0,"USD"]
[{"$f":"D3243&F3243&E3243","v":"SAP ColombiaCloud Classic SAP SolutionsSAP-8008109-3"},{"$f":"E3243&F3243","v":"SAP-8008109-3Cloud Classic SAP Solutions"},null,"SAP Colombia","SAP-8008109-3","Cloud Classic SAP Solutions",{"$f":"D3243","v":"SAP Colombia"},"USD","N/A","SAP Warehouse Insights",1,"Serv","Suscripcion","N/A","N/A","N/A","SAP-8008109-3","Forma de pago estandar a 30 dias",213,1,0,"USD"]
[{"$f":"D3244&F3244&E3244","v":"SAP ColombiaCloud Classic SAP SolutionsSAP-8008109-4"},{"$f":"E3244&F3244","v":"SAP-8008109-4Cloud Classic SAP Solutions"},null,"SAP Colombia","SAP-8008109-4","Cloud Classic SAP Solutions",{"$f":"D3244","v":"SAP Colombia"},"USD","N/A","SAP Warehouse Insights",1,"Serv","Suscripcion","N/A","N/A","N/A","SAP-8008109-4","Forma de pago estandar a 30 dias",202,1,0,"USD"]
[{"$f":"D3245&F3245&E3245","v":"SAP ColombiaCloud Classic SAP SolutionsSAP-8008110"},{"$f":"E3245&F3245","v":"SAP-8008110Cloud Classic SAP Solutions"},null,"SAP Colombia","SAP-8008110","Cloud Classic SAP Solutions",{"$f":"D3245","v":"SAP Colombia"},"USD","N/A","SAP Asset Intelligence Network, HANA service storage",16,"Serv","Suscripcion","N/A","N/A","N/A","SAP-8008110","Forma de pago estandar a 30 dias",560,1,0,"USD"]
[{"$f":"D3246&F3246&E3246","v":"SAP ColombiaCloud Classic SAP SolutionsSAP-8008229"},{"$f":"E3246&F3246","v":"SAP-8008229Cloud Classic SAP Solutions"},null,"SAP Colombia","SAP-8008229","Cloud Classic SAP Solutions",{"$f":"D3246","v":"SAP Colombia"},"USD","N/A","SAP Field Service Management, test tenant",1,"Serv","Suscripcion","N/A","N/A","N/A","SAP-8008229","Forma de pago estandar a 30 dias",1120,1,0,"USD"]
[{"$f":"D3247&F3247&E3247","v":"SAP ColombiaCloud Classic SAP SolutionsSAP-8008442"},{"$f":"E3247&F3247","v":"SAP-8008442Cloud Classic SAP Solutions"},null,"SAP Colombia","SAP-8008442","Cloud Classic SAP Solutions",{"$f":"D3247","v":"SAP Colombia"},"USD","N/A","SAP Asset Intelligence Network, premium membership",1,"Serv","Suscripcion","N/A","N/A","N/A","SAP-8008442","Forma de pago estandar a 30 dias",5600,1,0,"USD"]
[{"$f":"D3248&F3248&E3248","v":"SAP ColombiaCloud Classic SAP SolutionsSAP-8008443-1"},{"$f":"E3248&F3248","v":"SAP-8008443-1Cloud Classic SAP Solutions"},null,"SAP Colombia","SAP-8008443-1","Cloud Classic SAP Solutions",{"$f":"D3248","v":"SAP Colombia"},"USD","N/A","SAP Asset Intelligence Network",100,"Serv","Suscripcion","N/A","N/A","N/A","SAP-8008443-1","Forma de pago estandar a 30 dias",7.28,1,0,"USD"]
[{"$f":"D3249&F3249&E3249","v":"SAP ColombiaCloud Classic SAP SolutionsSAP-8008443-2"},{"$f":"E3249&F3249","v":"SAP-8008443-2Cloud Classic SAP Solutions"},null,"SAP Colombia","SAP-8008443-2","Cloud Classic SAP Solutions",{"$f":"D3249","v":"SAP Colombia"},"USD","N/A","SAP Asset Intelligence Network",100,"Serv","Suscripcion","N/A","N/A","N/A","SAP-8008443-2","Forma de pago estandar a 30 dias",5.6,1,0,"USD"]
[{"$f":"D3250&F3250&E3250","v":"SAP ColombiaCloud Classic SAP SolutionsSAP-8008443-3"},{"$f":"E3250&F3250","v":"SAP-8008443-3Cloud Classic SAP Solutions"},null,"SAP Colombia","SAP-8008443-3","Cloud Classic SAP Solutions",{"$f":"D3250","v":"SAP Colombia"},"USD","N/A","SAP Asset Intelligence Network",100,"Serv","Suscripcion","N/A","N/A","N/A","SAP-8008443-3","Forma de pago estandar a 30 dias",4.4800000000000004,1,0,"USD"]
[{"$f":"D3251&F3251&E3251","v":"SAP ColombiaCloud Classic SAP SolutionsSAP-8008443-4"},{"$f":"E3251&F3251","v":"SAP-8008443-4Cloud Classic SAP Solutions"},null,"SAP Colombia","SAP-8008443-4","Cloud Classic SAP Solutions",{"$f":"D3251","v":"SAP Colombia"},"USD","N/A","SAP Asset Intelligence Network",100,"Serv","Suscripcion","N/A","N/A","N/A","SAP-8008443-4","Forma de pago estandar a 30 dias",3.36,1,0,"USD"]
[{"$f":"D3252&F3252&E3252","v":"SAP ColombiaCloud Classic SAP SolutionsSAP-8008443-5"},{"$f":"E3252&F3252","v":"SAP-8008443-5Cloud Classic SAP Solutions"},null,"SAP Colombia","SAP-8008443-5","Cloud Classic SAP Solutions",{"$f":"D3252","v":"SAP Colombia"},"USD","N/A","SAP Asset Intelligence Network",100,"Serv","Suscripcion","N/A","N/A","N/A","SAP-8008443-5","Forma de pago estandar a 30 dias",2.8,1,0,"USD"]
[{"$f":"D3253&F3253&E3253","v":"SAP ColombiaCloud Classic SAP SolutionsSAP-8008443-6"},{"$f":"E3253&F3253","v":"SAP-8008443-6Cloud Classic SAP Solutions"},null,"SAP Colombia","SAP-8008443-6","Cloud Classic SAP Solutions",{"$f":"D3253","v":"SAP Colombia"},"USD","N/A","SAP Asset Intelligence Network",100,"Serv","Suscripcion","N/A","N/A","N/A","SAP-8008443-6","Forma de pago estandar a 30 dias",2.2400000000000002,1,0,"USD"]
[{"$f":"D3254&F3254&E3254","v":"SAP ColombiaCloud Classic SAP SolutionsSAP-8008444"},{"$f":"E3254&F3254","v":"SAP-8008444Cloud Classic SAP Solutions"},null,"SAP Colombia","SAP-8008444","Cloud Classic SAP Solutions",{"$f":"D3254","v":"SAP Colombia"},"USD","N/A","SAP Asset Intelligence Network, connection add-on",1,"Serv","Suscripcion","N/A","N/A","N/A","SAP-8008444","Forma de pago estandar a 30 dias",280,1,0,"USD"]
[{"$f":"D3255&F3255&E3255","v":"SAP ColombiaCloud Classic SAP SolutionsSAP-8008476"},{"$f":"E3255&F3255","v":"SAP-8008476Cloud Classic SAP Solutions"},null,"SAP Colombia","SAP-8008476","Cloud Classic SAP Solutions",{"$f":"D3255","v":"SAP Colombia"},"USD","N/A","SAP Enterprise Product Development",1,"Serv","Suscripcion","N/A","N/A","N/A","SAP-8008476","Forma de pago estandar a 30 dias",1.1200000000000001,1,0,"USD"]
[{"$f":"D3256&F3256&E3256","v":"SAP ColombiaCloud Classic SAP SolutionsSAP-8008874-1"},{"$f":"E3256&F3256","v":"SAP-8008874-1Cloud Classic SAP Solutions"},null,"SAP Colombia","SAP-8008874-1","Cloud Classic SAP Solutions",{"$f":"D3256","v":"SAP Colombia"},"USD","N/A","SAP Logistics Business network, global track and trace option",10000,"Serv","Suscripcion","N/A","N/A","N/A","SAP-8008874-1","Forma de pago estandar a 30 dias",552,1,0,"USD"]
[{"$f":"D3257&F3257&E3257","v":"SAP ColombiaCloud Classic SAP SolutionsSAP-8008874-2"},{"$f":"E3257&F3257","v":"SAP-8008874-2Cloud Classic SAP Solutions"},null,"SAP Colombia","SAP-8008874-2","Cloud Classic SAP Solutions",{"$f":"D3257","v":"SAP Colombia"},"USD","N/A","SAP Logistics Business network, global track and trace option",10000,"Serv","Suscripcion","N/A","N/A","N/A","SAP-8008874-2","Forma de pago estandar a 30 dias",377,1,0,"USD"]
[{"$f":"D3258&F3258&E3258","v":"SAP ColombiaCloud Classic SAP SolutionsSAP-8008874-3"},{"$f":"E3258&F3258","v":"SAP-8008874-3Cloud Classic SAP Solutions"},null,"SAP Colombia","SAP-8008874-3","Cloud Classic SAP Solutions",{"$f":"D3258","v":"SAP Colombia"},"USD","N/A","SAP Logistics Business network, global track and trace option",10000,"Serv","Suscripcion","N/A","N/A","N/A","SAP-8008874-3","Forma de pago estandar a 30 dias",290,1,0,"USD"]
[{"$f":"D3259&F3259&E3259","v":"SAP ColombiaCloud Classic SAP SolutionsSAP-8008874-4"},{"$f":"E3259&F3259","v":"SAP-8008874-4Cloud Classic SAP Solutions"},null,"SAP Colombia","SAP-8008874-4","Cloud Classic SAP Solutions",{"$f":"D3259","v":"SAP Colombia"},"USD","N/A","SAP Logistics Business network, global track and trace option",10000,"Serv","Suscripcion","N/A","N/A","N/A","SAP-8008874-4","Forma de pago estandar a 30 dias",221,1,0,"USD"]
[{"$f":"D3260&F3260&E3260","v":"SAP ColombiaCloud Classic SAP SolutionsSAP-8008874-5"},{"$f":"E3260&F3260","v":"SAP-8008874-5Cloud Classic SAP Solutions"},null,"SAP Colombia","SAP-8008874-5","Cloud Classic SAP Solutions",{"$f":"D3260","v":"SAP Colombia"},"USD","N/A","SAP Logistics Business network, global track and trace option",10000,"Serv","Suscripcion","N/A","N/A","N/A","SAP-8008874-5","Forma de pago estandar a 30 dias",174,1,0,"USD"]
[{"$f":"D3261&F3261&E3261","v":"SAP ColombiaCloud Classic SAP SolutionsSAP-8008875"},{"$f":"E3261&F3261","v":"SAP-8008875Cloud Classic SAP Solutions"},null,"SAP Colombia","SAP-8008875","Cloud Classic SAP Solutions",{"$f":"D3261","v":"SAP Colombia"},"USD","N/A","SAP Logistics Business network, test tenant",1,"Serv","Suscripcion","N/A","N/A","N/A","SAP-8008875","Forma de pago estandar a 30 dias",2016,1,0,"USD"]
[{"$f":"D3262&F3262&E3262","v":"SAP ColombiaCloud Classic SAP SolutionsSAP-8008938-1"},{"$f":"E3262&F3262","v":"SAP-8008938-1Cloud Classic SAP Solutions"},null,"SAP Colombia","SAP-8008938-1","Cloud Classic SAP Solutions",{"$f":"D3262","v":"SAP Colombia"},"USD","N/A","SAP Digital Manufacturing Cloud for execution",1,"Serv","Suscripcion","N/A","N/A","N/A","SAP-8008938-1","Forma de pago estandar a 30 dias",168,1,0,"USD"]
[{"$f":"D3263&F3263&E3263","v":"SAP ColombiaCloud Classic SAP SolutionsSAP-8008938-2"},{"$f":"E3263&F3263","v":"SAP-8008938-2Cloud Classic SAP Solutions"},null,"SAP Colombia","SAP-8008938-2","Cloud Classic SAP Solutions",{"$f":"D3263","v":"SAP Colombia"},"USD","N/A","SAP Digital Manufacturing Cloud for execution",1,"Serv","Suscripcion","N/A","N/A","N/A","SAP-8008938-2","Forma de pago estandar a 30 dias",67,1,0,"USD"]
[{"$f":"D3264&F3264&E3264","v":"SAP ColombiaCloud Classic SAP SolutionsSAP-8008938-3"},{"$f":"E3264&F3264","v":"SAP-8008938-3Cloud Classic SAP Solutions"},null,"SAP Colombia","SAP-8008938-3","Cloud Classic SAP Solutions",{"$f":"D3264","v":"SAP Colombia"},"USD","N/A","SAP Digital Manufacturing Cloud for execution",1,"Serv","Suscripcion","N/A","N/A","N/A","SAP-8008938-3","Forma de pago estandar a 30 dias",50,1,0,"USD"]
[{"$f":"D3265&F3265&E3265","v":"SAP ColombiaCloud Classic SAP SolutionsSAP-8008938-4"},{"$f":"E3265&F3265","v":"SAP-8008938-4Cloud Classic SAP Solutions"},null,"SAP Colombia","SAP-8008938-4","Cloud Classic SAP Solutions",{"$f":"D3265","v":"SAP Colombia"},"USD","N/A","SAP Digital Manufacturing Cloud for execution",1,"Serv","Suscripcion","N/A","N/A","N/A","SAP-8008938-4","Forma de pago estandar a 30 dias",28,1,0,"USD"]
[{"$f":"D3266&F3266&E3266","v":"SAP ColombiaCloud Classic SAP SolutionsSAP-8008938-5"},{"$f":"E3266&F3266","v":"SAP-8008938-5Cloud Classic SAP Solutions"},null,"SAP Colombia","SAP-8008938-5","Cloud Classic SAP Solutions",{"$f":"D3266","v":"SAP Colombia"},"USD","N/A","SAP Digital Manufacturing Cloud for execution",1,"Serv","Suscripcion","N/A","N/A","N/A","SAP-8008938-5","Forma de pago estandar a 30 dias",17,1,0,"USD"]
[{"$f":"D3267&F3267&E3267","v":"SAP ColombiaCloud Classic SAP SolutionsSAP-8008939-1"},{"$f":"E3267&F3267","v":"SAP-8008939-1Cloud Classic SAP Solutions"},null,"SAP Colombia","SAP-8008939-1","Cloud Classic SAP Solutions",{"$f":"D3267","v":"SAP Colombia"},"USD","N/A","SAP Digital Manufacturing Cloud for insights",1,"Serv","Suscripcion","N/A","N/A","N/A","SAP-8008939-1","Forma de pago estandar a 30 dias",140,1,0,"USD"]
[{"$f":"D3268&F3268&E3268","v":"SAP ColombiaCloud Classic SAP SolutionsSAP-8008939-2"},{"$f":"E3268&F3268","v":"SAP-8008939-2Cloud Classic SAP Solutions"},null,"SAP Colombia","SAP-8008939-2","Cloud Classic SAP Solutions",{"$f":"D3268","v":"SAP Colombia"},"USD","N/A","SAP Digital Manufacturing Cloud for insights",1,"Serv","Suscripcion","N/A","N/A","N/A","SAP-8008939-2","Forma de pago estandar a 30 dias",50,1,0,"USD"]
[{"$f":"D3269&F3269&E3269","v":"SAP ColombiaCloud Classic SAP SolutionsSAP-8008939-3"},{"$f":"E3269&F3269","v":"SAP-8008939-3Cloud Classic SAP Solutions"},null,"SAP Colombia","SAP-8008939-3","Cloud Classic SAP Solutions",{"$f":"D3269","v":"SAP Colombia"},"USD","N/A","SAP Digital Manufacturing Cloud for insights",1,"Serv","Suscripcion","N/A","N/A","N/A","SAP-8008939-3","Forma de pago estandar a 30 dias",30,1,0,"USD"]
[{"$f":"D3270&F3270&E3270","v":"SAP ColombiaCloud Classic SAP SolutionsSAP-8008939-4"},{"$f":"E3270&F3270","v":"SAP-8008939-4Cloud Classic SAP Solutions"},null,"SAP Colombia","SAP-8008939-4","Cloud Classic SAP Solutions",{"$f":"D3270","v":"SAP Colombia"},"USD","N/A","SAP Digital Manufacturing Cloud for insights",1,"Serv","Suscripcion","N/A","N/A","N/A","SAP-8008939-4","Forma de pago estandar a 30 dias",17,1,0,"USD"]
[{"$f":"D3271&F3271&E3271","v":"SAP ColombiaCloud Classic SAP SolutionsSAP-8008939-5"},{"$f":"E3271&F3271","v":"SAP-8008939-5Cloud Classic SAP Solutions"},null,"SAP Colombia","SAP-8008939-5","Cloud Classic SAP Solutions",{"$f":"D3271","v":"SAP Colombia"},"USD","N/A","SAP Digital Manufacturing Cloud for insights",1,"Serv","Suscripcion","N/A","N/A","N/A","SAP-8008939-5","Forma de pago estandar a 30 dias",12,1,0,"USD"]
[{"$f":"D3272&F3272&E3272","v":"SAP ColombiaCloud Classic SAP SolutionsSAP-8008940-1"},{"$f":"E3272&F3272","v":"SAP-8008940-1Cloud Classic SAP Solutions"},null,"SAP Colombia","SAP-8008940-1","Cloud Classic SAP Solutions",{"$f":"D3272","v":"SAP Colombia"},"USD","N/A","SAP Digital Manufacturing Cloud for resource orchestration",1,"Serv","Suscripcion","N/A","N/A","N/A","SAP-8008940-1","Forma de pago estandar a 30 dias",67,1,0,"USD"]
[{"$f":"D3273&F3273&E3273","v":"SAP ColombiaCloud Classic SAP SolutionsSAP-8008940-2"},{"$f":"E3273&F3273","v":"SAP-8008940-2Cloud Classic SAP Solutions"},null,"SAP Colombia","SAP-8008940-2","Cloud Classic SAP Solutions",{"$f":"D3273","v":"SAP Colombia"},"USD","N/A","SAP Digital Manufacturing Cloud for resource orchestration",1,"Serv","Suscripcion","N/A","N/A","N/A","SAP-8008940-2","Forma de pago estandar a 30 dias",39,1,0,"USD"]
[{"$f":"D3274&F3274&E3274","v":"SAP ColombiaCloud Classic SAP SolutionsSAP-8008940-3"},{"$f":"E3274&F3274","v":"SAP-8008940-3Cloud Classic SAP Solutions"},null,"SAP Colombia","SAP-8008940-3","Cloud Classic SAP Solutions",{"$f":"D3274","v":"SAP Colombia"},"USD","N/A","SAP Digital Manufacturing Cloud for resource orchestration",1,"Serv","Suscripcion","N/A","N/A","N/A","SAP-8008940-3","Forma de pago estandar a 30 dias",17,1,0,"USD"]
[{"$f":"D3275&F3275&E3275","v":"SAP ColombiaCloud Classic SAP SolutionsSAP-8008940-4"},{"$f":"E3275&F3275","v":"SAP-8008940-4Cloud Classic SAP Solutions"},null,"SAP Colombia","SAP-8008940-4","Cloud Classic SAP Solutions",{"$f":"D3275","v":"SAP Colombia"},"USD","N/A","SAP Digital Manufacturing Cloud for resource orchestration",1,"Serv","Suscripcion","N/A","N/A","N/A","SAP-8008940-4","Forma de pago estandar a 30 dias",8.9600000000000009,1,0,"USD"]
[{"$f":"D3276&F3276&E3276","v":"SAP ColombiaCloud Classic SAP SolutionsSAP-8008940-5"},{"$f":"E3276&F3276","v":"SAP-8008940-5Cloud Classic SAP Solutions"},null,"SAP Colombia","SAP-8008940-5","Cloud Classic SAP Solutions",{"$f":"D3276","v":"SAP Colombia"},"USD","N/A","SAP Digital Manufacturing Cloud for resource orchestration",1,"Serv","Suscripcion","N/A","N/A","N/A","SAP-8008940-5","Forma de pago estandar a 30 dias",6.72,1,0,"USD"]
[{"$f":"D3277&F3277&E3277","v":"SAP ColombiaCloud Classic SAP SolutionsSAP-8009303-1"},{"$f":"E3277&F3277","v":"SAP-8009303-1Cloud Classic SAP Solutions"},null,"SAP Colombia","SAP-8009303-1","Cloud Classic SAP Solutions",{"$f":"D3277","v":"SAP Colombia"},"USD","N/A","SAP Commodity Management for physical contracts for SAP ERP, private cloud edition",11199000,"Serv","Suscripcion","N/A","N/A","N/A","SAP-8009303-1","Forma de pago estandar a 30 dias",277,1,0,"USD"]
[{"$f":"D3278&F3278&E3278","v":"SAP ColombiaCloud Classic SAP SolutionsSAP-8009303-2"},{"$f":"E3278&F3278","v":"SAP-8009303-2Cloud Classic SAP Solutions"},null,"SAP Colombia","SAP-8009303-2","Cloud Classic SAP Solutions",{"$f":"D3278","v":"SAP Colombia"},"USD","N/A","SAP Commodity Management for physical contracts for SAP ERP, private cloud edition",11199000,"Serv","Suscripcion","N/A","N/A","N/A","SAP-8009303-2","Forma de pago estandar a 30 dias",225,1,0,"USD"]
[{"$f":"D3279&F3279&E3279","v":"SAP ColombiaCloud Classic SAP SolutionsSAP-8009303-3"},{"$f":"E3279&F3279","v":"SAP-8009303-3Cloud Classic SAP Solutions"},null,"SAP Colombia","SAP-8009303-3","Cloud Classic SAP Solutions",{"$f":"D3279","v":"SAP Colombia"},"USD","N/A","SAP Commodity Management for physical contracts for SAP ERP, private cloud edition",11199000,"Serv","Suscripcion","N/A","N/A","N/A","SAP-8009303-3","Forma de pago estandar a 30 dias",172,1,0,"USD"]
[{"$f":"D3280&F3280&E3280","v":"SAP ColombiaCloud Classic SAP SolutionsSAP-8010774-1"},{"$f":"E3280&F3280","v":"SAP-8010774-1Cloud Classic SAP Solutions"},null,"SAP Colombia","SAP-8010774-1","Cloud Classic SAP Solutions",{"$f":"D3280","v":"SAP Colombia"},"USD","N/A","SAP ERP for R&D for enterprise product formulation, private cloud edition",1,"Serv","Suscripcion","N/A","N/A","N/A","SAP-8010774-1","Forma de pago estandar a 30 dias",302,1,0,"USD"]
[{"$f":"D3281&F3281&E3281","v":"SAP ColombiaCloud Classic SAP SolutionsSAP-8010774-2"},{"$f":"E3281&F3281","v":"SAP-8010774-2Cloud Classic SAP Solutions"},null,"SAP Colombia","SAP-8010774-2","Cloud Classic SAP Solutions",{"$f":"D3281","v":"SAP Colombia"},"USD","N/A","SAP ERP for R&D for enterprise product formulation, private cloud edition",1,"Serv","Suscripcion","N/A","N/A","N/A","SAP-8010774-2","Forma de pago estandar a 30 dias",144,1,0,"USD"]
[{"$f":"D3282&F3282&E3282","v":"SAP ColombiaCloud Classic SAP SolutionsSAP-8010774-3"},{"$f":"E3282&F3282","v":"SAP-8010774-3Cloud Classic SAP Solutions"},null,"SAP Colombia","SAP-8010774-3","Cloud Classic SAP Solutions",{"$f":"D3282","v":"SAP Colombia"},"USD","N/A","SAP ERP for R&D for enterprise product formulation, private cloud edition",1,"Serv","Suscripcion","N/A","N/A","N/A","SAP-8010774-3","Forma de pago estandar a 30 dias",66,1,0,"USD"]
[{"$f":"D3283&F3283&E3283","v":"SAP ColombiaCloud Classic SAP SolutionsSAP-8010780-1"},{"$f":"E3283&F3283","v":"SAP-8010780-1Cloud Classic SAP Solutions"},null,"SAP Colombia","SAP-8010780-1","Cloud Classic SAP Solutions",{"$f":"D3283","v":"SAP Colombia"},"USD","N/A","SAP ERP for health and safety management, private cloud edition",100,"Serv","Suscripcion","N/A","N/A","N/A","SAP-8010780-1","Forma de pago estandar a 30 dias",250,1,0,"USD"]
[{"$f":"D3284&F3284&E3284","v":"SAP ColombiaCloud Classic SAP SolutionsSAP-8010780-2"},{"$f":"E3284&F3284","v":"SAP-8010780-2Cloud Classic SAP Solutions"},null,"SAP Colombia","SAP-8010780-2","Cloud Classic SAP Solutions",{"$f":"D3284","v":"SAP Colombia"},"USD","N/A","SAP ERP for health and safety management, private cloud edition",100,"Serv","Suscripcion","N/A","N/A","N/A","SAP-8010780-2","Forma de pago estandar a 30 dias",166,1,0,"USD"]
[{"$f":"D3285&F3285&E3285","v":"SAP ColombiaCloud Classic SAP SolutionsSAP-8010780-3"},{"$f":"E3285&F3285","v":"SAP-8010780-3Cloud Classic SAP Solutions"},null,"SAP Colombia","SAP-8010780-3","Cloud Classic SAP Solutions",{"$f":"D3285","v":"SAP Colombia"},"USD","N/A","SAP ERP for health and safety management, private cloud edition",100,"Serv","Suscripcion","N/A","N/A","N/A","SAP-8010780-3","Forma de pago estandar a 30 dias",127,1,0,"USD"]
[{"$f":"D3286&F3286&E3286","v":"SAP ColombiaCloud Classic SAP SolutionsSAP-8010782-1"},{"$f":"E3286&F3286","v":"SAP-8010782-1Cloud Classic SAP Solutions"},null,"SAP Colombia","SAP-8010782-1","Cloud Classic SAP Solutions",{"$f":"D3286","v":"SAP Colombia"},"USD","N/A","SAP ERP for R&D for enterprise product engineering, private cloud edition",1,"Serv","Suscripcion","N/A","N/A","N/A","SAP-8010782-1","Forma de pago estandar a 30 dias",373,1,0,"USD"]
[{"$f":"D3287&F3287&E3287","v":"SAP ColombiaCloud Classic SAP SolutionsSAP-8010782-2"},{"$f":"E3287&F3287","v":"SAP-8010782-2Cloud Classic SAP Solutions"},null,"SAP Colombia","SAP-8010782-2","Cloud Classic SAP Solutions",{"$f":"D3287","v":"SAP Colombia"},"USD","N/A","SAP ERP for R&D for enterprise product engineering, private cloud edition",1,"Serv","Suscripcion","N/A","N/A","N/A","SAP-8010782-2","Forma de pago estandar a 30 dias",179,1,0,"USD"]
[{"$f":"D3288&F3288&E3288","v":"SAP ColombiaCloud Classic SAP SolutionsSAP-8010782-3"},{"$f":"E3288&F3288","v":"SAP-8010782-3Cloud Classic SAP Solutions"},null,"SAP Colombia","SAP-8010782-3","Cloud Classic SAP Solutions",{"$f":"D3288","v":"SAP Colombia"},"USD","N/A","SAP ERP for R&D for enterprise product engineering, private cloud edition",1,"Serv","Suscripcion","N/A","N/A","N/A","SAP-8010782-3","Forma de pago estandar a 30 dias",82,1,0,"USD"]
[{"$f":"D3289&F3289&E3289","v":"SAP ColombiaCloud Classic SAP SolutionsSAP-8010789-1"},{"$f":"E3289&F3289","v":"SAP-8010789-1Cloud Classic SAP Solutions"},null,"SAP Colombia","SAP-8010789-1","Cloud Classic SAP Solutions",{"$f":"D3289","v":"SAP Colombia"},"USD","N/A","SAP ERP Enterprise Portfolio and Project Management, private cloud edition, standard",1,"Serv","Suscripcion","N/A","N/A","N/A","SAP-8010789-1","Forma de pago estandar a 30 dias",40,1,0,"USD"]
[{"$f":"D3290&F3290&E3290","v":"SAP ColombiaCloud Classic SAP SolutionsSAP-8010789-2"},{"$f":"E3290&F3290","v":"SAP-8010789-2Cloud Classic SAP Solutions"},null,"SAP Colombia","SAP-8010789-2","Cloud Classic SAP Solutions",{"$f":"D3290","v":"SAP Colombia"},"USD","N/A","SAP ERP Enterprise Portfolio and Project Management, private cloud edition, standard",1,"Serv","Suscripcion","N/A","N/A","N/A","SAP-8010789-2","Forma de pago estandar a 30 dias",26,1,0,"USD"]
[{"$f":"D3291&F3291&E3291","v":"SAP ColombiaCloud Classic SAP SolutionsSAP-8010789-3"},{"$f":"E3291&F3291","v":"SAP-8010789-3Cloud Classic SAP Solutions"},null,"SAP Colombia","SAP-8010789-3","Cloud Classic SAP Solutions",{"$f":"D3291","v":"SAP Colombia"},"USD","N/A","SAP ERP Enterprise Portfolio and Project Management, private cloud edition, standard",1,"Serv","Suscripcion","N/A","N/A","N/A","SAP-8010789-3","Forma de pago estandar a 30 dias",21,1,0,"USD"]
[{"$f":"D3292&F3292&E3292","v":"SAP ColombiaCloud Classic SAP SolutionsSAP-8010794-1"},{"$f":"E3292&F3292","v":"SAP-8010794-1Cloud Classic SAP Solutions"},null,"SAP Colombia","SAP-8010794-1","Cloud Classic SAP Solutions",{"$f":"D3292","v":"SAP Colombia"},"USD","N/A","SAP ERP for Transportation Management for T&L, extra stack, private cloud edition",2799750,"Serv","Suscripcion","N/A","N/A","N/A","SAP-8010794-1","Forma de pago estandar a 30 dias",1719,1,0,"USD"]
[{"$f":"D3293&F3293&E3293","v":"SAP ColombiaCloud Classic SAP SolutionsSAP-8010794-2"},{"$f":"E3293&F3293","v":"SAP-8010794-2Cloud Classic SAP Solutions"},null,"SAP Colombia","SAP-8010794-2","Cloud Classic SAP Solutions",{"$f":"D3293","v":"SAP Colombia"},"USD","N/A","SAP ERP for Transportation Management for T&L, extra stack, private cloud edition",2799750,"Serv","Suscripcion","N/A","N/A","N/A","SAP-8010794-2","Forma de pago estandar a 30 dias",913,1,0,"USD"]
[{"$f":"D3294&F3294&E3294","v":"SAP ColombiaCloud Classic SAP SolutionsSAP-8010794-3"},{"$f":"E3294&F3294","v":"SAP-8010794-3Cloud Classic SAP Solutions"},null,"SAP Colombia","SAP-8010794-3","Cloud Classic SAP Solutions",{"$f":"D3294","v":"SAP Colombia"},"USD","N/A","SAP ERP for Transportation Management for T&L, extra stack, private cloud edition",2799750,"Serv","Suscripcion","N/A","N/A","N/A","SAP-8010794-3","Forma de pago estandar a 30 dias",692,1,0,"USD"]
[{"$f":"D3295&F3295&E3295","v":"SAP ColombiaCloud Classic SAP SolutionsSAP-8010794-4"},{"$f":"E3295&F3295","v":"SAP-8010794-4Cloud Classic SAP Solutions"},null,"SAP Colombia","SAP-8010794-4","Cloud Classic SAP Solutions",{"$f":"D3295","v":"SAP Colombia"},"USD","N/A","SAP ERP for Transportation Management for T&L, extra stack, private cloud edition",2799750,"Serv","Suscripcion","N/A","N/A","N/A","SAP-8010794-4","Forma de pago estandar a 30 dias",641,1,0,"USD"]
[{"$f":"D3296&F3296&E3296","v":"SAP ColombiaCloud Classic SAP SolutionsSAP-8010797-1"},{"$f":"E3296&F3296","v":"SAP-8010797-1Cloud Classic SAP Solutions"},null,"SAP Colombia","SAP-8010797-1","Cloud Classic SAP Solutions",{"$f":"D3296","v":"SAP Colombia"},"USD","N/A","SAP Engineering Control Center for ERP, private cloud edition, professional edition",1,"Serv","Suscripcion","N/A","N/A","N/A","SAP-8010797-1","Forma de pago estandar a 30 dias",507,1,0,"USD"]
[{"$f":"D3297&F3297&E3297","v":"SAP ColombiaCloud Classic SAP SolutionsSAP-8010797-2"},{"$f":"E3297&F3297","v":"SAP-8010797-2Cloud Classic SAP Solutions"},null,"SAP Colombia","SAP-8010797-2","Cloud Classic SAP Solutions",{"$f":"D3297","v":"SAP Colombia"},"USD","N/A","SAP Engineering Control Center for ERP, private cloud edition, professional edition",1,"Serv","Suscripcion","N/A","N/A","N/A","SAP-8010797-2","Forma de pago estandar a 30 dias",395,1,0,"USD"]
[{"$f":"D3298&F3298&E3298","v":"SAP ColombiaCloud Classic SAP SolutionsSAP-8010797-3"},{"$f":"E3298&F3298","v":"SAP-8010797-3Cloud Classic SAP Solutions"},null,"SAP Colombia","SAP-8010797-3","Cloud Classic SAP Solutions",{"$f":"D3298","v":"SAP Colombia"},"USD","N/A","SAP Engineering Control Center for ERP, private cloud edition, professional edition",1,"Serv","Suscripcion","N/A","N/A","N/A","SAP-8010797-3","Forma de pago estandar a 30 dias",224,1,0,"USD"]
[{"$f":"D3299&F3299&E3299","v":"SAP ColombiaCloud Classic SAP SolutionsSAP-8010798-1"},{"$f":"E3299&F3299","v":"SAP-8010798-1Cloud Classic SAP Solutions"},null,"SAP Colombia","SAP-8010798-1","Cloud Classic SAP Solutions",{"$f":"D3299","v":"SAP Colombia"},"USD","N/A","SAP ERP for geographical enablement framework and geo framework for asset management, private cloud edition",1,"Serv","Suscripcion","N/A","N/A","N/A","SAP-8010798-1","Forma de pago estandar a 30 dias",295,1,0,"USD"]
[{"$f":"D3300&F3300&E3300","v":"SAP ColombiaCloud Classic SAP SolutionsSAP-8010798-2"},{"$f":"E3300&F3300","v":"SAP-8010798-2Cloud Classic SAP Solutions"},null,"SAP Colombia","SAP-8010798-2","Cloud Classic SAP Solutions",{"$f":"D3300","v":"SAP Colombia"},"USD","N/A","SAP ERP for geographical enablement framework and geo framework for asset management, private cloud edition",1,"Serv","Suscripcion","N/A","N/A","N/A","SAP-8010798-2","Forma de pago estandar a 30 dias",85,1,0,"USD"]
[{"$f":"D3301&F3301&E3301","v":"SAP ColombiaCloud Classic SAP SolutionsSAP-8010798-3"},{"$f":"E3301&F3301","v":"SAP-8010798-3Cloud Classic SAP Solutions"},null,"SAP Colombia","SAP-8010798-3","Cloud Classic SAP Solutions",{"$f":"D3301","v":"SAP Colombia"},"USD","N/A","SAP ERP for geographical enablement framework and geo framework for asset management, private cloud edition",1,"Serv","Suscripcion","N/A","N/A","N/A","SAP-8010798-3","Forma de pago estandar a 30 dias",58,1,0,"USD"]
[{"$f":"D3302&F3302&E3302","v":"SAP ColombiaCloud Classic SAP SolutionsSAP-8010799-1"},{"$f":"E3302&F3302","v":"SAP-8010799-1Cloud Classic SAP Solutions"},null,"SAP Colombia","SAP-8010799-1","Cloud Classic SAP Solutions",{"$f":"D3302","v":"SAP Colombia"},"USD","N/A","SAP ERP Transportation Management for T&L, private cloud edition",2799750,"Serv","Suscripcion","N/A","N/A","N/A","SAP-8010799-1","Forma de pago estandar a 30 dias",288,1,0,"USD"]
[{"$f":"D3303&F3303&E3303","v":"SAP ColombiaCloud Classic SAP SolutionsSAP-8010799-2"},{"$f":"E3303&F3303","v":"SAP-8010799-2Cloud Classic SAP Solutions"},null,"SAP Colombia","SAP-8010799-2","Cloud Classic SAP Solutions",{"$f":"D3303","v":"SAP Colombia"},"USD","N/A","SAP ERP Transportation Management for T&L, private cloud edition",2799750,"Serv","Suscripcion","N/A","N/A","N/A","SAP-8010799-2","Forma de pago estandar a 30 dias",202,1,0,"USD"]
[{"$f":"D3304&F3304&E3304","v":"SAP ColombiaCloud Classic SAP SolutionsSAP-8010799-3"},{"$f":"E3304&F3304","v":"SAP-8010799-3Cloud Classic SAP Solutions"},null,"SAP Colombia","SAP-8010799-3","Cloud Classic SAP Solutions",{"$f":"D3304","v":"SAP Colombia"},"USD","N/A","SAP ERP Transportation Management for T&L, private cloud edition",2799750,"Serv","Suscripcion","N/A","N/A","N/A","SAP-8010799-3","Forma de pago estandar a 30 dias",175,1,0,"USD"]
[{"$f":"D3305&F3305&E3305","v":"SAP ColombiaCloud Classic SAP SolutionsSAP-8010799-4"},{"$f":"E3305&F3305","v":"SAP-8010799-4Cloud Classic SAP Solutions"},null,"SAP Colombia","SAP-8010799-4","Cloud Classic SAP Solutions",{"$f":"D3305","v":"SAP Colombia"},"USD","N/A","SAP ERP Transportation Management for T&L, private cloud edition",2799750,"Serv","Suscripcion","N/A","N/A","N/A","SAP-8010799-4","Forma de pago estandar a 30 dias",162,1,0,"USD"]
[{"$f":"D3306&F3306&E3306","v":"SAP ColombiaCloud Classic SAP SolutionsSAP-8010806-1"},{"$f":"E3306&F3306","v":"SAP-8010806-1Cloud Classic SAP Solutions"},null,"SAP Colombia","SAP-8010806-1","Cloud Classic SAP Solutions",{"$f":"D3306","v":"SAP Colombia"},"USD","N/A","SAP ERP for management of change, private cloud edition",100,"Serv","Suscripcion","N/A","N/A","N/A","SAP-8010806-1","Forma de pago estandar a 30 dias",377,1,0,"USD"]
[{"$f":"D3307&F3307&E3307","v":"SAP ColombiaCloud Classic SAP SolutionsSAP-8010806-2"},{"$f":"E3307&F3307","v":"SAP-8010806-2Cloud Classic SAP Solutions"},null,"SAP Colombia","SAP-8010806-2","Cloud Classic SAP Solutions",{"$f":"D3307","v":"SAP Colombia"},"USD","N/A","SAP ERP for management of change, private cloud edition",100,"Serv","Suscripcion","N/A","N/A","N/A","SAP-8010806-2","Forma de pago estandar a 30 dias",275,1,0,"USD"]
[{"$f":"D3308&F3308&E3308","v":"SAP ColombiaCloud Classic SAP SolutionsSAP-8010806-3"},{"$f":"E3308&F3308","v":"SAP-8010806-3Cloud Classic SAP Solutions"},null,"SAP Colombia","SAP-8010806-3","Cloud Classic SAP Solutions",{"$f":"D3308","v":"SAP Colombia"},"USD","N/A","SAP ERP for management of change, private cloud edition",100,"Serv","Suscripcion","N/A","N/A","N/A","SAP-8010806-3","Forma de pago estandar a 30 dias",139,1,0,"USD"]
[{"$f":"D3309&F3309&E3309","v":"SAP ColombiaCloud Classic SAP SolutionsSAP-8010809-1"},{"$f":"E3309&F3309","v":"SAP-8010809-1Cloud Classic SAP Solutions"},null,"SAP Colombia","SAP-8010809-1","Cloud Classic SAP Solutions",{"$f":"D3309","v":"SAP Colombia"},"USD","N/A","SAP Work Clearance Management for SAP ERP, private cloud edition",80000,"Serv","Suscripcion","N/A","N/A","N/A","SAP-8010809-1","Forma de pago estandar a 30 dias",3522,1,0,"USD"]
[{"$f":"D3310&F3310&E3310","v":"SAP ColombiaCloud Classic SAP SolutionsSAP-8010809-2"},{"$f":"E3310&F3310","v":"SAP-8010809-2Cloud Classic SAP Solutions"},null,"SAP Colombia","SAP-8010809-2","Cloud Classic SAP Solutions",{"$f":"D3310","v":"SAP Colombia"},"USD","N/A","SAP Work Clearance Management for SAP ERP, private cloud edition",80000,"Serv","Suscripcion","N/A","N/A","N/A","SAP-8010809-2","Forma de pago estandar a 30 dias",1696,1,0,"USD"]
[{"$f":"D3311&F3311&E3311","v":"SAP ColombiaCloud Classic SAP SolutionsSAP-8010809-3"},{"$f":"E3311&F3311","v":"SAP-8010809-3Cloud Classic SAP Solutions"},null,"SAP Colombia","SAP-8010809-3","Cloud Classic SAP Solutions",{"$f":"D3311","v":"SAP Colombia"},"USD","N/A","SAP Work Clearance Management for SAP ERP, private cloud edition",80000,"Serv","Suscripcion","N/A","N/A","N/A","SAP-8010809-3","Forma de pago estandar a 30 dias",838,1,0,"USD"]
[{"$f":"D3312&F3312&E3312","v":"SAP ColombiaCloud Classic SAP SolutionsSAP-8010809-4"},{"$f":"E3312&F3312","v":"SAP-8010809-4Cloud Classic SAP Solutions"},null,"SAP Colombia","SAP-8010809-4","Cloud Classic SAP Solutions",{"$f":"D3312","v":"SAP Colombia"},"USD","N/A","SAP Work Clearance Management for SAP ERP, private cloud edition",80000,"Serv","Suscripcion","N/A","N/A","N/A","SAP-8010809-4","Forma de pago estandar a 30 dias",824,1,0,"USD"]
[{"$f":"D3313&F3313&E3313","v":"SAP ColombiaCloud Classic SAP SolutionsSAP-8010809-5"},{"$f":"E3313&F3313","v":"SAP-8010809-5Cloud Classic SAP Solutions"},null,"SAP Colombia","SAP-8010809-5","Cloud Classic SAP Solutions",{"$f":"D3313","v":"SAP Colombia"},"USD","N/A","SAP Work Clearance Management for SAP ERP, private cloud edition",80000,"Serv","Suscripcion","N/A","N/A","N/A","SAP-8010809-5","Forma de pago estandar a 30 dias",718,1,0,"USD"]
[{"$f":"D3314&F3314&E3314","v":"SAP ColombiaCloud Classic SAP SolutionsSAP-8010810-1"},{"$f":"E3314&F3314","v":"SAP-8010810-1Cloud Classic SAP Solutions"},null,"SAP Colombia","SAP-8010810-1","Cloud Classic SAP Solutions",{"$f":"D3314","v":"SAP Colombia"},"USD","N/A","SAP ERP for extended warehouse management, extra stack, private cloud edition",5000,"Serv","Suscripcion","N/A","N/A","N/A","SAP-8010810-1","Forma de pago estandar a 30 dias",24563,1,0,"USD"]
[{"$f":"D3315&F3315&E3315","v":"SAP ColombiaCloud Classic SAP SolutionsSAP-8010810-2"},{"$f":"E3315&F3315","v":"SAP-8010810-2Cloud Classic SAP Solutions"},null,"SAP Colombia","SAP-8010810-2","Cloud Classic SAP Solutions",{"$f":"D3315","v":"SAP Colombia"},"USD","N/A","SAP ERP for extended warehouse management, extra stack, private cloud edition",5000,"Serv","Suscripcion","N/A","N/A","N/A","SAP-8010810-2","Forma de pago estandar a 30 dias",9032,1,0,"USD"]
[{"$f":"D3316&F3316&E3316","v":"SAP ColombiaCloud Classic SAP SolutionsSAP-8010810-3"},{"$f":"E3316&F3316","v":"SAP-8010810-3Cloud Classic SAP Solutions"},null,"SAP Colombia","SAP-8010810-3","Cloud Classic SAP Solutions",{"$f":"D3316","v":"SAP Colombia"},"USD","N/A","SAP ERP for extended warehouse management, extra stack, private cloud edition",5000,"Serv","Suscripcion","N/A","N/A","N/A","SAP-8010810-3","Forma de pago estandar a 30 dias",4194,1,0,"USD"]
[{"$f":"D3317&F3317&E3317","v":"SAP ColombiaCloud Classic SAP SolutionsSAP-8010810-4"},{"$f":"E3317&F3317","v":"SAP-8010810-4Cloud Classic SAP Solutions"},null,"SAP Colombia","SAP-8010810-4","Cloud Classic SAP Solutions",{"$f":"D3317","v":"SAP Colombia"},"USD","N/A","SAP ERP for extended warehouse management, extra stack, private cloud edition",5000,"Serv","Suscripcion","N/A","N/A","N/A","SAP-8010810-4","Forma de pago estandar a 30 dias",3076,1,0,"USD"]
[{"$f":"D3318&F3318&E3318","v":"SAP ColombiaCloud Classic SAP SolutionsSAP-8010810-5"},{"$f":"E3318&F3318","v":"SAP-8010810-5Cloud Classic SAP Solutions"},null,"SAP Colombia","SAP-8010810-5","Cloud Classic SAP Solutions",{"$f":"D3318","v":"SAP Colombia"},"USD","N/A","SAP ERP for extended warehouse management, extra stack, private cloud edition",5000,"Serv","Suscripcion","N/A","N/A","N/A","SAP-8010810-5","Forma de pago estandar a 30 dias",2393,1,0,"USD"]
[{"$f":"D3319&F3319&E3319","v":"SAP ColombiaCloud Classic SAP SolutionsSAP-8010927-1"},{"$f":"E3319&F3319","v":"SAP-8010927-1Cloud Classic SAP Solutions"},null,"SAP Colombia","SAP-8010927-1","Cloud Classic SAP Solutions",{"$f":"D3319","v":"SAP Colombia"},"USD","N/A","SAP Manufacturing Execution Cloud, private edition",1,"Serv","Suscripcion","N/A","N/A","N/A","SAP-8010927-1","Forma de pago estandar a 30 dias",326,1,0,"USD"]
[{"$f":"D3320&F3320&E3320","v":"SAP ColombiaCloud Classic SAP SolutionsSAP-8010927-2"},{"$f":"E3320&F3320","v":"SAP-8010927-2Cloud Classic SAP Solutions"},null,"SAP Colombia","SAP-8010927-2","Cloud Classic SAP Solutions",{"$f":"D3320","v":"SAP Colombia"},"USD","N/A","SAP Manufacturing Execution Cloud, private edition",1,"Serv","Suscripcion","N/A","N/A","N/A","SAP-8010927-2","Forma de pago estandar a 30 dias",109,1,0,"USD"]
[{"$f":"D3321&F3321&E3321","v":"SAP ColombiaCloud Classic SAP SolutionsSAP-8010927-3"},{"$f":"E3321&F3321","v":"SAP-8010927-3Cloud Classic SAP Solutions"},null,"SAP Colombia","SAP-8010927-3","Cloud Classic SAP Solutions",{"$f":"D3321","v":"SAP Colombia"},"USD","N/A","SAP Manufacturing Execution Cloud, private edition",1,"Serv","Suscripcion","N/A","N/A","N/A","SAP-8010927-3","Forma de pago estandar a 30 dias",46,1,0,"USD"]
[{"$f":"D3322&F3322&E3322","v":"SAP ColombiaCloud Classic SAP SolutionsSAP-8010927-4"},{"$f":"E3322&F3322","v":"SAP-8010927-4Cloud Classic SAP Solutions"},null,"SAP Colombia","SAP-8010927-4","Cloud Classic SAP Solutions",{"$f":"D3322","v":"SAP Colombia"},"USD","N/A","SAP Manufacturing Execution Cloud, private edition",1,"Serv","Suscripcion","N/A","N/A","N/A","SAP-8010927-4","Forma de pago estandar a 30 dias",25,1,0,"USD"]
[{"$f":"D3323&F3323&E3323","v":"SAP ColombiaCloud Classic SAP SolutionsSAP-8010927-5"},{"$f":"E3323&F3323","v":"SAP-8010927-5Cloud Classic SAP Solutions"},null,"SAP Colombia","SAP-8010927-5","Cloud Classic SAP Solutions",{"$f":"D3323","v":"SAP Colombia"},"USD","N/A","SAP Manufacturing Execution Cloud, private edition",1,"Serv","Suscripcion","N/A","N/A","N/A","SAP-8010927-5","Forma de pago estandar a 30 dias",18,1,0,"USD"]
[{"$f":"D3324&F3324&E3324","v":"SAP ColombiaCloud Classic SAP SolutionsSAP-8010956-1"},{"$f":"E3324&F3324","v":"SAP-8010956-1Cloud Classic SAP Solutions"},null,"SAP Colombia","SAP-8010956-1","Cloud Classic SAP Solutions",{"$f":"D3324","v":"SAP Colombia"},"USD","N/A","SAP Information Collaboration Hub for Life Science, option for regulatory collaboration",1,"Serv","Suscripcion","N/A","N/A","N/A","SAP-8010956-1","Forma de pago estandar a 30 dias",112,1,0,"USD"]
[{"$f":"D3325&F3325&E3325","v":"SAP ColombiaCloud Classic SAP SolutionsSAP-8010956-2"},{"$f":"E3325&F3325","v":"SAP-8010956-2Cloud Classic SAP Solutions"},null,"SAP Colombia","SAP-8010956-2","Cloud Classic SAP Solutions",{"$f":"D3325","v":"SAP Colombia"},"USD","N/A","SAP Information Collaboration Hub for Life Science, option for regulatory collaboration",1,"Serv","Suscripcion","N/A","N/A","N/A","SAP-8010956-2","Forma de pago estandar a 30 dias",84,1,0,"USD"]
[{"$f":"D3326&F3326&E3326","v":"SAP ColombiaCloud Classic SAP SolutionsSAP-8010956-3"},{"$f":"E3326&F3326","v":"SAP-8010956-3Cloud Classic SAP Solutions"},null,"SAP Colombia","SAP-8010956-3","Cloud Classic SAP Solutions",{"$f":"D3326","v":"SAP Colombia"},"USD","N/A","SAP Information Collaboration Hub for Life Science, option for regulatory collaboration",1,"Serv","Suscripcion","N/A","N/A","N/A","SAP-8010956-3","Forma de pago estandar a 30 dias",67,1,0,"USD"]
[{"$f":"D3327&F3327&E3327","v":"SAP ColombiaCloud Classic SAP SolutionsSAP-8010956-4"},{"$f":"E3327&F3327","v":"SAP-8010956-4Cloud Classic SAP Solutions"},null,"SAP Colombia","SAP-8010956-4","Cloud Classic SAP Solutions",{"$f":"D3327","v":"SAP Colombia"},"USD","N/A","SAP Information Collaboration Hub for Life Science, option for regulatory collaboration",1,"Serv","Suscripcion","N/A","N/A","N/A","SAP-8010956-4","Forma de pago estandar a 30 dias",50,1,0,"USD"]
[{"$f":"D3328&F3328&E3328","v":"SAP ColombiaCloud Classic SAP SolutionsSAP-8010956-5"},{"$f":"E3328&F3328","v":"SAP-8010956-5Cloud Classic SAP Solutions"},null,"SAP Colombia","SAP-8010956-5","Cloud Classic SAP Solutions",{"$f":"D3328","v":"SAP Colombia"},"USD","N/A","SAP Information Collaboration Hub for Life Science, option for regulatory collaboration",1,"Serv","Suscripcion","N/A","N/A","N/A","SAP-8010956-5","Forma de pago estandar a 30 dias",37,1,0,"USD"]
[{"$f":"D3329&F3329&E3329","v":"SAP ColombiaCloud Classic SAP SolutionsSAP-8010958"},{"$f":"E3329&F3329","v":"SAP-8010958Cloud Classic SAP Solutions"},null,"SAP Colombia","SAP-8010958","Cloud Classic SAP Solutions",{"$f":"D3329","v":"SAP Colombia"},"USD","N/A","SAP Asset Intelligence Network, test tenant",1,"Serv","Suscripcion","N/A","N/A","N/A","SAP-8010958","Forma de pago estandar a 30 dias",1120,1,0,"USD"]
[{"$f":"D3330&F3330&E3330","v":"SAP ColombiaCloud Classic SAP SolutionsSAP-8011021"},{"$f":"E3330&F3330","v":"SAP-8011021Cloud Classic SAP Solutions"},null,"SAP Colombia","SAP-8011021","Cloud Classic SAP Solutions",{"$f":"D3330","v":"SAP Colombia"},"USD","N/A","SAP Digital Manufacturing Cloud for edge",1,"Serv","Suscripcion","N/A","N/A","N/A","SAP-8011021","Forma de pago estandar a 30 dias",784,1,0,"USD"]
[{"$f":"D3331&F3331&E3331","v":"SAP ColombiaCloud Classic SAP SolutionsSAP-8011022"},{"$f":"E3331&F3331","v":"SAP-8011022Cloud Classic SAP Solutions"},null,"SAP Colombia","SAP-8011022","Cloud Classic SAP Solutions",{"$f":"D3331","v":"SAP Colombia"},"USD","N/A","SAP Digital Manufacturing Cloud, test tenant",1,"Serv","Suscripcion","N/A","N/A","N/A","SAP-8011022","Forma de pago estandar a 30 dias",4200,1,0,"USD"]
[{"$f":"D3332&F3332&E3332","v":"SAP ColombiaCloud Classic SAP SolutionsSAP-8011023"},{"$f":"E3332&F3332","v":"SAP-8011023Cloud Classic SAP Solutions"},null,"SAP Colombia","SAP-8011023","Cloud Classic SAP Solutions",{"$f":"D3332","v":"SAP Colombia"},"USD","N/A","SAP Digital Manufacturing Cloud, test tenant add-on HANA Service storage",64,"Serv","Suscripcion","N/A","N/A","N/A","SAP-8011023","Forma de pago estandar a 30 dias",1260,1,0,"USD"]
[{"$f":"D3333&F3333&E3333","v":"SAP ColombiaCloud Classic SAP SolutionsSAP-8011047-1"},{"$f":"E3333&F3333","v":"SAP-8011047-1Cloud Classic SAP Solutions"},null,"SAP Colombia","SAP-8011047-1","Cloud Classic SAP Solutions",{"$f":"D3333","v":"SAP Colombia"},"USD","N/A","SAP Logistics Business Network, intelligent insights option",10000,"Serv","Suscripcion","N/A","N/A","N/A","SAP-8011047-1","Forma de pago estandar a 30 dias",241,1,0,"USD"]
[{"$f":"D3334&F3334&E3334","v":"SAP ColombiaCloud Classic SAP SolutionsSAP-8011047-2"},{"$f":"E3334&F3334","v":"SAP-8011047-2Cloud Classic SAP Solutions"},null,"SAP Colombia","SAP-8011047-2","Cloud Classic SAP Solutions",{"$f":"D3334","v":"SAP Colombia"},"USD","N/A","SAP Logistics Business Network, intelligent insights option",10000,"Serv","Suscripcion","N/A","N/A","N/A","SAP-8011047-2","Forma de pago estandar a 30 dias",196,1,0,"USD"]
[{"$f":"D3335&F3335&E3335","v":"SAP ColombiaCloud Classic SAP SolutionsSAP-8011047-3"},{"$f":"E3335&F3335","v":"SAP-8011047-3Cloud Classic SAP Solutions"},null,"SAP Colombia","SAP-8011047-3","Cloud Classic SAP Solutions",{"$f":"D3335","v":"SAP Colombia"},"USD","N/A","SAP Logistics Business Network, intelligent insights option",10000,"Serv","Suscripcion","N/A","N/A","N/A","SAP-8011047-3","Forma de pago estandar a 30 dias",162,1,0,"USD"]
[{"$f":"D3336&F3336&E3336","v":"SAP ColombiaCloud Classic SAP SolutionsSAP-8011047-4"},{"$f":"E3336&F3336","v":"SAP-8011047-4Cloud Classic SAP Solutions"},null,"SAP Colombia","SAP-8011047-4","Cloud Classic SAP Solutions",{"$f":"D3336","v":"SAP Colombia"},"USD","N/A","SAP Logistics Business Network, intelligent insights option",10000,"Serv","Suscripcion","N/A","N/A","N/A","SAP-8011047-4","Forma de pago estandar a 30 dias",140,1,0,"USD"]
[{"$f":"D3337&F3337&E3337","v":"SAP ColombiaCloud Classic SAP SolutionsSAP-8011047-5"},{"$f":"E3337&F3337","v":"SAP-8011047-5Cloud Classic SAP Solutions"},null,"SAP Colombia","SAP-8011047-5","Cloud Classic SAP Solutions",{"$f":"D3337","v":"SAP Colombia"},"USD","N/A","SAP Logistics Business Network, intelligent insights option",10000,"Serv","Suscripcion","N/A","N/A","N/A","SAP-8011047-5","Forma de pago estandar a 30 dias",123,1,0,"USD"]
[{"$f":"D3338&F3338&E3338","v":"SAP ColombiaCloud Classic SAP SolutionsSAP-8011128-1"},{"$f":"E3338&F3338","v":"SAP-8011128-1Cloud Classic SAP Solutions"},null,"SAP Colombia","SAP-8011128-1","Cloud Classic SAP Solutions",{"$f":"D3338","v":"SAP Colombia"},"USD","N/A","SAP Multiresource Scheduling for SAP ERP, private cloud edition",1,"Serv","Suscripcion","N/A","N/A","N/A","SAP-8011128-1","Forma de pago estandar a 30 dias",67,1,0,"USD"]
[{"$f":"D3339&F3339&E3339","v":"SAP ColombiaCloud Classic SAP SolutionsSAP-8011128-2"},{"$f":"E3339&F3339","v":"SAP-8011128-2Cloud Classic SAP Solutions"},null,"SAP Colombia","SAP-8011128-2","Cloud Classic SAP Solutions",{"$f":"D3339","v":"SAP Colombia"},"USD","N/A","SAP Multiresource Scheduling for SAP ERP, private cloud edition",1,"Serv","Suscripcion","N/A","N/A","N/A","SAP-8011128-2","Forma de pago estandar a 30 dias",26,1,0,"USD"]
[{"$f":"D3340&F3340&E3340","v":"SAP ColombiaCloud Classic SAP SolutionsSAP-8011128-3"},{"$f":"E3340&F3340","v":"SAP-8011128-3Cloud Classic SAP Solutions"},null,"SAP Colombia","SAP-8011128-3","Cloud Classic SAP Solutions",{"$f":"D3340","v":"SAP Colombia"},"USD","N/A","SAP Multiresource Scheduling for SAP ERP, private cloud edition",1,"Serv","Suscripcion","N/A","N/A","N/A","SAP-8011128-3","Forma de pago estandar a 30 dias",11,1,0,"USD"]
[{"$f":"D3341&F3341&E3341","v":"SAP ColombiaCloud Classic SAP SolutionsSAP-8011128-4"},{"$f":"E3341&F3341","v":"SAP-8011128-4Cloud Classic SAP Solutions"},null,"SAP Colombia","SAP-8011128-4","Cloud Classic SAP Solutions",{"$f":"D3341","v":"SAP Colombia"},"USD","N/A","SAP Multiresource Scheduling for SAP ERP, private cloud edition",1,"Serv","Suscripcion","N/A","N/A","N/A","SAP-8011128-4","Forma de pago estandar a 30 dias",7.84,1,0,"USD"]
[{"$f":"D3342&F3342&E3342","v":"SAP ColombiaCloud Classic SAP SolutionsSAP-8011128-5"},{"$f":"E3342&F3342","v":"SAP-8011128-5Cloud Classic SAP Solutions"},null,"SAP Colombia","SAP-8011128-5","Cloud Classic SAP Solutions",{"$f":"D3342","v":"SAP Colombia"},"USD","N/A","SAP Multiresource Scheduling for SAP ERP, private cloud edition",1,"Serv","Suscripcion","N/A","N/A","N/A","SAP-8011128-5","Forma de pago estandar a 30 dias",6.72,1,0,"USD"]
[{"$f":"D3343&F3343&E3343","v":"SAP ColombiaCloud Classic SAP SolutionsSAP-8011422-1"},{"$f":"E3343&F3343","v":"SAP-8011422-1Cloud Classic SAP Solutions"},null,"SAP Colombia","SAP-8011422-1","Cloud Classic SAP Solutions",{"$f":"D3343","v":"SAP Colombia"},"USD","N/A","SAP Product Footprint Management",100000,"Serv","Suscripcion","N/A","N/A","N/A","SAP-8011422-1","Forma de pago estandar a 30 dias",187,1,0,"USD"]
[{"$f":"D3344&F3344&E3344","v":"SAP ColombiaCloud Classic SAP SolutionsSAP-8011422-2"},{"$f":"E3344&F3344","v":"SAP-8011422-2Cloud Classic SAP Solutions"},null,"SAP Colombia","SAP-8011422-2","Cloud Classic SAP Solutions",{"$f":"D3344","v":"SAP Colombia"},"USD","N/A","SAP Product Footprint Management",100000,"Serv","Suscripcion","N/A","N/A","N/A","SAP-8011422-2","Forma de pago estandar a 30 dias",112,1,0,"USD"]
[{"$f":"D3345&F3345&E3345","v":"SAP ColombiaCloud Classic SAP SolutionsSAP-8011422-3"},{"$f":"E3345&F3345","v":"SAP-8011422-3Cloud Classic SAP Solutions"},null,"SAP Colombia","SAP-8011422-3","Cloud Classic SAP Solutions",{"$f":"D3345","v":"SAP Colombia"},"USD","N/A","SAP Product Footprint Management",100000,"Serv","Suscripcion","N/A","N/A","N/A","SAP-8011422-3","Forma de pago estandar a 30 dias",75,1,0,"USD"]
[{"$f":"D3346&F3346&E3346","v":"SAP ColombiaCloud Classic SAP SolutionsSAP-8011463-1"},{"$f":"E3346&F3346","v":"SAP-8011463-1Cloud Classic SAP Solutions"},null,"SAP Colombia","SAP-8011463-1","Cloud Classic SAP Solutions",{"$f":"D3346","v":"SAP Colombia"},"USD","N/A","SAP E-Mobility",1,"Serv","Suscripcion","N/A","N/A","N/A","SAP-8011463-1","Forma de pago estandar a 30 dias",10,1,0,"USD"]
[{"$f":"D3347&F3347&E3347","v":"SAP ColombiaCloud Classic SAP SolutionsSAP-8011463-2"},{"$f":"E3347&F3347","v":"SAP-8011463-2Cloud Classic SAP Solutions"},null,"SAP Colombia","SAP-8011463-2","Cloud Classic SAP Solutions",{"$f":"D3347","v":"SAP Colombia"},"USD","N/A","SAP E-Mobility",1,"Serv","Suscripcion","N/A","N/A","N/A","SAP-8011463-2","Forma de pago estandar a 30 dias",7.84,1,0,"USD"]
[{"$f":"D3348&F3348&E3348","v":"SAP ColombiaCloud Classic SAP SolutionsSAP-8011463-3"},{"$f":"E3348&F3348","v":"SAP-8011463-3Cloud Classic SAP Solutions"},null,"SAP Colombia","SAP-8011463-3","Cloud Classic SAP Solutions",{"$f":"D3348","v":"SAP Colombia"},"USD","N/A","SAP E-Mobility",1,"Serv","Suscripcion","N/A","N/A","N/A","SAP-8011463-3","Forma de pago estandar a 30 dias",5.04,1,0,"USD"]
[{"$f":"D3349&F3349&E3349","v":"SAP ColombiaCloud Classic SAP SolutionsSAP-8011539"},{"$f":"E3349&F3349","v":"SAP-8011539Cloud Classic SAP Solutions"},null,"SAP Colombia","SAP-8011539","Cloud Classic SAP Solutions",{"$f":"D3349","v":"SAP Colombia"},"USD","N/A","SAP Variant Configuration and Pricing, advanced edition",1,"Serv","Suscripcion","N/A","N/A","N/A","SAP-8011539","Forma de pago estandar a 30 dias",6719,1,0,"USD"]
[{"$f":"D3350&F3350&E3350","v":"SAP ColombiaCloud Classic SAP SolutionsSAP-8011540"},{"$f":"E3350&F3350","v":"SAP-8011540Cloud Classic SAP Solutions"},null,"SAP Colombia","SAP-8011540","Cloud Classic SAP Solutions",{"$f":"D3350","v":"SAP Colombia"},"USD","N/A","SAP Variant Configuration and Pricing, advanced edition, test tenant",1,"Serv","Suscripcion","N/A","N/A","N/A","SAP-8011540","Forma de pago estandar a 30 dias",2240,1,0,"USD"]
[{"$f":"D3351&F3351&E3351","v":"SAP ColombiaCloud Classic SAP SolutionsSAP-8011732-1"},{"$f":"E3351&F3351","v":"SAP-8011732-1Cloud Classic SAP Solutions"},null,"SAP Colombia","SAP-8011732-1","Cloud Classic SAP Solutions",{"$f":"D3351","v":"SAP Colombia"},"USD","N/A","SAP Equipment Services Cockpit",1,"Serv","Suscripcion","N/A","N/A","N/A","SAP-8011732-1","Forma de pago estandar a 30 dias",56,1,0,"USD"]
[{"$f":"D3352&F3352&E3352","v":"SAP ColombiaCloud Classic SAP SolutionsSAP-8011732-2"},{"$f":"E3352&F3352","v":"SAP-8011732-2Cloud Classic SAP Solutions"},null,"SAP Colombia","SAP-8011732-2","Cloud Classic SAP Solutions",{"$f":"D3352","v":"SAP Colombia"},"USD","N/A","SAP Equipment Services Cockpit",1,"Serv","Suscripcion","N/A","N/A","N/A","SAP-8011732-2","Forma de pago estandar a 30 dias",45,1,0,"USD"]
[{"$f":"D3353&F3353&E3353","v":"SAP ColombiaCloud Classic SAP SolutionsSAP-8011732-3"},{"$f":"E3353&F3353","v":"SAP-8011732-3Cloud Classic SAP Solutions"},null,"SAP Colombia","SAP-8011732-3","Cloud Classic SAP Solutions",{"$f":"D3353","v":"SAP Colombia"},"USD","N/A","SAP Equipment Services Cockpit",1,"Serv","Suscripcion","N/A","N/A","N/A","SAP-8011732-3","Forma de pago estandar a 30 dias",34,1,0,"USD"]
[{"$f":"D3354&F3354&E3354","v":"SAP ColombiaCloud Classic SAP SolutionsSAP-8012140-1"},{"$f":"E3354&F3354","v":"SAP-8012140-1Cloud Classic SAP Solutions"},null,"SAP Colombia","SAP-8012140-1","Cloud Classic SAP Solutions",{"$f":"D3354","v":"SAP Colombia"},"USD","N/A","SAP Industry Process Framework",100,"Serv","Suscripcion","N/A","N/A","N/A","SAP-8012140-1","Forma de pago estandar a 30 dias",56,1,0,"USD"]
[{"$f":"D3355&F3355&E3355","v":"SAP ColombiaCloud Classic SAP SolutionsSAP-8012140-2"},{"$f":"E3355&F3355","v":"SAP-8012140-2Cloud Classic SAP Solutions"},null,"SAP Colombia","SAP-8012140-2","Cloud Classic SAP Solutions",{"$f":"D3355","v":"SAP Colombia"},"USD","N/A","SAP Industry Process Framework",100,"Serv","Suscripcion","N/A","N/A","N/A","SAP-8012140-2","Forma de pago estandar a 30 dias",47,1,0,"USD"]
[{"$f":"D3356&F3356&E3356","v":"SAP ColombiaCloud Classic SAP SolutionsSAP-8012140-3"},{"$f":"E3356&F3356","v":"SAP-8012140-3Cloud Classic SAP Solutions"},null,"SAP Colombia","SAP-8012140-3","Cloud Classic SAP Solutions",{"$f":"D3356","v":"SAP Colombia"},"USD","N/A","SAP Industry Process Framework",100,"Serv","Suscripcion","N/A","N/A","N/A","SAP-8012140-3","Forma de pago estandar a 30 dias",38,1,0,"USD"]
[{"$f":"D3357&F3357&E3357","v":"SAP ColombiaCloud Classic SAP SolutionsSAP-8012141-1"},{"$f":"E3357&F3357","v":"SAP-8012141-1Cloud Classic SAP Solutions"},null,"SAP Colombia","SAP-8012141-1","Cloud Classic SAP Solutions",{"$f":"D3357","v":"SAP Colombia"},"USD","N/A","SAP Digital Vehicle Operations",100,"Serv","Suscripcion","N/A","N/A","N/A","SAP-8012141-1","Forma de pago estandar a 30 dias",75,1,0,"USD"]
[{"$f":"D3358&F3358&E3358","v":"SAP ColombiaCloud Classic SAP SolutionsSAP-8012141-2"},{"$f":"E3358&F3358","v":"SAP-8012141-2Cloud Classic SAP Solutions"},null,"SAP Colombia","SAP-8012141-2","Cloud Classic SAP Solutions",{"$f":"D3358","v":"SAP Colombia"},"USD","N/A","SAP Digital Vehicle Operations",100,"Serv","Suscripcion","N/A","N/A","N/A","SAP-8012141-2","Forma de pago estandar a 30 dias",67,1,0,"USD"]
[{"$f":"D3359&F3359&E3359","v":"SAP ColombiaCloud Classic SAP SolutionsSAP-8012141-3"},{"$f":"E3359&F3359","v":"SAP-8012141-3Cloud Classic SAP Solutions"},null,"SAP Colombia","SAP-8012141-3","Cloud Classic SAP Solutions",{"$f":"D3359","v":"SAP Colombia"},"USD","N/A","SAP Digital Vehicle Operations",100,"Serv","Suscripcion","N/A","N/A","N/A","SAP-8012141-3","Forma de pago estandar a 30 dias",63,1,0,"USD"]
[{"$f":"D3360&F3360&E3360","v":"SAP ColombiaCloud Classic SAP SolutionsSAP-8012301-1"},{"$f":"E3360&F3360","v":"SAP-8012301-1Cloud Classic SAP Solutions"},null,"SAP Colombia","SAP-8012301-1","Cloud Classic SAP Solutions",{"$f":"D3360","v":"SAP Colombia"},"USD","N/A","SAP Field Service Management, supplemental services",1,"Serv","Suscripcion","N/A","N/A","N/A","SAP-8012301-1","Forma de pago estandar a 30 dias",53,1,0,"USD"]
[{"$f":"D3361&F3361&E3361","v":"SAP ColombiaCloud Classic SAP SolutionsSAP-8012301-2"},{"$f":"E3361&F3361","v":"SAP-8012301-2Cloud Classic SAP Solutions"},null,"SAP Colombia","SAP-8012301-2","Cloud Classic SAP Solutions",{"$f":"D3361","v":"SAP Colombia"},"USD","N/A","SAP Field Service Management, supplemental services",1,"Serv","Suscripcion","N/A","N/A","N/A","SAP-8012301-2","Forma de pago estandar a 30 dias",37,1,0,"USD"]
[{"$f":"D3362&F3362&E3362","v":"SAP ColombiaCloud Classic SAP SolutionsSAP-8012301-3"},{"$f":"E3362&F3362","v":"SAP-8012301-3Cloud Classic SAP Solutions"},null,"SAP Colombia","SAP-8012301-3","Cloud Classic SAP Solutions",{"$f":"D3362","v":"SAP Colombia"},"USD","N/A","SAP Field Service Management, supplemental services",1,"Serv","Suscripcion","N/A","N/A","N/A","SAP-8012301-3","Forma de pago estandar a 30 dias",26,1,0,"USD"]
[{"$f":"D3363&F3363&E3363","v":"SAP ColombiaCloud Classic SAP SolutionsSAP-8012301-4"},{"$f":"E3363&F3363","v":"SAP-8012301-4Cloud Classic SAP Solutions"},null,"SAP Colombia","SAP-8012301-4","Cloud Classic SAP Solutions",{"$f":"D3363","v":"SAP Colombia"},"USD","N/A","SAP Field Service Management, supplemental services",1,"Serv","Suscripcion","N/A","N/A","N/A","SAP-8012301-4","Forma de pago estandar a 30 dias",19,1,0,"USD"]
[{"$f":"D3364&F3364&E3364","v":"SAP ColombiaCloud Classic SAP SolutionsSAP-8012301-5"},{"$f":"E3364&F3364","v":"SAP-8012301-5Cloud Classic SAP Solutions"},null,"SAP Colombia","SAP-8012301-5","Cloud Classic SAP Solutions",{"$f":"D3364","v":"SAP Colombia"},"USD","N/A","SAP Field Service Management, supplemental services",1,"Serv","Suscripcion","N/A","N/A","N/A","SAP-8012301-5","Forma de pago estandar a 30 dias",15,1,0,"USD"]
[{"$f":"D3365&F3365&E3365","v":"SAP ColombiaCloud Classic SAP SolutionsSAP-8012301-6"},{"$f":"E3365&F3365","v":"SAP-8012301-6Cloud Classic SAP Solutions"},null,"SAP Colombia","SAP-8012301-6","Cloud Classic SAP Solutions",{"$f":"D3365","v":"SAP Colombia"},"USD","N/A","SAP Field Service Management, supplemental services",1,"Serv","Suscripcion","N/A","N/A","N/A","SAP-8012301-6","Forma de pago estandar a 30 dias",11,1,0,"USD"]
[{"$f":"D3366&F3366&E3366","v":"SAP ColombiaCloud Classic SAP SolutionsSAP-8012304-1"},{"$f":"E3366&F3366","v":"SAP-8012304-1Cloud Classic SAP Solutions"},null,"SAP Colombia","SAP-8012304-1","Cloud Classic SAP Solutions",{"$f":"D3366","v":"SAP Colombia"},"USD","N/A","SAP Service and Asset Manager",1,"Serv","Suscripcion","N/A","N/A","N/A","SAP-8012304-1","Forma de pago estandar a 30 dias",140,1,0,"USD"]
[{"$f":"D3367&F3367&E3367","v":"SAP ColombiaCloud Classic SAP SolutionsSAP-8012304-2"},{"$f":"E3367&F3367","v":"SAP-8012304-2Cloud Classic SAP Solutions"},null,"SAP Colombia","SAP-8012304-2","Cloud Classic SAP Solutions",{"$f":"D3367","v":"SAP Colombia"},"USD","N/A","SAP Service and Asset Manager",1,"Serv","Suscripcion","N/A","N/A","N/A","SAP-8012304-2","Forma de pago estandar a 30 dias",112,1,0,"USD"]
[{"$f":"D3368&F3368&E3368","v":"SAP ColombiaCloud Classic SAP SolutionsSAP-8012304-3"},{"$f":"E3368&F3368","v":"SAP-8012304-3Cloud Classic SAP Solutions"},null,"SAP Colombia","SAP-8012304-3","Cloud Classic SAP Solutions",{"$f":"D3368","v":"SAP Colombia"},"USD","N/A","SAP Service and Asset Manager",1,"Serv","Suscripcion","N/A","N/A","N/A","SAP-8012304-3","Forma de pago estandar a 30 dias",95,1,0,"USD"]
[{"$f":"D3369&F3369&E3369","v":"SAP ColombiaCloud Classic SAP SolutionsSAP-8012304-4"},{"$f":"E3369&F3369","v":"SAP-8012304-4Cloud Classic SAP Solutions"},null,"SAP Colombia","SAP-8012304-4","Cloud Classic SAP Solutions",{"$f":"D3369","v":"SAP Colombia"},"USD","N/A","SAP Service and Asset Manager",1,"Serv","Suscripcion","N/A","N/A","N/A","SAP-8012304-4","Forma de pago estandar a 30 dias",78,1,0,"USD"]
[{"$f":"D3370&F3370&E3370","v":"SAP ColombiaCloud Classic SAP SolutionsSAP-8012304-5"},{"$f":"E3370&F3370","v":"SAP-8012304-5Cloud Classic SAP Solutions"},null,"SAP Colombia","SAP-8012304-5","Cloud Classic SAP Solutions",{"$f":"D3370","v":"SAP Colombia"},"USD","N/A","SAP Service and Asset Manager",1,"Serv","Suscripcion","N/A","N/A","N/A","SAP-8012304-5","Forma de pago estandar a 30 dias",60,1,0,"USD"]
[{"$f":"D3371&F3371&E3371","v":"SAP ColombiaCloud Classic SAP SolutionsSAP-8012304-6"},{"$f":"E3371&F3371","v":"SAP-8012304-6Cloud Classic SAP Solutions"},null,"SAP Colombia","SAP-8012304-6","Cloud Classic SAP Solutions",{"$f":"D3371","v":"SAP Colombia"},"USD","N/A","SAP Service and Asset Manager",1,"Serv","Suscripcion","N/A","N/A","N/A","SAP-8012304-6","Forma de pago estandar a 30 dias",45,1,0,"USD"]
[{"$f":"D3372&F3372&E3372","v":"SAP ColombiaCloud Classic SAP SolutionsSAP-8012342-1"},{"$f":"E3372&F3372","v":"SAP-8012342-1Cloud Classic SAP Solutions"},null,"SAP Colombia","SAP-8012342-1","Cloud Classic SAP Solutions",{"$f":"D3372","v":"SAP Colombia"},"USD","N/A","SAP Asset Performance Management",100,"Serv","Suscripcion","N/A","N/A","N/A","SAP-8012342-1","Forma de pago estandar a 30 dias",32,1,0,"USD"]
[{"$f":"D3373&F3373&E3373","v":"SAP ColombiaCloud Classic SAP SolutionsSAP-8012342-2"},{"$f":"E3373&F3373","v":"SAP-8012342-2Cloud Classic SAP Solutions"},null,"SAP Colombia","SAP-8012342-2","Cloud Classic SAP Solutions",{"$f":"D3373","v":"SAP Colombia"},"USD","N/A","SAP Asset Performance Management",100,"Serv","Suscripcion","N/A","N/A","N/A","SAP-8012342-2","Forma de pago estandar a 30 dias",21,1,0,"USD"]
[{"$f":"D3374&F3374&E3374","v":"SAP ColombiaCloud Classic SAP SolutionsSAP-8012342-3"},{"$f":"E3374&F3374","v":"SAP-8012342-3Cloud Classic SAP Solutions"},null,"SAP Colombia","SAP-8012342-3","Cloud Classic SAP Solutions",{"$f":"D3374","v":"SAP Colombia"},"USD","N/A","SAP Asset Performance Management",100,"Serv","Suscripcion","N/A","N/A","N/A","SAP-8012342-3","Forma de pago estandar a 30 dias",17,1,0,"USD"]
[{"$f":"D3375&F3375&E3375","v":"SAP ColombiaCloud Classic SAP SolutionsSAP-8012342-4"},{"$f":"E3375&F3375","v":"SAP-8012342-4Cloud Classic SAP Solutions"},null,"SAP Colombia","SAP-8012342-4","Cloud Classic SAP Solutions",{"$f":"D3375","v":"SAP Colombia"},"USD","N/A","SAP Asset Performance Management",100,"Serv","Suscripcion","N/A","N/A","N/A","SAP-8012342-4","Forma de pago estandar a 30 dias",10,1,0,"USD"]
[{"$f":"D3376&F3376&E3376","v":"SAP ColombiaCloud Classic SAP SolutionsSAP-8012342-5"},{"$f":"E3376&F3376","v":"SAP-8012342-5Cloud Classic SAP Solutions"},null,"SAP Colombia","SAP-8012342-5","Cloud Classic SAP Solutions",{"$f":"D3376","v":"SAP Colombia"},"USD","N/A","SAP Asset Performance Management",100,"Serv","Suscripcion","N/A","N/A","N/A","SAP-8012342-5","Forma de pago estandar a 30 dias",5.6,1,0,"USD"]
[{"$f":"D3377&F3377&E3377","v":"SAP ColombiaCloud Classic SAP SolutionsSAP-8012343-1"},{"$f":"E3377&F3377","v":"SAP-8012343-1Cloud Classic SAP Solutions"},null,"SAP Colombia","SAP-8012343-1","Cloud Classic SAP Solutions",{"$f":"D3377","v":"SAP Colombia"},"USD","N/A","SAP Asset Performance Management, data stream add-on",10000000,"Serv","Suscripcion","N/A","N/A","N/A","SAP-8012343-1","Forma de pago estandar a 30 dias",246,1,0,"USD"]
[{"$f":"D3378&F3378&E3378","v":"SAP ColombiaCloud Classic SAP SolutionsSAP-8012343-2"},{"$f":"E3378&F3378","v":"SAP-8012343-2Cloud Classic SAP Solutions"},null,"SAP Colombia","SAP-8012343-2","Cloud Classic SAP Solutions",{"$f":"D3378","v":"SAP Colombia"},"USD","N/A","SAP Asset Performance Management, data stream add-on",10000000,"Serv","Suscripcion","N/A","N/A","N/A","SAP-8012343-2","Forma de pago estandar a 30 dias",218,1,0,"USD"]
[{"$f":"D3379&F3379&E3379","v":"SAP ColombiaCloud Classic SAP SolutionsSAP-8012343-3"},{"$f":"E3379&F3379","v":"SAP-8012343-3Cloud Classic SAP Solutions"},null,"SAP Colombia","SAP-8012343-3","Cloud Classic SAP Solutions",{"$f":"D3379","v":"SAP Colombia"},"USD","N/A","SAP Asset Performance Management, data stream add-on",10000000,"Serv","Suscripcion","N/A","N/A","N/A","SAP-8012343-3","Forma de pago estandar a 30 dias",162,1,0,"USD"]
[{"$f":"D3380&F3380&E3380","v":"SAP ColombiaCloud Classic SAP SolutionsSAP-8012343-4"},{"$f":"E3380&F3380","v":"SAP-8012343-4Cloud Classic SAP Solutions"},null,"SAP Colombia","SAP-8012343-4","Cloud Classic SAP Solutions",{"$f":"D3380","v":"SAP Colombia"},"USD","N/A","SAP Asset Performance Management, data stream add-on",10000000,"Serv","Suscripcion","N/A","N/A","N/A","SAP-8012343-4","Forma de pago estandar a 30 dias",123,1,0,"USD"]
[{"$f":"D3381&F3381&E3381","v":"SAP ColombiaCloud Classic SAP SolutionsSAP-8012343-5"},{"$f":"E3381&F3381","v":"SAP-8012343-5Cloud Classic SAP Solutions"},null,"SAP Colombia","SAP-8012343-5","Cloud Classic SAP Solutions",{"$f":"D3381","v":"SAP Colombia"},"USD","N/A","SAP Asset Performance Management, data stream add-on",10000000,"Serv","Suscripcion","N/A","N/A","N/A","SAP-8012343-5","Forma de pago estandar a 30 dias",106,1,0,"USD"]
[{"$f":"D3382&F3382&E3382","v":"SAP ColombiaCloud Classic SAP SolutionsSAP-8012344"},{"$f":"E3382&F3382","v":"SAP-8012344Cloud Classic SAP Solutions"},null,"SAP Colombia","SAP-8012344","Cloud Classic SAP Solutions",{"$f":"D3382","v":"SAP Colombia"},"USD","N/A","SAP Asset Performance Management, test tenant",1,"Serv","Suscripcion","N/A","N/A","N/A","SAP-8012344","Forma de pago estandar a 30 dias",420,1,0,"USD"]
[{"$f":"D3383&F3383&E3383","v":"SAP ColombiaCloud Classic SAP SolutionsSAP-8013371"},{"$f":"E3383&F3383","v":"SAP-8013371Cloud Classic SAP Solutions"},null,"SAP Colombia","SAP-8013371","Cloud Classic SAP Solutions",{"$f":"D3383","v":"SAP Colombia"},"USD","N/A","SAP Integrated Business Planning, additional environment",1,"Serv","Suscripcion","N/A","N/A","N/A","SAP-8013371","Forma de pago estandar a 30 dias",55995,1,0,"USD"]
[{"$f":"D3384&F3384&E3384","v":"SAP ColombiaCloud Classic SAP SolutionsSAP-8013374-1"},{"$f":"E3384&F3384","v":"SAP-8013374-1Cloud Classic SAP Solutions"},null,"SAP Colombia","SAP-8013374-1","Cloud Classic SAP Solutions",{"$f":"D3384","v":"SAP Colombia"},"USD","N/A","SAP Field Service Management",1,"Serv","Suscripcion","N/A","N/A","N/A","SAP-8013374-1","Forma de pago estandar a 30 dias",157,1,0,"USD"]
[{"$f":"D3385&F3385&E3385","v":"SAP ColombiaCloud Classic SAP SolutionsSAP-8013374-2"},{"$f":"E3385&F3385","v":"SAP-8013374-2Cloud Classic SAP Solutions"},null,"SAP Colombia","SAP-8013374-2","Cloud Classic SAP Solutions",{"$f":"D3385","v":"SAP Colombia"},"USD","N/A","SAP Field Service Management",1,"Serv","Suscripcion","N/A","N/A","N/A","SAP-8013374-2","Forma de pago estandar a 30 dias",150,1,0,"USD"]
[{"$f":"D3386&F3386&E3386","v":"SAP ColombiaCloud Classic SAP SolutionsSAP-8013374-3"},{"$f":"E3386&F3386","v":"SAP-8013374-3Cloud Classic SAP Solutions"},null,"SAP Colombia","SAP-8013374-3","Cloud Classic SAP Solutions",{"$f":"D3386","v":"SAP Colombia"},"USD","N/A","SAP Field Service Management",1,"Serv","Suscripcion","N/A","N/A","N/A","SAP-8013374-3","Forma de pago estandar a 30 dias",141,1,0,"USD"]
[{"$f":"D3387&F3387&E3387","v":"SAP ColombiaCloud Classic SAP SolutionsSAP-8013374-4"},{"$f":"E3387&F3387","v":"SAP-8013374-4Cloud Classic SAP Solutions"},null,"SAP Colombia","SAP-8013374-4","Cloud Classic SAP Solutions",{"$f":"D3387","v":"SAP Colombia"},"USD","N/A","SAP Field Service Management",1,"Serv","Suscripcion","N/A","N/A","N/A","SAP-8013374-4","Forma de pago estandar a 30 dias",137,1,0,"USD"]
[{"$f":"D3388&F3388&E3388","v":"SAP ColombiaCloud Classic SAP SolutionsSAP-8013374-5"},{"$f":"E3388&F3388","v":"SAP-8013374-5Cloud Classic SAP Solutions"},null,"SAP Colombia","SAP-8013374-5","Cloud Classic SAP Solutions",{"$f":"D3388","v":"SAP Colombia"},"USD","N/A","SAP Field Service Management",1,"Serv","Suscripcion","N/A","N/A","N/A","SAP-8013374-5","Forma de pago estandar a 30 dias",125,1,0,"USD"]
[{"$f":"D3389&F3389&E3389","v":"SAP ColombiaCloud Classic SAP SolutionsSAP-8013374-6"},{"$f":"E3389&F3389","v":"SAP-8013374-6Cloud Classic SAP Solutions"},null,"SAP Colombia","SAP-8013374-6","Cloud Classic SAP Solutions",{"$f":"D3389","v":"SAP Colombia"},"USD","N/A","SAP Field Service Management",1,"Serv","Suscripcion","N/A","N/A","N/A","SAP-8013374-6","Forma de pago estandar a 30 dias",101,1,0,"USD"]
[{"$f":"D3390&F3390&E3390","v":"SAP ColombiaCloud Classic SAP SolutionsSAP-8013374-7"},{"$f":"E3390&F3390","v":"SAP-8013374-7Cloud Classic SAP Solutions"},null,"SAP Colombia","SAP-8013374-7","Cloud Classic SAP Solutions",{"$f":"D3390","v":"SAP Colombia"},"USD","N/A","SAP Field Service Management",1,"Serv","Suscripcion","N/A","N/A","N/A","SAP-8013374-7","Forma de pago estandar a 30 dias",75,1,0,"USD"]
[{"$f":"D3391&F3391&E3391","v":"SAP ColombiaCloud Classic SAP SolutionsSAP-8013375"},{"$f":"E3391&F3391","v":"SAP-8013375Cloud Classic SAP Solutions"},null,"SAP Colombia","SAP-8013375","Cloud Classic SAP Solutions",{"$f":"D3391","v":"SAP Colombia"},"USD","N/A","SAP Field Service Management, connector for SAP ERP",1,"Serv","Suscripcion","N/A","N/A","N/A","SAP-8013375","Forma de pago estandar a 30 dias",2334,1,0,"USD"]
[{"$f":"D3392&F3392&E3392","v":"SAP ColombiaCloud Classic SAP SolutionsSAP-8005140-1"},{"$f":"E3392&F3392","v":"SAP-8005140-1Cloud Classic SAP Solutions"},null,"SAP Colombia","SAP-8005140-1","Cloud Classic SAP Solutions",{"$f":"D3392","v":"SAP Colombia"},"USD","N/A","SAP SuccessFactors Employee Central Service Center",1,"Serv","Suscripcion","N/A","N/A","N/A","SAP-8005140-1","Forma de pago estandar a 30 dias",2.5099999999999998,1,0,"USD"]
[{"$f":"D3393&F3393&E3393","v":"SAP ColombiaCloud Classic SAP SolutionsSAP-8005140-2"},{"$f":"E3393&F3393","v":"SAP-8005140-2Cloud Classic SAP Solutions"},null,"SAP Colombia","SAP-8005140-2","Cloud Classic SAP Solutions",{"$f":"D3393","v":"SAP Colombia"},"USD","N/A","SAP SuccessFactors Employee Central Service Center",1,"Serv","Suscripcion","N/A","N/A","N/A","SAP-8005140-2","Forma de pago estandar a 30 dias",1.43,1,0,"USD"]
[{"$f":"D3394&F3394&E3394","v":"SAP ColombiaCloud Classic SAP SolutionsSAP-8005140-3"},{"$f":"E3394&F3394","v":"SAP-8005140-3Cloud Classic SAP Solutions"},null,"SAP Colombia","SAP-8005140-3","Cloud Classic SAP Solutions",{"$f":"D3394","v":"SAP Colombia"},"USD","N/A","SAP SuccessFactors Employee Central Service Center",1,"Serv","Suscripcion","N/A","N/A","N/A","SAP-8005140-3","Forma de pago estandar a 30 dias",1.25,1,0,"USD"]
[{"$f":"D3395&F3395&E3395","v":"SAP ColombiaCloud Classic SAP SolutionsSAP-8005140-4"},{"$f":"E3395&F3395","v":"SAP-8005140-4Cloud Classic SAP Solutions"},null,"SAP Colombia","SAP-8005140-4","Cloud Classic SAP Solutions",{"$f":"D3395","v":"SAP Colombia"},"USD","N/A","SAP SuccessFactors Employee Central Service Center",1,"Serv","Suscripcion","N/A","N/A","N/A","SAP-8005140-4","Forma de pago estandar a 30 dias",1.25,1,0,"USD"]
[{"$f":"D3396&F3396&E3396","v":"SAP ColombiaCloud Classic SAP SolutionsSAP-8005140-5"},{"$f":"E3396&F3396","v":"SAP-8005140-5Cloud Classic SAP Solutions"},null,"SAP Colombia","SAP-8005140-5","Cloud Classic SAP Solutions",{"$f":"D3396","v":"SAP Colombia"},"USD","N/A","SAP SuccessFactors Employee Central Service Center",1,"Serv","Suscripcion","N/A","N/A","N/A","SAP-8005140-5","Forma de pago estandar a 30 dias",1.18,1,0,"USD"]
[{"$f":"D3397&F3397&E3397","v":"SAP ColombiaCloud Classic SAP SolutionsSAP-8005140-6"},{"$f":"E3397&F3397","v":"SAP-8005140-6Cloud Classic SAP Solutions"},null,"SAP Colombia","SAP-8005140-6","Cloud Classic SAP Solutions",{"$f":"D3397","v":"SAP Colombia"},"USD","N/A","SAP SuccessFactors Employee Central Service Center",1,"Serv","Suscripcion","N/A","N/A","N/A","SAP-8005140-6","Forma de pago estandar a 30 dias",1.0900000000000001,1,0,"USD"]
[{"$f":"D3398&F3398&E3398","v":"SAP ColombiaCloud Classic SAP SolutionsSAP-8005140-7"},{"$f":"E3398&F3398","v":"SAP-8005140-7Cloud Classic SAP Solutions"},null,"SAP Colombia","SAP-8005140-7","Cloud Classic SAP Solutions",{"$f":"D3398","v":"SAP Colombia"},"USD","N/A","SAP SuccessFactors Employee Central Service Center",1,"Serv","Suscripcion","N/A","N/A","N/A","SAP-8005140-7","Forma de pago estandar a 30 dias",1.0900000000000001,1,0,"USD"]
[{"$f":"D3399&F3399&E3399","v":"SAP ColombiaCloud Classic SAP SolutionsSAP-8005140-8"},{"$f":"E3399&F3399","v":"SAP-8005140-8Cloud Classic SAP Solutions"},null,"SAP Colombia","SAP-8005140-8","Cloud Classic SAP Solutions",{"$f":"D3399","v":"SAP Colombia"},"USD","N/A","SAP SuccessFactors Employee Central Service Center",1,"Serv","Suscripcion","N/A","N/A","N/A","SAP-8005140-8","Forma de pago estandar a 30 dias",1.01,1,0,"USD"]
[{"$f":"D3400&F3400&E3400","v":"SAP ColombiaCloud Classic SAP SolutionsSAP-8005140-9"},{"$f":"E3400&F3400","v":"SAP-8005140-9Cloud Classic SAP Solutions"},null,"SAP Colombia","SAP-8005140-9","Cloud Classic SAP Solutions",{"$f":"D3400","v":"SAP Colombia"},"USD","N/A","SAP SuccessFactors Employee Central Service Center",1,"Serv","Suscripcion","N/A","N/A","N/A","SAP-8005140-9","Forma de pago estandar a 30 dias",1.01,1,0,"USD"]
[{"$f":"D3401&F3401&E3401","v":"SAP ColombiaCloud Classic SAP SolutionsSAP-8005447"},{"$f":"E3401&F3401","v":"SAP-8005447Cloud Classic SAP Solutions"},null,"SAP Colombia","SAP-8005447","Cloud Classic SAP Solutions",{"$f":"D3401","v":"SAP Colombia"},"USD","N/A","SAP SuccessFactors HXM Suite, additional test tenant in preview environment",1,"Serv","Suscripcion","N/A","N/A","N/A","SAP-8005447","Forma de pago estandar a 30 dias",833,1,0,"USD"]
[{"$f":"D3402&F3402&E3402","v":"SAP ColombiaCloud Classic SAP SolutionsSAP-8005448"},{"$f":"E3402&F3402","v":"SAP-8005448Cloud Classic SAP Solutions"},null,"SAP Colombia","SAP-8005448","Cloud Classic SAP Solutions",{"$f":"D3402","v":"SAP Colombia"},"USD","N/A","SAP SuccessFactors HXM Suite, additional test tenant in production environment",1,"Serv","Suscripcion","N/A","N/A","N/A","SAP-8005448","Forma de pago estandar a 30 dias",833,1,0,"USD"]
[{"$f":"D3403&F3403&E3403","v":"SAP ColombiaCloud Classic SAP SolutionsSAP-8005988"},{"$f":"E3403&F3403","v":"SAP-8005988Cloud Classic SAP Solutions"},null,"SAP Colombia","SAP-8005988","Cloud Classic SAP Solutions",{"$f":"D3403","v":"SAP Colombia"},"USD","N/A","SAP SuccessFactors Learning, content storage add-on (25GB)",25,"Serv","Suscripcion","N/A","N/A","N/A","SAP-8005988","Forma de pago estandar a 30 dias",27,1,0,"USD"]
[{"$f":"D3404&F3404&E3404","v":"SAP ColombiaCloud Classic SAP SolutionsSAP-8007640"},{"$f":"E3404&F3404","v":"SAP-8007640Cloud Classic SAP Solutions"},null,"SAP Colombia","SAP-8007640","Cloud Classic SAP Solutions",{"$f":"D3404","v":"SAP Colombia"},"USD","N/A","SAP Agent Performance Management, extra storage",1,"Serv","Suscripcion","N/A","N/A","N/A","SAP-8007640","Forma de pago estandar a 30 dias",1.1200000000000001,1,0,"USD"]
[{"$f":"D3405&F3405&E3405","v":"SAP ColombiaCloud Classic SAP SolutionsSAP-8008042-1"},{"$f":"E3405&F3405","v":"SAP-8008042-1Cloud Classic SAP Solutions"},null,"SAP Colombia","SAP-8008042-1","Cloud Classic SAP Solutions",{"$f":"D3405","v":"SAP Colombia"},"USD","N/A","SAP Litmos Training Content, enterprise edition",1,"Serv","Suscripcion","N/A","N/A","N/A","SAP-8008042-1","Forma de pago estandar a 30 dias",7.06,1,0,"USD"]
[{"$f":"D3406&F3406&E3406","v":"SAP ColombiaCloud Classic SAP SolutionsSAP-8008042-2"},{"$f":"E3406&F3406","v":"SAP-8008042-2Cloud Classic SAP Solutions"},null,"SAP Colombia","SAP-8008042-2","Cloud Classic SAP Solutions",{"$f":"D3406","v":"SAP Colombia"},"USD","N/A","SAP Litmos Training Content, enterprise edition",1,"Serv","Suscripcion","N/A","N/A","N/A","SAP-8008042-2","Forma de pago estandar a 30 dias",4.4800000000000004,1,0,"USD"]
[{"$f":"D3407&F3407&E3407","v":"SAP ColombiaCloud Classic SAP SolutionsSAP-8008042-3"},{"$f":"E3407&F3407","v":"SAP-8008042-3Cloud Classic SAP Solutions"},null,"SAP Colombia","SAP-8008042-3","Cloud Classic SAP Solutions",{"$f":"D3407","v":"SAP Colombia"},"USD","N/A","SAP Litmos Training Content, enterprise edition",1,"Serv","Suscripcion","N/A","N/A","N/A","SAP-8008042-3","Forma de pago estandar a 30 dias",2.8,1,0,"USD"]
[{"$f":"D3408&F3408&E3408","v":"SAP ColombiaCloud Classic SAP SolutionsSAP-8008042-4"},{"$f":"E3408&F3408","v":"SAP-8008042-4Cloud Classic SAP Solutions"},null,"SAP Colombia","SAP-8008042-4","Cloud Classic SAP Solutions",{"$f":"D3408","v":"SAP Colombia"},"USD","N/A","SAP Litmos Training Content, enterprise edition",1,"Serv","Suscripcion","N/A","N/A","N/A","SAP-8008042-4","Forma de pago estandar a 30 dias",2.02,1,0,"USD"]
[{"$f":"D3409&F3409&E3409","v":"SAP ColombiaCloud Classic SAP SolutionsSAP-8008042-5"},{"$f":"E3409&F3409","v":"SAP-8008042-5Cloud Classic SAP Solutions"},null,"SAP Colombia","SAP-8008042-5","Cloud Classic SAP Solutions",{"$f":"D3409","v":"SAP Colombia"},"USD","N/A","SAP Litmos Training Content, enterprise edition",1,"Serv","Suscripcion","N/A","N/A","N/A","SAP-8008042-5","Forma de pago estandar a 30 dias",1.46,1,0,"USD"]
[{"$f":"D3410&F3410&E3410","v":"SAP ColombiaCloud Classic SAP SolutionsSAP-8008145"},{"$f":"E3410&F3410","v":"SAP-8008145Cloud Classic SAP Solutions"},null,"SAP Colombia","SAP-8008145","Cloud Classic SAP Solutions",{"$f":"D3410","v":"SAP Colombia"},"USD","N/A","SAP Commissions, extra storage",1,"Serv","Suscripcion","N/A","N/A","N/A","SAP-8008145","Forma de pago estandar a 30 dias",1.1200000000000001,1,0,"USD"]
[{"$f":"D3411&F3411&E3411","v":"SAP ColombiaCloud Classic SAP SolutionsSAP-8008150"},{"$f":"E3411&F3411","v":"SAP-8008150Cloud Classic SAP Solutions"},null,"SAP Colombia","SAP-8008150","Cloud Classic SAP Solutions",{"$f":"D3411","v":"SAP Colombia"},"USD","N/A","SAP Commissions and SAP T&Q, test tenant",1,"Serv","Suscripcion","N/A","N/A","N/A","SAP-8008150","Forma de pago estandar a 30 dias",4480,1,0,"USD"]
[{"$f":"D3412&F3412&E3412","v":"SAP ColombiaCloud Classic SAP SolutionsSAP-8008155"},{"$f":"E3412&F3412","v":"SAP-8008155Cloud Classic SAP Solutions"},null,"SAP Colombia","SAP-8008155","Cloud Classic SAP Solutions",{"$f":"D3412","v":"SAP Colombia"},"USD","N/A","SAP Agent Performance Management, test tenant",1,"Serv","Suscripcion","N/A","N/A","N/A","SAP-8008155","Forma de pago estandar a 30 dias",4480,1,0,"USD"]
[{"$f":"D3413&F3413&E3413","v":"SAP ColombiaCloud Classic SAP SolutionsSAP-8008157"},{"$f":"E3413&F3413","v":"SAP-8008157Cloud Classic SAP Solutions"},null,"SAP Colombia","SAP-8008157","Cloud Classic SAP Solutions",{"$f":"D3413","v":"SAP Colombia"},"USD","N/A","SAP Litmos Training, test tenant",1,"Serv","Suscripcion","N/A","N/A","N/A","SAP-8008157","Forma de pago estandar a 30 dias",560,1,0,"USD"]
[{"$f":"D3414&F3414&E3414","v":"SAP ColombiaCloud Classic SAP SolutionsSAP-8008159"},{"$f":"E3414&F3414","v":"SAP-8008159Cloud Classic SAP Solutions"},null,"SAP Colombia","SAP-8008159","Cloud Classic SAP Solutions",{"$f":"D3414","v":"SAP Colombia"},"USD","N/A","SAP Litmos Training, edition for Salesforce solutions, test tenant",1,"Serv","Suscripcion","N/A","N/A","N/A","SAP-8008159","Forma de pago estandar a 30 dias",840,1,0,"USD"]
[{"$f":"D3415&F3415&E3415","v":"SAP ColombiaCloud Classic SAP SolutionsSAP-8008258-1"},{"$f":"E3415&F3415","v":"SAP-8008258-1Cloud Classic SAP Solutions"},null,"SAP Colombia","SAP-8008258-1","Cloud Classic SAP Solutions",{"$f":"D3415","v":"SAP Colombia"},"USD","N/A","SAP Litmos Training Content, edition for Salesforce solutions",1,"Serv","Suscripcion","N/A","N/A","N/A","SAP-8008258-1","Forma de pago estandar a 30 dias",7.06,1,0,"USD"]
[{"$f":"D3416&F3416&E3416","v":"SAP ColombiaCloud Classic SAP SolutionsSAP-8008258-2"},{"$f":"E3416&F3416","v":"SAP-8008258-2Cloud Classic SAP Solutions"},null,"SAP Colombia","SAP-8008258-2","Cloud Classic SAP Solutions",{"$f":"D3416","v":"SAP Colombia"},"USD","N/A","SAP Litmos Training Content, edition for Salesforce solutions",1,"Serv","Suscripcion","N/A","N/A","N/A","SAP-8008258-2","Forma de pago estandar a 30 dias",4.4800000000000004,1,0,"USD"]
[{"$f":"D3417&F3417&E3417","v":"SAP ColombiaCloud Classic SAP SolutionsSAP-8008258-3"},{"$f":"E3417&F3417","v":"SAP-8008258-3Cloud Classic SAP Solutions"},null,"SAP Colombia","SAP-8008258-3","Cloud Classic SAP Solutions",{"$f":"D3417","v":"SAP Colombia"},"USD","N/A","SAP Litmos Training Content, edition for Salesforce solutions",1,"Serv","Suscripcion","N/A","N/A","N/A","SAP-8008258-3","Forma de pago estandar a 30 dias",2.8,1,0,"USD"]
[{"$f":"D3418&F3418&E3418","v":"SAP ColombiaCloud Classic SAP SolutionsSAP-8008258-4"},{"$f":"E3418&F3418","v":"SAP-8008258-4Cloud Classic SAP Solutions"},null,"SAP Colombia","SAP-8008258-4","Cloud Classic SAP Solutions",{"$f":"D3418","v":"SAP Colombia"},"USD","N/A","SAP Litmos Training Content, edition for Salesforce solutions",1,"Serv","Suscripcion","N/A","N/A","N/A","SAP-8008258-4","Forma de pago estandar a 30 dias",2.02,1,0,"USD"]
[{"$f":"D3419&F3419&E3419","v":"SAP ColombiaCloud Classic SAP SolutionsSAP-8008258-5"},{"$f":"E3419&F3419","v":"SAP-8008258-5Cloud Classic SAP Solutions"},null,"SAP Colombia","SAP-8008258-5","Cloud Classic SAP Solutions",{"$f":"D3419","v":"SAP Colombia"},"USD","N/A","SAP Litmos Training Content, edition for Salesforce solutions",1,"Serv","Suscripcion","N/A","N/A","N/A","SAP-8008258-5","Forma de pago estandar a 30 dias",1.46,1,0,"USD"]
[{"$f":"D3420&F3420&E3420","v":"SAP ColombiaCloud Classic SAP SolutionsSAP-8008428-1"},{"$f":"E3420&F3420","v":"SAP-8008428-1Cloud Classic SAP Solutions"},null,"SAP Colombia","SAP-8008428-1","Cloud Classic SAP Solutions",{"$f":"D3420","v":"SAP Colombia"},"USD","N/A","SAP SuccessFactors Work Zone",1,"Serv","Suscripcion","N/A","N/A","N/A","SAP-8008428-1","Forma de pago estandar a 30 dias",10,1,0,"USD"]
[{"$f":"D3421&F3421&E3421","v":"SAP ColombiaCloud Classic SAP SolutionsSAP-8008428-2"},{"$f":"E3421&F3421","v":"SAP-8008428-2Cloud Classic SAP Solutions"},null,"SAP Colombia","SAP-8008428-2","Cloud Classic SAP Solutions",{"$f":"D3421","v":"SAP Colombia"},"USD","N/A","SAP SuccessFactors Work Zone",1,"Serv","Suscripcion","N/A","N/A","N/A","SAP-8008428-2","Forma de pago estandar a 30 dias",8.57,1,0,"USD"]
[{"$f":"D3422&F3422&E3422","v":"SAP ColombiaCloud Classic SAP SolutionsSAP-8008428-3"},{"$f":"E3422&F3422","v":"SAP-8008428-3Cloud Classic SAP Solutions"},null,"SAP Colombia","SAP-8008428-3","Cloud Classic SAP Solutions",{"$f":"D3422","v":"SAP Colombia"},"USD","N/A","SAP SuccessFactors Work Zone",1,"Serv","Suscripcion","N/A","N/A","N/A","SAP-8008428-3","Forma de pago estandar a 30 dias",7.79,1,0,"USD"]
[{"$f":"D3423&F3423&E3423","v":"SAP ColombiaCloud Classic SAP SolutionsSAP-8008428-4"},{"$f":"E3423&F3423","v":"SAP-8008428-4Cloud Classic SAP Solutions"},null,"SAP Colombia","SAP-8008428-4","Cloud Classic SAP Solutions",{"$f":"D3423","v":"SAP Colombia"},"USD","N/A","SAP SuccessFactors Work Zone",1,"Serv","Suscripcion","N/A","N/A","N/A","SAP-8008428-4","Forma de pago estandar a 30 dias",7.21,1,0,"USD"]
[{"$f":"D3424&F3424&E3424","v":"SAP ColombiaCloud Classic SAP SolutionsSAP-8008428-5"},{"$f":"E3424&F3424","v":"SAP-8008428-5Cloud Classic SAP Solutions"},null,"SAP Colombia","SAP-8008428-5","Cloud Classic SAP Solutions",{"$f":"D3424","v":"SAP Colombia"},"USD","N/A","SAP SuccessFactors Work Zone",1,"Serv","Suscripcion","N/A","N/A","N/A","SAP-8008428-5","Forma de pago estandar a 30 dias",6.84,1,0,"USD"]
[{"$f":"D3425&F3425&E3425","v":"SAP ColombiaCloud Classic SAP SolutionsSAP-8008428-6"},{"$f":"E3425&F3425","v":"SAP-8008428-6Cloud Classic SAP Solutions"},null,"SAP Colombia","SAP-8008428-6","Cloud Classic SAP Solutions",{"$f":"D3425","v":"SAP Colombia"},"USD","N/A","SAP SuccessFactors Work Zone",1,"Serv","Suscripcion","N/A","N/A","N/A","SAP-8008428-6","Forma de pago estandar a 30 dias",6.44,1,0,"USD"]
[{"$f":"D3426&F3426&E3426","v":"SAP ColombiaCloud Classic SAP SolutionsSAP-8008428-7"},{"$f":"E3426&F3426","v":"SAP-8008428-7Cloud Classic SAP Solutions"},null,"SAP Colombia","SAP-8008428-7","Cloud Classic SAP Solutions",{"$f":"D3426","v":"SAP Colombia"},"USD","N/A","SAP SuccessFactors Work Zone",1,"Serv","Suscripcion","N/A","N/A","N/A","SAP-8008428-7","Forma de pago estandar a 30 dias",5.96,1,0,"USD"]
[{"$f":"D3427&F3427&E3427","v":"SAP ColombiaCloud Classic SAP SolutionsSAP-8008428-8"},{"$f":"E3427&F3427","v":"SAP-8008428-8Cloud Classic SAP Solutions"},null,"SAP Colombia","SAP-8008428-8","Cloud Classic SAP Solutions",{"$f":"D3427","v":"SAP Colombia"},"USD","N/A","SAP SuccessFactors Work Zone",1,"Serv","Suscripcion","N/A","N/A","N/A","SAP-8008428-8","Forma de pago estandar a 30 dias",5.66,1,0,"USD"]
[{"$f":"D3428&F3428&E3428","v":"SAP ColombiaCloud Classic SAP SolutionsSAP-8008428-9"},{"$f":"E3428&F3428","v":"SAP-8008428-9Cloud Classic SAP Solutions"},null,"SAP Colombia","SAP-8008428-9","Cloud Classic SAP Solutions",{"$f":"D3428","v":"SAP Colombia"},"USD","N/A","SAP SuccessFactors Work Zone",1,"Serv","Suscripcion","N/A","N/A","N/A","SAP-8008428-9","Forma de pago estandar a 30 dias",5.44,1,0,"USD"]
[{"$f":"D3429&F3429&E3429","v":"SAP ColombiaCloud Classic SAP SolutionsSAP-8008642-1"},{"$f":"E3429&F3429","v":"SAP-8008642-1Cloud Classic SAP Solutions"},null,"SAP Colombia","SAP-8008642-1","Cloud Classic SAP Solutions",{"$f":"D3429","v":"SAP Colombia"},"USD","N/A","SAP SuccessFactors Employee Central payroll",1,"Serv","Suscripcion","N/A","N/A","N/A","SAP-8008642-1","Forma de pago estandar a 30 dias",5.71,1,0,"USD"]
[{"$f":"D3430&F3430&E3430","v":"SAP ColombiaCloud Classic SAP SolutionsSAP-8008642-2"},{"$f":"E3430&F3430","v":"SAP-8008642-2Cloud Classic SAP Solutions"},null,"SAP Colombia","SAP-8008642-2","Cloud Classic SAP Solutions",{"$f":"D3430","v":"SAP Colombia"},"USD","N/A","SAP SuccessFactors Employee Central payroll",1,"Serv","Suscripcion","N/A","N/A","N/A","SAP-8008642-2","Forma de pago estandar a 30 dias",5.0599999999999996,1,0,"USD"]
[{"$f":"D3431&F3431&E3431","v":"SAP ColombiaCloud Classic SAP SolutionsSAP-8008642-3"},{"$f":"E3431&F3431","v":"SAP-8008642-3Cloud Classic SAP Solutions"},null,"SAP Colombia","SAP-8008642-3","Cloud Classic SAP Solutions",{"$f":"D3431","v":"SAP Colombia"},"USD","N/A","SAP SuccessFactors Employee Central payroll",1,"Serv","Suscripcion","N/A","N/A","N/A","SAP-8008642-3","Forma de pago estandar a 30 dias",3.73,1,0,"USD"]
[{"$f":"D3432&F3432&E3432","v":"SAP ColombiaCloud Classic SAP SolutionsSAP-8008642-4"},{"$f":"E3432&F3432","v":"SAP-8008642-4Cloud Classic SAP Solutions"},null,"SAP Colombia","SAP-8008642-4","Cloud Classic SAP Solutions",{"$f":"D3432","v":"SAP Colombia"},"USD","N/A","SAP SuccessFactors Employee Central payroll",1,"Serv","Suscripcion","N/A","N/A","N/A","SAP-8008642-4","Forma de pago estandar a 30 dias",3.12,1,0,"USD"]
[{"$f":"D3433&F3433&E3433","v":"SAP ColombiaCloud Classic SAP SolutionsSAP-8008642-5"},{"$f":"E3433&F3433","v":"SAP-8008642-5Cloud Classic SAP Solutions"},null,"SAP Colombia","SAP-8008642-5","Cloud Classic SAP Solutions",{"$f":"D3433","v":"SAP Colombia"},"USD","N/A","SAP SuccessFactors Employee Central payroll",1,"Serv","Suscripcion","N/A","N/A","N/A","SAP-8008642-5","Forma de pago estandar a 30 dias",2.71,1,0,"USD"]
[{"$f":"D3434&F3434&E3434","v":"SAP ColombiaCloud Classic SAP SolutionsSAP-8008642-6"},{"$f":"E3434&F3434","v":"SAP-8008642-6Cloud Classic SAP Solutions"},null,"SAP Colombia","SAP-8008642-6","Cloud Classic SAP Solutions",{"$f":"D3434","v":"SAP Colombia"},"USD","N/A","SAP SuccessFactors Employee Central payroll",1,"Serv","Suscripcion","N/A","N/A","N/A","SAP-8008642-6","Forma de pago estandar a 30 dias",2.36,1,0,"USD"]
[{"$f":"D3435&F3435&E3435","v":"SAP ColombiaCloud Classic SAP SolutionsSAP-8008642-7"},{"$f":"E3435&F3435","v":"SAP-8008642-7Cloud Classic SAP Solutions"},null,"SAP Colombia","SAP-8008642-7","Cloud Classic SAP Solutions",{"$f":"D3435","v":"SAP Colombia"},"USD","N/A","SAP SuccessFactors Employee Central payroll",1,"Serv","Suscripcion","N/A","N/A","N/A","SAP-8008642-7","Forma de pago estandar a 30 dias",1.95,1,0,"USD"]
[{"$f":"D3436&F3436&E3436","v":"SAP ColombiaCloud Classic SAP SolutionsSAP-8008642-8"},{"$f":"E3436&F3436","v":"SAP-8008642-8Cloud Classic SAP Solutions"},null,"SAP Colombia","SAP-8008642-8","Cloud Classic SAP Solutions",{"$f":"D3436","v":"SAP Colombia"},"USD","N/A","SAP SuccessFactors Employee Central payroll",1,"Serv","Suscripcion","N/A","N/A","N/A","SAP-8008642-8","Forma de pago estandar a 30 dias",1.6,1,0,"USD"]
[{"$f":"D3437&F3437&E3437","v":"SAP ColombiaCloud Classic SAP SolutionsSAP-8008642-9"},{"$f":"E3437&F3437","v":"SAP-8008642-9Cloud Classic SAP Solutions"},null,"SAP Colombia","SAP-8008642-9","Cloud Classic SAP Solutions",{"$f":"D3437","v":"SAP Colombia"},"USD","N/A","SAP SuccessFactors Employee Central payroll",1,"Serv","Suscripcion","N/A","N/A","N/A","SAP-8008642-9","Forma de pago estandar a 30 dias",1.27,1,0,"USD"]
[{"$f":"D3438&F3438&E3438","v":"SAP ColombiaCloud Classic SAP SolutionsSAP-8008645-1"},{"$f":"E3438&F3438","v":"SAP-8008645-1Cloud Classic SAP Solutions"},null,"SAP Colombia","SAP-8008645-1","Cloud Classic SAP Solutions",{"$f":"D3438","v":"SAP Colombia"},"USD","N/A","SAP SuccessFactors Employee Central payroll, additional  nonproductive tenant",1,"Serv","Suscripcion","N/A","N/A","N/A","SAP-8008645-1","Forma de pago estandar a 30 dias",1.68,1,0,"USD"]
[{"$f":"D3439&F3439&E3439","v":"SAP ColombiaCloud Classic SAP SolutionsSAP-8008645-2"},{"$f":"E3439&F3439","v":"SAP-8008645-2Cloud Classic SAP Solutions"},null,"SAP Colombia","SAP-8008645-2","Cloud Classic SAP Solutions",{"$f":"D3439","v":"SAP Colombia"},"USD","N/A","SAP SuccessFactors Employee Central payroll, additional  nonproductive tenant",1,"Serv","Suscripcion","N/A","N/A","N/A","SAP-8008645-2","Forma de pago estandar a 30 dias",1.34,1,0,"USD"]
[{"$f":"D3440&F3440&E3440","v":"SAP ColombiaCloud Classic SAP SolutionsSAP-8008645-3"},{"$f":"E3440&F3440","v":"SAP-8008645-3Cloud Classic SAP Solutions"},null,"SAP Colombia","SAP-8008645-3","Cloud Classic SAP Solutions",{"$f":"D3440","v":"SAP Colombia"},"USD","N/A","SAP SuccessFactors Employee Central payroll, additional  nonproductive tenant",1,"Serv","Suscripcion","N/A","N/A","N/A","SAP-8008645-3","Forma de pago estandar a 30 dias",0.95,1,0,"USD"]
[{"$f":"D3441&F3441&E3441","v":"SAP ColombiaCloud Classic SAP SolutionsSAP-8008645-4"},{"$f":"E3441&F3441","v":"SAP-8008645-4Cloud Classic SAP Solutions"},null,"SAP Colombia","SAP-8008645-4","Cloud Classic SAP Solutions",{"$f":"D3441","v":"SAP Colombia"},"USD","N/A","SAP SuccessFactors Employee Central payroll, additional  nonproductive tenant",1,"Serv","Suscripcion","N/A","N/A","N/A","SAP-8008645-4","Forma de pago estandar a 30 dias",0.84,1,0,"USD"]
[{"$f":"D3442&F3442&E3442","v":"SAP ColombiaCloud Classic SAP SolutionsSAP-8008645-5"},{"$f":"E3442&F3442","v":"SAP-8008645-5Cloud Classic SAP Solutions"},null,"SAP Colombia","SAP-8008645-5","Cloud Classic SAP Solutions",{"$f":"D3442","v":"SAP Colombia"},"USD","N/A","SAP SuccessFactors Employee Central payroll, additional  nonproductive tenant",1,"Serv","Suscripcion","N/A","N/A","N/A","SAP-8008645-5","Forma de pago estandar a 30 dias",0.73,1,0,"USD"]
[{"$f":"D3443&F3443&E3443","v":"SAP ColombiaCloud Classic SAP SolutionsSAP-8008645-6"},{"$f":"E3443&F3443","v":"SAP-8008645-6Cloud Classic SAP Solutions"},null,"SAP Colombia","SAP-8008645-6","Cloud Classic SAP Solutions",{"$f":"D3443","v":"SAP Colombia"},"USD","N/A","SAP SuccessFactors Employee Central payroll, additional  nonproductive tenant",1,"Serv","Suscripcion","N/A","N/A","N/A","SAP-8008645-6","Forma de pago estandar a 30 dias",0.62,1,0,"USD"]
[{"$f":"D3444&F3444&E3444","v":"SAP ColombiaCloud Classic SAP SolutionsSAP-8008645-7"},{"$f":"E3444&F3444","v":"SAP-8008645-7Cloud Classic SAP Solutions"},null,"SAP Colombia","SAP-8008645-7","Cloud Classic SAP Solutions",{"$f":"D3444","v":"SAP Colombia"},"USD","N/A","SAP SuccessFactors Employee Central payroll, additional  nonproductive tenant",1,"Serv","Suscripcion","N/A","N/A","N/A","SAP-8008645-7","Forma de pago estandar a 30 dias",0.5,1,0,"USD"]
[{"$f":"D3445&F3445&E3445","v":"SAP ColombiaCloud Classic SAP SolutionsSAP-8008645-8"},{"$f":"E3445&F3445","v":"SAP-8008645-8Cloud Classic SAP Solutions"},null,"SAP Colombia","SAP-8008645-8","Cloud Classic SAP Solutions",{"$f":"D3445","v":"SAP Colombia"},"USD","N/A","SAP SuccessFactors Employee Central payroll, additional  nonproductive tenant",1,"Serv","Suscripcion","N/A","N/A","N/A","SAP-8008645-8","Forma de pago estandar a 30 dias",0.39,1,0,"USD"]
[{"$f":"D3446&F3446&E3446","v":"SAP ColombiaCloud Classic SAP SolutionsSAP-8008645-9"},{"$f":"E3446&F3446","v":"SAP-8008645-9Cloud Classic SAP Solutions"},null,"SAP Colombia","SAP-8008645-9","Cloud Classic SAP Solutions",{"$f":"D3446","v":"SAP Colombia"},"USD","N/A","SAP SuccessFactors Employee Central payroll, additional  nonproductive tenant",1,"Serv","Suscripcion","N/A","N/A","N/A","SAP-8008645-9","Forma de pago estandar a 30 dias",0.34,1,0,"USD"]
[{"$f":"D3447&F3447&E3447","v":"SAP ColombiaCloud Classic SAP SolutionsSAP-8008646"},{"$f":"E3447&F3447","v":"SAP-8008646Cloud Classic SAP Solutions"},null,"SAP Colombia","SAP-8008646","Cloud Classic SAP Solutions",{"$f":"D3447","v":"SAP Colombia"},"USD","N/A","SAP Integration Suite for SAP SuccessFactors solutions",1,"Serv","Suscripcion","N/A","N/A","N/A","SAP-8008646","Forma de pago estandar a 30 dias",3360,1,0,"USD"]
[{"$f":"D3448&F3448&E3448","v":"SAP ColombiaCloud Classic SAP SolutionsSAP-8008975-1"},{"$f":"E3448&F3448","v":"SAP-8008975-1Cloud Classic SAP Solutions"},null,"SAP Colombia","SAP-8008975-1","Cloud Classic SAP Solutions",{"$f":"D3448","v":"SAP Colombia"},"USD","N/A","SAP SuccessFactors Time Tracking",1,"Serv","Suscripcion","N/A","N/A","N/A","SAP-8008975-1","Forma de pago estandar a 30 dias",3.15,1,0,"USD"]
[{"$f":"D3449&F3449&E3449","v":"SAP ColombiaCloud Classic SAP SolutionsSAP-8008975-2"},{"$f":"E3449&F3449","v":"SAP-8008975-2Cloud Classic SAP Solutions"},null,"SAP Colombia","SAP-8008975-2","Cloud Classic SAP Solutions",{"$f":"D3449","v":"SAP Colombia"},"USD","N/A","SAP SuccessFactors Time Tracking",1,"Serv","Suscripcion","N/A","N/A","N/A","SAP-8008975-2","Forma de pago estandar a 30 dias",2.8,1,0,"USD"]
[{"$f":"D3450&F3450&E3450","v":"SAP ColombiaCloud Classic SAP SolutionsSAP-8008975-3"},{"$f":"E3450&F3450","v":"SAP-8008975-3Cloud Classic SAP Solutions"},null,"SAP Colombia","SAP-8008975-3","Cloud Classic SAP Solutions",{"$f":"D3450","v":"SAP Colombia"},"USD","N/A","SAP SuccessFactors Time Tracking",1,"Serv","Suscripcion","N/A","N/A","N/A","SAP-8008975-3","Forma de pago estandar a 30 dias",2.62,1,0,"USD"]
[{"$f":"D3451&F3451&E3451","v":"SAP ColombiaCloud Classic SAP SolutionsSAP-8008975-4"},{"$f":"E3451&F3451","v":"SAP-8008975-4Cloud Classic SAP Solutions"},null,"SAP Colombia","SAP-8008975-4","Cloud Classic SAP Solutions",{"$f":"D3451","v":"SAP Colombia"},"USD","N/A","SAP SuccessFactors Time Tracking",1,"Serv","Suscripcion","N/A","N/A","N/A","SAP-8008975-4","Forma de pago estandar a 30 dias",2.5,1,0,"USD"]
[{"$f":"D3452&F3452&E3452","v":"SAP ColombiaCloud Classic SAP SolutionsSAP-8008975-5"},{"$f":"E3452&F3452","v":"SAP-8008975-5Cloud Classic SAP Solutions"},null,"SAP Colombia","SAP-8008975-5","Cloud Classic SAP Solutions",{"$f":"D3452","v":"SAP Colombia"},"USD","N/A","SAP SuccessFactors Time Tracking",1,"Serv","Suscripcion","N/A","N/A","N/A","SAP-8008975-5","Forma de pago estandar a 30 dias",2.39,1,0,"USD"]
[{"$f":"D3453&F3453&E3453","v":"SAP ColombiaCloud Classic SAP SolutionsSAP-8008975-6"},{"$f":"E3453&F3453","v":"SAP-8008975-6Cloud Classic SAP Solutions"},null,"SAP Colombia","SAP-8008975-6","Cloud Classic SAP Solutions",{"$f":"D3453","v":"SAP Colombia"},"USD","N/A","SAP SuccessFactors Time Tracking",1,"Serv","Suscripcion","N/A","N/A","N/A","SAP-8008975-6","Forma de pago estandar a 30 dias",2.3199999999999998,1,0,"USD"]
[{"$f":"D3454&F3454&E3454","v":"SAP ColombiaCloud Classic SAP SolutionsSAP-8008975-7"},{"$f":"E3454&F3454","v":"SAP-8008975-7Cloud Classic SAP Solutions"},null,"SAP Colombia","SAP-8008975-7","Cloud Classic SAP Solutions",{"$f":"D3454","v":"SAP Colombia"},"USD","N/A","SAP SuccessFactors Time Tracking",1,"Serv","Suscripcion","N/A","N/A","N/A","SAP-8008975-7","Forma de pago estandar a 30 dias",2.23,1,0,"USD"]
[{"$f":"D3455&F3455&E3455","v":"SAP ColombiaCloud Classic SAP SolutionsSAP-8008975-8"},{"$f":"E3455&F3455","v":"SAP-8008975-8Cloud Classic SAP Solutions"},null,"SAP Colombia","SAP-8008975-8","Cloud Classic SAP Solutions",{"$f":"D3455","v":"SAP Colombia"},"USD","N/A","SAP SuccessFactors Time Tracking",1,"Serv","Suscripcion","N/A","N/A","N/A","SAP-8008975-8","Forma de pago estandar a 30 dias",1.99,1,0,"USD"]
[{"$f":"D3456&F3456&E3456","v":"SAP ColombiaCloud Classic SAP SolutionsSAP-8008975-9"},{"$f":"E3456&F3456","v":"SAP-8008975-9Cloud Classic SAP Solutions"},null,"SAP Colombia","SAP-8008975-9","Cloud Classic SAP Solutions",{"$f":"D3456","v":"SAP Colombia"},"USD","N/A","SAP SuccessFactors Time Tracking",1,"Serv","Suscripcion","N/A","N/A","N/A","SAP-8008975-9","Forma de pago estandar a 30 dias",1.69,1,0,"USD"]
[{"$f":"D3457&F3457&E3457","v":"SAP ColombiaCloud Classic SAP SolutionsSAP-8009237-1"},{"$f":"E3457&F3457","v":"SAP-8009237-1Cloud Classic SAP Solutions"},null,"SAP Colombia","SAP-8009237-1","Cloud Classic SAP Solutions",{"$f":"D3457","v":"SAP Colombia"},"USD","N/A","SAP Litmos Training, professional edition",1,"Serv","Suscripcion","N/A","N/A","N/A","SAP-8009237-1","Forma de pago estandar a 30 dias",5.88,1,0,"USD"]
[{"$f":"D3458&F3458&E3458","v":"SAP ColombiaCloud Classic SAP SolutionsSAP-8009237-2"},{"$f":"E3458&F3458","v":"SAP-8009237-2Cloud Classic SAP Solutions"},null,"SAP Colombia","SAP-8009237-2","Cloud Classic SAP Solutions",{"$f":"D3458","v":"SAP Colombia"},"USD","N/A","SAP Litmos Training, professional edition",1,"Serv","Suscripcion","N/A","N/A","N/A","SAP-8009237-2","Forma de pago estandar a 30 dias",3.92,1,0,"USD"]
[{"$f":"D3459&F3459&E3459","v":"SAP ColombiaCloud Classic SAP SolutionsSAP-8009237-3"},{"$f":"E3459&F3459","v":"SAP-8009237-3Cloud Classic SAP Solutions"},null,"SAP Colombia","SAP-8009237-3","Cloud Classic SAP Solutions",{"$f":"D3459","v":"SAP Colombia"},"USD","N/A","SAP Litmos Training, professional edition",1,"Serv","Suscripcion","N/A","N/A","N/A","SAP-8009237-3","Forma de pago estandar a 30 dias",2.91,1,0,"USD"]
[{"$f":"D3460&F3460&E3460","v":"SAP ColombiaCloud Classic SAP SolutionsSAP-8009237-4"},{"$f":"E3460&F3460","v":"SAP-8009237-4Cloud Classic SAP Solutions"},null,"SAP Colombia","SAP-8009237-4","Cloud Classic SAP Solutions",{"$f":"D3460","v":"SAP Colombia"},"USD","N/A","SAP Litmos Training, professional edition",1,"Serv","Suscripcion","N/A","N/A","N/A","SAP-8009237-4","Forma de pago estandar a 30 dias",2.2400000000000002,1,0,"USD"]
[{"$f":"D3461&F3461&E3461","v":"SAP ColombiaCloud Classic SAP SolutionsSAP-8009237-5"},{"$f":"E3461&F3461","v":"SAP-8009237-5Cloud Classic SAP Solutions"},null,"SAP Colombia","SAP-8009237-5","Cloud Classic SAP Solutions",{"$f":"D3461","v":"SAP Colombia"},"USD","N/A","SAP Litmos Training, professional edition",1,"Serv","Suscripcion","N/A","N/A","N/A","SAP-8009237-5","Forma de pago estandar a 30 dias",1.68,1,0,"USD"]
[{"$f":"D3462&F3462&E3462","v":"SAP ColombiaCloud Classic SAP SolutionsSAP-8009238-1"},{"$f":"E3462&F3462","v":"SAP-8009238-1Cloud Classic SAP Solutions"},null,"SAP Colombia","SAP-8009238-1","Cloud Classic SAP Solutions",{"$f":"D3462","v":"SAP Colombia"},"USD","N/A","SAP Litmos Training, professional edition for Salesforce solutions",1,"Serv","Suscripcion","N/A","N/A","N/A","SAP-8009238-1","Forma de pago estandar a 30 dias",11,1,0,"USD"]
[{"$f":"D3463&F3463&E3463","v":"SAP ColombiaCloud Classic SAP SolutionsSAP-8009238-2"},{"$f":"E3463&F3463","v":"SAP-8009238-2Cloud Classic SAP Solutions"},null,"SAP Colombia","SAP-8009238-2","Cloud Classic SAP Solutions",{"$f":"D3463","v":"SAP Colombia"},"USD","N/A","SAP Litmos Training, professional edition for Salesforce solutions",1,"Serv","Suscripcion","N/A","N/A","N/A","SAP-8009238-2","Forma de pago estandar a 30 dias",7.84,1,0,"USD"]
[{"$f":"D3464&F3464&E3464","v":"SAP ColombiaCloud Classic SAP SolutionsSAP-8009238-3"},{"$f":"E3464&F3464","v":"SAP-8009238-3Cloud Classic SAP Solutions"},null,"SAP Colombia","SAP-8009238-3","Cloud Classic SAP Solutions",{"$f":"D3464","v":"SAP Colombia"},"USD","N/A","SAP Litmos Training, professional edition for Salesforce solutions",1,"Serv","Suscripcion","N/A","N/A","N/A","SAP-8009238-3","Forma de pago estandar a 30 dias",5.94,1,0,"USD"]
[{"$f":"D3465&F3465&E3465","v":"SAP ColombiaCloud Classic SAP SolutionsSAP-8009238-4"},{"$f":"E3465&F3465","v":"SAP-8009238-4Cloud Classic SAP Solutions"},null,"SAP Colombia","SAP-8009238-4","Cloud Classic SAP Solutions",{"$f":"D3465","v":"SAP Colombia"},"USD","N/A","SAP Litmos Training, professional edition for Salesforce solutions",1,"Serv","Suscripcion","N/A","N/A","N/A","SAP-8009238-4","Forma de pago estandar a 30 dias",4.03,1,0,"USD"]
[{"$f":"D3466&F3466&E3466","v":"SAP ColombiaCloud Classic SAP SolutionsSAP-8009238-5"},{"$f":"E3466&F3466","v":"SAP-8009238-5Cloud Classic SAP Solutions"},null,"SAP Colombia","SAP-8009238-5","Cloud Classic SAP Solutions",{"$f":"D3466","v":"SAP Colombia"},"USD","N/A","SAP Litmos Training, professional edition for Salesforce solutions",1,"Serv","Suscripcion","N/A","N/A","N/A","SAP-8009238-5","Forma de pago estandar a 30 dias",2.91,1,0,"USD"]
[{"$f":"D3467&F3467&E3467","v":"SAP ColombiaCloud Classic SAP SolutionsSAP-8009239-1"},{"$f":"E3467&F3467","v":"SAP-8009239-1Cloud Classic SAP Solutions"},null,"SAP Colombia","SAP-8009239-1","Cloud Classic SAP Solutions",{"$f":"D3467","v":"SAP Colombia"},"USD","N/A","SAP Litmos Training Content, edition for ANZ Compliance",1,"Serv","Suscripcion","N/A","N/A","N/A","SAP-8009239-1","Forma de pago estandar a 30 dias",3.42,1,0,"USD"]
[{"$f":"D3468&F3468&E3468","v":"SAP ColombiaCloud Classic SAP SolutionsSAP-8009239-2"},{"$f":"E3468&F3468","v":"SAP-8009239-2Cloud Classic SAP Solutions"},null,"SAP Colombia","SAP-8009239-2","Cloud Classic SAP Solutions",{"$f":"D3468","v":"SAP Colombia"},"USD","N/A","SAP Litmos Training Content, edition for ANZ Compliance",1,"Serv","Suscripcion","N/A","N/A","N/A","SAP-8009239-2","Forma de pago estandar a 30 dias",2.58,1,0,"USD"]
[{"$f":"D3469&F3469&E3469","v":"SAP ColombiaCloud Classic SAP SolutionsSAP-8009239-3"},{"$f":"E3469&F3469","v":"SAP-8009239-3Cloud Classic SAP Solutions"},null,"SAP Colombia","SAP-8009239-3","Cloud Classic SAP Solutions",{"$f":"D3469","v":"SAP Colombia"},"USD","N/A","SAP Litmos Training Content, edition for ANZ Compliance",1,"Serv","Suscripcion","N/A","N/A","N/A","SAP-8009239-3","Forma de pago estandar a 30 dias",2.02,1,0,"USD"]
[{"$f":"D3470&F3470&E3470","v":"SAP ColombiaCloud Classic SAP SolutionsSAP-8009239-4"},{"$f":"E3470&F3470","v":"SAP-8009239-4Cloud Classic SAP Solutions"},null,"SAP Colombia","SAP-8009239-4","Cloud Classic SAP Solutions",{"$f":"D3470","v":"SAP Colombia"},"USD","N/A","SAP Litmos Training Content, edition for ANZ Compliance",1,"Serv","Suscripcion","N/A","N/A","N/A","SAP-8009239-4","Forma de pago estandar a 30 dias",1.4,1,0,"USD"]
[{"$f":"D3471&F3471&E3471","v":"SAP ColombiaCloud Classic SAP SolutionsSAP-8009239-5"},{"$f":"E3471&F3471","v":"SAP-8009239-5Cloud Classic SAP Solutions"},null,"SAP Colombia","SAP-8009239-5","Cloud Classic SAP Solutions",{"$f":"D3471","v":"SAP Colombia"},"USD","N/A","SAP Litmos Training Content, edition for ANZ Compliance",1,"Serv","Suscripcion","N/A","N/A","N/A","SAP-8009239-5","Forma de pago estandar a 30 dias",1.01,1,0,"USD"]
[{"$f":"D3472&F3472&E3472","v":"SAP ColombiaCloud Classic SAP SolutionsSAP-8009241-1"},{"$f":"E3472&F3472","v":"SAP-8009241-1Cloud Classic SAP Solutions"},null,"SAP Colombia","SAP-8009241-1","Cloud Classic SAP Solutions",{"$f":"D3472","v":"SAP Colombia"},"USD","N/A","SAP Litmos Training, additional tenant",1,"Serv","Suscripcion","N/A","N/A","N/A","SAP-8009241-1","Forma de pago estandar a 30 dias",448,1,0,"USD"]
[{"$f":"D3473&F3473&E3473","v":"SAP ColombiaCloud Classic SAP SolutionsSAP-8009241-2"},{"$f":"E3473&F3473","v":"SAP-8009241-2Cloud Classic SAP Solutions"},null,"SAP Colombia","SAP-8009241-2","Cloud Classic SAP Solutions",{"$f":"D3473","v":"SAP Colombia"},"USD","N/A","SAP Litmos Training, additional tenant",1,"Serv","Suscripcion","N/A","N/A","N/A","SAP-8009241-2","Forma de pago estandar a 30 dias",308,1,0,"USD"]
[{"$f":"D3474&F3474&E3474","v":"SAP ColombiaCloud Classic SAP SolutionsSAP-8009241-3"},{"$f":"E3474&F3474","v":"SAP-8009241-3Cloud Classic SAP Solutions"},null,"SAP Colombia","SAP-8009241-3","Cloud Classic SAP Solutions",{"$f":"D3474","v":"SAP Colombia"},"USD","N/A","SAP Litmos Training, additional tenant",1,"Serv","Suscripcion","N/A","N/A","N/A","SAP-8009241-3","Forma de pago estandar a 30 dias",213,1,0,"USD"]
[{"$f":"D3475&F3475&E3475","v":"SAP ColombiaCloud Classic SAP SolutionsSAP-8009241-4"},{"$f":"E3475&F3475","v":"SAP-8009241-4Cloud Classic SAP Solutions"},null,"SAP Colombia","SAP-8009241-4","Cloud Classic SAP Solutions",{"$f":"D3475","v":"SAP Colombia"},"USD","N/A","SAP Litmos Training, additional tenant",1,"Serv","Suscripcion","N/A","N/A","N/A","SAP-8009241-4","Forma de pago estandar a 30 dias",157,1,0,"USD"]
[{"$f":"D3476&F3476&E3476","v":"SAP ColombiaCloud Classic SAP SolutionsSAP-8009345"},{"$f":"E3476&F3476","v":"SAP-8009345Cloud Classic SAP Solutions"},null,"SAP Colombia","SAP-8009345","Cloud Classic SAP Solutions",{"$f":"D3476","v":"SAP Colombia"},"USD","N/A","SAP SuccessFactors HXM Suite, attachment storage add-on 500GB",500,"Serv","Suscripcion","N/A","N/A","N/A","SAP-8009345","Forma de pago estandar a 30 dias",550,1,0,"USD"]
[{"$f":"D3477&F3477&E3477","v":"SAP ColombiaCloud Classic SAP SolutionsSAP-8011079-1"},{"$f":"E3477&F3477","v":"SAP-8011079-1Cloud Classic SAP Solutions"},null,"SAP Colombia","SAP-8011079-1","Cloud Classic SAP Solutions",{"$f":"D3477","v":"SAP Colombia"},"USD","N/A","SAP Agent Performance Management, professional edition",1,"Serv","Suscripcion","N/A","N/A","N/A","SAP-8011079-1","Forma de pago estandar a 30 dias",65,1,0,"USD"]
[{"$f":"D3478&F3478&E3478","v":"SAP ColombiaCloud Classic SAP SolutionsSAP-8011079-2"},{"$f":"E3478&F3478","v":"SAP-8011079-2Cloud Classic SAP Solutions"},null,"SAP Colombia","SAP-8011079-2","Cloud Classic SAP Solutions",{"$f":"D3478","v":"SAP Colombia"},"USD","N/A","SAP Agent Performance Management, professional edition",1,"Serv","Suscripcion","N/A","N/A","N/A","SAP-8011079-2","Forma de pago estandar a 30 dias",36,1,0,"USD"]
[{"$f":"D3479&F3479&E3479","v":"SAP ColombiaCloud Classic SAP SolutionsSAP-8011079-3"},{"$f":"E3479&F3479","v":"SAP-8011079-3Cloud Classic SAP Solutions"},null,"SAP Colombia","SAP-8011079-3","Cloud Classic SAP Solutions",{"$f":"D3479","v":"SAP Colombia"},"USD","N/A","SAP Agent Performance Management, professional edition",1,"Serv","Suscripcion","N/A","N/A","N/A","SAP-8011079-3","Forma de pago estandar a 30 dias",21,1,0,"USD"]
[{"$f":"D3480&F3480&E3480","v":"SAP ColombiaCloud Classic SAP SolutionsSAP-8011079-4"},{"$f":"E3480&F3480","v":"SAP-8011079-4Cloud Classic SAP Solutions"},null,"SAP Colombia","SAP-8011079-4","Cloud Classic SAP Solutions",{"$f":"D3480","v":"SAP Colombia"},"USD","N/A","SAP Agent Performance Management, professional edition",1,"Serv","Suscripcion","N/A","N/A","N/A","SAP-8011079-4","Forma de pago estandar a 30 dias",17,1,0,"USD"]
[{"$f":"D3481&F3481&E3481","v":"SAP ColombiaCloud Classic SAP SolutionsSAP-8011079-5"},{"$f":"E3481&F3481","v":"SAP-8011079-5Cloud Classic SAP Solutions"},null,"SAP Colombia","SAP-8011079-5","Cloud Classic SAP Solutions",{"$f":"D3481","v":"SAP Colombia"},"USD","N/A","SAP Agent Performance Management, professional edition",1,"Serv","Suscripcion","N/A","N/A","N/A","SAP-8011079-5","Forma de pago estandar a 30 dias",11,1,0,"USD"]
[{"$f":"D3482&F3482&E3482","v":"SAP ColombiaCloud Classic SAP SolutionsSAP-8011079-6"},{"$f":"E3482&F3482","v":"SAP-8011079-6Cloud Classic SAP Solutions"},null,"SAP Colombia","SAP-8011079-6","Cloud Classic SAP Solutions",{"$f":"D3482","v":"SAP Colombia"},"USD","N/A","SAP Agent Performance Management, professional edition",1,"Serv","Suscripcion","N/A","N/A","N/A","SAP-8011079-6","Forma de pago estandar a 30 dias",6.05,1,0,"USD"]
[{"$f":"D3483&F3483&E3483","v":"SAP ColombiaCloud Classic SAP SolutionsSAP-8011079-7"},{"$f":"E3483&F3483","v":"SAP-8011079-7Cloud Classic SAP Solutions"},null,"SAP Colombia","SAP-8011079-7","Cloud Classic SAP Solutions",{"$f":"D3483","v":"SAP Colombia"},"USD","N/A","SAP Agent Performance Management, professional edition",1,"Serv","Suscripcion","N/A","N/A","N/A","SAP-8011079-7","Forma de pago estandar a 30 dias",3.92,1,0,"USD"]
[{"$f":"D3484&F3484&E3484","v":"SAP ColombiaCloud Classic SAP SolutionsSAP-8011079-8"},{"$f":"E3484&F3484","v":"SAP-8011079-8Cloud Classic SAP Solutions"},null,"SAP Colombia","SAP-8011079-8","Cloud Classic SAP Solutions",{"$f":"D3484","v":"SAP Colombia"},"USD","N/A","SAP Agent Performance Management, professional edition",1,"Serv","Suscripcion","N/A","N/A","N/A","SAP-8011079-8","Forma de pago estandar a 30 dias",3.02,1,0,"USD"]
[{"$f":"D3485&F3485&E3485","v":"SAP ColombiaCloud Classic SAP SolutionsSAP-8011079-9"},{"$f":"E3485&F3485","v":"SAP-8011079-9Cloud Classic SAP Solutions"},null,"SAP Colombia","SAP-8011079-9","Cloud Classic SAP Solutions",{"$f":"D3485","v":"SAP Colombia"},"USD","N/A","SAP Agent Performance Management, professional edition",1,"Serv","Suscripcion","N/A","N/A","N/A","SAP-8011079-9","Forma de pago estandar a 30 dias",0.78,1,0,"USD"]
[{"$f":"D3486&F3486&E3486","v":"SAP ColombiaCloud Classic SAP SolutionsSAP-8011080-1"},{"$f":"E3486&F3486","v":"SAP-8011080-1Cloud Classic SAP Solutions"},null,"SAP Colombia","SAP-8011080-1","Cloud Classic SAP Solutions",{"$f":"D3486","v":"SAP Colombia"},"USD","N/A","SAP Agent Connection",1,"Serv","Suscripcion","N/A","N/A","N/A","SAP-8011080-1","Forma de pago estandar a 30 dias",8.85,1,0,"USD"]
[{"$f":"D3487&F3487&E3487","v":"SAP ColombiaCloud Classic SAP SolutionsSAP-8011080-2"},{"$f":"E3487&F3487","v":"SAP-8011080-2Cloud Classic SAP Solutions"},null,"SAP Colombia","SAP-8011080-2","Cloud Classic SAP Solutions",{"$f":"D3487","v":"SAP Colombia"},"USD","N/A","SAP Agent Connection",1,"Serv","Suscripcion","N/A","N/A","N/A","SAP-8011080-2","Forma de pago estandar a 30 dias",4.7,1,0,"USD"]
[{"$f":"D3488&F3488&E3488","v":"SAP ColombiaCloud Classic SAP SolutionsSAP-8011080-3"},{"$f":"E3488&F3488","v":"SAP-8011080-3Cloud Classic SAP Solutions"},null,"SAP Colombia","SAP-8011080-3","Cloud Classic SAP Solutions",{"$f":"D3488","v":"SAP Colombia"},"USD","N/A","SAP Agent Connection",1,"Serv","Suscripcion","N/A","N/A","N/A","SAP-8011080-3","Forma de pago estandar a 30 dias",3.25,1,0,"USD"]
[{"$f":"D3489&F3489&E3489","v":"SAP ColombiaCloud Classic SAP SolutionsSAP-8011080-4"},{"$f":"E3489&F3489","v":"SAP-8011080-4Cloud Classic SAP Solutions"},null,"SAP Colombia","SAP-8011080-4","Cloud Classic SAP Solutions",{"$f":"D3489","v":"SAP Colombia"},"USD","N/A","SAP Agent Connection",1,"Serv","Suscripcion","N/A","N/A","N/A","SAP-8011080-4","Forma de pago estandar a 30 dias",2.8,1,0,"USD"]
[{"$f":"D3490&F3490&E3490","v":"SAP ColombiaCloud Classic SAP SolutionsSAP-8011080-5"},{"$f":"E3490&F3490","v":"SAP-8011080-5Cloud Classic SAP Solutions"},null,"SAP Colombia","SAP-8011080-5","Cloud Classic SAP Solutions",{"$f":"D3490","v":"SAP Colombia"},"USD","N/A","SAP Agent Connection",1,"Serv","Suscripcion","N/A","N/A","N/A","SAP-8011080-5","Forma de pago estandar a 30 dias",2.35,1,0,"USD"]
[{"$f":"D3491&F3491&E3491","v":"SAP ColombiaCloud Classic SAP SolutionsSAP-8011080-6"},{"$f":"E3491&F3491","v":"SAP-8011080-6Cloud Classic SAP Solutions"},null,"SAP Colombia","SAP-8011080-6","Cloud Classic SAP Solutions",{"$f":"D3491","v":"SAP Colombia"},"USD","N/A","SAP Agent Connection",1,"Serv","Suscripcion","N/A","N/A","N/A","SAP-8011080-6","Forma de pago estandar a 30 dias",2.13,1,0,"USD"]
[{"$f":"D3492&F3492&E3492","v":"SAP ColombiaCloud Classic SAP SolutionsSAP-8011080-7"},{"$f":"E3492&F3492","v":"SAP-8011080-7Cloud Classic SAP Solutions"},null,"SAP Colombia","SAP-8011080-7","Cloud Classic SAP Solutions",{"$f":"D3492","v":"SAP Colombia"},"USD","N/A","SAP Agent Connection",1,"Serv","Suscripcion","N/A","N/A","N/A","SAP-8011080-7","Forma de pago estandar a 30 dias",1.34,1,0,"USD"]
[{"$f":"D3493&F3493&E3493","v":"SAP ColombiaCloud Classic SAP SolutionsSAP-8011080-8"},{"$f":"E3493&F3493","v":"SAP-8011080-8Cloud Classic SAP Solutions"},null,"SAP Colombia","SAP-8011080-8","Cloud Classic SAP Solutions",{"$f":"D3493","v":"SAP Colombia"},"USD","N/A","SAP Agent Connection",1,"Serv","Suscripcion","N/A","N/A","N/A","SAP-8011080-8","Forma de pago estandar a 30 dias",1.01,1,0,"USD"]
[{"$f":"D3494&F3494&E3494","v":"SAP ColombiaCloud Classic SAP SolutionsSAP-8011080-9"},{"$f":"E3494&F3494","v":"SAP-8011080-9Cloud Classic SAP Solutions"},null,"SAP Colombia","SAP-8011080-9","Cloud Classic SAP Solutions",{"$f":"D3494","v":"SAP Colombia"},"USD","N/A","SAP Agent Connection",1,"Serv","Suscripcion","N/A","N/A","N/A","SAP-8011080-9","Forma de pago estandar a 30 dias",0.34,1,0,"USD"]
[{"$f":"D3495&F3495&E3495","v":"SAP ColombiaCloud Classic SAP SolutionsSAP-8011272-1"},{"$f":"E3495&F3495","v":"SAP-8011272-1Cloud Classic SAP Solutions"},null,"SAP Colombia","SAP-8011272-1","Cloud Classic SAP Solutions",{"$f":"D3495","v":"SAP Colombia"},"USD","N/A","SAP Commissions",1,"Serv","Suscripcion","N/A","N/A","N/A","SAP-8011272-1","Forma de pago estandar a 30 dias",71,1,0,"USD"]
[{"$f":"D3496&F3496&E3496","v":"SAP ColombiaCloud Classic SAP SolutionsSAP-8011272-2"},{"$f":"E3496&F3496","v":"SAP-8011272-2Cloud Classic SAP Solutions"},null,"SAP Colombia","SAP-8011272-2","Cloud Classic SAP Solutions",{"$f":"D3496","v":"SAP Colombia"},"USD","N/A","SAP Commissions",1,"Serv","Suscripcion","N/A","N/A","N/A","SAP-8011272-2","Forma de pago estandar a 30 dias",43,1,0,"USD"]
[{"$f":"D3497&F3497&E3497","v":"SAP ColombiaCloud Classic SAP SolutionsSAP-8011272-3"},{"$f":"E3497&F3497","v":"SAP-8011272-3Cloud Classic SAP Solutions"},null,"SAP Colombia","SAP-8011272-3","Cloud Classic SAP Solutions",{"$f":"D3497","v":"SAP Colombia"},"USD","N/A","SAP Commissions",1,"Serv","Suscripcion","N/A","N/A","N/A","SAP-8011272-3","Forma de pago estandar a 30 dias",28,1,0,"USD"]
[{"$f":"D3498&F3498&E3498","v":"SAP ColombiaCloud Classic SAP SolutionsSAP-8011272-4"},{"$f":"E3498&F3498","v":"SAP-8011272-4Cloud Classic SAP Solutions"},null,"SAP Colombia","SAP-8011272-4","Cloud Classic SAP Solutions",{"$f":"D3498","v":"SAP Colombia"},"USD","N/A","SAP Commissions",1,"Serv","Suscripcion","N/A","N/A","N/A","SAP-8011272-4","Forma de pago estandar a 30 dias",20,1,0,"USD"]
[{"$f":"D3499&F3499&E3499","v":"SAP ColombiaCloud Classic SAP SolutionsSAP-8011272-5"},{"$f":"E3499&F3499","v":"SAP-8011272-5Cloud Classic SAP Solutions"},null,"SAP Colombia","SAP-8011272-5","Cloud Classic SAP Solutions",{"$f":"D3499","v":"SAP Colombia"},"USD","N/A","SAP Commissions",1,"Serv","Suscripcion","N/A","N/A","N/A","SAP-8011272-5","Forma de pago estandar a 30 dias",16,1,0,"USD"]
[{"$f":"D3500&F3500&E3500","v":"SAP ColombiaCloud Classic SAP SolutionsSAP-8011272-6"},{"$f":"E3500&F3500","v":"SAP-8011272-6Cloud Classic SAP Solutions"},null,"SAP Colombia","SAP-8011272-6","Cloud Classic SAP Solutions",{"$f":"D3500","v":"SAP Colombia"},"USD","N/A","SAP Commissions",1,"Serv","Suscripcion","N/A","N/A","N/A","SAP-8011272-6","Forma de pago estandar a 30 dias",12,1,0,"USD"]
[{"$f":"D3501&F3501&E3501","v":"SAP ColombiaCloud Classic SAP SolutionsSAP-8011272-7"},{"$f":"E3501&F3501","v":"SAP-8011272-7Cloud Classic SAP Solutions"},null,"SAP Colombia","SAP-8011272-7","Cloud Classic SAP Solutions",{"$f":"D3501","v":"SAP Colombia"},"USD","N/A","SAP Commissions",1,"Serv","Suscripcion","N/A","N/A","N/A","SAP-8011272-7","Forma de pago estandar a 30 dias",9.3000000000000007,1,0,"USD"]
[{"$f":"D3502&F3502&E3502","v":"SAP ColombiaCloud Classic SAP SolutionsSAP-8011272-8"},{"$f":"E3502&F3502","v":"SAP-8011272-8Cloud Classic SAP Solutions"},null,"SAP Colombia","SAP-8011272-8","Cloud Classic SAP Solutions",{"$f":"D3502","v":"SAP Colombia"},"USD","N/A","SAP Commissions",1,"Serv","Suscripcion","N/A","N/A","N/A","SAP-8011272-8","Forma de pago estandar a 30 dias",8.4,1,0,"USD"]
[{"$f":"D3503&F3503&E3503","v":"SAP ColombiaCloud Classic SAP SolutionsSAP-8011272-9"},{"$f":"E3503&F3503","v":"SAP-8011272-9Cloud Classic SAP Solutions"},null,"SAP Colombia","SAP-8011272-9","Cloud Classic SAP Solutions",{"$f":"D3503","v":"SAP Colombia"},"USD","N/A","SAP Commissions",1,"Serv","Suscripcion","N/A","N/A","N/A","SAP-8011272-9","Forma de pago estandar a 30 dias",7.28,1,0,"USD"]
[{"$f":"D3504&F3504&E3504","v":"SAP ColombiaCloud Classic SAP SolutionsSAP-8011273-1"},{"$f":"E3504&F3504","v":"SAP-8011273-1Cloud Classic SAP Solutions"},null,"SAP Colombia","SAP-8011273-1","Cloud Classic SAP Solutions",{"$f":"D3504","v":"SAP Colombia"},"USD","N/A","SAP Territory and Quota",1,"Serv","Suscripcion","N/A","N/A","N/A","SAP-8011273-1","Forma de pago estandar a 30 dias",112,1,0,"USD"]
[{"$f":"D3505&F3505&E3505","v":"SAP ColombiaCloud Classic SAP SolutionsSAP-8011273-2"},{"$f":"E3505&F3505","v":"SAP-8011273-2Cloud Classic SAP Solutions"},null,"SAP Colombia","SAP-8011273-2","Cloud Classic SAP Solutions",{"$f":"D3505","v":"SAP Colombia"},"USD","N/A","SAP Territory and Quota",1,"Serv","Suscripcion","N/A","N/A","N/A","SAP-8011273-2","Forma de pago estandar a 30 dias",67,1,0,"USD"]
[{"$f":"D3506&F3506&E3506","v":"SAP ColombiaCloud Classic SAP SolutionsSAP-8011273-3"},{"$f":"E3506&F3506","v":"SAP-8011273-3Cloud Classic SAP Solutions"},null,"SAP Colombia","SAP-8011273-3","Cloud Classic SAP Solutions",{"$f":"D3506","v":"SAP Colombia"},"USD","N/A","SAP Territory and Quota",1,"Serv","Suscripcion","N/A","N/A","N/A","SAP-8011273-3","Forma de pago estandar a 30 dias",45,1,0,"USD"]
[{"$f":"D3507&F3507&E3507","v":"SAP ColombiaCloud Classic SAP SolutionsSAP-8011273-4"},{"$f":"E3507&F3507","v":"SAP-8011273-4Cloud Classic SAP Solutions"},null,"SAP Colombia","SAP-8011273-4","Cloud Classic SAP Solutions",{"$f":"D3507","v":"SAP Colombia"},"USD","N/A","SAP Territory and Quota",1,"Serv","Suscripcion","N/A","N/A","N/A","SAP-8011273-4","Forma de pago estandar a 30 dias",33,1,0,"USD"]
[{"$f":"D3508&F3508&E3508","v":"SAP ColombiaCloud Classic SAP SolutionsSAP-8011273-5"},{"$f":"E3508&F3508","v":"SAP-8011273-5Cloud Classic SAP Solutions"},null,"SAP Colombia","SAP-8011273-5","Cloud Classic SAP Solutions",{"$f":"D3508","v":"SAP Colombia"},"USD","N/A","SAP Territory and Quota",1,"Serv","Suscripcion","N/A","N/A","N/A","SAP-8011273-5","Forma de pago estandar a 30 dias",25,1,0,"USD"]
[{"$f":"D3509&F3509&E3509","v":"SAP ColombiaCloud Classic SAP SolutionsSAP-8011273-6"},{"$f":"E3509&F3509","v":"SAP-8011273-6Cloud Classic SAP Solutions"},null,"SAP Colombia","SAP-8011273-6","Cloud Classic SAP Solutions",{"$f":"D3509","v":"SAP Colombia"},"USD","N/A","SAP Territory and Quota",1,"Serv","Suscripcion","N/A","N/A","N/A","SAP-8011273-6","Forma de pago estandar a 30 dias",19,1,0,"USD"]
[{"$f":"D3510&F3510&E3510","v":"SAP ColombiaCloud Classic SAP SolutionsSAP-8011273-7"},{"$f":"E3510&F3510","v":"SAP-8011273-7Cloud Classic SAP Solutions"},null,"SAP Colombia","SAP-8011273-7","Cloud Classic SAP Solutions",{"$f":"D3510","v":"SAP Colombia"},"USD","N/A","SAP Territory and Quota",1,"Serv","Suscripcion","N/A","N/A","N/A","SAP-8011273-7","Forma de pago estandar a 30 dias",15,1,0,"USD"]
[{"$f":"D3511&F3511&E3511","v":"SAP ColombiaCloud Classic SAP SolutionsSAP-8011273-8"},{"$f":"E3511&F3511","v":"SAP-8011273-8Cloud Classic SAP Solutions"},null,"SAP Colombia","SAP-8011273-8","Cloud Classic SAP Solutions",{"$f":"D3511","v":"SAP Colombia"},"USD","N/A","SAP Territory and Quota",1,"Serv","Suscripcion","N/A","N/A","N/A","SAP-8011273-8","Forma de pago estandar a 30 dias",13,1,0,"USD"]
[{"$f":"D3512&F3512&E3512","v":"SAP ColombiaCloud Classic SAP SolutionsSAP-8011273-9"},{"$f":"E3512&F3512","v":"SAP-8011273-9Cloud Classic SAP Solutions"},null,"SAP Colombia","SAP-8011273-9","Cloud Classic SAP Solutions",{"$f":"D3512","v":"SAP Colombia"},"USD","N/A","SAP Territory and Quota",1,"Serv","Suscripcion","N/A","N/A","N/A","SAP-8011273-9","Forma de pago estandar a 30 dias",12,1,0,"USD"]
[{"$f":"D3513&F3513&E3513","v":"SAP ColombiaCloud Classic SAP SolutionsSAP-8011313-1"},{"$f":"E3513&F3513","v":"SAP-8011313-1Cloud Classic SAP Solutions"},null,"SAP Colombia","SAP-8011313-1","Cloud Classic SAP Solutions",{"$f":"D3513","v":"SAP Colombia"},"USD","N/A","SAP Agent Performance Management Enterprise",1,"Serv","Suscripcion","N/A","N/A","N/A","SAP-8011313-1","Forma de pago estandar a 30 dias",56,1,0,"USD"]
[{"$f":"D3514&F3514&E3514","v":"SAP ColombiaCloud Classic SAP SolutionsSAP-8011313-2"},{"$f":"E3514&F3514","v":"SAP-8011313-2Cloud Classic SAP Solutions"},null,"SAP Colombia","SAP-8011313-2","Cloud Classic SAP Solutions",{"$f":"D3514","v":"SAP Colombia"},"USD","N/A","SAP Agent Performance Management Enterprise",1,"Serv","Suscripcion","N/A","N/A","N/A","SAP-8011313-2","Forma de pago estandar a 30 dias",45,1,0,"USD"]
[{"$f":"D3515&F3515&E3515","v":"SAP ColombiaCloud Classic SAP SolutionsSAP-8011313-3"},{"$f":"E3515&F3515","v":"SAP-8011313-3Cloud Classic SAP Solutions"},null,"SAP Colombia","SAP-8011313-3","Cloud Classic SAP Solutions",{"$f":"D3515","v":"SAP Colombia"},"USD","N/A","SAP Agent Performance Management Enterprise",1,"Serv","Suscripcion","N/A","N/A","N/A","SAP-8011313-3","Forma de pago estandar a 30 dias",27,1,0,"USD"]
[{"$f":"D3516&F3516&E3516","v":"SAP ColombiaCloud Classic SAP SolutionsSAP-8011313-4"},{"$f":"E3516&F3516","v":"SAP-8011313-4Cloud Classic SAP Solutions"},null,"SAP Colombia","SAP-8011313-4","Cloud Classic SAP Solutions",{"$f":"D3516","v":"SAP Colombia"},"USD","N/A","SAP Agent Performance Management Enterprise",1,"Serv","Suscripcion","N/A","N/A","N/A","SAP-8011313-4","Forma de pago estandar a 30 dias",21,1,0,"USD"]
[{"$f":"D3517&F3517&E3517","v":"SAP ColombiaCloud Classic SAP SolutionsSAP-8011313-5"},{"$f":"E3517&F3517","v":"SAP-8011313-5Cloud Classic SAP Solutions"},null,"SAP Colombia","SAP-8011313-5","Cloud Classic SAP Solutions",{"$f":"D3517","v":"SAP Colombia"},"USD","N/A","SAP Agent Performance Management Enterprise",1,"Serv","Suscripcion","N/A","N/A","N/A","SAP-8011313-5","Forma de pago estandar a 30 dias",18,1,0,"USD"]
[{"$f":"D3518&F3518&E3518","v":"SAP ColombiaCloud Classic SAP SolutionsSAP-8011313-6"},{"$f":"E3518&F3518","v":"SAP-8011313-6Cloud Classic SAP Solutions"},null,"SAP Colombia","SAP-8011313-6","Cloud Classic SAP Solutions",{"$f":"D3518","v":"SAP Colombia"},"USD","N/A","SAP Agent Performance Management Enterprise",1,"Serv","Suscripcion","N/A","N/A","N/A","SAP-8011313-6","Forma de pago estandar a 30 dias",12,1,0,"USD"]
[{"$f":"D3519&F3519&E3519","v":"SAP ColombiaCloud Classic SAP SolutionsSAP-8011313-7"},{"$f":"E3519&F3519","v":"SAP-8011313-7Cloud Classic SAP Solutions"},null,"SAP Colombia","SAP-8011313-7","Cloud Classic SAP Solutions",{"$f":"D3519","v":"SAP Colombia"},"USD","N/A","SAP Agent Performance Management Enterprise",1,"Serv","Suscripcion","N/A","N/A","N/A","SAP-8011313-7","Forma de pago estandar a 30 dias",7.84,1,0,"USD"]
[{"$f":"D3520&F3520&E3520","v":"SAP ColombiaCloud Classic SAP SolutionsSAP-8011313-8"},{"$f":"E3520&F3520","v":"SAP-8011313-8Cloud Classic SAP Solutions"},null,"SAP Colombia","SAP-8011313-8","Cloud Classic SAP Solutions",{"$f":"D3520","v":"SAP Colombia"},"USD","N/A","SAP Agent Performance Management Enterprise",1,"Serv","Suscripcion","N/A","N/A","N/A","SAP-8011313-8","Forma de pago estandar a 30 dias",5.97,1,0,"USD"]
[{"$f":"D3521&F3521&E3521","v":"SAP ColombiaCloud Classic SAP SolutionsSAP-8011313-9"},{"$f":"E3521&F3521","v":"SAP-8011313-9Cloud Classic SAP Solutions"},null,"SAP Colombia","SAP-8011313-9","Cloud Classic SAP Solutions",{"$f":"D3521","v":"SAP Colombia"},"USD","N/A","SAP Agent Performance Management Enterprise",1,"Serv","Suscripcion","N/A","N/A","N/A","SAP-8011313-9","Forma de pago estandar a 30 dias",1.49,1,0,"USD"]
[{"$f":"D3522&F3522&E3522","v":"SAP ColombiaCloud Classic SAP SolutionsSAP-8011491-1"},{"$f":"E3522&F3522","v":"SAP-8011491-1Cloud Classic SAP Solutions"},null,"SAP Colombia","SAP-8011491-1","Cloud Classic SAP Solutions",{"$f":"D3522","v":"SAP Colombia"},"USD","N/A","SAP Litmos Training Content, enterprise edition for third-party LMS",1,"Serv","Suscripcion","N/A","N/A","N/A","SAP-8011491-1","Forma de pago estandar a 30 dias",7.06,1,0,"USD"]
[{"$f":"D3523&F3523&E3523","v":"SAP ColombiaCloud Classic SAP SolutionsSAP-8011491-2"},{"$f":"E3523&F3523","v":"SAP-8011491-2Cloud Classic SAP Solutions"},null,"SAP Colombia","SAP-8011491-2","Cloud Classic SAP Solutions",{"$f":"D3523","v":"SAP Colombia"},"USD","N/A","SAP Litmos Training Content, enterprise edition for third-party LMS",1,"Serv","Suscripcion","N/A","N/A","N/A","SAP-8011491-2","Forma de pago estandar a 30 dias",4.4800000000000004,1,0,"USD"]
[{"$f":"D3524&F3524&E3524","v":"SAP ColombiaCloud Classic SAP SolutionsSAP-8011491-3"},{"$f":"E3524&F3524","v":"SAP-8011491-3Cloud Classic SAP Solutions"},null,"SAP Colombia","SAP-8011491-3","Cloud Classic SAP Solutions",{"$f":"D3524","v":"SAP Colombia"},"USD","N/A","SAP Litmos Training Content, enterprise edition for third-party LMS",1,"Serv","Suscripcion","N/A","N/A","N/A","SAP-8011491-3","Forma de pago estandar a 30 dias",2.8,1,0,"USD"]
[{"$f":"D3525&F3525&E3525","v":"SAP ColombiaCloud Classic SAP SolutionsSAP-8011491-4"},{"$f":"E3525&F3525","v":"SAP-8011491-4Cloud Classic SAP Solutions"},null,"SAP Colombia","SAP-8011491-4","Cloud Classic SAP Solutions",{"$f":"D3525","v":"SAP Colombia"},"USD","N/A","SAP Litmos Training Content, enterprise edition for third-party LMS",1,"Serv","Suscripcion","N/A","N/A","N/A","SAP-8011491-4","Forma de pago estandar a 30 dias",2.02,1,0,"USD"]
[{"$f":"D3526&F3526&E3526","v":"SAP ColombiaCloud Classic SAP SolutionsSAP-8011491-5"},{"$f":"E3526&F3526","v":"SAP-8011491-5Cloud Classic SAP Solutions"},null,"SAP Colombia","SAP-8011491-5","Cloud Classic SAP Solutions",{"$f":"D3526","v":"SAP Colombia"},"USD","N/A","SAP Litmos Training Content, enterprise edition for third-party LMS",1,"Serv","Suscripcion","N/A","N/A","N/A","SAP-8011491-5","Forma de pago estandar a 30 dias",1.46,1,0,"USD"]
[{"$f":"D3527&F3527&E3527","v":"SAP ColombiaCloud Classic SAP SolutionsSAP-8011492-1"},{"$f":"E3527&F3527","v":"SAP-8011492-1Cloud Classic SAP Solutions"},null,"SAP Colombia","SAP-8011492-1","Cloud Classic SAP Solutions",{"$f":"D3527","v":"SAP Colombia"},"USD","N/A","SAP Litmos Training Content,edition  ANZ compliance for third-party LMS",1,"Serv","Suscripcion","N/A","N/A","N/A","SAP-8011492-1","Forma de pago estandar a 30 dias",3.42,1,0,"USD"]
[{"$f":"D3528&F3528&E3528","v":"SAP ColombiaCloud Classic SAP SolutionsSAP-8011492-2"},{"$f":"E3528&F3528","v":"SAP-8011492-2Cloud Classic SAP Solutions"},null,"SAP Colombia","SAP-8011492-2","Cloud Classic SAP Solutions",{"$f":"D3528","v":"SAP Colombia"},"USD","N/A","SAP Litmos Training Content,edition  ANZ compliance for third-party LMS",1,"Serv","Suscripcion","N/A","N/A","N/A","SAP-8011492-2","Forma de pago estandar a 30 dias",2.58,1,0,"USD"]
[{"$f":"D3529&F3529&E3529","v":"SAP ColombiaCloud Classic SAP SolutionsSAP-8011492-3"},{"$f":"E3529&F3529","v":"SAP-8011492-3Cloud Classic SAP Solutions"},null,"SAP Colombia","SAP-8011492-3","Cloud Classic SAP Solutions",{"$f":"D3529","v":"SAP Colombia"},"USD","N/A","SAP Litmos Training Content,edition  ANZ compliance for third-party LMS",1,"Serv","Suscripcion","N/A","N/A","N/A","SAP-8011492-3","Forma de pago estandar a 30 dias",2.02,1,0,"USD"]
[{"$f":"D3530&F3530&E3530","v":"SAP ColombiaCloud Classic SAP SolutionsSAP-8011492-4"},{"$f":"E3530&F3530","v":"SAP-8011492-4Cloud Classic SAP Solutions"},null,"SAP Colombia","SAP-8011492-4","Cloud Classic SAP Solutions",{"$f":"D3530","v":"SAP Colombia"},"USD","N/A","SAP Litmos Training Content,edition  ANZ compliance for third-party LMS",1,"Serv","Suscripcion","N/A","N/A","N/A","SAP-8011492-4","Forma de pago estandar a 30 dias",1.4,1,0,"USD"]
[{"$f":"D3531&F3531&E3531","v":"SAP ColombiaCloud Classic SAP SolutionsSAP-8011492-5"},{"$f":"E3531&F3531","v":"SAP-8011492-5Cloud Classic SAP Solutions"},null,"SAP Colombia","SAP-8011492-5","Cloud Classic SAP Solutions",{"$f":"D3531","v":"SAP Colombia"},"USD","N/A","SAP Litmos Training Content,edition  ANZ compliance for third-party LMS",1,"Serv","Suscripcion","N/A","N/A","N/A","SAP-8011492-5","Forma de pago estandar a 30 dias",1.01,1,0,"USD"]
[{"$f":"D3532&F3532&E3532","v":"SAP ColombiaCloud Classic SAP SolutionsSAP-8011514-1"},{"$f":"E3532&F3532","v":"SAP-8011514-1Cloud Classic SAP Solutions"},null,"SAP Colombia","SAP-8011514-1","Cloud Classic SAP Solutions",{"$f":"D3532","v":"SAP Colombia"},"USD","N/A","SAP SuccessFactors Opportunity Marketplace",1,"Serv","Suscripcion","N/A","N/A","N/A","SAP-8011514-1","Forma de pago estandar a 30 dias",2.33,1,0,"USD"]
[{"$f":"D3533&F3533&E3533","v":"SAP ColombiaCloud Classic SAP SolutionsSAP-8011514-2"},{"$f":"E3533&F3533","v":"SAP-8011514-2Cloud Classic SAP Solutions"},null,"SAP Colombia","SAP-8011514-2","Cloud Classic SAP Solutions",{"$f":"D3533","v":"SAP Colombia"},"USD","N/A","SAP SuccessFactors Opportunity Marketplace",1,"Serv","Suscripcion","N/A","N/A","N/A","SAP-8011514-2","Forma de pago estandar a 30 dias",2,1,0,"USD"]
[{"$f":"D3534&F3534&E3534","v":"SAP ColombiaCloud Classic SAP SolutionsSAP-8011514-3"},{"$f":"E3534&F3534","v":"SAP-8011514-3Cloud Classic SAP Solutions"},null,"SAP Colombia","SAP-8011514-3","Cloud Classic SAP Solutions",{"$f":"D3534","v":"SAP Colombia"},"USD","N/A","SAP SuccessFactors Opportunity Marketplace",1,"Serv","Suscripcion","N/A","N/A","N/A","SAP-8011514-3","Forma de pago estandar a 30 dias",1.58,1,0,"USD"]
[{"$f":"D3535&F3535&E3535","v":"SAP ColombiaCloud Classic SAP SolutionsSAP-8011514-4"},{"$f":"E3535&F3535","v":"SAP-8011514-4Cloud Classic SAP Solutions"},null,"SAP Colombia","SAP-8011514-4","Cloud Classic SAP Solutions",{"$f":"D3535","v":"SAP Colombia"},"USD","N/A","SAP SuccessFactors Opportunity Marketplace",1,"Serv","Suscripcion","N/A","N/A","N/A","SAP-8011514-4","Forma de pago estandar a 30 dias",1.5,1,0,"USD"]
[{"$f":"D3536&F3536&E3536","v":"SAP ColombiaCloud Classic SAP SolutionsSAP-8011514-5"},{"$f":"E3536&F3536","v":"SAP-8011514-5Cloud Classic SAP Solutions"},null,"SAP Colombia","SAP-8011514-5","Cloud Classic SAP Solutions",{"$f":"D3536","v":"SAP Colombia"},"USD","N/A","SAP SuccessFactors Opportunity Marketplace",1,"Serv","Suscripcion","N/A","N/A","N/A","SAP-8011514-5","Forma de pago estandar a 30 dias",1.42,1,0,"USD"]
[{"$f":"D3537&F3537&E3537","v":"SAP ColombiaCloud Classic SAP SolutionsSAP-8011514-6"},{"$f":"E3537&F3537","v":"SAP-8011514-6Cloud Classic SAP Solutions"},null,"SAP Colombia","SAP-8011514-6","Cloud Classic SAP Solutions",{"$f":"D3537","v":"SAP Colombia"},"USD","N/A","SAP SuccessFactors Opportunity Marketplace",1,"Serv","Suscripcion","N/A","N/A","N/A","SAP-8011514-6","Forma de pago estandar a 30 dias",1.33,1,0,"USD"]
[{"$f":"D3538&F3538&E3538","v":"SAP ColombiaCloud Classic SAP SolutionsSAP-8011514-7"},{"$f":"E3538&F3538","v":"SAP-8011514-7Cloud Classic SAP Solutions"},null,"SAP Colombia","SAP-8011514-7","Cloud Classic SAP Solutions",{"$f":"D3538","v":"SAP Colombia"},"USD","N/A","SAP SuccessFactors Opportunity Marketplace",1,"Serv","Suscripcion","N/A","N/A","N/A","SAP-8011514-7","Forma de pago estandar a 30 dias",1.25,1,0,"USD"]
[{"$f":"D3539&F3539&E3539","v":"SAP ColombiaCloud Classic SAP SolutionsSAP-8011514-8"},{"$f":"E3539&F3539","v":"SAP-8011514-8Cloud Classic SAP Solutions"},null,"SAP Colombia","SAP-8011514-8","Cloud Classic SAP Solutions",{"$f":"D3539","v":"SAP Colombia"},"USD","N/A","SAP SuccessFactors Opportunity Marketplace",1,"Serv","Suscripcion","N/A","N/A","N/A","SAP-8011514-8","Forma de pago estandar a 30 dias",1.17,1,0,"USD"]
[{"$f":"D3540&F3540&E3540","v":"SAP ColombiaCloud Classic SAP SolutionsSAP-8011514-9"},{"$f":"E3540&F3540","v":"SAP-8011514-9Cloud Classic SAP Solutions"},null,"SAP Colombia","SAP-8011514-9","Cloud Classic SAP Solutions",{"$f":"D3540","v":"SAP Colombia"},"USD","N/A","SAP SuccessFactors Opportunity Marketplace",1,"Serv","Suscripcion","N/A","N/A","N/A","SAP-8011514-9","Forma de pago estandar a 30 dias",1,1,0,"USD"]
[{"$f":"D3541&F3541&E3541","v":"SAP ColombiaCloud Classic SAP SolutionsSAP-8011733-1"},{"$f":"E3541&F3541","v":"SAP-8011733-1Cloud Classic SAP Solutions"},null,"SAP Colombia","SAP-8011733-1","Cloud Classic SAP Solutions",{"$f":"D3541","v":"SAP Colombia"},"USD","N/A","SAP SuccessFactors Performance & Goals",1,"Serv","Suscripcion","N/A","N/A","N/A","SAP-8011733-1","Forma de pago estandar a 30 dias",4.17,1,0,"USD"]
[{"$f":"D3542&F3542&E3542","v":"SAP ColombiaCloud Classic SAP SolutionsSAP-8011733-2"},{"$f":"E3542&F3542","v":"SAP-8011733-2Cloud Classic SAP Solutions"},null,"SAP Colombia","SAP-8011733-2","Cloud Classic SAP Solutions",{"$f":"D3542","v":"SAP Colombia"},"USD","N/A","SAP SuccessFactors Performance & Goals",1,"Serv","Suscripcion","N/A","N/A","N/A","SAP-8011733-2","Forma de pago estandar a 30 dias",3.58,1,0,"USD"]
[{"$f":"D3543&F3543&E3543","v":"SAP ColombiaCloud Classic SAP SolutionsSAP-8011733-3"},{"$f":"E3543&F3543","v":"SAP-8011733-3Cloud Classic SAP Solutions"},null,"SAP Colombia","SAP-8011733-3","Cloud Classic SAP Solutions",{"$f":"D3543","v":"SAP Colombia"},"USD","N/A","SAP SuccessFactors Performance & Goals",1,"Serv","Suscripcion","N/A","N/A","N/A","SAP-8011733-3","Forma de pago estandar a 30 dias",2.75,1,0,"USD"]
[{"$f":"D3544&F3544&E3544","v":"SAP ColombiaCloud Classic SAP SolutionsSAP-8011733-4"},{"$f":"E3544&F3544","v":"SAP-8011733-4Cloud Classic SAP Solutions"},null,"SAP Colombia","SAP-8011733-4","Cloud Classic SAP Solutions",{"$f":"D3544","v":"SAP Colombia"},"USD","N/A","SAP SuccessFactors Performance & Goals",1,"Serv","Suscripcion","N/A","N/A","N/A","SAP-8011733-4","Forma de pago estandar a 30 dias",2.58,1,0,"USD"]
[{"$f":"D3545&F3545&E3545","v":"SAP ColombiaCloud Classic SAP SolutionsSAP-8011733-5"},{"$f":"E3545&F3545","v":"SAP-8011733-5Cloud Classic SAP Solutions"},null,"SAP Colombia","SAP-8011733-5","Cloud Classic SAP Solutions",{"$f":"D3545","v":"SAP Colombia"},"USD","N/A","SAP SuccessFactors Performance & Goals",1,"Serv","Suscripcion","N/A","N/A","N/A","SAP-8011733-5","Forma de pago estandar a 30 dias",2.5,1,0,"USD"]
[{"$f":"D3546&F3546&E3546","v":"SAP ColombiaCloud Classic SAP SolutionsSAP-8011733-6"},{"$f":"E3546&F3546","v":"SAP-8011733-6Cloud Classic SAP Solutions"},null,"SAP Colombia","SAP-8011733-6","Cloud Classic SAP Solutions",{"$f":"D3546","v":"SAP Colombia"},"USD","N/A","SAP SuccessFactors Performance & Goals",1,"Serv","Suscripcion","N/A","N/A","N/A","SAP-8011733-6","Forma de pago estandar a 30 dias",2.42,1,0,"USD"]
[{"$f":"D3547&F3547&E3547","v":"SAP ColombiaCloud Classic SAP SolutionsSAP-8011733-7"},{"$f":"E3547&F3547","v":"SAP-8011733-7Cloud Classic SAP Solutions"},null,"SAP Colombia","SAP-8011733-7","Cloud Classic SAP Solutions",{"$f":"D3547","v":"SAP Colombia"},"USD","N/A","SAP SuccessFactors Performance & Goals",1,"Serv","Suscripcion","N/A","N/A","N/A","SAP-8011733-7","Forma de pago estandar a 30 dias",2.25,1,0,"USD"]
[{"$f":"D3548&F3548&E3548","v":"SAP ColombiaCloud Classic SAP SolutionsSAP-8011733-8"},{"$f":"E3548&F3548","v":"SAP-8011733-8Cloud Classic SAP Solutions"},null,"SAP Colombia","SAP-8011733-8","Cloud Classic SAP Solutions",{"$f":"D3548","v":"SAP Colombia"},"USD","N/A","SAP SuccessFactors Performance & Goals",1,"Serv","Suscripcion","N/A","N/A","N/A","SAP-8011733-8","Forma de pago estandar a 30 dias",2.08,1,0,"USD"]
[{"$f":"D3549&F3549&E3549","v":"SAP ColombiaCloud Classic SAP SolutionsSAP-8011733-9"},{"$f":"E3549&F3549","v":"SAP-8011733-9Cloud Classic SAP Solutions"},null,"SAP Colombia","SAP-8011733-9","Cloud Classic SAP Solutions",{"$f":"D3549","v":"SAP Colombia"},"USD","N/A","SAP SuccessFactors Performance & Goals",1,"Serv","Suscripcion","N/A","N/A","N/A","SAP-8011733-9","Forma de pago estandar a 30 dias",1.83,1,0,"USD"]
[{"$f":"D3550&F3550&E3550","v":"SAP ColombiaCloud Classic SAP SolutionsSAP-8011734-1"},{"$f":"E3550&F3550","v":"SAP-8011734-1Cloud Classic SAP Solutions"},null,"SAP Colombia","SAP-8011734-1","Cloud Classic SAP Solutions",{"$f":"D3550","v":"SAP Colombia"},"USD","N/A","SAP SuccessFactors Compensation",1,"Serv","Suscripcion","N/A","N/A","N/A","SAP-8011734-1","Forma de pago estandar a 30 dias",2.33,1,0,"USD"]
[{"$f":"D3551&F3551&E3551","v":"SAP ColombiaCloud Classic SAP SolutionsSAP-8011734-2"},{"$f":"E3551&F3551","v":"SAP-8011734-2Cloud Classic SAP Solutions"},null,"SAP Colombia","SAP-8011734-2","Cloud Classic SAP Solutions",{"$f":"D3551","v":"SAP Colombia"},"USD","N/A","SAP SuccessFactors Compensation",1,"Serv","Suscripcion","N/A","N/A","N/A","SAP-8011734-2","Forma de pago estandar a 30 dias",2,1,0,"USD"]
[{"$f":"D3552&F3552&E3552","v":"SAP ColombiaCloud Classic SAP SolutionsSAP-8011734-3"},{"$f":"E3552&F3552","v":"SAP-8011734-3Cloud Classic SAP Solutions"},null,"SAP Colombia","SAP-8011734-3","Cloud Classic SAP Solutions",{"$f":"D3552","v":"SAP Colombia"},"USD","N/A","SAP SuccessFactors Compensation",1,"Serv","Suscripcion","N/A","N/A","N/A","SAP-8011734-3","Forma de pago estandar a 30 dias",1.58,1,0,"USD"]
[{"$f":"D3553&F3553&E3553","v":"SAP ColombiaCloud Classic SAP SolutionsSAP-8011734-4"},{"$f":"E3553&F3553","v":"SAP-8011734-4Cloud Classic SAP Solutions"},null,"SAP Colombia","SAP-8011734-4","Cloud Classic SAP Solutions",{"$f":"D3553","v":"SAP Colombia"},"USD","N/A","SAP SuccessFactors Compensation",1,"Serv","Suscripcion","N/A","N/A","N/A","SAP-8011734-4","Forma de pago estandar a 30 dias",1.5,1,0,"USD"]
[{"$f":"D3554&F3554&E3554","v":"SAP ColombiaCloud Classic SAP SolutionsSAP-8011734-5"},{"$f":"E3554&F3554","v":"SAP-8011734-5Cloud Classic SAP Solutions"},null,"SAP Colombia","SAP-8011734-5","Cloud Classic SAP Solutions",{"$f":"D3554","v":"SAP Colombia"},"USD","N/A","SAP SuccessFactors Compensation",1,"Serv","Suscripcion","N/A","N/A","N/A","SAP-8011734-5","Forma de pago estandar a 30 dias",1.42,1,0,"USD"]
[{"$f":"D3555&F3555&E3555","v":"SAP ColombiaCloud Classic SAP SolutionsSAP-8011734-6"},{"$f":"E3555&F3555","v":"SAP-8011734-6Cloud Classic SAP Solutions"},null,"SAP Colombia","SAP-8011734-6","Cloud Classic SAP Solutions",{"$f":"D3555","v":"SAP Colombia"},"USD","N/A","SAP SuccessFactors Compensation",1,"Serv","Suscripcion","N/A","N/A","N/A","SAP-8011734-6","Forma de pago estandar a 30 dias",1.33,1,0,"USD"]
[{"$f":"D3556&F3556&E3556","v":"SAP ColombiaCloud Classic SAP SolutionsSAP-8011734-7"},{"$f":"E3556&F3556","v":"SAP-8011734-7Cloud Classic SAP Solutions"},null,"SAP Colombia","SAP-8011734-7","Cloud Classic SAP Solutions",{"$f":"D3556","v":"SAP Colombia"},"USD","N/A","SAP SuccessFactors Compensation",1,"Serv","Suscripcion","N/A","N/A","N/A","SAP-8011734-7","Forma de pago estandar a 30 dias",1.25,1,0,"USD"]
[{"$f":"D3557&F3557&E3557","v":"SAP ColombiaCloud Classic SAP SolutionsSAP-8011734-8"},{"$f":"E3557&F3557","v":"SAP-8011734-8Cloud Classic SAP Solutions"},null,"SAP Colombia","SAP-8011734-8","Cloud Classic SAP Solutions",{"$f":"D3557","v":"SAP Colombia"},"USD","N/A","SAP SuccessFactors Compensation",1,"Serv","Suscripcion","N/A","N/A","N/A","SAP-8011734-8","Forma de pago estandar a 30 dias",1.17,1,0,"USD"]
[{"$f":"D3558&F3558&E3558","v":"SAP ColombiaCloud Classic SAP SolutionsSAP-8011734-9"},{"$f":"E3558&F3558","v":"SAP-8011734-9Cloud Classic SAP Solutions"},null,"SAP Colombia","SAP-8011734-9","Cloud Classic SAP Solutions",{"$f":"D3558","v":"SAP Colombia"},"USD","N/A","SAP SuccessFactors Compensation",1,"Serv","Suscripcion","N/A","N/A","N/A","SAP-8011734-9","Forma de pago estandar a 30 dias",0.92,1,0,"USD"]
[{"$f":"D3559&F3559&E3559","v":"SAP ColombiaCloud Classic SAP SolutionsSAP-8011735-1"},{"$f":"E3559&F3559","v":"SAP-8011735-1Cloud Classic SAP Solutions"},null,"SAP Colombia","SAP-8011735-1","Cloud Classic SAP Solutions",{"$f":"D3559","v":"SAP Colombia"},"USD","N/A","SAP SuccessFactors Succession & Development",1,"Serv","Suscripcion","N/A","N/A","N/A","SAP-8011735-1","Forma de pago estandar a 30 dias",2.33,1,0,"USD"]
[{"$f":"D3560&F3560&E3560","v":"SAP ColombiaCloud Classic SAP SolutionsSAP-8011735-2"},{"$f":"E3560&F3560","v":"SAP-8011735-2Cloud Classic SAP Solutions"},null,"SAP Colombia","SAP-8011735-2","Cloud Classic SAP Solutions",{"$f":"D3560","v":"SAP Colombia"},"USD","N/A","SAP SuccessFactors Succession & Development",1,"Serv","Suscripcion","N/A","N/A","N/A","SAP-8011735-2","Forma de pago estandar a 30 dias",2,1,0,"USD"]
[{"$f":"D3561&F3561&E3561","v":"SAP ColombiaCloud Classic SAP SolutionsSAP-8011735-3"},{"$f":"E3561&F3561","v":"SAP-8011735-3Cloud Classic SAP Solutions"},null,"SAP Colombia","SAP-8011735-3","Cloud Classic SAP Solutions",{"$f":"D3561","v":"SAP Colombia"},"USD","N/A","SAP SuccessFactors Succession & Development",1,"Serv","Suscripcion","N/A","N/A","N/A","SAP-8011735-3","Forma de pago estandar a 30 dias",1.58,1,0,"USD"]
[{"$f":"D3562&F3562&E3562","v":"SAP ColombiaCloud Classic SAP SolutionsSAP-8011735-4"},{"$f":"E3562&F3562","v":"SAP-8011735-4Cloud Classic SAP Solutions"},null,"SAP Colombia","SAP-8011735-4","Cloud Classic SAP Solutions",{"$f":"D3562","v":"SAP Colombia"},"USD","N/A","SAP SuccessFactors Succession & Development",1,"Serv","Suscripcion","N/A","N/A","N/A","SAP-8011735-4","Forma de pago estandar a 30 dias",1.5,1,0,"USD"]
[{"$f":"D3563&F3563&E3563","v":"SAP ColombiaCloud Classic SAP SolutionsSAP-8011735-5"},{"$f":"E3563&F3563","v":"SAP-8011735-5Cloud Classic SAP Solutions"},null,"SAP Colombia","SAP-8011735-5","Cloud Classic SAP Solutions",{"$f":"D3563","v":"SAP Colombia"},"USD","N/A","SAP SuccessFactors Succession & Development",1,"Serv","Suscripcion","N/A","N/A","N/A","SAP-8011735-5","Forma de pago estandar a 30 dias",1.42,1,0,"USD"]
[{"$f":"D3564&F3564&E3564","v":"SAP ColombiaCloud Classic SAP SolutionsSAP-8011735-6"},{"$f":"E3564&F3564","v":"SAP-8011735-6Cloud Classic SAP Solutions"},null,"SAP Colombia","SAP-8011735-6","Cloud Classic SAP Solutions",{"$f":"D3564","v":"SAP Colombia"},"USD","N/A","SAP SuccessFactors Succession & Development",1,"Serv","Suscripcion","N/A","N/A","N/A","SAP-8011735-6","Forma de pago estandar a 30 dias",1.33,1,0,"USD"]
[{"$f":"D3565&F3565&E3565","v":"SAP ColombiaCloud Classic SAP SolutionsSAP-8011735-7"},{"$f":"E3565&F3565","v":"SAP-8011735-7Cloud Classic SAP Solutions"},null,"SAP Colombia","SAP-8011735-7","Cloud Classic SAP Solutions",{"$f":"D3565","v":"SAP Colombia"},"USD","N/A","SAP SuccessFactors Succession & Development",1,"Serv","Suscripcion","N/A","N/A","N/A","SAP-8011735-7","Forma de pago estandar a 30 dias",1.25,1,0,"USD"]
[{"$f":"D3566&F3566&E3566","v":"SAP ColombiaCloud Classic SAP SolutionsSAP-8011735-8"},{"$f":"E3566&F3566","v":"SAP-8011735-8Cloud Classic SAP Solutions"},null,"SAP Colombia","SAP-8011735-8","Cloud Classic SAP Solutions",{"$f":"D3566","v":"SAP Colombia"},"USD","N/A","SAP SuccessFactors Succession & Development",1,"Serv","Suscripcion","N/A","N/A","N/A","SAP-8011735-8","Forma de pago estandar a 30 dias",1.17,1,0,"USD"]
[{"$f":"D3567&F3567&E3567","v":"SAP ColombiaCloud Classic SAP SolutionsSAP-8011735-9"},{"$f":"E3567&F3567","v":"SAP-8011735-9Cloud Classic SAP Solutions"},null,"SAP Colombia","SAP-8011735-9","Cloud Classic SAP Solutions",{"$f":"D3567","v":"SAP Colombia"},"USD","N/A","SAP SuccessFactors Succession & Development",1,"Serv","Suscripcion","N/A","N/A","N/A","SAP-8011735-9","Forma de pago estandar a 30 dias",1,1,0,"USD"]
[{"$f":"D3568&F3568&E3568","v":"SAP ColombiaCloud Classic SAP SolutionsSAP-8011736-1"},{"$f":"E3568&F3568","v":"SAP-8011736-1Cloud Classic SAP Solutions"},null,"SAP Colombia","SAP-8011736-1","Cloud Classic SAP Solutions",{"$f":"D3568","v":"SAP Colombia"},"USD","N/A","SAP SuccessFactors Employee Central, core HR",1,"Serv","Suscripcion","N/A","N/A","N/A","SAP-8011736-1","Forma de pago estandar a 30 dias",6.3,1,0,"USD"]
[{"$f":"D3569&F3569&E3569","v":"SAP ColombiaCloud Classic SAP SolutionsSAP-8011736-2"},{"$f":"E3569&F3569","v":"SAP-8011736-2Cloud Classic SAP Solutions"},null,"SAP Colombia","SAP-8011736-2","Cloud Classic SAP Solutions",{"$f":"D3569","v":"SAP Colombia"},"USD","N/A","SAP SuccessFactors Employee Central, core HR",1,"Serv","Suscripcion","N/A","N/A","N/A","SAP-8011736-2","Forma de pago estandar a 30 dias",5.59,1,0,"USD"]
[{"$f":"D3570&F3570&E3570","v":"SAP ColombiaCloud Classic SAP SolutionsSAP-8011736-3"},{"$f":"E3570&F3570","v":"SAP-8011736-3Cloud Classic SAP Solutions"},null,"SAP Colombia","SAP-8011736-3","Cloud Classic SAP Solutions",{"$f":"D3570","v":"SAP Colombia"},"USD","N/A","SAP SuccessFactors Employee Central, core HR",1,"Serv","Suscripcion","N/A","N/A","N/A","SAP-8011736-3","Forma de pago estandar a 30 dias",4.37,1,0,"USD"]
[{"$f":"D3571&F3571&E3571","v":"SAP ColombiaCloud Classic SAP SolutionsSAP-8011736-4"},{"$f":"E3571&F3571","v":"SAP-8011736-4Cloud Classic SAP Solutions"},null,"SAP Colombia","SAP-8011736-4","Cloud Classic SAP Solutions",{"$f":"D3571","v":"SAP Colombia"},"USD","N/A","SAP SuccessFactors Employee Central, core HR",1,"Serv","Suscripcion","N/A","N/A","N/A","SAP-8011736-4","Forma de pago estandar a 30 dias",4.16,1,0,"USD"]
[{"$f":"D3572&F3572&E3572","v":"SAP ColombiaCloud Classic SAP SolutionsSAP-8011736-5"},{"$f":"E3572&F3572","v":"SAP-8011736-5Cloud Classic SAP Solutions"},null,"SAP Colombia","SAP-8011736-5","Cloud Classic SAP Solutions",{"$f":"D3572","v":"SAP Colombia"},"USD","N/A","SAP SuccessFactors Employee Central, core HR",1,"Serv","Suscripcion","N/A","N/A","N/A","SAP-8011736-5","Forma de pago estandar a 30 dias",3.98,1,0,"USD"]
[{"$f":"D3573&F3573&E3573","v":"SAP ColombiaCloud Classic SAP SolutionsSAP-8011736-6"},{"$f":"E3573&F3573","v":"SAP-8011736-6Cloud Classic SAP Solutions"},null,"SAP Colombia","SAP-8011736-6","Cloud Classic SAP Solutions",{"$f":"D3573","v":"SAP Colombia"},"USD","N/A","SAP SuccessFactors Employee Central, core HR",1,"Serv","Suscripcion","N/A","N/A","N/A","SAP-8011736-6","Forma de pago estandar a 30 dias",3.87,1,0,"USD"]
[{"$f":"D3574&F3574&E3574","v":"SAP ColombiaCloud Classic SAP SolutionsSAP-8011736-7"},{"$f":"E3574&F3574","v":"SAP-8011736-7Cloud Classic SAP Solutions"},null,"SAP Colombia","SAP-8011736-7","Cloud Classic SAP Solutions",{"$f":"D3574","v":"SAP Colombia"},"USD","N/A","SAP SuccessFactors Employee Central, core HR",1,"Serv","Suscripcion","N/A","N/A","N/A","SAP-8011736-7","Forma de pago estandar a 30 dias",3.72,1,0,"USD"]
[{"$f":"D3575&F3575&E3575","v":"SAP ColombiaCloud Classic SAP SolutionsSAP-8011736-8"},{"$f":"E3575&F3575","v":"SAP-8011736-8Cloud Classic SAP Solutions"},null,"SAP Colombia","SAP-8011736-8","Cloud Classic SAP Solutions",{"$f":"D3575","v":"SAP Colombia"},"USD","N/A","SAP SuccessFactors Employee Central, core HR",1,"Serv","Suscripcion","N/A","N/A","N/A","SAP-8011736-8","Forma de pago estandar a 30 dias",3.31,1,0,"USD"]
[{"$f":"D3576&F3576&E3576","v":"SAP ColombiaCloud Classic SAP SolutionsSAP-8011736-9"},{"$f":"E3576&F3576","v":"SAP-8011736-9Cloud Classic SAP Solutions"},null,"SAP Colombia","SAP-8011736-9","Cloud Classic SAP Solutions",{"$f":"D3576","v":"SAP Colombia"},"USD","N/A","SAP SuccessFactors Employee Central, core HR",1,"Serv","Suscripcion","N/A","N/A","N/A","SAP-8011736-9","Forma de pago estandar a 30 dias",2.81,1,0,"USD"]
[{"$f":"D3577&F3577&E3577","v":"SAP ColombiaCloud Classic SAP SolutionsSAP-8011737-1"},{"$f":"E3577&F3577","v":"SAP-8011737-1Cloud Classic SAP Solutions"},null,"SAP Colombia","SAP-8011737-1","Cloud Classic SAP Solutions",{"$f":"D3577","v":"SAP Colombia"},"USD","N/A","SAP SuccessFactors Employee Central, core HR, functional use",1,"Serv","Suscripcion","N/A","N/A","N/A","SAP-8011737-1","Forma de pago estandar a 30 dias",3.15,1,0,"USD"]
[{"$f":"D3578&F3578&E3578","v":"SAP ColombiaCloud Classic SAP SolutionsSAP-8011737-2"},{"$f":"E3578&F3578","v":"SAP-8011737-2Cloud Classic SAP Solutions"},null,"SAP Colombia","SAP-8011737-2","Cloud Classic SAP Solutions",{"$f":"D3578","v":"SAP Colombia"},"USD","N/A","SAP SuccessFactors Employee Central, core HR, functional use",1,"Serv","Suscripcion","N/A","N/A","N/A","SAP-8011737-2","Forma de pago estandar a 30 dias",2.79,1,0,"USD"]
[{"$f":"D3579&F3579&E3579","v":"SAP ColombiaCloud Classic SAP SolutionsSAP-8011737-3"},{"$f":"E3579&F3579","v":"SAP-8011737-3Cloud Classic SAP Solutions"},null,"SAP Colombia","SAP-8011737-3","Cloud Classic SAP Solutions",{"$f":"D3579","v":"SAP Colombia"},"USD","N/A","SAP SuccessFactors Employee Central, core HR, functional use",1,"Serv","Suscripcion","N/A","N/A","N/A","SAP-8011737-3","Forma de pago estandar a 30 dias",2.19,1,0,"USD"]
[{"$f":"D3580&F3580&E3580","v":"SAP ColombiaCloud Classic SAP SolutionsSAP-8011737-4"},{"$f":"E3580&F3580","v":"SAP-8011737-4Cloud Classic SAP Solutions"},null,"SAP Colombia","SAP-8011737-4","Cloud Classic SAP Solutions",{"$f":"D3580","v":"SAP Colombia"},"USD","N/A","SAP SuccessFactors Employee Central, core HR, functional use",1,"Serv","Suscripcion","N/A","N/A","N/A","SAP-8011737-4","Forma de pago estandar a 30 dias",2.08,1,0,"USD"]
[{"$f":"D3581&F3581&E3581","v":"SAP ColombiaCloud Classic SAP SolutionsSAP-8011737-5"},{"$f":"E3581&F3581","v":"SAP-8011737-5Cloud Classic SAP Solutions"},null,"SAP Colombia","SAP-8011737-5","Cloud Classic SAP Solutions",{"$f":"D3581","v":"SAP Colombia"},"USD","N/A","SAP SuccessFactors Employee Central, core HR, functional use",1,"Serv","Suscripcion","N/A","N/A","N/A","SAP-8011737-5","Forma de pago estandar a 30 dias",1.99,1,0,"USD"]
[{"$f":"D3582&F3582&E3582","v":"SAP ColombiaCloud Classic SAP SolutionsSAP-8011737-6"},{"$f":"E3582&F3582","v":"SAP-8011737-6Cloud Classic SAP Solutions"},null,"SAP Colombia","SAP-8011737-6","Cloud Classic SAP Solutions",{"$f":"D3582","v":"SAP Colombia"},"USD","N/A","SAP SuccessFactors Employee Central, core HR, functional use",1,"Serv","Suscripcion","N/A","N/A","N/A","SAP-8011737-6","Forma de pago estandar a 30 dias",1.94,1,0,"USD"]
[{"$f":"D3583&F3583&E3583","v":"SAP ColombiaCloud Classic SAP SolutionsSAP-8011737-7"},{"$f":"E3583&F3583","v":"SAP-8011737-7Cloud Classic SAP Solutions"},null,"SAP Colombia","SAP-8011737-7","Cloud Classic SAP Solutions",{"$f":"D3583","v":"SAP Colombia"},"USD","N/A","SAP SuccessFactors Employee Central, core HR, functional use",1,"Serv","Suscripcion","N/A","N/A","N/A","SAP-8011737-7","Forma de pago estandar a 30 dias",1.86,1,0,"USD"]
[{"$f":"D3584&F3584&E3584","v":"SAP ColombiaCloud Classic SAP SolutionsSAP-8011737-8"},{"$f":"E3584&F3584","v":"SAP-8011737-8Cloud Classic SAP Solutions"},null,"SAP Colombia","SAP-8011737-8","Cloud Classic SAP Solutions",{"$f":"D3584","v":"SAP Colombia"},"USD","N/A","SAP SuccessFactors Employee Central, core HR, functional use",1,"Serv","Suscripcion","N/A","N/A","N/A","SAP-8011737-8","Forma de pago estandar a 30 dias",1.65,1,0,"USD"]
[{"$f":"D3585&F3585&E3585","v":"SAP ColombiaCloud Classic SAP SolutionsSAP-8011737-9"},{"$f":"E3585&F3585","v":"SAP-8011737-9Cloud Classic SAP Solutions"},null,"SAP Colombia","SAP-8011737-9","Cloud Classic SAP Solutions",{"$f":"D3585","v":"SAP Colombia"},"USD","N/A","SAP SuccessFactors Employee Central, core HR, functional use",1,"Serv","Suscripcion","N/A","N/A","N/A","SAP-8011737-9","Forma de pago estandar a 30 dias",1.41,1,0,"USD"]
[{"$f":"D3586&F3586&E3586","v":"SAP ColombiaCloud Classic SAP SolutionsSAP-8011738-1"},{"$f":"E3586&F3586","v":"SAP-8011738-1Cloud Classic SAP Solutions"},null,"SAP Colombia","SAP-8011738-1","Cloud Classic SAP Solutions",{"$f":"D3586","v":"SAP Colombia"},"USD","N/A","SAP SuccessFactors Workforce Analytics",1,"Serv","Suscripcion","N/A","N/A","N/A","SAP-8011738-1","Forma de pago estandar a 30 dias",6.17,1,0,"USD"]
[{"$f":"D3587&F3587&E3587","v":"SAP ColombiaCloud Classic SAP SolutionsSAP-8011738-2"},{"$f":"E3587&F3587","v":"SAP-8011738-2Cloud Classic SAP Solutions"},null,"SAP Colombia","SAP-8011738-2","Cloud Classic SAP Solutions",{"$f":"D3587","v":"SAP Colombia"},"USD","N/A","SAP SuccessFactors Workforce Analytics",1,"Serv","Suscripcion","N/A","N/A","N/A","SAP-8011738-2","Forma de pago estandar a 30 dias",5,1,0,"USD"]
[{"$f":"D3588&F3588&E3588","v":"SAP ColombiaCloud Classic SAP SolutionsSAP-8011738-3"},{"$f":"E3588&F3588","v":"SAP-8011738-3Cloud Classic SAP Solutions"},null,"SAP Colombia","SAP-8011738-3","Cloud Classic SAP Solutions",{"$f":"D3588","v":"SAP Colombia"},"USD","N/A","SAP SuccessFactors Workforce Analytics",1,"Serv","Suscripcion","N/A","N/A","N/A","SAP-8011738-3","Forma de pago estandar a 30 dias",4,1,0,"USD"]
[{"$f":"D3589&F3589&E3589","v":"SAP ColombiaCloud Classic SAP SolutionsSAP-8011738-4"},{"$f":"E3589&F3589","v":"SAP-8011738-4Cloud Classic SAP Solutions"},null,"SAP Colombia","SAP-8011738-4","Cloud Classic SAP Solutions",{"$f":"D3589","v":"SAP Colombia"},"USD","N/A","SAP SuccessFactors Workforce Analytics",1,"Serv","Suscripcion","N/A","N/A","N/A","SAP-8011738-4","Forma de pago estandar a 30 dias",3.42,1,0,"USD"]
[{"$f":"D3590&F3590&E3590","v":"SAP ColombiaCloud Classic SAP SolutionsSAP-8011738-5"},{"$f":"E3590&F3590","v":"SAP-8011738-5Cloud Classic SAP Solutions"},null,"SAP Colombia","SAP-8011738-5","Cloud Classic SAP Solutions",{"$f":"D3590","v":"SAP Colombia"},"USD","N/A","SAP SuccessFactors Workforce Analytics",1,"Serv","Suscripcion","N/A","N/A","N/A","SAP-8011738-5","Forma de pago estandar a 30 dias",3.25,1,0,"USD"]
[{"$f":"D3591&F3591&E3591","v":"SAP ColombiaCloud Classic SAP SolutionsSAP-8011738-6"},{"$f":"E3591&F3591","v":"SAP-8011738-6Cloud Classic SAP Solutions"},null,"SAP Colombia","SAP-8011738-6","Cloud Classic SAP Solutions",{"$f":"D3591","v":"SAP Colombia"},"USD","N/A","SAP SuccessFactors Workforce Analytics",1,"Serv","Suscripcion","N/A","N/A","N/A","SAP-8011738-6","Forma de pago estandar a 30 dias",3,1,0,"USD"]
[{"$f":"D3592&F3592&E3592","v":"SAP ColombiaCloud Classic SAP SolutionsSAP-8011738-7"},{"$f":"E3592&F3592","v":"SAP-8011738-7Cloud Classic SAP Solutions"},null,"SAP Colombia","SAP-8011738-7","Cloud Classic SAP Solutions",{"$f":"D3592","v":"SAP Colombia"},"USD","N/A","SAP SuccessFactors Workforce Analytics",1,"Serv","Suscripcion","N/A","N/A","N/A","SAP-8011738-7","Forma de pago estandar a 30 dias",2.75,1,0,"USD"]
[{"$f":"D3593&F3593&E3593","v":"SAP ColombiaCloud Classic SAP SolutionsSAP-8011738-8"},{"$f":"E3593&F3593","v":"SAP-8011738-8Cloud Classic SAP Solutions"},null,"SAP Colombia","SAP-8011738-8","Cloud Classic SAP Solutions",{"$f":"D3593","v":"SAP Colombia"},"USD","N/A","SAP SuccessFactors Workforce Analytics",1,"Serv","Suscripcion","N/A","N/A","N/A","SAP-8011738-8","Forma de pago estandar a 30 dias",2.58,1,0,"USD"]
[{"$f":"D3594&F3594&E3594","v":"SAP ColombiaCloud Classic SAP SolutionsSAP-8011738-9"},{"$f":"E3594&F3594","v":"SAP-8011738-9Cloud Classic SAP Solutions"},null,"SAP Colombia","SAP-8011738-9","Cloud Classic SAP Solutions",{"$f":"D3594","v":"SAP Colombia"},"USD","N/A","SAP SuccessFactors Workforce Analytics",1,"Serv","Suscripcion","N/A","N/A","N/A","SAP-8011738-9","Forma de pago estandar a 30 dias",2.42,1,0,"USD"]
[{"$f":"D3595&F3595&E3595","v":"SAP ColombiaCloud Classic SAP SolutionsSAP-8011739-1"},{"$f":"E3595&F3595","v":"SAP-8011739-1Cloud Classic SAP Solutions"},null,"SAP Colombia","SAP-8011739-1","Cloud Classic SAP Solutions",{"$f":"D3595","v":"SAP Colombia"},"USD","N/A","SAP SuccessFactors Onboarding",1,"Serv","Suscripcion","N/A","N/A","N/A","SAP-8011739-1","Forma de pago estandar a 30 dias",1,1,0,"USD"]
[{"$f":"D3596&F3596&E3596","v":"SAP ColombiaCloud Classic SAP SolutionsSAP-8011739-2"},{"$f":"E3596&F3596","v":"SAP-8011739-2Cloud Classic SAP Solutions"},null,"SAP Colombia","SAP-8011739-2","Cloud Classic SAP Solutions",{"$f":"D3596","v":"SAP Colombia"},"USD","N/A","SAP SuccessFactors Onboarding",1,"Serv","Suscripcion","N/A","N/A","N/A","SAP-8011739-2","Forma de pago estandar a 30 dias",0.92,1,0,"USD"]
[{"$f":"D3597&F3597&E3597","v":"SAP ColombiaCloud Classic SAP SolutionsSAP-8011739-3"},{"$f":"E3597&F3597","v":"SAP-8011739-3Cloud Classic SAP Solutions"},null,"SAP Colombia","SAP-8011739-3","Cloud Classic SAP Solutions",{"$f":"D3597","v":"SAP Colombia"},"USD","N/A","SAP SuccessFactors Onboarding",1,"Serv","Suscripcion","N/A","N/A","N/A","SAP-8011739-3","Forma de pago estandar a 30 dias",0.67,1,0,"USD"]
[{"$f":"D3598&F3598&E3598","v":"SAP ColombiaCloud Classic SAP SolutionsSAP-8011739-4"},{"$f":"E3598&F3598","v":"SAP-8011739-4Cloud Classic SAP Solutions"},null,"SAP Colombia","SAP-8011739-4","Cloud Classic SAP Solutions",{"$f":"D3598","v":"SAP Colombia"},"USD","N/A","SAP SuccessFactors Onboarding",1,"Serv","Suscripcion","N/A","N/A","N/A","SAP-8011739-4","Forma de pago estandar a 30 dias",0.63,1,0,"USD"]
[{"$f":"D3599&F3599&E3599","v":"SAP ColombiaCloud Classic SAP SolutionsSAP-8011739-5"},{"$f":"E3599&F3599","v":"SAP-8011739-5Cloud Classic SAP Solutions"},null,"SAP Colombia","SAP-8011739-5","Cloud Classic SAP Solutions",{"$f":"D3599","v":"SAP Colombia"},"USD","N/A","SAP SuccessFactors Onboarding",1,"Serv","Suscripcion","N/A","N/A","N/A","SAP-8011739-5","Forma de pago estandar a 30 dias",0.59,1,0,"USD"]
[{"$f":"D3600&F3600&E3600","v":"SAP ColombiaCloud Classic SAP SolutionsSAP-8011739-6"},{"$f":"E3600&F3600","v":"SAP-8011739-6Cloud Classic SAP Solutions"},null,"SAP Colombia","SAP-8011739-6","Cloud Classic SAP Solutions",{"$f":"D3600","v":"SAP Colombia"},"USD","N/A","SAP SuccessFactors Onboarding",1,"Serv","Suscripcion","N/A","N/A","N/A","SAP-8011739-6","Forma de pago estandar a 30 dias",0.54,1,0,"USD"]
[{"$f":"D3601&F3601&E3601","v":"SAP ColombiaCloud Classic SAP SolutionsSAP-8011739-7"},{"$f":"E3601&F3601","v":"SAP-8011739-7Cloud Classic SAP Solutions"},null,"SAP Colombia","SAP-8011739-7","Cloud Classic SAP Solutions",{"$f":"D3601","v":"SAP Colombia"},"USD","N/A","SAP SuccessFactors Onboarding",1,"Serv","Suscripcion","N/A","N/A","N/A","SAP-8011739-7","Forma de pago estandar a 30 dias",0.5,1,0,"USD"]
[{"$f":"D3602&F3602&E3602","v":"SAP ColombiaCloud Classic SAP SolutionsSAP-8011739-8"},{"$f":"E3602&F3602","v":"SAP-8011739-8Cloud Classic SAP Solutions"},null,"SAP Colombia","SAP-8011739-8","Cloud Classic SAP Solutions",{"$f":"D3602","v":"SAP Colombia"},"USD","N/A","SAP SuccessFactors Onboarding",1,"Serv","Suscripcion","N/A","N/A","N/A","SAP-8011739-8","Forma de pago estandar a 30 dias",0.47,1,0,"USD"]
[{"$f":"D3603&F3603&E3603","v":"SAP ColombiaCloud Classic SAP SolutionsSAP-8011739-9"},{"$f":"E3603&F3603","v":"SAP-8011739-9Cloud Classic SAP Solutions"},null,"SAP Colombia","SAP-8011739-9","Cloud Classic SAP Solutions",{"$f":"D3603","v":"SAP Colombia"},"USD","N/A","SAP SuccessFactors Onboarding",1,"Serv","Suscripcion","N/A","N/A","N/A","SAP-8011739-9","Forma de pago estandar a 30 dias",0.43,1,0,"USD"]
[{"$f":"D3604&F3604&E3604","v":"SAP ColombiaCloud Classic SAP SolutionsSAP-8011740-1"},{"$f":"E3604&F3604","v":"SAP-8011740-1Cloud Classic SAP Solutions"},null,"SAP Colombia","SAP-8011740-1","Cloud Classic SAP Solutions",{"$f":"D3604","v":"SAP Colombia"},"USD","N/A","SAP SuccessFactors Recruiting",1,"Serv","Suscripcion","N/A","N/A","N/A","SAP-8011740-1","Forma de pago estandar a 30 dias",3,1,0,"USD"]
[{"$f":"D3605&F3605&E3605","v":"SAP ColombiaCloud Classic SAP SolutionsSAP-8011740-2"},{"$f":"E3605&F3605","v":"SAP-8011740-2Cloud Classic SAP Solutions"},null,"SAP Colombia","SAP-8011740-2","Cloud Classic SAP Solutions",{"$f":"D3605","v":"SAP Colombia"},"USD","N/A","SAP SuccessFactors Recruiting",1,"Serv","Suscripcion","N/A","N/A","N/A","SAP-8011740-2","Forma de pago estandar a 30 dias",2.75,1,0,"USD"]
[{"$f":"D3606&F3606&E3606","v":"SAP ColombiaCloud Classic SAP SolutionsSAP-8011740-3"},{"$f":"E3606&F3606","v":"SAP-8011740-3Cloud Classic SAP Solutions"},null,"SAP Colombia","SAP-8011740-3","Cloud Classic SAP Solutions",{"$f":"D3606","v":"SAP Colombia"},"USD","N/A","SAP SuccessFactors Recruiting",1,"Serv","Suscripcion","N/A","N/A","N/A","SAP-8011740-3","Forma de pago estandar a 30 dias",2.42,1,0,"USD"]
[{"$f":"D3607&F3607&E3607","v":"SAP ColombiaCloud Classic SAP SolutionsSAP-8011740-4"},{"$f":"E3607&F3607","v":"SAP-8011740-4Cloud Classic SAP Solutions"},null,"SAP Colombia","SAP-8011740-4","Cloud Classic SAP Solutions",{"$f":"D3607","v":"SAP Colombia"},"USD","N/A","SAP SuccessFactors Recruiting",1,"Serv","Suscripcion","N/A","N/A","N/A","SAP-8011740-4","Forma de pago estandar a 30 dias",2.08,1,0,"USD"]
[{"$f":"D3608&F3608&E3608","v":"SAP ColombiaCloud Classic SAP SolutionsSAP-8011740-5"},{"$f":"E3608&F3608","v":"SAP-8011740-5Cloud Classic SAP Solutions"},null,"SAP Colombia","SAP-8011740-5","Cloud Classic SAP Solutions",{"$f":"D3608","v":"SAP Colombia"},"USD","N/A","SAP SuccessFactors Recruiting",1,"Serv","Suscripcion","N/A","N/A","N/A","SAP-8011740-5","Forma de pago estandar a 30 dias",1.83,1,0,"USD"]
[{"$f":"D3609&F3609&E3609","v":"SAP ColombiaCloud Classic SAP SolutionsSAP-8011740-6"},{"$f":"E3609&F3609","v":"SAP-8011740-6Cloud Classic SAP Solutions"},null,"SAP Colombia","SAP-8011740-6","Cloud Classic SAP Solutions",{"$f":"D3609","v":"SAP Colombia"},"USD","N/A","SAP SuccessFactors Recruiting",1,"Serv","Suscripcion","N/A","N/A","N/A","SAP-8011740-6","Forma de pago estandar a 30 dias",1.5,1,0,"USD"]
[{"$f":"D3610&F3610&E3610","v":"SAP ColombiaCloud Classic SAP SolutionsSAP-8011740-7"},{"$f":"E3610&F3610","v":"SAP-8011740-7Cloud Classic SAP Solutions"},null,"SAP Colombia","SAP-8011740-7","Cloud Classic SAP Solutions",{"$f":"D3610","v":"SAP Colombia"},"USD","N/A","SAP SuccessFactors Recruiting",1,"Serv","Suscripcion","N/A","N/A","N/A","SAP-8011740-7","Forma de pago estandar a 30 dias",1.25,1,0,"USD"]
[{"$f":"D3611&F3611&E3611","v":"SAP ColombiaCloud Classic SAP SolutionsSAP-8011740-8"},{"$f":"E3611&F3611","v":"SAP-8011740-8Cloud Classic SAP Solutions"},null,"SAP Colombia","SAP-8011740-8","Cloud Classic SAP Solutions",{"$f":"D3611","v":"SAP Colombia"},"USD","N/A","SAP SuccessFactors Recruiting",1,"Serv","Suscripcion","N/A","N/A","N/A","SAP-8011740-8","Forma de pago estandar a 30 dias",1.17,1,0,"USD"]
[{"$f":"D3612&F3612&E3612","v":"SAP ColombiaCloud Classic SAP SolutionsSAP-8011740-9"},{"$f":"E3612&F3612","v":"SAP-8011740-9Cloud Classic SAP Solutions"},null,"SAP Colombia","SAP-8011740-9","Cloud Classic SAP Solutions",{"$f":"D3612","v":"SAP Colombia"},"USD","N/A","SAP SuccessFactors Recruiting",1,"Serv","Suscripcion","N/A","N/A","N/A","SAP-8011740-9","Forma de pago estandar a 30 dias",1.08,1,0,"USD"]
[{"$f":"D3613&F3613&E3613","v":"SAP ColombiaCloud Classic SAP SolutionsSAP-8011741-1"},{"$f":"E3613&F3613","v":"SAP-8011741-1Cloud Classic SAP Solutions"},null,"SAP Colombia","SAP-8011741-1","Cloud Classic SAP Solutions",{"$f":"D3613","v":"SAP Colombia"},"USD","N/A","SAP SuccessFactors Learning",1,"Serv","Suscripcion","N/A","N/A","N/A","SAP-8011741-1","Forma de pago estandar a 30 dias",2.17,1,0,"USD"]
[{"$f":"D3614&F3614&E3614","v":"SAP ColombiaCloud Classic SAP SolutionsSAP-8011741-2"},{"$f":"E3614&F3614","v":"SAP-8011741-2Cloud Classic SAP Solutions"},null,"SAP Colombia","SAP-8011741-2","Cloud Classic SAP Solutions",{"$f":"D3614","v":"SAP Colombia"},"USD","N/A","SAP SuccessFactors Learning",1,"Serv","Suscripcion","N/A","N/A","N/A","SAP-8011741-2","Forma de pago estandar a 30 dias",2.08,1,0,"USD"]
[{"$f":"D3615&F3615&E3615","v":"SAP ColombiaCloud Classic SAP SolutionsSAP-8011741-3"},{"$f":"E3615&F3615","v":"SAP-8011741-3Cloud Classic SAP Solutions"},null,"SAP Colombia","SAP-8011741-3","Cloud Classic SAP Solutions",{"$f":"D3615","v":"SAP Colombia"},"USD","N/A","SAP SuccessFactors Learning",1,"Serv","Suscripcion","N/A","N/A","N/A","SAP-8011741-3","Forma de pago estandar a 30 dias",1.67,1,0,"USD"]
[{"$f":"D3616&F3616&E3616","v":"SAP ColombiaCloud Classic SAP SolutionsSAP-8011741-4"},{"$f":"E3616&F3616","v":"SAP-8011741-4Cloud Classic SAP Solutions"},null,"SAP Colombia","SAP-8011741-4","Cloud Classic SAP Solutions",{"$f":"D3616","v":"SAP Colombia"},"USD","N/A","SAP SuccessFactors Learning",1,"Serv","Suscripcion","N/A","N/A","N/A","SAP-8011741-4","Forma de pago estandar a 30 dias",1.42,1,0,"USD"]
[{"$f":"D3617&F3617&E3617","v":"SAP ColombiaCloud Classic SAP SolutionsSAP-8011741-5"},{"$f":"E3617&F3617","v":"SAP-8011741-5Cloud Classic SAP Solutions"},null,"SAP Colombia","SAP-8011741-5","Cloud Classic SAP Solutions",{"$f":"D3617","v":"SAP Colombia"},"USD","N/A","SAP SuccessFactors Learning",1,"Serv","Suscripcion","N/A","N/A","N/A","SAP-8011741-5","Forma de pago estandar a 30 dias",1.17,1,0,"USD"]
[{"$f":"D3618&F3618&E3618","v":"SAP ColombiaCloud Classic SAP SolutionsSAP-8011741-6"},{"$f":"E3618&F3618","v":"SAP-8011741-6Cloud Classic SAP Solutions"},null,"SAP Colombia","SAP-8011741-6","Cloud Classic SAP Solutions",{"$f":"D3618","v":"SAP Colombia"},"USD","N/A","SAP SuccessFactors Learning",1,"Serv","Suscripcion","N/A","N/A","N/A","SAP-8011741-6","Forma de pago estandar a 30 dias",1,1,0,"USD"]
[{"$f":"D3619&F3619&E3619","v":"SAP ColombiaCloud Classic SAP SolutionsSAP-8011741-7"},{"$f":"E3619&F3619","v":"SAP-8011741-7Cloud Classic SAP Solutions"},null,"SAP Colombia","SAP-8011741-7","Cloud Classic SAP Solutions",{"$f":"D3619","v":"SAP Colombia"},"USD","N/A","SAP SuccessFactors Learning",1,"Serv","Suscripcion","N/A","N/A","N/A","SAP-8011741-7","Forma de pago estandar a 30 dias",0.92,1,0,"USD"]
[{"$f":"D3620&F3620&E3620","v":"SAP ColombiaCloud Classic SAP SolutionsSAP-8011741-8"},{"$f":"E3620&F3620","v":"SAP-8011741-8Cloud Classic SAP Solutions"},null,"SAP Colombia","SAP-8011741-8","Cloud Classic SAP Solutions",{"$f":"D3620","v":"SAP Colombia"},"USD","N/A","SAP SuccessFactors Learning",1,"Serv","Suscripcion","N/A","N/A","N/A","SAP-8011741-8","Forma de pago estandar a 30 dias",0.83,1,0,"USD"]
[{"$f":"D3621&F3621&E3621","v":"SAP ColombiaCloud Classic SAP SolutionsSAP-8011741-9"},{"$f":"E3621&F3621","v":"SAP-8011741-9Cloud Classic SAP Solutions"},null,"SAP Colombia","SAP-8011741-9","Cloud Classic SAP Solutions",{"$f":"D3621","v":"SAP Colombia"},"USD","N/A","SAP SuccessFactors Learning",1,"Serv","Suscripcion","N/A","N/A","N/A","SAP-8011741-9","Forma de pago estandar a 30 dias",0.67,1,0,"USD"]
[{"$f":"D3622&F3622&E3622","v":"SAP ColombiaCloud Classic SAP SolutionsSAP-8011742-1"},{"$f":"E3622&F3622","v":"SAP-8011742-1Cloud Classic SAP Solutions"},null,"SAP Colombia","SAP-8011742-1","Cloud Classic SAP Solutions",{"$f":"D3622","v":"SAP Colombia"},"USD","N/A","SAP SuccessFactors Learning, functional use",1,"Serv","Suscripcion","N/A","N/A","N/A","SAP-8011742-1","Forma de pago estandar a 30 dias",1.08,1,0,"USD"]
[{"$f":"D3623&F3623&E3623","v":"SAP ColombiaCloud Classic SAP SolutionsSAP-8011742-2"},{"$f":"E3623&F3623","v":"SAP-8011742-2Cloud Classic SAP Solutions"},null,"SAP Colombia","SAP-8011742-2","Cloud Classic SAP Solutions",{"$f":"D3623","v":"SAP Colombia"},"USD","N/A","SAP SuccessFactors Learning, functional use",1,"Serv","Suscripcion","N/A","N/A","N/A","SAP-8011742-2","Forma de pago estandar a 30 dias",1,1,0,"USD"]
[{"$f":"D3624&F3624&E3624","v":"SAP ColombiaCloud Classic SAP SolutionsSAP-8011742-3"},{"$f":"E3624&F3624","v":"SAP-8011742-3Cloud Classic SAP Solutions"},null,"SAP Colombia","SAP-8011742-3","Cloud Classic SAP Solutions",{"$f":"D3624","v":"SAP Colombia"},"USD","N/A","SAP SuccessFactors Learning, functional use",1,"Serv","Suscripcion","N/A","N/A","N/A","SAP-8011742-3","Forma de pago estandar a 30 dias",0.83,1,0,"USD"]
[{"$f":"D3625&F3625&E3625","v":"SAP ColombiaCloud Classic SAP SolutionsSAP-8011742-4"},{"$f":"E3625&F3625","v":"SAP-8011742-4Cloud Classic SAP Solutions"},null,"SAP Colombia","SAP-8011742-4","Cloud Classic SAP Solutions",{"$f":"D3625","v":"SAP Colombia"},"USD","N/A","SAP SuccessFactors Learning, functional use",1,"Serv","Suscripcion","N/A","N/A","N/A","SAP-8011742-4","Forma de pago estandar a 30 dias",0.7,1,0,"USD"]
[{"$f":"D3626&F3626&E3626","v":"SAP ColombiaCloud Classic SAP SolutionsSAP-8011742-5"},{"$f":"E3626&F3626","v":"SAP-8011742-5Cloud Classic SAP Solutions"},null,"SAP Colombia","SAP-8011742-5","Cloud Classic SAP Solutions",{"$f":"D3626","v":"SAP Colombia"},"USD","N/A","SAP SuccessFactors Learning, functional use",1,"Serv","Suscripcion","N/A","N/A","N/A","SAP-8011742-5","Forma de pago estandar a 30 dias",0.57999999999999996,1,0,"USD"]
[{"$f":"D3627&F3627&E3627","v":"SAP ColombiaCloud Classic SAP SolutionsSAP-8011742-6"},{"$f":"E3627&F3627","v":"SAP-8011742-6Cloud Classic SAP Solutions"},null,"SAP Colombia","SAP-8011742-6","Cloud Classic SAP Solutions",{"$f":"D3627","v":"SAP Colombia"},"USD","N/A","SAP SuccessFactors Learning, functional use",1,"Serv","Suscripcion","N/A","N/A","N/A","SAP-8011742-6","Forma de pago estandar a 30 dias",0.5,1,0,"USD"]
[{"$f":"D3628&F3628&E3628","v":"SAP ColombiaCloud Classic SAP SolutionsSAP-8011742-7"},{"$f":"E3628&F3628","v":"SAP-8011742-7Cloud Classic SAP Solutions"},null,"SAP Colombia","SAP-8011742-7","Cloud Classic SAP Solutions",{"$f":"D3628","v":"SAP Colombia"},"USD","N/A","SAP SuccessFactors Learning, functional use",1,"Serv","Suscripcion","N/A","N/A","N/A","SAP-8011742-7","Forma de pago estandar a 30 dias",0.47,1,0,"USD"]
[{"$f":"D3629&F3629&E3629","v":"SAP ColombiaCloud Classic SAP SolutionsSAP-8011742-8"},{"$f":"E3629&F3629","v":"SAP-8011742-8Cloud Classic SAP Solutions"},null,"SAP Colombia","SAP-8011742-8","Cloud Classic SAP Solutions",{"$f":"D3629","v":"SAP Colombia"},"USD","N/A","SAP SuccessFactors Learning, functional use",1,"Serv","Suscripcion","N/A","N/A","N/A","SAP-8011742-8","Forma de pago estandar a 30 dias",0.42,1,0,"USD"]
[{"$f":"D3630&F3630&E3630","v":"SAP ColombiaCloud Classic SAP SolutionsSAP-8011742-9"},{"$f":"E3630&F3630","v":"SAP-8011742-9Cloud Classic SAP Solutions"},null,"SAP Colombia","SAP-8011742-9","Cloud Classic SAP Solutions",{"$f":"D3630","v":"SAP Colombia"},"USD","N/A","SAP SuccessFactors Learning, functional use",1,"Serv","Suscripcion","N/A","N/A","N/A","SAP-8011742-9","Forma de pago estandar a 30 dias",0.38,1,0,"USD"]
[{"$f":"D3631&F3631&E3631","v":"SAP ColombiaCloud Classic SAP SolutionsSAP-8011743-1"},{"$f":"E3631&F3631","v":"SAP-8011743-1Cloud Classic SAP Solutions"},null,"SAP Colombia","SAP-8011743-1","Cloud Classic SAP Solutions",{"$f":"D3631","v":"SAP Colombia"},"USD","N/A","SAP SuccessFactors Validated Learning",1,"Serv","Suscripcion","N/A","N/A","N/A","SAP-8011743-1","Forma de pago estandar a 30 dias",2.67,1,0,"USD"]
[{"$f":"D3632&F3632&E3632","v":"SAP ColombiaCloud Classic SAP SolutionsSAP-8011743-2"},{"$f":"E3632&F3632","v":"SAP-8011743-2Cloud Classic SAP Solutions"},null,"SAP Colombia","SAP-8011743-2","Cloud Classic SAP Solutions",{"$f":"D3632","v":"SAP Colombia"},"USD","N/A","SAP SuccessFactors Validated Learning",1,"Serv","Suscripcion","N/A","N/A","N/A","SAP-8011743-2","Forma de pago estandar a 30 dias",2.58,1,0,"USD"]
[{"$f":"D3633&F3633&E3633","v":"SAP ColombiaCloud Classic SAP SolutionsSAP-8011743-3"},{"$f":"E3633&F3633","v":"SAP-8011743-3Cloud Classic SAP Solutions"},null,"SAP Colombia","SAP-8011743-3","Cloud Classic SAP Solutions",{"$f":"D3633","v":"SAP Colombia"},"USD","N/A","SAP SuccessFactors Validated Learning",1,"Serv","Suscripcion","N/A","N/A","N/A","SAP-8011743-3","Forma de pago estandar a 30 dias",2,1,0,"USD"]
[{"$f":"D3634&F3634&E3634","v":"SAP ColombiaCloud Classic SAP SolutionsSAP-8011743-4"},{"$f":"E3634&F3634","v":"SAP-8011743-4Cloud Classic SAP Solutions"},null,"SAP Colombia","SAP-8011743-4","Cloud Classic SAP Solutions",{"$f":"D3634","v":"SAP Colombia"},"USD","N/A","SAP SuccessFactors Validated Learning",1,"Serv","Suscripcion","N/A","N/A","N/A","SAP-8011743-4","Forma de pago estandar a 30 dias",1.75,1,0,"USD"]
[{"$f":"D3635&F3635&E3635","v":"SAP ColombiaCloud Classic SAP SolutionsSAP-8011743-5"},{"$f":"E3635&F3635","v":"SAP-8011743-5Cloud Classic SAP Solutions"},null,"SAP Colombia","SAP-8011743-5","Cloud Classic SAP Solutions",{"$f":"D3635","v":"SAP Colombia"},"USD","N/A","SAP SuccessFactors Validated Learning",1,"Serv","Suscripcion","N/A","N/A","N/A","SAP-8011743-5","Forma de pago estandar a 30 dias",1.42,1,0,"USD"]
[{"$f":"D3636&F3636&E3636","v":"SAP ColombiaCloud Classic SAP SolutionsSAP-8011743-6"},{"$f":"E3636&F3636","v":"SAP-8011743-6Cloud Classic SAP Solutions"},null,"SAP Colombia","SAP-8011743-6","Cloud Classic SAP Solutions",{"$f":"D3636","v":"SAP Colombia"},"USD","N/A","SAP SuccessFactors Validated Learning",1,"Serv","Suscripcion","N/A","N/A","N/A","SAP-8011743-6","Forma de pago estandar a 30 dias",1.25,1,0,"USD"]
[{"$f":"D3637&F3637&E3637","v":"SAP ColombiaCloud Classic SAP SolutionsSAP-8011743-7"},{"$f":"E3637&F3637","v":"SAP-8011743-7Cloud Classic SAP Solutions"},null,"SAP Colombia","SAP-8011743-7","Cloud Classic SAP Solutions",{"$f":"D3637","v":"SAP Colombia"},"USD","N/A","SAP SuccessFactors Validated Learning",1,"Serv","Suscripcion","N/A","N/A","N/A","SAP-8011743-7","Forma de pago estandar a 30 dias",1.17,1,0,"USD"]
[{"$f":"D3638&F3638&E3638","v":"SAP ColombiaCloud Classic SAP SolutionsSAP-8011743-8"},{"$f":"E3638&F3638","v":"SAP-8011743-8Cloud Classic SAP Solutions"},null,"SAP Colombia","SAP-8011743-8","Cloud Classic SAP Solutions",{"$f":"D3638","v":"SAP Colombia"},"USD","N/A","SAP SuccessFactors Validated Learning",1,"Serv","Suscripcion","N/A","N/A","N/A","SAP-8011743-8","Forma de pago estandar a 30 dias",1.08,1,0,"USD"]
[{"$f":"D3639&F3639&E3639","v":"SAP ColombiaCloud Classic SAP SolutionsSAP-8011743-9"},{"$f":"E3639&F3639","v":"SAP-8011743-9Cloud Classic SAP Solutions"},null,"SAP Colombia","SAP-8011743-9","Cloud Classic SAP Solutions",{"$f":"D3639","v":"SAP Colombia"},"USD","N/A","SAP SuccessFactors Validated Learning",1,"Serv","Suscripcion","N/A","N/A","N/A","SAP-8011743-9","Forma de pago estandar a 30 dias",1,1,0,"USD"]
[{"$f":"D3640&F3640&E3640","v":"SAP ColombiaCloud Classic SAP SolutionsSAP-8011744-1"},{"$f":"E3640&F3640","v":"SAP-8011744-1Cloud Classic SAP Solutions"},null,"SAP Colombia","SAP-8011744-1","Cloud Classic SAP Solutions",{"$f":"D3640","v":"SAP Colombia"},"USD","N/A","experience management bundle for succession and development",10,"Serv","Suscripcion","N/A","N/A","N/A","SAP-8011744-1","Forma de pago estandar a 30 dias",28,1,0,"USD"]
[{"$f":"D3641&F3641&E3641","v":"SAP ColombiaCloud Classic SAP SolutionsSAP-8011744-2"},{"$f":"E3641&F3641","v":"SAP-8011744-2Cloud Classic SAP Solutions"},null,"SAP Colombia","SAP-8011744-2","Cloud Classic SAP Solutions",{"$f":"D3641","v":"SAP Colombia"},"USD","N/A","experience management bundle for succession and development",10,"Serv","Suscripcion","N/A","N/A","N/A","SAP-8011744-2","Forma de pago estandar a 30 dias",23,1,0,"USD"]
[{"$f":"D3642&F3642&E3642","v":"SAP ColombiaCloud Classic SAP SolutionsSAP-8011744-3"},{"$f":"E3642&F3642","v":"SAP-8011744-3Cloud Classic SAP Solutions"},null,"SAP Colombia","SAP-8011744-3","Cloud Classic SAP Solutions",{"$f":"D3642","v":"SAP Colombia"},"USD","N/A","experience management bundle for succession and development",10,"Serv","Suscripcion","N/A","N/A","N/A","SAP-8011744-3","Forma de pago estandar a 30 dias",18,1,0,"USD"]
[{"$f":"D3643&F3643&E3643","v":"SAP ColombiaCloud Classic SAP SolutionsSAP-8011744-4"},{"$f":"E3643&F3643","v":"SAP-8011744-4Cloud Classic SAP Solutions"},null,"SAP Colombia","SAP-8011744-4","Cloud Classic SAP Solutions",{"$f":"D3643","v":"SAP Colombia"},"USD","N/A","experience management bundle for succession and development",10,"Serv","Suscripcion","N/A","N/A","N/A","SAP-8011744-4","Forma de pago estandar a 30 dias",17,1,0,"USD"]
[{"$f":"D3644&F3644&E3644","v":"SAP ColombiaCloud Classic SAP SolutionsSAP-8011744-5"},{"$f":"E3644&F3644","v":"SAP-8011744-5Cloud Classic SAP Solutions"},null,"SAP Colombia","SAP-8011744-5","Cloud Classic SAP Solutions",{"$f":"D3644","v":"SAP Colombia"},"USD","N/A","experience management bundle for succession and development",10,"Serv","Suscripcion","N/A","N/A","N/A","SAP-8011744-5","Forma de pago estandar a 30 dias",16,1,0,"USD"]
[{"$f":"D3645&F3645&E3645","v":"SAP ColombiaCloud Classic SAP SolutionsSAP-8011744-6"},{"$f":"E3645&F3645","v":"SAP-8011744-6Cloud Classic SAP Solutions"},null,"SAP Colombia","SAP-8011744-6","Cloud Classic SAP Solutions",{"$f":"D3645","v":"SAP Colombia"},"USD","N/A","experience management bundle for succession and development",10,"Serv","Suscripcion","N/A","N/A","N/A","SAP-8011744-6","Forma de pago estandar a 30 dias",15,1,0,"USD"]
[{"$f":"D3646&F3646&E3646","v":"SAP ColombiaCloud Classic SAP SolutionsSAP-8011744-7"},{"$f":"E3646&F3646","v":"SAP-8011744-7Cloud Classic SAP Solutions"},null,"SAP Colombia","SAP-8011744-7","Cloud Classic SAP Solutions",{"$f":"D3646","v":"SAP Colombia"},"USD","N/A","experience management bundle for succession and development",10,"Serv","Suscripcion","N/A","N/A","N/A","SAP-8011744-7","Forma de pago estandar a 30 dias",13,1,0,"USD"]
[{"$f":"D3647&F3647&E3647","v":"SAP ColombiaCloud Classic SAP SolutionsSAP-8011744-8"},{"$f":"E3647&F3647","v":"SAP-8011744-8Cloud Classic SAP Solutions"},null,"SAP Colombia","SAP-8011744-8","Cloud Classic SAP Solutions",{"$f":"D3647","v":"SAP Colombia"},"USD","N/A","experience management bundle for succession and development",10,"Serv","Suscripcion","N/A","N/A","N/A","SAP-8011744-8","Forma de pago estandar a 30 dias",12,1,0,"USD"]
[{"$f":"D3648&F3648&E3648","v":"SAP ColombiaCloud Classic SAP SolutionsSAP-8011744-9"},{"$f":"E3648&F3648","v":"SAP-8011744-9Cloud Classic SAP Solutions"},null,"SAP Colombia","SAP-8011744-9","Cloud Classic SAP Solutions",{"$f":"D3648","v":"SAP Colombia"},"USD","N/A","experience management bundle for succession and development",10,"Serv","Suscripcion","N/A","N/A","N/A","SAP-8011744-9","Forma de pago estandar a 30 dias",11,1,0,"USD"]
[{"$f":"D3649&F3649&E3649","v":"SAP ColombiaCloud Classic SAP SolutionsSAP-8011745-1"},{"$f":"E3649&F3649","v":"SAP-8011745-1Cloud Classic SAP Solutions"},null,"SAP Colombia","SAP-8011745-1","Cloud Classic SAP Solutions",{"$f":"D3649","v":"SAP Colombia"},"USD","N/A","experience management bundle for core HR",1,"Serv","Suscripcion","N/A","N/A","N/A","SAP-8011745-1","Forma de pago estandar a 30 dias",7.02,1,0,"USD"]
[{"$f":"D3650&F3650&E3650","v":"SAP ColombiaCloud Classic SAP SolutionsSAP-8011745-2"},{"$f":"E3650&F3650","v":"SAP-8011745-2Cloud Classic SAP Solutions"},null,"SAP Colombia","SAP-8011745-2","Cloud Classic SAP Solutions",{"$f":"D3650","v":"SAP Colombia"},"USD","N/A","experience management bundle for core HR",1,"Serv","Suscripcion","N/A","N/A","N/A","SAP-8011745-2","Forma de pago estandar a 30 dias",5.93,1,0,"USD"]
[{"$f":"D3651&F3651&E3651","v":"SAP ColombiaCloud Classic SAP SolutionsSAP-8011745-3"},{"$f":"E3651&F3651","v":"SAP-8011745-3Cloud Classic SAP Solutions"},null,"SAP Colombia","SAP-8011745-3","Cloud Classic SAP Solutions",{"$f":"D3651","v":"SAP Colombia"},"USD","N/A","experience management bundle for core HR",1,"Serv","Suscripcion","N/A","N/A","N/A","SAP-8011745-3","Forma de pago estandar a 30 dias",4.68,1,0,"USD"]
[{"$f":"D3652&F3652&E3652","v":"SAP ColombiaCloud Classic SAP SolutionsSAP-8011745-4"},{"$f":"E3652&F3652","v":"SAP-8011745-4Cloud Classic SAP Solutions"},null,"SAP Colombia","SAP-8011745-4","Cloud Classic SAP Solutions",{"$f":"D3652","v":"SAP Colombia"},"USD","N/A","experience management bundle for core HR",1,"Serv","Suscripcion","N/A","N/A","N/A","SAP-8011745-4","Forma de pago estandar a 30 dias",4.3499999999999996,1,0,"USD"]
[{"$f":"D3653&F3653&E3653","v":"SAP ColombiaCloud Classic SAP SolutionsSAP-8011745-5"},{"$f":"E3653&F3653","v":"SAP-8011745-5Cloud Classic SAP Solutions"},null,"SAP Colombia","SAP-8011745-5","Cloud Classic SAP Solutions",{"$f":"D3653","v":"SAP Colombia"},"USD","N/A","experience management bundle for core HR",1,"Serv","Suscripcion","N/A","N/A","N/A","SAP-8011745-5","Forma de pago estandar a 30 dias",4.0999999999999996,1,0,"USD"]
[{"$f":"D3654&F3654&E3654","v":"SAP ColombiaCloud Classic SAP SolutionsSAP-8011745-6"},{"$f":"E3654&F3654","v":"SAP-8011745-6Cloud Classic SAP Solutions"},null,"SAP Colombia","SAP-8011745-6","Cloud Classic SAP Solutions",{"$f":"D3654","v":"SAP Colombia"},"USD","N/A","experience management bundle for core HR",1,"Serv","Suscripcion","N/A","N/A","N/A","SAP-8011745-6","Forma de pago estandar a 30 dias",3.93,1,0,"USD"]
[{"$f":"D3655&F3655&E3655","v":"SAP ColombiaCloud Classic SAP SolutionsSAP-8011745-7"},{"$f":"E3655&F3655","v":"SAP-8011745-7Cloud Classic SAP Solutions"},null,"SAP Colombia","SAP-8011745-7","Cloud Classic SAP Solutions",{"$f":"D3655","v":"SAP Colombia"},"USD","N/A","experience management bundle for core HR",1,"Serv","Suscripcion","N/A","N/A","N/A","SAP-8011745-7","Forma de pago estandar a 30 dias",3.73,1,0,"USD"]
[{"$f":"D3656&F3656&E3656","v":"SAP ColombiaCloud Classic SAP SolutionsSAP-8011745-8"},{"$f":"E3656&F3656","v":"SAP-8011745-8Cloud Classic SAP Solutions"},null,"SAP Colombia","SAP-8011745-8","Cloud Classic SAP Solutions",{"$f":"D3656","v":"SAP Colombia"},"USD","N/A","experience management bundle for core HR",1,"Serv","Suscripcion","N/A","N/A","N/A","SAP-8011745-8","Forma de pago estandar a 30 dias",3.34,1,0,"USD"]
[{"$f":"D3657&F3657&E3657","v":"SAP ColombiaCloud Classic SAP SolutionsSAP-8011745-9"},{"$f":"E3657&F3657","v":"SAP-8011745-9Cloud Classic SAP Solutions"},null,"SAP Colombia","SAP-8011745-9","Cloud Classic SAP Solutions",{"$f":"D3657","v":"SAP Colombia"},"USD","N/A","experience management bundle for core HR",1,"Serv","Suscripcion","N/A","N/A","N/A","SAP-8011745-9","Forma de pago estandar a 30 dias",2.86,1,0,"USD"]
[{"$f":"D3658&F3658&E3658","v":"SAP ColombiaCloud Classic SAP SolutionsSAP-8012137-1"},{"$f":"E3658&F3658","v":"SAP-8012137-1Cloud Classic SAP Solutions"},null,"SAP Colombia","SAP-8012137-1","Cloud Classic SAP Solutions",{"$f":"D3658","v":"SAP Colombia"},"USD","N/A","Litmos Training Content, enterprise edition for SuccessFactors Learning",1,"Serv","Suscripcion","N/A","N/A","N/A","SAP-8012137-1","Forma de pago estandar a 30 dias",7.06,1,0,"USD"]
[{"$f":"D3659&F3659&E3659","v":"SAP ColombiaCloud Classic SAP SolutionsSAP-8012137-2"},{"$f":"E3659&F3659","v":"SAP-8012137-2Cloud Classic SAP Solutions"},null,"SAP Colombia","SAP-8012137-2","Cloud Classic SAP Solutions",{"$f":"D3659","v":"SAP Colombia"},"USD","N/A","Litmos Training Content, enterprise edition for SuccessFactors Learning",1,"Serv","Suscripcion","N/A","N/A","N/A","SAP-8012137-2","Forma de pago estandar a 30 dias",4.4800000000000004,1,0,"USD"]
[{"$f":"D3660&F3660&E3660","v":"SAP ColombiaCloud Classic SAP SolutionsSAP-8012137-3"},{"$f":"E3660&F3660","v":"SAP-8012137-3Cloud Classic SAP Solutions"},null,"SAP Colombia","SAP-8012137-3","Cloud Classic SAP Solutions",{"$f":"D3660","v":"SAP Colombia"},"USD","N/A","Litmos Training Content, enterprise edition for SuccessFactors Learning",1,"Serv","Suscripcion","N/A","N/A","N/A","SAP-8012137-3","Forma de pago estandar a 30 dias",2.8,1,0,"USD"]
[{"$f":"D3661&F3661&E3661","v":"SAP ColombiaCloud Classic SAP SolutionsSAP-8012137-4"},{"$f":"E3661&F3661","v":"SAP-8012137-4Cloud Classic SAP Solutions"},null,"SAP Colombia","SAP-8012137-4","Cloud Classic SAP Solutions",{"$f":"D3661","v":"SAP Colombia"},"USD","N/A","Litmos Training Content, enterprise edition for SuccessFactors Learning",1,"Serv","Suscripcion","N/A","N/A","N/A","SAP-8012137-4","Forma de pago estandar a 30 dias",2.02,1,0,"USD"]
[{"$f":"D3662&F3662&E3662","v":"SAP ColombiaCloud Classic SAP SolutionsSAP-8012137-5"},{"$f":"E3662&F3662","v":"SAP-8012137-5Cloud Classic SAP Solutions"},null,"SAP Colombia","SAP-8012137-5","Cloud Classic SAP Solutions",{"$f":"D3662","v":"SAP Colombia"},"USD","N/A","Litmos Training Content, enterprise edition for SuccessFactors Learning",1,"Serv","Suscripcion","N/A","N/A","N/A","SAP-8012137-5","Forma de pago estandar a 30 dias",1.46,1,0,"USD"]
[{"$f":"D3663&F3663&E3663","v":"SAP ColombiaCloud Classic SAP SolutionsSAP-8012138-1"},{"$f":"E3663&F3663","v":"SAP-8012138-1Cloud Classic SAP Solutions"},null,"SAP Colombia","SAP-8012138-1","Cloud Classic SAP Solutions",{"$f":"D3663","v":"SAP Colombia"},"USD","N/A","SAP Litmos Training Content, ANZ edition for SuccessFactors Learning",1,"Serv","Suscripcion","N/A","N/A","N/A","SAP-8012138-1","Forma de pago estandar a 30 dias",3.42,1,0,"USD"]
[{"$f":"D3664&F3664&E3664","v":"SAP ColombiaCloud Classic SAP SolutionsSAP-8012138-2"},{"$f":"E3664&F3664","v":"SAP-8012138-2Cloud Classic SAP Solutions"},null,"SAP Colombia","SAP-8012138-2","Cloud Classic SAP Solutions",{"$f":"D3664","v":"SAP Colombia"},"USD","N/A","SAP Litmos Training Content, ANZ edition for SuccessFactors Learning",1,"Serv","Suscripcion","N/A","N/A","N/A","SAP-8012138-2","Forma de pago estandar a 30 dias",2.58,1,0,"USD"]
[{"$f":"D3665&F3665&E3665","v":"SAP ColombiaCloud Classic SAP SolutionsSAP-8012138-3"},{"$f":"E3665&F3665","v":"SAP-8012138-3Cloud Classic SAP Solutions"},null,"SAP Colombia","SAP-8012138-3","Cloud Classic SAP Solutions",{"$f":"D3665","v":"SAP Colombia"},"USD","N/A","SAP Litmos Training Content, ANZ edition for SuccessFactors Learning",1,"Serv","Suscripcion","N/A","N/A","N/A","SAP-8012138-3","Forma de pago estandar a 30 dias",2.02,1,0,"USD"]
[{"$f":"D3666&F3666&E3666","v":"SAP ColombiaCloud Classic SAP SolutionsSAP-8012138-4"},{"$f":"E3666&F3666","v":"SAP-8012138-4Cloud Classic SAP Solutions"},null,"SAP Colombia","SAP-8012138-4","Cloud Classic SAP Solutions",{"$f":"D3666","v":"SAP Colombia"},"USD","N/A","SAP Litmos Training Content, ANZ edition for SuccessFactors Learning",1,"Serv","Suscripcion","N/A","N/A","N/A","SAP-8012138-4","Forma de pago estandar a 30 dias",1.4,1,0,"USD"]
[{"$f":"D3667&F3667&E3667","v":"SAP ColombiaCloud Classic SAP SolutionsSAP-8012138-5"},{"$f":"E3667&F3667","v":"SAP-8012138-5Cloud Classic SAP Solutions"},null,"SAP Colombia","SAP-8012138-5","Cloud Classic SAP Solutions",{"$f":"D3667","v":"SAP Colombia"},"USD","N/A","SAP Litmos Training Content, ANZ edition for SuccessFactors Learning",1,"Serv","Suscripcion","N/A","N/A","N/A","SAP-8012138-5","Forma de pago estandar a 30 dias",1.01,1,0,"USD"]
[{"$f":"D3668&F3668&E3668","v":"SAP ColombiaCloud Classic SAP SolutionsSAP-8004799"},{"$f":"E3668&F3668","v":"SAP-8004799Cloud Classic SAP Solutions"},null,"SAP Colombia","SAP-8004799","Cloud Classic SAP Solutions",{"$f":"D3668","v":"SAP Colombia"},"USD","N/A","SAP Cloud for credit integration",1,"Serv","Suscripcion","N/A","N/A","N/A","SAP-8004799","Forma de pago estandar a 30 dias",2333,1,0,"USD"]
[{"$f":"D3669&F3669&E3669","v":"SAP ColombiaCloud Classic SAP SolutionsSAP-8004800"},{"$f":"E3669&F3669","v":"SAP-8004800Cloud Classic SAP Solutions"},null,"SAP Colombia","SAP-8004800","Cloud Classic SAP Solutions",{"$f":"D3669","v":"SAP Colombia"},"USD","N/A","SAP Cloud for customer payments",1,"Serv","Suscripcion","N/A","N/A","N/A","SAP-8004800","Forma de pago estandar a 30 dias",0.19,1,0,"USD"]
[{"$f":"D3670&F3670&E3670","v":"SAP ColombiaCloud Classic SAP SolutionsSAP-8005289-1"},{"$f":"E3670&F3670","v":"SAP-8005289-1Cloud Classic SAP Solutions"},null,"SAP Colombia","SAP-8005289-1","Cloud Classic SAP Solutions",{"$f":"D3670","v":"SAP Colombia"},"USD","N/A","SAP Cash Application",10000,"Serv","Suscripcion","N/A","N/A","N/A","SAP-8005289-1","Forma de pago estandar a 30 dias",700,1,0,"USD"]
[{"$f":"D3671&F3671&E3671","v":"SAP ColombiaCloud Classic SAP SolutionsSAP-8005289-2"},{"$f":"E3671&F3671","v":"SAP-8005289-2Cloud Classic SAP Solutions"},null,"SAP Colombia","SAP-8005289-2","Cloud Classic SAP Solutions",{"$f":"D3671","v":"SAP Colombia"},"USD","N/A","SAP Cash Application",10000,"Serv","Suscripcion","N/A","N/A","N/A","SAP-8005289-2","Forma de pago estandar a 30 dias",605,1,0,"USD"]
[{"$f":"D3672&F3672&E3672","v":"SAP ColombiaCloud Classic SAP SolutionsSAP-8005289-3"},{"$f":"E3672&F3672","v":"SAP-8005289-3Cloud Classic SAP Solutions"},null,"SAP Colombia","SAP-8005289-3","Cloud Classic SAP Solutions",{"$f":"D3672","v":"SAP Colombia"},"USD","N/A","SAP Cash Application",10000,"Serv","Suscripcion","N/A","N/A","N/A","SAP-8005289-3","Forma de pago estandar a 30 dias",515,1,0,"USD"]
[{"$f":"D3673&F3673&E3673","v":"SAP ColombiaCloud Classic SAP SolutionsSAP-8005289-4"},{"$f":"E3673&F3673","v":"SAP-8005289-4Cloud Classic SAP Solutions"},null,"SAP Colombia","SAP-8005289-4","Cloud Classic SAP Solutions",{"$f":"D3673","v":"SAP Colombia"},"USD","N/A","SAP Cash Application",10000,"Serv","Suscripcion","N/A","N/A","N/A","SAP-8005289-4","Forma de pago estandar a 30 dias",426,1,0,"USD"]
[{"$f":"D3674&F3674&E3674","v":"SAP ColombiaCloud Classic SAP SolutionsSAP-8005289-5"},{"$f":"E3674&F3674","v":"SAP-8005289-5Cloud Classic SAP Solutions"},null,"SAP Colombia","SAP-8005289-5","Cloud Classic SAP Solutions",{"$f":"D3674","v":"SAP Colombia"},"USD","N/A","SAP Cash Application",10000,"Serv","Suscripcion","N/A","N/A","N/A","SAP-8005289-5","Forma de pago estandar a 30 dias",336,1,0,"USD"]
[{"$f":"D3675&F3675&E3675","v":"SAP ColombiaCloud Classic SAP SolutionsSAP-8007077-1"},{"$f":"E3675&F3675","v":"SAP-8007077-1Cloud Classic SAP Solutions"},null,"SAP Colombia","SAP-8007077-1","Cloud Classic SAP Solutions",{"$f":"D3675","v":"SAP Colombia"},"USD","N/A","SAP Digital Payments, transaction package",20000,"Serv","Suscripcion","N/A","N/A","N/A","SAP-8007077-1","Forma de pago estandar a 30 dias",187,1,0,"USD"]
[{"$f":"D3676&F3676&E3676","v":"SAP ColombiaCloud Classic SAP SolutionsSAP-8007077-2"},{"$f":"E3676&F3676","v":"SAP-8007077-2Cloud Classic SAP Solutions"},null,"SAP Colombia","SAP-8007077-2","Cloud Classic SAP Solutions",{"$f":"D3676","v":"SAP Colombia"},"USD","N/A","SAP Digital Payments, transaction package",20000,"Serv","Suscripcion","N/A","N/A","N/A","SAP-8007077-2","Forma de pago estandar a 30 dias",148,1,0,"USD"]
[{"$f":"D3677&F3677&E3677","v":"SAP ColombiaCloud Classic SAP SolutionsSAP-8007077-3"},{"$f":"E3677&F3677","v":"SAP-8007077-3Cloud Classic SAP Solutions"},null,"SAP Colombia","SAP-8007077-3","Cloud Classic SAP Solutions",{"$f":"D3677","v":"SAP Colombia"},"USD","N/A","SAP Digital Payments, transaction package",20000,"Serv","Suscripcion","N/A","N/A","N/A","SAP-8007077-3","Forma de pago estandar a 30 dias",118,1,0,"USD"]
[{"$f":"D3678&F3678&E3678","v":"SAP ColombiaCloud Classic SAP SolutionsSAP-8007077-4"},{"$f":"E3678&F3678","v":"SAP-8007077-4Cloud Classic SAP Solutions"},null,"SAP Colombia","SAP-8007077-4","Cloud Classic SAP Solutions",{"$f":"D3678","v":"SAP Colombia"},"USD","N/A","SAP Digital Payments, transaction package",20000,"Serv","Suscripcion","N/A","N/A","N/A","SAP-8007077-4","Forma de pago estandar a 30 dias",101,1,0,"USD"]
[{"$f":"D3679&F3679&E3679","v":"SAP ColombiaCloud Classic SAP SolutionsSAP-8007077-5"},{"$f":"E3679&F3679","v":"SAP-8007077-5Cloud Classic SAP Solutions"},null,"SAP Colombia","SAP-8007077-5","Cloud Classic SAP Solutions",{"$f":"D3679","v":"SAP Colombia"},"USD","N/A","SAP Digital Payments, transaction package",20000,"Serv","Suscripcion","N/A","N/A","N/A","SAP-8007077-5","Forma de pago estandar a 30 dias",78,1,0,"USD"]
[{"$f":"D3680&F3680&E3680","v":"SAP ColombiaCloud Classic SAP SolutionsSAP-8007689-1"},{"$f":"E3680&F3680","v":"SAP-8007689-1Cloud Classic SAP Solutions"},null,"SAP Colombia","SAP-8007689-1","Cloud Classic SAP Solutions",{"$f":"D3680","v":"SAP Colombia"},"USD","N/A","SAP Convergent Mediation by DigitalRoute, cloud edition",27997500,"Serv","Suscripcion","N/A","N/A","N/A","SAP-8007689-1","Forma de pago estandar a 30 dias",4480,1,0,"USD"]
[{"$f":"D3681&F3681&E3681","v":"SAP ColombiaCloud Classic SAP SolutionsSAP-8007689-2"},{"$f":"E3681&F3681","v":"SAP-8007689-2Cloud Classic SAP Solutions"},null,"SAP Colombia","SAP-8007689-2","Cloud Classic SAP Solutions",{"$f":"D3681","v":"SAP Colombia"},"USD","N/A","SAP Convergent Mediation by DigitalRoute, cloud edition",27997500,"Serv","Suscripcion","N/A","N/A","N/A","SAP-8007689-2","Forma de pago estandar a 30 dias",3360,1,0,"USD"]
[{"$f":"D3682&F3682&E3682","v":"SAP ColombiaCloud Classic SAP SolutionsSAP-8007689-3"},{"$f":"E3682&F3682","v":"SAP-8007689-3Cloud Classic SAP Solutions"},null,"SAP Colombia","SAP-8007689-3","Cloud Classic SAP Solutions",{"$f":"D3682","v":"SAP Colombia"},"USD","N/A","SAP Convergent Mediation by DigitalRoute, cloud edition",27997500,"Serv","Suscripcion","N/A","N/A","N/A","SAP-8007689-3","Forma de pago estandar a 30 dias",3024,1,0,"USD"]
[{"$f":"D3683&F3683&E3683","v":"SAP ColombiaCloud Classic SAP SolutionsSAP-8007689-4"},{"$f":"E3683&F3683","v":"SAP-8007689-4Cloud Classic SAP Solutions"},null,"SAP Colombia","SAP-8007689-4","Cloud Classic SAP Solutions",{"$f":"D3683","v":"SAP Colombia"},"USD","N/A","SAP Convergent Mediation by DigitalRoute, cloud edition",27997500,"Serv","Suscripcion","N/A","N/A","N/A","SAP-8007689-4","Forma de pago estandar a 30 dias",2688,1,0,"USD"]
[{"$f":"D3684&F3684&E3684","v":"SAP ColombiaCloud Classic SAP SolutionsSAP-8007696-1"},{"$f":"E3684&F3684","v":"SAP-8007696-1Cloud Classic SAP Solutions"},null,"SAP Colombia","SAP-8007696-1","Cloud Classic SAP Solutions",{"$f":"D3684","v":"SAP Colombia"},"USD","N/A","SAP Document and Reporting Compliance service",1000,"Serv","Suscripcion","N/A","N/A","N/A","SAP-8007696-1","Forma de pago estandar a 30 dias",15,1,0,"USD"]
[{"$f":"D3685&F3685&E3685","v":"SAP ColombiaCloud Classic SAP SolutionsSAP-8007696-2"},{"$f":"E3685&F3685","v":"SAP-8007696-2Cloud Classic SAP Solutions"},null,"SAP Colombia","SAP-8007696-2","Cloud Classic SAP Solutions",{"$f":"D3685","v":"SAP Colombia"},"USD","N/A","SAP Document and Reporting Compliance service",1000,"Serv","Suscripcion","N/A","N/A","N/A","SAP-8007696-2","Forma de pago estandar a 30 dias",12,1,0,"USD"]
[{"$f":"D3686&F3686&E3686","v":"SAP ColombiaCloud Classic SAP SolutionsSAP-8007696-3"},{"$f":"E3686&F3686","v":"SAP-8007696-3Cloud Classic SAP Solutions"},null,"SAP Colombia","SAP-8007696-3","Cloud Classic SAP Solutions",{"$f":"D3686","v":"SAP Colombia"},"USD","N/A","SAP Document and Reporting Compliance service",1000,"Serv","Suscripcion","N/A","N/A","N/A","SAP-8007696-3","Forma de pago estandar a 30 dias",8.9600000000000009,1,0,"USD"]
[{"$f":"D3687&F3687&E3687","v":"SAP ColombiaCloud Classic SAP SolutionsSAP-8007696-4"},{"$f":"E3687&F3687","v":"SAP-8007696-4Cloud Classic SAP Solutions"},null,"SAP Colombia","SAP-8007696-4","Cloud Classic SAP Solutions",{"$f":"D3687","v":"SAP Colombia"},"USD","N/A","SAP Document and Reporting Compliance service",1000,"Serv","Suscripcion","N/A","N/A","N/A","SAP-8007696-4","Forma de pago estandar a 30 dias",6.72,1,0,"USD"]
[{"$f":"D3688&F3688&E3688","v":"SAP ColombiaCloud Classic SAP SolutionsSAP-8007696-5"},{"$f":"E3688&F3688","v":"SAP-8007696-5Cloud Classic SAP Solutions"},null,"SAP Colombia","SAP-8007696-5","Cloud Classic SAP Solutions",{"$f":"D3688","v":"SAP Colombia"},"USD","N/A","SAP Document and Reporting Compliance service",1000,"Serv","Suscripcion","N/A","N/A","N/A","SAP-8007696-5","Forma de pago estandar a 30 dias",4.4800000000000004,1,0,"USD"]
[{"$f":"D3689&F3689&E3689","v":"SAP ColombiaCloud Classic SAP SolutionsSAP-8007928-1"},{"$f":"E3689&F3689","v":"SAP-8007928-1Cloud Classic SAP Solutions"},null,"SAP Colombia","SAP-8007928-1","Cloud Classic SAP Solutions",{"$f":"D3689","v":"SAP Colombia"},"USD","N/A","SAP Cloud Identity Access Governance, standard edition",1000,"Serv","Suscripcion","N/A","N/A","N/A","SAP-8007928-1","Forma de pago estandar a 30 dias",9519,1,0,"USD"]
[{"$f":"D3690&F3690&E3690","v":"SAP ColombiaCloud Classic SAP SolutionsSAP-8007928-2"},{"$f":"E3690&F3690","v":"SAP-8007928-2Cloud Classic SAP Solutions"},null,"SAP Colombia","SAP-8007928-2","Cloud Classic SAP Solutions",{"$f":"D3690","v":"SAP Colombia"},"USD","N/A","SAP Cloud Identity Access Governance, standard edition",1000,"Serv","Suscripcion","N/A","N/A","N/A","SAP-8007928-2","Forma de pago estandar a 30 dias",7055,1,0,"USD"]
[{"$f":"D3691&F3691&E3691","v":"SAP ColombiaCloud Classic SAP SolutionsSAP-8007928-3"},{"$f":"E3691&F3691","v":"SAP-8007928-3Cloud Classic SAP Solutions"},null,"SAP Colombia","SAP-8007928-3","Cloud Classic SAP Solutions",{"$f":"D3691","v":"SAP Colombia"},"USD","N/A","SAP Cloud Identity Access Governance, standard edition",1000,"Serv","Suscripcion","N/A","N/A","N/A","SAP-8007928-3","Forma de pago estandar a 30 dias",5823,1,0,"USD"]
[{"$f":"D3692&F3692&E3692","v":"SAP ColombiaCloud Classic SAP SolutionsSAP-8007928-4"},{"$f":"E3692&F3692","v":"SAP-8007928-4Cloud Classic SAP Solutions"},null,"SAP Colombia","SAP-8007928-4","Cloud Classic SAP Solutions",{"$f":"D3692","v":"SAP Colombia"},"USD","N/A","SAP Cloud Identity Access Governance, standard edition",1000,"Serv","Suscripcion","N/A","N/A","N/A","SAP-8007928-4","Forma de pago estandar a 30 dias",5040,1,0,"USD"]
[{"$f":"D3693&F3693&E3693","v":"SAP ColombiaCloud Classic SAP SolutionsSAP-8007928-5"},{"$f":"E3693&F3693","v":"SAP-8007928-5Cloud Classic SAP Solutions"},null,"SAP Colombia","SAP-8007928-5","Cloud Classic SAP Solutions",{"$f":"D3693","v":"SAP Colombia"},"USD","N/A","SAP Cloud Identity Access Governance, standard edition",1000,"Serv","Suscripcion","N/A","N/A","N/A","SAP-8007928-5","Forma de pago estandar a 30 dias",4368,1,0,"USD"]
[{"$f":"D3694&F3694&E3694","v":"SAP ColombiaCloud Classic SAP SolutionsSAP-8008173"},{"$f":"E3694&F3694","v":"SAP-8008173Cloud Classic SAP Solutions"},null,"SAP Colombia","SAP-8008173","Cloud Classic SAP Solutions",{"$f":"D3694","v":"SAP Colombia"},"USD","N/A","SAP Digital Payments, base package",20000,"Serv","Suscripcion","N/A","N/A","N/A","SAP-8008173","Forma de pago estandar a 30 dias",1355,1,0,"USD"]
[{"$f":"D3695&F3695&E3695","v":"SAP ColombiaCloud Classic SAP SolutionsSAP-8008231-1"},{"$f":"E3695&F3695","v":"SAP-8008231-1Cloud Classic SAP Solutions"},null,"SAP Colombia","SAP-8008231-1","Cloud Classic SAP Solutions",{"$f":"D3695","v":"SAP Colombia"},"USD","N/A","SAP Entitlement Management",250000,"Serv","Suscripcion","N/A","N/A","N/A","SAP-8008231-1","Forma de pago estandar a 30 dias",13439,1,0,"USD"]
[{"$f":"D3696&F3696&E3696","v":"SAP ColombiaCloud Classic SAP SolutionsSAP-8008231-2"},{"$f":"E3696&F3696","v":"SAP-8008231-2Cloud Classic SAP Solutions"},null,"SAP Colombia","SAP-8008231-2","Cloud Classic SAP Solutions",{"$f":"D3696","v":"SAP Colombia"},"USD","N/A","SAP Entitlement Management",250000,"Serv","Suscripcion","N/A","N/A","N/A","SAP-8008231-2","Forma de pago estandar a 30 dias",8959,1,0,"USD"]
[{"$f":"D3697&F3697&E3697","v":"SAP ColombiaCloud Classic SAP SolutionsSAP-8008231-3"},{"$f":"E3697&F3697","v":"SAP-8008231-3Cloud Classic SAP Solutions"},null,"SAP Colombia","SAP-8008231-3","Cloud Classic SAP Solutions",{"$f":"D3697","v":"SAP Colombia"},"USD","N/A","SAP Entitlement Management",250000,"Serv","Suscripcion","N/A","N/A","N/A","SAP-8008231-3","Forma de pago estandar a 30 dias",6719,1,0,"USD"]
[{"$f":"D3698&F3698&E3698","v":"SAP ColombiaCloud Classic SAP SolutionsSAP-8008231-4"},{"$f":"E3698&F3698","v":"SAP-8008231-4Cloud Classic SAP Solutions"},null,"SAP Colombia","SAP-8008231-4","Cloud Classic SAP Solutions",{"$f":"D3698","v":"SAP Colombia"},"USD","N/A","SAP Entitlement Management",250000,"Serv","Suscripcion","N/A","N/A","N/A","SAP-8008231-4","Forma de pago estandar a 30 dias",5040,1,0,"USD"]
[{"$f":"D3699&F3699&E3699","v":"SAP ColombiaCloud Classic SAP SolutionsSAP-8008231-5"},{"$f":"E3699&F3699","v":"SAP-8008231-5Cloud Classic SAP Solutions"},null,"SAP Colombia","SAP-8008231-5","Cloud Classic SAP Solutions",{"$f":"D3699","v":"SAP Colombia"},"USD","N/A","SAP Entitlement Management",250000,"Serv","Suscripcion","N/A","N/A","N/A","SAP-8008231-5","Forma de pago estandar a 30 dias",3920,1,0,"USD"]
[{"$f":"D3700&F3700&E3700","v":"SAP ColombiaCloud Classic SAP SolutionsSAP-8008231-6"},{"$f":"E3700&F3700","v":"SAP-8008231-6Cloud Classic SAP Solutions"},null,"SAP Colombia","SAP-8008231-6","Cloud Classic SAP Solutions",{"$f":"D3700","v":"SAP Colombia"},"USD","N/A","SAP Entitlement Management",250000,"Serv","Suscripcion","N/A","N/A","N/A","SAP-8008231-6","Forma de pago estandar a 30 dias",1960,1,0,"USD"]
[{"$f":"D3701&F3701&E3701","v":"SAP ColombiaCloud Classic SAP SolutionsSAP-8008254"},{"$f":"E3701&F3701","v":"SAP-8008254Cloud Classic SAP Solutions"},null,"SAP Colombia","SAP-8008254","Cloud Classic SAP Solutions",{"$f":"D3701","v":"SAP Colombia"},"USD","N/A","SAP Cloud Identity Access Governance, integration edition",1,"Serv","Suscripcion","N/A","N/A","N/A","SAP-8008254","Forma de pago estandar a 30 dias",16799,1,0,"USD"]
[{"$f":"D3702&F3702&E3702","v":"SAP ColombiaCloud Classic SAP SolutionsSAP-8008260-1"},{"$f":"E3702&F3702","v":"SAP-8008260-1Cloud Classic SAP Solutions"},null,"SAP Colombia","SAP-8008260-1","Cloud Classic SAP Solutions",{"$f":"D3702","v":"SAP Colombia"},"USD","N/A","SAP Document and Reporting Compliance, cloud edition",10000,"Serv","Suscripcion","N/A","N/A","N/A","SAP-8008260-1","Forma de pago estandar a 30 dias",930,1,0,"USD"]
[{"$f":"D3703&F3703&E3703","v":"SAP ColombiaCloud Classic SAP SolutionsSAP-8008260-2"},{"$f":"E3703&F3703","v":"SAP-8008260-2Cloud Classic SAP Solutions"},null,"SAP Colombia","SAP-8008260-2","Cloud Classic SAP Solutions",{"$f":"D3703","v":"SAP Colombia"},"USD","N/A","SAP Document and Reporting Compliance, cloud edition",10000,"Serv","Suscripcion","N/A","N/A","N/A","SAP-8008260-2","Forma de pago estandar a 30 dias",773,1,0,"USD"]
[{"$f":"D3704&F3704&E3704","v":"SAP ColombiaCloud Classic SAP SolutionsSAP-8008260-3"},{"$f":"E3704&F3704","v":"SAP-8008260-3Cloud Classic SAP Solutions"},null,"SAP Colombia","SAP-8008260-3","Cloud Classic SAP Solutions",{"$f":"D3704","v":"SAP Colombia"},"USD","N/A","SAP Document and Reporting Compliance, cloud edition",10000,"Serv","Suscripcion","N/A","N/A","N/A","SAP-8008260-3","Forma de pago estandar a 30 dias",694,1,0,"USD"]
[{"$f":"D3705&F3705&E3705","v":"SAP ColombiaCloud Classic SAP SolutionsSAP-8008260-4"},{"$f":"E3705&F3705","v":"SAP-8008260-4Cloud Classic SAP Solutions"},null,"SAP Colombia","SAP-8008260-4","Cloud Classic SAP Solutions",{"$f":"D3705","v":"SAP Colombia"},"USD","N/A","SAP Document and Reporting Compliance, cloud edition",10000,"Serv","Suscripcion","N/A","N/A","N/A","SAP-8008260-4","Forma de pago estandar a 30 dias",493,1,0,"USD"]
[{"$f":"D3706&F3706&E3706","v":"SAP ColombiaCloud Classic SAP SolutionsSAP-8008260-5"},{"$f":"E3706&F3706","v":"SAP-8008260-5Cloud Classic SAP Solutions"},null,"SAP Colombia","SAP-8008260-5","Cloud Classic SAP Solutions",{"$f":"D3706","v":"SAP Colombia"},"USD","N/A","SAP Document and Reporting Compliance, cloud edition",10000,"Serv","Suscripcion","N/A","N/A","N/A","SAP-8008260-5","Forma de pago estandar a 30 dias",403,1,0,"USD"]
[{"$f":"D3707&F3707&E3707","v":"SAP ColombiaCloud Classic SAP SolutionsSAP-8008349-1"},{"$f":"E3707&F3707","v":"SAP-8008349-1Cloud Classic SAP Solutions"},null,"SAP Colombia","SAP-8008349-1","Cloud Classic SAP Solutions",{"$f":"D3707","v":"SAP Colombia"},"USD","N/A","SAP Data Custodian",1000,"Serv","Suscripcion","N/A","N/A","N/A","SAP-8008349-1","Forma de pago estandar a 30 dias",2016,1,0,"USD"]
[{"$f":"D3708&F3708&E3708","v":"SAP ColombiaCloud Classic SAP SolutionsSAP-8008349-2"},{"$f":"E3708&F3708","v":"SAP-8008349-2Cloud Classic SAP Solutions"},null,"SAP Colombia","SAP-8008349-2","Cloud Classic SAP Solutions",{"$f":"D3708","v":"SAP Colombia"},"USD","N/A","SAP Data Custodian",1000,"Serv","Suscripcion","N/A","N/A","N/A","SAP-8008349-2","Forma de pago estandar a 30 dias",1445,1,0,"USD"]
[{"$f":"D3709&F3709&E3709","v":"SAP ColombiaCloud Classic SAP SolutionsSAP-8008349-3"},{"$f":"E3709&F3709","v":"SAP-8008349-3Cloud Classic SAP Solutions"},null,"SAP Colombia","SAP-8008349-3","Cloud Classic SAP Solutions",{"$f":"D3709","v":"SAP Colombia"},"USD","N/A","SAP Data Custodian",1000,"Serv","Suscripcion","N/A","N/A","N/A","SAP-8008349-3","Forma de pago estandar a 30 dias",1176,1,0,"USD"]
[{"$f":"D3710&F3710&E3710","v":"SAP ColombiaCloud Classic SAP SolutionsSAP-8008349-4"},{"$f":"E3710&F3710","v":"SAP-8008349-4Cloud Classic SAP Solutions"},null,"SAP Colombia","SAP-8008349-4","Cloud Classic SAP Solutions",{"$f":"D3710","v":"SAP Colombia"},"USD","N/A","SAP Data Custodian",1000,"Serv","Suscripcion","N/A","N/A","N/A","SAP-8008349-4","Forma de pago estandar a 30 dias",918,1,0,"USD"]
[{"$f":"D3711&F3711&E3711","v":"SAP ColombiaCloud Classic SAP SolutionsSAP-8008349-5"},{"$f":"E3711&F3711","v":"SAP-8008349-5Cloud Classic SAP Solutions"},null,"SAP Colombia","SAP-8008349-5","Cloud Classic SAP Solutions",{"$f":"D3711","v":"SAP Colombia"},"USD","N/A","SAP Data Custodian",1000,"Serv","Suscripcion","N/A","N/A","N/A","SAP-8008349-5","Forma de pago estandar a 30 dias",756,1,0,"USD"]
[{"$f":"D3712&F3712&E3712","v":"SAP ColombiaCloud Classic SAP SolutionsSAP-8008350-1"},{"$f":"E3712&F3712","v":"SAP-8008350-1Cloud Classic SAP Solutions"},null,"SAP Colombia","SAP-8008350-1","Cloud Classic SAP Solutions",{"$f":"D3712","v":"SAP Colombia"},"USD","N/A","SAP Data Custodian, KMS",1,"Serv","Suscripcion","N/A","N/A","N/A","SAP-8008350-1","Forma de pago estandar a 30 dias",1792,1,0,"USD"]
[{"$f":"D3713&F3713&E3713","v":"SAP ColombiaCloud Classic SAP SolutionsSAP-8008350-2"},{"$f":"E3713&F3713","v":"SAP-8008350-2Cloud Classic SAP Solutions"},null,"SAP Colombia","SAP-8008350-2","Cloud Classic SAP Solutions",{"$f":"D3713","v":"SAP Colombia"},"USD","N/A","SAP Data Custodian, KMS",1,"Serv","Suscripcion","N/A","N/A","N/A","SAP-8008350-2","Forma de pago estandar a 30 dias",1176,1,0,"USD"]
[{"$f":"D3714&F3714&E3714","v":"SAP ColombiaCloud Classic SAP SolutionsSAP-8008350-3"},{"$f":"E3714&F3714","v":"SAP-8008350-3Cloud Classic SAP Solutions"},null,"SAP Colombia","SAP-8008350-3","Cloud Classic SAP Solutions",{"$f":"D3714","v":"SAP Colombia"},"USD","N/A","SAP Data Custodian, KMS",1,"Serv","Suscripcion","N/A","N/A","N/A","SAP-8008350-3","Forma de pago estandar a 30 dias",840,1,0,"USD"]
[{"$f":"D3715&F3715&E3715","v":"SAP ColombiaCloud Classic SAP SolutionsSAP-8008350-4"},{"$f":"E3715&F3715","v":"SAP-8008350-4Cloud Classic SAP Solutions"},null,"SAP Colombia","SAP-8008350-4","Cloud Classic SAP Solutions",{"$f":"D3715","v":"SAP Colombia"},"USD","N/A","SAP Data Custodian, KMS",1,"Serv","Suscripcion","N/A","N/A","N/A","SAP-8008350-4","Forma de pago estandar a 30 dias",638,1,0,"USD"]
[{"$f":"D3716&F3716&E3716","v":"SAP ColombiaCloud Classic SAP SolutionsSAP-8008350-5"},{"$f":"E3716&F3716","v":"SAP-8008350-5Cloud Classic SAP Solutions"},null,"SAP Colombia","SAP-8008350-5","Cloud Classic SAP Solutions",{"$f":"D3716","v":"SAP Colombia"},"USD","N/A","SAP Data Custodian, KMS",1,"Serv","Suscripcion","N/A","N/A","N/A","SAP-8008350-5","Forma de pago estandar a 30 dias",504,1,0,"USD"]
[{"$f":"D3717&F3717&E3717","v":"SAP ColombiaCloud Classic SAP SolutionsSAP-8008352-1"},{"$f":"E3717&F3717","v":"SAP-8008352-1Cloud Classic SAP Solutions"},null,"SAP Colombia","SAP-8008352-1","Cloud Classic SAP Solutions",{"$f":"D3717","v":"SAP Colombia"},"USD","N/A","SAP S/4HANA Cloud for intelligent accounting automation​",10000,"Serv","Suscripcion","N/A","N/A","N/A","SAP-8008352-1","Forma de pago estandar a 30 dias",874,1,0,"USD"]
[{"$f":"D3718&F3718&E3718","v":"SAP ColombiaCloud Classic SAP SolutionsSAP-8008352-2"},{"$f":"E3718&F3718","v":"SAP-8008352-2Cloud Classic SAP Solutions"},null,"SAP Colombia","SAP-8008352-2","Cloud Classic SAP Solutions",{"$f":"D3718","v":"SAP Colombia"},"USD","N/A","SAP S/4HANA Cloud for intelligent accounting automation​",10000,"Serv","Suscripcion","N/A","N/A","N/A","SAP-8008352-2","Forma de pago estandar a 30 dias",706,1,0,"USD"]
[{"$f":"D3719&F3719&E3719","v":"SAP ColombiaCloud Classic SAP SolutionsSAP-8008352-3"},{"$f":"E3719&F3719","v":"SAP-8008352-3Cloud Classic SAP Solutions"},null,"SAP Colombia","SAP-8008352-3","Cloud Classic SAP Solutions",{"$f":"D3719","v":"SAP Colombia"},"USD","N/A","SAP S/4HANA Cloud for intelligent accounting automation​",10000,"Serv","Suscripcion","N/A","N/A","N/A","SAP-8008352-3","Forma de pago estandar a 30 dias",532,1,0,"USD"]
[{"$f":"D3720&F3720&E3720","v":"SAP ColombiaCloud Classic SAP SolutionsSAP-8008352-4"},{"$f":"E3720&F3720","v":"SAP-8008352-4Cloud Classic SAP Solutions"},null,"SAP Colombia","SAP-8008352-4","Cloud Classic SAP Solutions",{"$f":"D3720","v":"SAP Colombia"},"USD","N/A","SAP S/4HANA Cloud for intelligent accounting automation​",10000,"Serv","Suscripcion","N/A","N/A","N/A","SAP-8008352-4","Forma de pago estandar a 30 dias",426,1,0,"USD"]
[{"$f":"D3721&F3721&E3721","v":"SAP ColombiaCloud Classic SAP SolutionsSAP-8008352-5"},{"$f":"E3721&F3721","v":"SAP-8008352-5Cloud Classic SAP Solutions"},null,"SAP Colombia","SAP-8008352-5","Cloud Classic SAP Solutions",{"$f":"D3721","v":"SAP Colombia"},"USD","N/A","SAP S/4HANA Cloud for intelligent accounting automation​",10000,"Serv","Suscripcion","N/A","N/A","N/A","SAP-8008352-5","Forma de pago estandar a 30 dias",336,1,0,"USD"]
[{"$f":"D3722&F3722&E3722","v":"SAP ColombiaCloud Classic SAP SolutionsSAP-8008505-1"},{"$f":"E3722&F3722","v":"SAP-8008505-1Cloud Classic SAP Solutions"},null,"SAP Colombia","SAP-8008505-1","Cloud Classic SAP Solutions",{"$f":"D3722","v":"SAP Colombia"},"USD","N/A","SAP Document Compliance, inbound invoicing option for Brazil (nota fiscal eletrônica)",10000,"Serv","Suscripcion","N/A","N/A","N/A","SAP-8008505-1","Forma de pago estandar a 30 dias",930,1,0,"USD"]
[{"$f":"D3723&F3723&E3723","v":"SAP ColombiaCloud Classic SAP SolutionsSAP-8008505-2"},{"$f":"E3723&F3723","v":"SAP-8008505-2Cloud Classic SAP Solutions"},null,"SAP Colombia","SAP-8008505-2","Cloud Classic SAP Solutions",{"$f":"D3723","v":"SAP Colombia"},"USD","N/A","SAP Document Compliance, inbound invoicing option for Brazil (nota fiscal eletrônica)",10000,"Serv","Suscripcion","N/A","N/A","N/A","SAP-8008505-2","Forma de pago estandar a 30 dias",773,1,0,"USD"]
[{"$f":"D3724&F3724&E3724","v":"SAP ColombiaCloud Classic SAP SolutionsSAP-8008505-3"},{"$f":"E3724&F3724","v":"SAP-8008505-3Cloud Classic SAP Solutions"},null,"SAP Colombia","SAP-8008505-3","Cloud Classic SAP Solutions",{"$f":"D3724","v":"SAP Colombia"},"USD","N/A","SAP Document Compliance, inbound invoicing option for Brazil (nota fiscal eletrônica)",10000,"Serv","Suscripcion","N/A","N/A","N/A","SAP-8008505-3","Forma de pago estandar a 30 dias",694,1,0,"USD"]
[{"$f":"D3725&F3725&E3725","v":"SAP ColombiaCloud Classic SAP SolutionsSAP-8008505-4"},{"$f":"E3725&F3725","v":"SAP-8008505-4Cloud Classic SAP Solutions"},null,"SAP Colombia","SAP-8008505-4","Cloud Classic SAP Solutions",{"$f":"D3725","v":"SAP Colombia"},"USD","N/A","SAP Document Compliance, inbound invoicing option for Brazil (nota fiscal eletrônica)",10000,"Serv","Suscripcion","N/A","N/A","N/A","SAP-8008505-4","Forma de pago estandar a 30 dias",493,1,0,"USD"]
[{"$f":"D3726&F3726&E3726","v":"SAP ColombiaCloud Classic SAP SolutionsSAP-8008505-5"},{"$f":"E3726&F3726","v":"SAP-8008505-5Cloud Classic SAP Solutions"},null,"SAP Colombia","SAP-8008505-5","Cloud Classic SAP Solutions",{"$f":"D3726","v":"SAP Colombia"},"USD","N/A","SAP Document Compliance, inbound invoicing option for Brazil (nota fiscal eletrônica)",10000,"Serv","Suscripcion","N/A","N/A","N/A","SAP-8008505-5","Forma de pago estandar a 30 dias",403,1,0,"USD"]
[{"$f":"D3727&F3727&E3727","v":"SAP ColombiaCloud Classic SAP SolutionsSAP-8008888-1"},{"$f":"E3727&F3727","v":"SAP-8008888-1Cloud Classic SAP Solutions"},null,"SAP Colombia","SAP-8008888-1","Cloud Classic SAP Solutions",{"$f":"D3727","v":"SAP Colombia"},"USD","N/A","SAP Document Compliance, outbound invoicing option for Brazil (nota fiscal eletrônica)",10000,"Serv","Suscripcion","N/A","N/A","N/A","SAP-8008888-1","Forma de pago estandar a 30 dias",370,1,0,"USD"]
[{"$f":"D3728&F3728&E3728","v":"SAP ColombiaCloud Classic SAP SolutionsSAP-8008888-2"},{"$f":"E3728&F3728","v":"SAP-8008888-2Cloud Classic SAP Solutions"},null,"SAP Colombia","SAP-8008888-2","Cloud Classic SAP Solutions",{"$f":"D3728","v":"SAP Colombia"},"USD","N/A","SAP Document Compliance, outbound invoicing option for Brazil (nota fiscal eletrônica)",10000,"Serv","Suscripcion","N/A","N/A","N/A","SAP-8008888-2","Forma de pago estandar a 30 dias",308,1,0,"USD"]
[{"$f":"D3729&F3729&E3729","v":"SAP ColombiaCloud Classic SAP SolutionsSAP-8008888-3"},{"$f":"E3729&F3729","v":"SAP-8008888-3Cloud Classic SAP Solutions"},null,"SAP Colombia","SAP-8008888-3","Cloud Classic SAP Solutions",{"$f":"D3729","v":"SAP Colombia"},"USD","N/A","SAP Document Compliance, outbound invoicing option for Brazil (nota fiscal eletrônica)",10000,"Serv","Suscripcion","N/A","N/A","N/A","SAP-8008888-3","Forma de pago estandar a 30 dias",280,1,0,"USD"]
[{"$f":"D3730&F3730&E3730","v":"SAP ColombiaCloud Classic SAP SolutionsSAP-8008888-4"},{"$f":"E3730&F3730","v":"SAP-8008888-4Cloud Classic SAP Solutions"},null,"SAP Colombia","SAP-8008888-4","Cloud Classic SAP Solutions",{"$f":"D3730","v":"SAP Colombia"},"USD","N/A","SAP Document Compliance, outbound invoicing option for Brazil (nota fiscal eletrônica)",10000,"Serv","Suscripcion","N/A","N/A","N/A","SAP-8008888-4","Forma de pago estandar a 30 dias",196,1,0,"USD"]
[{"$f":"D3731&F3731&E3731","v":"SAP ColombiaCloud Classic SAP SolutionsSAP-8008888-5"},{"$f":"E3731&F3731","v":"SAP-8008888-5Cloud Classic SAP Solutions"},null,"SAP Colombia","SAP-8008888-5","Cloud Classic SAP Solutions",{"$f":"D3731","v":"SAP Colombia"},"USD","N/A","SAP Document Compliance, outbound invoicing option for Brazil (nota fiscal eletrônica)",10000,"Serv","Suscripcion","N/A","N/A","N/A","SAP-8008888-5","Forma de pago estandar a 30 dias",140,1,0,"USD"]
[{"$f":"D3732&F3732&E3732","v":"SAP ColombiaCloud Classic SAP SolutionsSAP-8008888-6"},{"$f":"E3732&F3732","v":"SAP-8008888-6Cloud Classic SAP Solutions"},null,"SAP Colombia","SAP-8008888-6","Cloud Classic SAP Solutions",{"$f":"D3732","v":"SAP Colombia"},"USD","N/A","SAP Document Compliance, outbound invoicing option for Brazil (nota fiscal eletrônica)",10000,"Serv","Suscripcion","N/A","N/A","N/A","SAP-8008888-6","Forma de pago estandar a 30 dias",112,1,0,"USD"]
[{"$f":"D3733&F3733&E3733","v":"SAP ColombiaCloud Classic SAP SolutionsSAP-8009206-1"},{"$f":"E3733&F3733","v":"SAP-8009206-1Cloud Classic SAP Solutions"},null,"SAP Colombia","SAP-8009206-1","Cloud Classic SAP Solutions",{"$f":"D3733","v":"SAP Colombia"},"USD","N/A","SAP Cloud for Real Estate",100,"Serv","Suscripcion","N/A","N/A","N/A","SAP-8009206-1","Forma de pago estandar a 30 dias",448,1,0,"USD"]
[{"$f":"D3734&F3734&E3734","v":"SAP ColombiaCloud Classic SAP SolutionsSAP-8009206-2"},{"$f":"E3734&F3734","v":"SAP-8009206-2Cloud Classic SAP Solutions"},null,"SAP Colombia","SAP-8009206-2","Cloud Classic SAP Solutions",{"$f":"D3734","v":"SAP Colombia"},"USD","N/A","SAP Cloud for Real Estate",100,"Serv","Suscripcion","N/A","N/A","N/A","SAP-8009206-2","Forma de pago estandar a 30 dias",280,1,0,"USD"]
[{"$f":"D3735&F3735&E3735","v":"SAP ColombiaCloud Classic SAP SolutionsSAP-8009206-3"},{"$f":"E3735&F3735","v":"SAP-8009206-3Cloud Classic SAP Solutions"},null,"SAP Colombia","SAP-8009206-3","Cloud Classic SAP Solutions",{"$f":"D3735","v":"SAP Colombia"},"USD","N/A","SAP Cloud for Real Estate",100,"Serv","Suscripcion","N/A","N/A","N/A","SAP-8009206-3","Forma de pago estandar a 30 dias",168,1,0,"USD"]
[{"$f":"D3736&F3736&E3736","v":"SAP ColombiaCloud Classic SAP SolutionsSAP-8009206-4"},{"$f":"E3736&F3736","v":"SAP-8009206-4Cloud Classic SAP Solutions"},null,"SAP Colombia","SAP-8009206-4","Cloud Classic SAP Solutions",{"$f":"D3736","v":"SAP Colombia"},"USD","N/A","SAP Cloud for Real Estate",100,"Serv","Suscripcion","N/A","N/A","N/A","SAP-8009206-4","Forma de pago estandar a 30 dias",56,1,0,"USD"]
[{"$f":"D3737&F3737&E3737","v":"SAP ColombiaCloud Classic SAP SolutionsSAP-8009206-5"},{"$f":"E3737&F3737","v":"SAP-8009206-5Cloud Classic SAP Solutions"},null,"SAP Colombia","SAP-8009206-5","Cloud Classic SAP Solutions",{"$f":"D3737","v":"SAP Colombia"},"USD","N/A","SAP Cloud for Real Estate",100,"Serv","Suscripcion","N/A","N/A","N/A","SAP-8009206-5","Forma de pago estandar a 30 dias",28,1,0,"USD"]
[{"$f":"D3738&F3738&E3738","v":"SAP ColombiaCloud Classic SAP SolutionsSAP-8009304-1"},{"$f":"E3738&F3738","v":"SAP-8009304-1Cloud Classic SAP Solutions"},null,"SAP Colombia","SAP-8009304-1","Cloud Classic SAP Solutions",{"$f":"D3738","v":"SAP Colombia"},"USD","N/A","SAP ERP for Commodity Risk Management, private cloud edition",11199000,"Serv","Suscripcion","N/A","N/A","N/A","SAP-8009304-1","Forma de pago estandar a 30 dias",184,1,0,"USD"]
[{"$f":"D3739&F3739&E3739","v":"SAP ColombiaCloud Classic SAP SolutionsSAP-8009304-2"},{"$f":"E3739&F3739","v":"SAP-8009304-2Cloud Classic SAP Solutions"},null,"SAP Colombia","SAP-8009304-2","Cloud Classic SAP Solutions",{"$f":"D3739","v":"SAP Colombia"},"USD","N/A","SAP ERP for Commodity Risk Management, private cloud edition",11199000,"Serv","Suscripcion","N/A","N/A","N/A","SAP-8009304-2","Forma de pago estandar a 30 dias",121,1,0,"USD"]
[{"$f":"D3740&F3740&E3740","v":"SAP ColombiaCloud Classic SAP SolutionsSAP-8009304-3"},{"$f":"E3740&F3740","v":"SAP-8009304-3Cloud Classic SAP Solutions"},null,"SAP Colombia","SAP-8009304-3","Cloud Classic SAP Solutions",{"$f":"D3740","v":"SAP Colombia"},"USD","N/A","SAP ERP for Commodity Risk Management, private cloud edition",11199000,"Serv","Suscripcion","N/A","N/A","N/A","SAP-8009304-3","Forma de pago estandar a 30 dias",83,1,0,"USD"]
[{"$f":"D3741&F3741&E3741","v":"SAP ColombiaCloud Classic SAP SolutionsSAP-8009308-1"},{"$f":"E3741&F3741","v":"SAP-8009308-1Cloud Classic SAP Solutions"},null,"SAP Colombia","SAP-8009308-1","Cloud Classic SAP Solutions",{"$f":"D3741","v":"SAP Colombia"},"USD","N/A","SAP ERP for receivables management, private cloud edition",1,"Serv","Suscripcion","N/A","N/A","N/A","SAP-8009308-1","Forma de pago estandar a 30 dias",103,1,0,"USD"]
[{"$f":"D3742&F3742&E3742","v":"SAP ColombiaCloud Classic SAP SolutionsSAP-8009308-2"},{"$f":"E3742&F3742","v":"SAP-8009308-2Cloud Classic SAP Solutions"},null,"SAP Colombia","SAP-8009308-2","Cloud Classic SAP Solutions",{"$f":"D3742","v":"SAP Colombia"},"USD","N/A","SAP ERP for receivables management, private cloud edition",1,"Serv","Suscripcion","N/A","N/A","N/A","SAP-8009308-2","Forma de pago estandar a 30 dias",63,1,0,"USD"]
[{"$f":"D3743&F3743&E3743","v":"SAP ColombiaCloud Classic SAP SolutionsSAP-8009308-3"},{"$f":"E3743&F3743","v":"SAP-8009308-3Cloud Classic SAP Solutions"},null,"SAP Colombia","SAP-8009308-3","Cloud Classic SAP Solutions",{"$f":"D3743","v":"SAP Colombia"},"USD","N/A","SAP ERP for receivables management, private cloud edition",1,"Serv","Suscripcion","N/A","N/A","N/A","SAP-8009308-3","Forma de pago estandar a 30 dias",26,1,0,"USD"]
[{"$f":"D3744&F3744&E3744","v":"SAP ColombiaCloud Classic SAP SolutionsSAP-8009308-4"},{"$f":"E3744&F3744","v":"SAP-8009308-4Cloud Classic SAP Solutions"},null,"SAP Colombia","SAP-8009308-4","Cloud Classic SAP Solutions",{"$f":"D3744","v":"SAP Colombia"},"USD","N/A","SAP ERP for receivables management, private cloud edition",1,"Serv","Suscripcion","N/A","N/A","N/A","SAP-8009308-4","Forma de pago estandar a 30 dias",12,1,0,"USD"]
[{"$f":"D3745&F3745&E3745","v":"SAP ColombiaCloud Classic SAP SolutionsSAP-8009308-5"},{"$f":"E3745&F3745","v":"SAP-8009308-5Cloud Classic SAP Solutions"},null,"SAP Colombia","SAP-8009308-5","Cloud Classic SAP Solutions",{"$f":"D3745","v":"SAP Colombia"},"USD","N/A","SAP ERP for receivables management, private cloud edition",1,"Serv","Suscripcion","N/A","N/A","N/A","SAP-8009308-5","Forma de pago estandar a 30 dias",9.6300000000000008,1,0,"USD"]
[{"$f":"D3746&F3746&E3746","v":"SAP ColombiaCloud Classic SAP SolutionsSAP-8009311-1"},{"$f":"E3746&F3746","v":"SAP-8009311-1Cloud Classic SAP Solutions"},null,"SAP Colombia","SAP-8009311-1","Cloud Classic SAP Solutions",{"$f":"D3746","v":"SAP Colombia"},"USD","N/A","SAP ERP for in-house cash, private cloud edition",111990000,"Serv","Suscripcion","N/A","N/A","N/A","SAP-8009311-1","Forma de pago estandar a 30 dias",193,1,0,"USD"]
[{"$f":"D3747&F3747&E3747","v":"SAP ColombiaCloud Classic SAP SolutionsSAP-8009311-2"},{"$f":"E3747&F3747","v":"SAP-8009311-2Cloud Classic SAP Solutions"},null,"SAP Colombia","SAP-8009311-2","Cloud Classic SAP Solutions",{"$f":"D3747","v":"SAP Colombia"},"USD","N/A","SAP ERP for in-house cash, private cloud edition",111990000,"Serv","Suscripcion","N/A","N/A","N/A","SAP-8009311-2","Forma de pago estandar a 30 dias",68,1,0,"USD"]
[{"$f":"D3748&F3748&E3748","v":"SAP ColombiaCloud Classic SAP SolutionsSAP-8009311-3"},{"$f":"E3748&F3748","v":"SAP-8009311-3Cloud Classic SAP Solutions"},null,"SAP Colombia","SAP-8009311-3","Cloud Classic SAP Solutions",{"$f":"D3748","v":"SAP Colombia"},"USD","N/A","SAP ERP for in-house cash, private cloud edition",111990000,"Serv","Suscripcion","N/A","N/A","N/A","SAP-8009311-3","Forma de pago estandar a 30 dias",35,1,0,"USD"]
[{"$f":"D3749&F3749&E3749","v":"SAP ColombiaCloud Classic SAP SolutionsSAP-8009311-4"},{"$f":"E3749&F3749","v":"SAP-8009311-4Cloud Classic SAP Solutions"},null,"SAP Colombia","SAP-8009311-4","Cloud Classic SAP Solutions",{"$f":"D3749","v":"SAP Colombia"},"USD","N/A","SAP ERP for in-house cash, private cloud edition",111990000,"Serv","Suscripcion","N/A","N/A","N/A","SAP-8009311-4","Forma de pago estandar a 30 dias",18,1,0,"USD"]
[{"$f":"D3750&F3750&E3750","v":"SAP ColombiaCloud Classic SAP SolutionsSAP-8009311-5"},{"$f":"E3750&F3750","v":"SAP-8009311-5Cloud Classic SAP Solutions"},null,"SAP Colombia","SAP-8009311-5","Cloud Classic SAP Solutions",{"$f":"D3750","v":"SAP Colombia"},"USD","N/A","SAP ERP for in-house cash, private cloud edition",111990000,"Serv","Suscripcion","N/A","N/A","N/A","SAP-8009311-5","Forma de pago estandar a 30 dias",8.2100000000000009,1,0,"USD"]
[{"$f":"D3751&F3751&E3751","v":"SAP ColombiaCloud Classic SAP SolutionsSAP-8009312-1"},{"$f":"E3751&F3751","v":"SAP-8009312-1Cloud Classic SAP Solutions"},null,"SAP Colombia","SAP-8009312-1","Cloud Classic SAP Solutions",{"$f":"D3751","v":"SAP Colombia"},"USD","N/A","SAP ERP for Real Estate Management, residential property mgmt, private cloud edition",1000,"Serv","Suscripcion","N/A","N/A","N/A","SAP-8009312-1","Forma de pago estandar a 30 dias",197,1,0,"USD"]
[{"$f":"D3752&F3752&E3752","v":"SAP ColombiaCloud Classic SAP SolutionsSAP-8009312-2"},{"$f":"E3752&F3752","v":"SAP-8009312-2Cloud Classic SAP Solutions"},null,"SAP Colombia","SAP-8009312-2","Cloud Classic SAP Solutions",{"$f":"D3752","v":"SAP Colombia"},"USD","N/A","SAP ERP for Real Estate Management, residential property mgmt, private cloud edition",1000,"Serv","Suscripcion","N/A","N/A","N/A","SAP-8009312-2","Forma de pago estandar a 30 dias",134,1,0,"USD"]
[{"$f":"D3753&F3753&E3753","v":"SAP ColombiaCloud Classic SAP SolutionsSAP-8009312-3"},{"$f":"E3753&F3753","v":"SAP-8009312-3Cloud Classic SAP Solutions"},null,"SAP Colombia","SAP-8009312-3","Cloud Classic SAP Solutions",{"$f":"D3753","v":"SAP Colombia"},"USD","N/A","SAP ERP for Real Estate Management, residential property mgmt, private cloud edition",1000,"Serv","Suscripcion","N/A","N/A","N/A","SAP-8009312-3","Forma de pago estandar a 30 dias",112,1,0,"USD"]
[{"$f":"D3754&F3754&E3754","v":"SAP ColombiaCloud Classic SAP SolutionsSAP-8009334"},{"$f":"E3754&F3754","v":"SAP-8009334Cloud Classic SAP Solutions"},null,"SAP Colombia","SAP-8009334","Cloud Classic SAP Solutions",{"$f":"D3754","v":"SAP Colombia"},"USD","N/A","SAP ERP for financial closing cockpit, private cloud edition",500,"Serv","Suscripcion","N/A","N/A","N/A","SAP-8009334","Forma de pago estandar a 30 dias",421,1,0,"USD"]
[{"$f":"D3755&F3755&E3755","v":"SAP ColombiaCloud Classic SAP SolutionsSAP-8009350-1"},{"$f":"E3755&F3755","v":"SAP-8009350-1Cloud Classic SAP Solutions"},null,"SAP Colombia","SAP-8009350-1","Cloud Classic SAP Solutions",{"$f":"D3755","v":"SAP Colombia"},"USD","N/A","SAP ERP for bank communication management, private cloud edition",111990000,"Serv","Suscripcion","N/A","N/A","N/A","SAP-8009350-1","Forma de pago estandar a 30 dias",190,1,0,"USD"]
[{"$f":"D3756&F3756&E3756","v":"SAP ColombiaCloud Classic SAP SolutionsSAP-8009350-2"},{"$f":"E3756&F3756","v":"SAP-8009350-2Cloud Classic SAP Solutions"},null,"SAP Colombia","SAP-8009350-2","Cloud Classic SAP Solutions",{"$f":"D3756","v":"SAP Colombia"},"USD","N/A","SAP ERP for bank communication management, private cloud edition",111990000,"Serv","Suscripcion","N/A","N/A","N/A","SAP-8009350-2","Forma de pago estandar a 30 dias",65,1,0,"USD"]
[{"$f":"D3757&F3757&E3757","v":"SAP ColombiaCloud Classic SAP SolutionsSAP-8009350-3"},{"$f":"E3757&F3757","v":"SAP-8009350-3Cloud Classic SAP Solutions"},null,"SAP Colombia","SAP-8009350-3","Cloud Classic SAP Solutions",{"$f":"D3757","v":"SAP Colombia"},"USD","N/A","SAP ERP for bank communication management, private cloud edition",111990000,"Serv","Suscripcion","N/A","N/A","N/A","SAP-8009350-3","Forma de pago estandar a 30 dias",35,1,0,"USD"]
[{"$f":"D3758&F3758&E3758","v":"SAP ColombiaCloud Classic SAP SolutionsSAP-8009350-4"},{"$f":"E3758&F3758","v":"SAP-8009350-4Cloud Classic SAP Solutions"},null,"SAP Colombia","SAP-8009350-4","Cloud Classic SAP Solutions",{"$f":"D3758","v":"SAP Colombia"},"USD","N/A","SAP ERP for bank communication management, private cloud edition",111990000,"Serv","Suscripcion","N/A","N/A","N/A","SAP-8009350-4","Forma de pago estandar a 30 dias",21,1,0,"USD"]
[{"$f":"D3759&F3759&E3759","v":"SAP ColombiaCloud Classic SAP SolutionsSAP-8009350-5"},{"$f":"E3759&F3759","v":"SAP-8009350-5Cloud Classic SAP Solutions"},null,"SAP Colombia","SAP-8009350-5","Cloud Classic SAP Solutions",{"$f":"D3759","v":"SAP Colombia"},"USD","N/A","SAP ERP for bank communication management, private cloud edition",111990000,"Serv","Suscripcion","N/A","N/A","N/A","SAP-8009350-5","Forma de pago estandar a 30 dias",16,1,0,"USD"]
[{"$f":"D3760&F3760&E3760","v":"SAP ColombiaCloud Classic SAP SolutionsSAP-8009380-1"},{"$f":"E3760&F3760","v":"SAP-8009380-1Cloud Classic SAP Solutions"},null,"SAP Colombia","SAP-8009380-1","Cloud Classic SAP Solutions",{"$f":"D3760","v":"SAP Colombia"},"USD","N/A","SAP ERP for treasury and risk management, private cloud edition",111990000,"Serv","Suscripcion","N/A","N/A","N/A","SAP-8009380-1","Forma de pago estandar a 30 dias",181,1,0,"USD"]
[{"$f":"D3761&F3761&E3761","v":"SAP ColombiaCloud Classic SAP SolutionsSAP-8009380-2"},{"$f":"E3761&F3761","v":"SAP-8009380-2Cloud Classic SAP Solutions"},null,"SAP Colombia","SAP-8009380-2","Cloud Classic SAP Solutions",{"$f":"D3761","v":"SAP Colombia"},"USD","N/A","SAP ERP for treasury and risk management, private cloud edition",111990000,"Serv","Suscripcion","N/A","N/A","N/A","SAP-8009380-2","Forma de pago estandar a 30 dias",68,1,0,"USD"]
[{"$f":"D3762&F3762&E3762","v":"SAP ColombiaCloud Classic SAP SolutionsSAP-8009380-3"},{"$f":"E3762&F3762","v":"SAP-8009380-3Cloud Classic SAP Solutions"},null,"SAP Colombia","SAP-8009380-3","Cloud Classic SAP Solutions",{"$f":"D3762","v":"SAP Colombia"},"USD","N/A","SAP ERP for treasury and risk management, private cloud edition",111990000,"Serv","Suscripcion","N/A","N/A","N/A","SAP-8009380-3","Forma de pago estandar a 30 dias",36,1,0,"USD"]
[{"$f":"D3763&F3763&E3763","v":"SAP ColombiaCloud Classic SAP SolutionsSAP-8009380-4"},{"$f":"E3763&F3763","v":"SAP-8009380-4Cloud Classic SAP Solutions"},null,"SAP Colombia","SAP-8009380-4","Cloud Classic SAP Solutions",{"$f":"D3763","v":"SAP Colombia"},"USD","N/A","SAP ERP for treasury and risk management, private cloud edition",111990000,"Serv","Suscripcion","N/A","N/A","N/A","SAP-8009380-4","Forma de pago estandar a 30 dias",20,1,0,"USD"]
[{"$f":"D3764&F3764&E3764","v":"SAP ColombiaCloud Classic SAP SolutionsSAP-8009380-5"},{"$f":"E3764&F3764","v":"SAP-8009380-5Cloud Classic SAP Solutions"},null,"SAP Colombia","SAP-8009380-5","Cloud Classic SAP Solutions",{"$f":"D3764","v":"SAP Colombia"},"USD","N/A","SAP ERP for treasury and risk management, private cloud edition",111990000,"Serv","Suscripcion","N/A","N/A","N/A","SAP-8009380-5","Forma de pago estandar a 30 dias",14,1,0,"USD"]
[{"$f":"D3765&F3765&E3765","v":"SAP ColombiaCloud Classic SAP SolutionsSAP-8010787-1"},{"$f":"E3765&F3765","v":"SAP-8010787-1Cloud Classic SAP Solutions"},null,"SAP Colombia","SAP-8010787-1","Cloud Classic SAP Solutions",{"$f":"D3765","v":"SAP Colombia"},"USD","N/A","SAP ERP for contract accounting and invoicing, private cloud edition",55995000,"Serv","Suscripcion","N/A","N/A","N/A","SAP-8010787-1","Forma de pago estandar a 30 dias",6873,1,0,"USD"]
[{"$f":"D3766&F3766&E3766","v":"SAP ColombiaCloud Classic SAP SolutionsSAP-8010787-2"},{"$f":"E3766&F3766","v":"SAP-8010787-2Cloud Classic SAP Solutions"},null,"SAP Colombia","SAP-8010787-2","Cloud Classic SAP Solutions",{"$f":"D3766","v":"SAP Colombia"},"USD","N/A","SAP ERP for contract accounting and invoicing, private cloud edition",55995000,"Serv","Suscripcion","N/A","N/A","N/A","SAP-8010787-2","Forma de pago estandar a 30 dias",5529,1,0,"USD"]
[{"$f":"D3767&F3767&E3767","v":"SAP ColombiaCloud Classic SAP SolutionsSAP-8010787-3"},{"$f":"E3767&F3767","v":"SAP-8010787-3Cloud Classic SAP Solutions"},null,"SAP Colombia","SAP-8010787-3","Cloud Classic SAP Solutions",{"$f":"D3767","v":"SAP Colombia"},"USD","N/A","SAP ERP for contract accounting and invoicing, private cloud edition",55995000,"Serv","Suscripcion","N/A","N/A","N/A","SAP-8010787-3","Forma de pago estandar a 30 dias",4113,1,0,"USD"]
[{"$f":"D3768&F3768&E3768","v":"SAP ColombiaCloud Classic SAP SolutionsSAP-8010787-4"},{"$f":"E3768&F3768","v":"SAP-8010787-4Cloud Classic SAP Solutions"},null,"SAP Colombia","SAP-8010787-4","Cloud Classic SAP Solutions",{"$f":"D3768","v":"SAP Colombia"},"USD","N/A","SAP ERP for contract accounting and invoicing, private cloud edition",55995000,"Serv","Suscripcion","N/A","N/A","N/A","SAP-8010787-4","Forma de pago estandar a 30 dias",3165,1,0,"USD"]
[{"$f":"D3769&F3769&E3769","v":"SAP ColombiaCloud Classic SAP SolutionsSAP-8010787-5"},{"$f":"E3769&F3769","v":"SAP-8010787-5Cloud Classic SAP Solutions"},null,"SAP Colombia","SAP-8010787-5","Cloud Classic SAP Solutions",{"$f":"D3769","v":"SAP Colombia"},"USD","N/A","SAP ERP for contract accounting and invoicing, private cloud edition",55995000,"Serv","Suscripcion","N/A","N/A","N/A","SAP-8010787-5","Forma de pago estandar a 30 dias",2444,1,0,"USD"]
[{"$f":"D3770&F3770&E3770","v":"SAP ColombiaCloud Classic SAP SolutionsSAP-8010893"},{"$f":"E3770&F3770","v":"SAP-8010893Cloud Classic SAP Solutions"},null,"SAP Colombia","SAP-8010893","Cloud Classic SAP Solutions",{"$f":"D3770","v":"SAP Colombia"},"USD","N/A","SAP Entitlement Management, additional test tenant",1,"Serv","Suscripcion","N/A","N/A","N/A","SAP-8010893","Forma de pago estandar a 30 dias",896,1,0,"USD"]
[{"$f":"D3771&F3771&E3771","v":"SAP ColombiaCloud Classic SAP SolutionsSAP-8010957-1"},{"$f":"E3771&F3771","v":"SAP-8010957-1Cloud Classic SAP Solutions"},null,"SAP Colombia","SAP-8010957-1","Cloud Classic SAP Solutions",{"$f":"D3771","v":"SAP Colombia"},"USD","N/A","SAP Enterprise Threat Detection, cloud edition",100,"Serv","Suscripcion","N/A","N/A","N/A","SAP-8010957-1","Forma de pago estandar a 30 dias",672,1,0,"USD"]
[{"$f":"D3772&F3772&E3772","v":"SAP ColombiaCloud Classic SAP SolutionsSAP-8010957-2"},{"$f":"E3772&F3772","v":"SAP-8010957-2Cloud Classic SAP Solutions"},null,"SAP Colombia","SAP-8010957-2","Cloud Classic SAP Solutions",{"$f":"D3772","v":"SAP Colombia"},"USD","N/A","SAP Enterprise Threat Detection, cloud edition",100,"Serv","Suscripcion","N/A","N/A","N/A","SAP-8010957-2","Forma de pago estandar a 30 dias",470,1,0,"USD"]
[{"$f":"D3773&F3773&E3773","v":"SAP ColombiaCloud Classic SAP SolutionsSAP-8010957-3"},{"$f":"E3773&F3773","v":"SAP-8010957-3Cloud Classic SAP Solutions"},null,"SAP Colombia","SAP-8010957-3","Cloud Classic SAP Solutions",{"$f":"D3773","v":"SAP Colombia"},"USD","N/A","SAP Enterprise Threat Detection, cloud edition",100,"Serv","Suscripcion","N/A","N/A","N/A","SAP-8010957-3","Forma de pago estandar a 30 dias",336,1,0,"USD"]
[{"$f":"D3774&F3774&E3774","v":"SAP ColombiaCloud Classic SAP SolutionsSAP-8010987-1"},{"$f":"E3774&F3774","v":"SAP-8010987-1Cloud Classic SAP Solutions"},null,"SAP Colombia","SAP-8010987-1","Cloud Classic SAP Solutions",{"$f":"D3774","v":"SAP Colombia"},"USD","N/A","SAP Financial Compliance Management",1,"Serv","Suscripcion","N/A","N/A","N/A","SAP-8010987-1","Forma de pago estandar a 30 dias",241,1,0,"USD"]
[{"$f":"D3775&F3775&E3775","v":"SAP ColombiaCloud Classic SAP SolutionsSAP-8010987-2"},{"$f":"E3775&F3775","v":"SAP-8010987-2Cloud Classic SAP Solutions"},null,"SAP Colombia","SAP-8010987-2","Cloud Classic SAP Solutions",{"$f":"D3775","v":"SAP Colombia"},"USD","N/A","SAP Financial Compliance Management",1,"Serv","Suscripcion","N/A","N/A","N/A","SAP-8010987-2","Forma de pago estandar a 30 dias",174,1,0,"USD"]
[{"$f":"D3776&F3776&E3776","v":"SAP ColombiaCloud Classic SAP SolutionsSAP-8010987-3"},{"$f":"E3776&F3776","v":"SAP-8010987-3Cloud Classic SAP Solutions"},null,"SAP Colombia","SAP-8010987-3","Cloud Classic SAP Solutions",{"$f":"D3776","v":"SAP Colombia"},"USD","N/A","SAP Financial Compliance Management",1,"Serv","Suscripcion","N/A","N/A","N/A","SAP-8010987-3","Forma de pago estandar a 30 dias",151,1,0,"USD"]
[{"$f":"D3777&F3777&E3777","v":"SAP ColombiaCloud Classic SAP SolutionsSAP-8010987-4"},{"$f":"E3777&F3777","v":"SAP-8010987-4Cloud Classic SAP Solutions"},null,"SAP Colombia","SAP-8010987-4","Cloud Classic SAP Solutions",{"$f":"D3777","v":"SAP Colombia"},"USD","N/A","SAP Financial Compliance Management",1,"Serv","Suscripcion","N/A","N/A","N/A","SAP-8010987-4","Forma de pago estandar a 30 dias",129,1,0,"USD"]
[{"$f":"D3778&F3778&E3778","v":"SAP ColombiaCloud Classic SAP SolutionsSAP-8010987-5"},{"$f":"E3778&F3778","v":"SAP-8010987-5Cloud Classic SAP Solutions"},null,"SAP Colombia","SAP-8010987-5","Cloud Classic SAP Solutions",{"$f":"D3778","v":"SAP Colombia"},"USD","N/A","SAP Financial Compliance Management",1,"Serv","Suscripcion","N/A","N/A","N/A","SAP-8010987-5","Forma de pago estandar a 30 dias",101,1,0,"USD"]
[{"$f":"D3779&F3779&E3779","v":"SAP ColombiaCloud Classic SAP SolutionsSAP-8011271-1"},{"$f":"E3779&F3779","v":"SAP-8011271-1Cloud Classic SAP Solutions"},null,"SAP Colombia","SAP-8011271-1","Cloud Classic SAP Solutions",{"$f":"D3779","v":"SAP Colombia"},"USD","N/A","SAP Access Control Cloud, extra stack, private edition",100,"Serv","Suscripcion","N/A","N/A","N/A","SAP-8011271-1","Forma de pago estandar a 30 dias",2139,1,0,"USD"]
[{"$f":"D3780&F3780&E3780","v":"SAP ColombiaCloud Classic SAP SolutionsSAP-8011271-2"},{"$f":"E3780&F3780","v":"SAP-8011271-2Cloud Classic SAP Solutions"},null,"SAP Colombia","SAP-8011271-2","Cloud Classic SAP Solutions",{"$f":"D3780","v":"SAP Colombia"},"USD","N/A","SAP Access Control Cloud, extra stack, private edition",100,"Serv","Suscripcion","N/A","N/A","N/A","SAP-8011271-2","Forma de pago estandar a 30 dias",953,1,0,"USD"]
[{"$f":"D3781&F3781&E3781","v":"SAP ColombiaCloud Classic SAP SolutionsSAP-8011271-3"},{"$f":"E3781&F3781","v":"SAP-8011271-3Cloud Classic SAP Solutions"},null,"SAP Colombia","SAP-8011271-3","Cloud Classic SAP Solutions",{"$f":"D3781","v":"SAP Colombia"},"USD","N/A","SAP Access Control Cloud, extra stack, private edition",100,"Serv","Suscripcion","N/A","N/A","N/A","SAP-8011271-3","Forma de pago estandar a 30 dias",672,1,0,"USD"]
[{"$f":"D3782&F3782&E3782","v":"SAP ColombiaCloud Classic SAP SolutionsSAP-8011271-4"},{"$f":"E3782&F3782","v":"SAP-8011271-4Cloud Classic SAP Solutions"},null,"SAP Colombia","SAP-8011271-4","Cloud Classic SAP Solutions",{"$f":"D3782","v":"SAP Colombia"},"USD","N/A","SAP Access Control Cloud, extra stack, private edition",100,"Serv","Suscripcion","N/A","N/A","N/A","SAP-8011271-4","Forma de pago estandar a 30 dias",571,1,0,"USD"]
[{"$f":"D3783&F3783&E3783","v":"SAP ColombiaCloud Classic SAP SolutionsSAP-8011271-5"},{"$f":"E3783&F3783","v":"SAP-8011271-5Cloud Classic SAP Solutions"},null,"SAP Colombia","SAP-8011271-5","Cloud Classic SAP Solutions",{"$f":"D3783","v":"SAP Colombia"},"USD","N/A","SAP Access Control Cloud, extra stack, private edition",100,"Serv","Suscripcion","N/A","N/A","N/A","SAP-8011271-5","Forma de pago estandar a 30 dias",448,1,0,"USD"]
[{"$f":"D3784&F3784&E3784","v":"SAP ColombiaCloud Classic SAP SolutionsSAP-8011271-6"},{"$f":"E3784&F3784","v":"SAP-8011271-6Cloud Classic SAP Solutions"},null,"SAP Colombia","SAP-8011271-6","Cloud Classic SAP Solutions",{"$f":"D3784","v":"SAP Colombia"},"USD","N/A","SAP Access Control Cloud, extra stack, private edition",100,"Serv","Suscripcion","N/A","N/A","N/A","SAP-8011271-6","Forma de pago estandar a 30 dias",285,1,0,"USD"]
[{"$f":"D3785&F3785&E3785","v":"SAP ColombiaCloud Classic SAP SolutionsSAP-8011319-1"},{"$f":"E3785&F3785","v":"SAP-8011319-1Cloud Classic SAP Solutions"},null,"SAP Colombia","SAP-8011319-1","Cloud Classic SAP Solutions",{"$f":"D3785","v":"SAP Colombia"},"USD","N/A","SAP Process Control, private cloud edition",1,"Serv","Suscripcion","N/A","N/A","N/A","SAP-8011319-1","Forma de pago estandar a 30 dias",206,1,0,"USD"]
[{"$f":"D3786&F3786&E3786","v":"SAP ColombiaCloud Classic SAP SolutionsSAP-8011319-2"},{"$f":"E3786&F3786","v":"SAP-8011319-2Cloud Classic SAP Solutions"},null,"SAP Colombia","SAP-8011319-2","Cloud Classic SAP Solutions",{"$f":"D3786","v":"SAP Colombia"},"USD","N/A","SAP Process Control, private cloud edition",1,"Serv","Suscripcion","N/A","N/A","N/A","SAP-8011319-2","Forma de pago estandar a 30 dias",182,1,0,"USD"]
[{"$f":"D3787&F3787&E3787","v":"SAP ColombiaCloud Classic SAP SolutionsSAP-8011319-3"},{"$f":"E3787&F3787","v":"SAP-8011319-3Cloud Classic SAP Solutions"},null,"SAP Colombia","SAP-8011319-3","Cloud Classic SAP Solutions",{"$f":"D3787","v":"SAP Colombia"},"USD","N/A","SAP Process Control, private cloud edition",1,"Serv","Suscripcion","N/A","N/A","N/A","SAP-8011319-3","Forma de pago estandar a 30 dias",121,1,0,"USD"]
[{"$f":"D3788&F3788&E3788","v":"SAP ColombiaCloud Classic SAP SolutionsSAP-8011319-4"},{"$f":"E3788&F3788","v":"SAP-8011319-4Cloud Classic SAP Solutions"},null,"SAP Colombia","SAP-8011319-4","Cloud Classic SAP Solutions",{"$f":"D3788","v":"SAP Colombia"},"USD","N/A","SAP Process Control, private cloud edition",1,"Serv","Suscripcion","N/A","N/A","N/A","SAP-8011319-4","Forma de pago estandar a 30 dias",74,1,0,"USD"]
[{"$f":"D3789&F3789&E3789","v":"SAP ColombiaCloud Classic SAP SolutionsSAP-8011319-5"},{"$f":"E3789&F3789","v":"SAP-8011319-5Cloud Classic SAP Solutions"},null,"SAP Colombia","SAP-8011319-5","Cloud Classic SAP Solutions",{"$f":"D3789","v":"SAP Colombia"},"USD","N/A","SAP Process Control, private cloud edition",1,"Serv","Suscripcion","N/A","N/A","N/A","SAP-8011319-5","Forma de pago estandar a 30 dias",49,1,0,"USD"]
[{"$f":"D3790&F3790&E3790","v":"SAP ColombiaCloud Classic SAP SolutionsSAP-8011320-1"},{"$f":"E3790&F3790","v":"SAP-8011320-1Cloud Classic SAP Solutions"},null,"SAP Colombia","SAP-8011320-1","Cloud Classic SAP Solutions",{"$f":"D3790","v":"SAP Colombia"},"USD","N/A","SAP Risk Management, private cloud edition",1,"Serv","Suscripcion","N/A","N/A","N/A","SAP-8011320-1","Forma de pago estandar a 30 dias",206,1,0,"USD"]
[{"$f":"D3791&F3791&E3791","v":"SAP ColombiaCloud Classic SAP SolutionsSAP-8011320-2"},{"$f":"E3791&F3791","v":"SAP-8011320-2Cloud Classic SAP Solutions"},null,"SAP Colombia","SAP-8011320-2","Cloud Classic SAP Solutions",{"$f":"D3791","v":"SAP Colombia"},"USD","N/A","SAP Risk Management, private cloud edition",1,"Serv","Suscripcion","N/A","N/A","N/A","SAP-8011320-2","Forma de pago estandar a 30 dias",182,1,0,"USD"]
[{"$f":"D3792&F3792&E3792","v":"SAP ColombiaCloud Classic SAP SolutionsSAP-8011320-3"},{"$f":"E3792&F3792","v":"SAP-8011320-3Cloud Classic SAP Solutions"},null,"SAP Colombia","SAP-8011320-3","Cloud Classic SAP Solutions",{"$f":"D3792","v":"SAP Colombia"},"USD","N/A","SAP Risk Management, private cloud edition",1,"Serv","Suscripcion","N/A","N/A","N/A","SAP-8011320-3","Forma de pago estandar a 30 dias",121,1,0,"USD"]
[{"$f":"D3793&F3793&E3793","v":"SAP ColombiaCloud Classic SAP SolutionsSAP-8011320-4"},{"$f":"E3793&F3793","v":"SAP-8011320-4Cloud Classic SAP Solutions"},null,"SAP Colombia","SAP-8011320-4","Cloud Classic SAP Solutions",{"$f":"D3793","v":"SAP Colombia"},"USD","N/A","SAP Risk Management, private cloud edition",1,"Serv","Suscripcion","N/A","N/A","N/A","SAP-8011320-4","Forma de pago estandar a 30 dias",74,1,0,"USD"]
[{"$f":"D3794&F3794&E3794","v":"SAP ColombiaCloud Classic SAP SolutionsSAP-8011320-5"},{"$f":"E3794&F3794","v":"SAP-8011320-5Cloud Classic SAP Solutions"},null,"SAP Colombia","SAP-8011320-5","Cloud Classic SAP Solutions",{"$f":"D3794","v":"SAP Colombia"},"USD","N/A","SAP Risk Management, private cloud edition",1,"Serv","Suscripcion","N/A","N/A","N/A","SAP-8011320-5","Forma de pago estandar a 30 dias",49,1,0,"USD"]
[{"$f":"D3795&F3795&E3795","v":"SAP ColombiaCloud Classic SAP SolutionsSAP-8011321-1"},{"$f":"E3795&F3795","v":"SAP-8011321-1Cloud Classic SAP Solutions"},null,"SAP Colombia","SAP-8011321-1","Cloud Classic SAP Solutions",{"$f":"D3795","v":"SAP Colombia"},"USD","N/A","SAP Audit Management, private cloud edition",1,"Serv","Suscripcion","N/A","N/A","N/A","SAP-8011321-1","Forma de pago estandar a 30 dias",206,1,0,"USD"]
[{"$f":"D3796&F3796&E3796","v":"SAP ColombiaCloud Classic SAP SolutionsSAP-8011321-2"},{"$f":"E3796&F3796","v":"SAP-8011321-2Cloud Classic SAP Solutions"},null,"SAP Colombia","SAP-8011321-2","Cloud Classic SAP Solutions",{"$f":"D3796","v":"SAP Colombia"},"USD","N/A","SAP Audit Management, private cloud edition",1,"Serv","Suscripcion","N/A","N/A","N/A","SAP-8011321-2","Forma de pago estandar a 30 dias",182,1,0,"USD"]
[{"$f":"D3797&F3797&E3797","v":"SAP ColombiaCloud Classic SAP SolutionsSAP-8011321-3"},{"$f":"E3797&F3797","v":"SAP-8011321-3Cloud Classic SAP Solutions"},null,"SAP Colombia","SAP-8011321-3","Cloud Classic SAP Solutions",{"$f":"D3797","v":"SAP Colombia"},"USD","N/A","SAP Audit Management, private cloud edition",1,"Serv","Suscripcion","N/A","N/A","N/A","SAP-8011321-3","Forma de pago estandar a 30 dias",121,1,0,"USD"]
[{"$f":"D3798&F3798&E3798","v":"SAP ColombiaCloud Classic SAP SolutionsSAP-8011321-4"},{"$f":"E3798&F3798","v":"SAP-8011321-4Cloud Classic SAP Solutions"},null,"SAP Colombia","SAP-8011321-4","Cloud Classic SAP Solutions",{"$f":"D3798","v":"SAP Colombia"},"USD","N/A","SAP Audit Management, private cloud edition",1,"Serv","Suscripcion","N/A","N/A","N/A","SAP-8011321-4","Forma de pago estandar a 30 dias",74,1,0,"USD"]
[{"$f":"D3799&F3799&E3799","v":"SAP ColombiaCloud Classic SAP SolutionsSAP-8011321-5"},{"$f":"E3799&F3799","v":"SAP-8011321-5Cloud Classic SAP Solutions"},null,"SAP Colombia","SAP-8011321-5","Cloud Classic SAP Solutions",{"$f":"D3799","v":"SAP Colombia"},"USD","N/A","SAP Audit Management, private cloud edition",1,"Serv","Suscripcion","N/A","N/A","N/A","SAP-8011321-5","Forma de pago estandar a 30 dias",49,1,0,"USD"]
[{"$f":"D3800&F3800&E3800","v":"SAP ColombiaCloud Classic SAP SolutionsSAP-8011426-1"},{"$f":"E3800&F3800","v":"SAP-8011426-1Cloud Classic SAP Solutions"},null,"SAP Colombia","SAP-8011426-1","Cloud Classic SAP Solutions",{"$f":"D3800","v":"SAP Colombia"},"USD","N/A","SAP Subscription Billing",13998750,"Serv","Suscripcion","N/A","N/A","N/A","SAP-8011426-1","Forma de pago estandar a 30 dias",3696,1,0,"USD"]
[{"$f":"D3801&F3801&E3801","v":"SAP ColombiaCloud Classic SAP SolutionsSAP-8011426-2"},{"$f":"E3801&F3801","v":"SAP-8011426-2Cloud Classic SAP Solutions"},null,"SAP Colombia","SAP-8011426-2","Cloud Classic SAP Solutions",{"$f":"D3801","v":"SAP Colombia"},"USD","N/A","SAP Subscription Billing",13998750,"Serv","Suscripcion","N/A","N/A","N/A","SAP-8011426-2","Forma de pago estandar a 30 dias",2800,1,0,"USD"]
[{"$f":"D3802&F3802&E3802","v":"SAP ColombiaCloud Classic SAP SolutionsSAP-8011426-3"},{"$f":"E3802&F3802","v":"SAP-8011426-3Cloud Classic SAP Solutions"},null,"SAP Colombia","SAP-8011426-3","Cloud Classic SAP Solutions",{"$f":"D3802","v":"SAP Colombia"},"USD","N/A","SAP Subscription Billing",13998750,"Serv","Suscripcion","N/A","N/A","N/A","SAP-8011426-3","Forma de pago estandar a 30 dias",2464,1,0,"USD"]
[{"$f":"D3803&F3803&E3803","v":"SAP ColombiaCloud Classic SAP SolutionsSAP-8011426-4"},{"$f":"E3803&F3803","v":"SAP-8011426-4Cloud Classic SAP Solutions"},null,"SAP Colombia","SAP-8011426-4","Cloud Classic SAP Solutions",{"$f":"D3803","v":"SAP Colombia"},"USD","N/A","SAP Subscription Billing",13998750,"Serv","Suscripcion","N/A","N/A","N/A","SAP-8011426-4","Forma de pago estandar a 30 dias",2128,1,0,"USD"]
[{"$f":"D3804&F3804&E3804","v":"SAP ColombiaCloud Classic SAP SolutionsSAP-8011515-1"},{"$f":"E3804&F3804","v":"SAP-8011515-1Cloud Classic SAP Solutions"},null,"SAP Colombia","SAP-8011515-1","Cloud Classic SAP Solutions",{"$f":"D3804","v":"SAP Colombia"},"USD","N/A","SAP Identity Management, private cloud edition",100,"Serv","Suscripcion","N/A","N/A","N/A","SAP-8011515-1","Forma de pago estandar a 30 dias",5379,1,0,"USD"]
[{"$f":"D3805&F3805&E3805","v":"SAP ColombiaCloud Classic SAP SolutionsSAP-8011515-2"},{"$f":"E3805&F3805","v":"SAP-8011515-2Cloud Classic SAP Solutions"},null,"SAP Colombia","SAP-8011515-2","Cloud Classic SAP Solutions",{"$f":"D3805","v":"SAP Colombia"},"USD","N/A","SAP Identity Management, private cloud edition",100,"Serv","Suscripcion","N/A","N/A","N/A","SAP-8011515-2","Forma de pago estandar a 30 dias",2217,1,0,"USD"]
[{"$f":"D3806&F3806&E3806","v":"SAP ColombiaCloud Classic SAP SolutionsSAP-8011515-3"},{"$f":"E3806&F3806","v":"SAP-8011515-3Cloud Classic SAP Solutions"},null,"SAP Colombia","SAP-8011515-3","Cloud Classic SAP Solutions",{"$f":"D3806","v":"SAP Colombia"},"USD","N/A","SAP Identity Management, private cloud edition",100,"Serv","Suscripcion","N/A","N/A","N/A","SAP-8011515-3","Forma de pago estandar a 30 dias",1157,1,0,"USD"]
[{"$f":"D3807&F3807&E3807","v":"SAP ColombiaCloud Classic SAP SolutionsSAP-8011515-4"},{"$f":"E3807&F3807","v":"SAP-8011515-4Cloud Classic SAP Solutions"},null,"SAP Colombia","SAP-8011515-4","Cloud Classic SAP Solutions",{"$f":"D3807","v":"SAP Colombia"},"USD","N/A","SAP Identity Management, private cloud edition",100,"Serv","Suscripcion","N/A","N/A","N/A","SAP-8011515-4","Forma de pago estandar a 30 dias",493,1,0,"USD"]
[{"$f":"D3808&F3808&E3808","v":"SAP ColombiaCloud Classic SAP SolutionsSAP-8011621"},{"$f":"E3808&F3808","v":"SAP-8011621Cloud Classic SAP Solutions"},null,"SAP Colombia","SAP-8011621","Cloud Classic SAP Solutions",{"$f":"D3808","v":"SAP Colombia"},"USD","N/A","SAP Billing and Revenue Innovation Management Cloud, additional productive tier, private edition, (S)",1,"Serv","Suscripcion","N/A","N/A","N/A","SAP-8011621","Forma de pago estandar a 30 dias",14559,1,0,"USD"]
[{"$f":"D3809&F3809&E3809","v":"SAP ColombiaCloud Classic SAP SolutionsSAP-8011622"},{"$f":"E3809&F3809","v":"SAP-8011622Cloud Classic SAP Solutions"},null,"SAP Colombia","SAP-8011622","Cloud Classic SAP Solutions",{"$f":"D3809","v":"SAP Colombia"},"USD","N/A","SAP Billing and Revenue Innovation Management Cloud, additional productive tier, private edition, (M)",1,"Serv","Suscripcion","N/A","N/A","N/A","SAP-8011622","Forma de pago estandar a 30 dias",16799,1,0,"USD"]
[{"$f":"D3810&F3810&E3810","v":"SAP ColombiaCloud Classic SAP SolutionsSAP-8011623"},{"$f":"E3810&F3810","v":"SAP-8011623Cloud Classic SAP Solutions"},null,"SAP Colombia","SAP-8011623","Cloud Classic SAP Solutions",{"$f":"D3810","v":"SAP Colombia"},"USD","N/A","SAP Billing and Revenue Innovation Management Cloud, additional productive tier, private edition, (L)",1,"Serv","Suscripcion","N/A","N/A","N/A","SAP-8011623","Forma de pago estandar a 30 dias",23126,1,0,"USD"]
[{"$f":"D3811&F3811&E3811","v":"SAP ColombiaCloud Classic SAP SolutionsSAP-8011624"},{"$f":"E3811&F3811","v":"SAP-8011624Cloud Classic SAP Solutions"},null,"SAP Colombia","SAP-8011624","Cloud Classic SAP Solutions",{"$f":"D3811","v":"SAP Colombia"},"USD","N/A","SAP Billing and Revenue Innovation Management Cloud, additional productive tier, private edition, (XL)",1,"Serv","Suscripcion","N/A","N/A","N/A","SAP-8011624","Forma de pago estandar a 30 dias",31338,1,0,"USD"]
[{"$f":"D3812&F3812&E3812","v":"SAP ColombiaCloud Classic SAP SolutionsSAP-8011625"},{"$f":"E3812&F3812","v":"SAP-8011625Cloud Classic SAP Solutions"},null,"SAP Colombia","SAP-8011625","Cloud Classic SAP Solutions",{"$f":"D3812","v":"SAP Colombia"},"USD","N/A","SAP Billing and Revenue Innovation Management Cloud, additional non productive tier, private edition, (S)",1,"Serv","Suscripcion","N/A","N/A","N/A","SAP-8011625","Forma de pago estandar a 30 dias",10621,1,0,"USD"]
[{"$f":"D3813&F3813&E3813","v":"SAP ColombiaCloud Classic SAP SolutionsSAP-8011626"},{"$f":"E3813&F3813","v":"SAP-8011626Cloud Classic SAP Solutions"},null,"SAP Colombia","SAP-8011626","Cloud Classic SAP Solutions",{"$f":"D3813","v":"SAP Colombia"},"USD","N/A","SAP Billing and Revenue Innovation Management Cloud, additional non productive tier, private edition, (M)",1,"Serv","Suscripcion","N/A","N/A","N/A","SAP-8011626","Forma de pago estandar a 30 dias",12174,1,0,"USD"]
[{"$f":"D3814&F3814&E3814","v":"SAP ColombiaCloud Classic SAP SolutionsSAP-8011627"},{"$f":"E3814&F3814","v":"SAP-8011627Cloud Classic SAP Solutions"},null,"SAP Colombia","SAP-8011627","Cloud Classic SAP Solutions",{"$f":"D3814","v":"SAP Colombia"},"USD","N/A","SAP Billing and Revenue Innovation Management Cloud, additional non productive tier, private edition, (L)",1,"Serv","Suscripcion","N/A","N/A","N/A","SAP-8011627","Forma de pago estandar a 30 dias",16785,1,0,"USD"]
[{"$f":"D3815&F3815&E3815","v":"SAP ColombiaCloud Classic SAP SolutionsSAP-8011628"},{"$f":"E3815&F3815","v":"SAP-8011628Cloud Classic SAP Solutions"},null,"SAP Colombia","SAP-8011628","Cloud Classic SAP Solutions",{"$f":"D3815","v":"SAP Colombia"},"USD","N/A","SAP Billing and Revenue Innovation Management Cloud, additional non productive tier, private edition, (XL)",1,"Serv","Suscripcion","N/A","N/A","N/A","SAP-8011628","Forma de pago estandar a 30 dias",22270,1,0,"USD"]
[{"$f":"D3816&F3816&E3816","v":"SAP ColombiaCloud Classic SAP SolutionsSAP-8011746-1"},{"$f":"E3816&F3816","v":"SAP-8011746-1Cloud Classic SAP Solutions"},null,"SAP Colombia","SAP-8011746-1","Cloud Classic SAP Solutions",{"$f":"D3816","v":"SAP Colombia"},"USD","N/A","SAP Broker Reconciliation for Commodity Derivatives",1000,"Serv","Suscripcion","N/A","N/A","N/A","SAP-8011746-1","Forma de pago estandar a 30 dias",38,1,0,"USD"]
[{"$f":"D3817&F3817&E3817","v":"SAP ColombiaCloud Classic SAP SolutionsSAP-8011746-2"},{"$f":"E3817&F3817","v":"SAP-8011746-2Cloud Classic SAP Solutions"},null,"SAP Colombia","SAP-8011746-2","Cloud Classic SAP Solutions",{"$f":"D3817","v":"SAP Colombia"},"USD","N/A","SAP Broker Reconciliation for Commodity Derivatives",1000,"Serv","Suscripcion","N/A","N/A","N/A","SAP-8011746-2","Forma de pago estandar a 30 dias",32,1,0,"USD"]
[{"$f":"D3818&F3818&E3818","v":"SAP ColombiaCloud Classic SAP SolutionsSAP-8011746-3"},{"$f":"E3818&F3818","v":"SAP-8011746-3Cloud Classic SAP Solutions"},null,"SAP Colombia","SAP-8011746-3","Cloud Classic SAP Solutions",{"$f":"D3818","v":"SAP Colombia"},"USD","N/A","SAP Broker Reconciliation for Commodity Derivatives",1000,"Serv","Suscripcion","N/A","N/A","N/A","SAP-8011746-3","Forma de pago estandar a 30 dias",27,1,0,"USD"]
[{"$f":"D3819&F3819&E3819","v":"SAP ColombiaCloud Classic SAP SolutionsSAP-8011746-4"},{"$f":"E3819&F3819","v":"SAP-8011746-4Cloud Classic SAP Solutions"},null,"SAP Colombia","SAP-8011746-4","Cloud Classic SAP Solutions",{"$f":"D3819","v":"SAP Colombia"},"USD","N/A","SAP Broker Reconciliation for Commodity Derivatives",1000,"Serv","Suscripcion","N/A","N/A","N/A","SAP-8011746-4","Forma de pago estandar a 30 dias",22,1,0,"USD"]
[{"$f":"D3820&F3820&E3820","v":"SAP ColombiaCloud Classic SAP SolutionsSAP-8011746-5"},{"$f":"E3820&F3820","v":"SAP-8011746-5Cloud Classic SAP Solutions"},null,"SAP Colombia","SAP-8011746-5","Cloud Classic SAP Solutions",{"$f":"D3820","v":"SAP Colombia"},"USD","N/A","SAP Broker Reconciliation for Commodity Derivatives",1000,"Serv","Suscripcion","N/A","N/A","N/A","SAP-8011746-5","Forma de pago estandar a 30 dias",18,1,0,"USD"]
[{"$f":"D3821&F3821&E3821","v":"SAP ColombiaCloud Classic SAP SolutionsSAP-8012134-1"},{"$f":"E3821&F3821","v":"SAP-8012134-1Cloud Classic SAP Solutions"},null,"SAP Colombia","SAP-8012134-1","Cloud Classic SAP Solutions",{"$f":"D3821","v":"SAP Colombia"},"USD","N/A","SAP Trading Platform Integration",500,"Serv","Suscripcion","N/A","N/A","N/A","SAP-8012134-1","Forma de pago estandar a 30 dias",1456,1,0,"USD"]
[{"$f":"D3822&F3822&E3822","v":"SAP ColombiaCloud Classic SAP SolutionsSAP-8012134-2"},{"$f":"E3822&F3822","v":"SAP-8012134-2Cloud Classic SAP Solutions"},null,"SAP Colombia","SAP-8012134-2","Cloud Classic SAP Solutions",{"$f":"D3822","v":"SAP Colombia"},"USD","N/A","SAP Trading Platform Integration",500,"Serv","Suscripcion","N/A","N/A","N/A","SAP-8012134-2","Forma de pago estandar a 30 dias",1344,1,0,"USD"]
[{"$f":"D3823&F3823&E3823","v":"SAP ColombiaCloud Classic SAP SolutionsSAP-8012134-3"},{"$f":"E3823&F3823","v":"SAP-8012134-3Cloud Classic SAP Solutions"},null,"SAP Colombia","SAP-8012134-3","Cloud Classic SAP Solutions",{"$f":"D3823","v":"SAP Colombia"},"USD","N/A","SAP Trading Platform Integration",500,"Serv","Suscripcion","N/A","N/A","N/A","SAP-8012134-3","Forma de pago estandar a 30 dias",1232,1,0,"USD"]
[{"$f":"D3824&F3824&E3824","v":"SAP ColombiaCloud Classic SAP SolutionsSAP-8012142-1"},{"$f":"E3824&F3824","v":"SAP-8012142-1Cloud Classic SAP Solutions"},null,"SAP Colombia","SAP-8012142-1","Cloud Classic SAP Solutions",{"$f":"D3824","v":"SAP Colombia"},"USD","N/A","SAP Tax Declaration Framework Brazil Cloud, private edition",1,"Serv","Suscripcion","N/A","N/A","N/A","SAP-8012142-1","Forma de pago estandar a 30 dias",249,1,0,"USD"]
[{"$f":"D3825&F3825&E3825","v":"SAP ColombiaCloud Classic SAP SolutionsSAP-8012142-2"},{"$f":"E3825&F3825","v":"SAP-8012142-2Cloud Classic SAP Solutions"},null,"SAP Colombia","SAP-8012142-2","Cloud Classic SAP Solutions",{"$f":"D3825","v":"SAP Colombia"},"USD","N/A","SAP Tax Declaration Framework Brazil Cloud, private edition",1,"Serv","Suscripcion","N/A","N/A","N/A","SAP-8012142-2","Forma de pago estandar a 30 dias",161,1,0,"USD"]
[{"$f":"D3826&F3826&E3826","v":"SAP ColombiaCloud Classic SAP SolutionsSAP-8012142-3"},{"$f":"E3826&F3826","v":"SAP-8012142-3Cloud Classic SAP Solutions"},null,"SAP Colombia","SAP-8012142-3","Cloud Classic SAP Solutions",{"$f":"D3826","v":"SAP Colombia"},"USD","N/A","SAP Tax Declaration Framework Brazil Cloud, private edition",1,"Serv","Suscripcion","N/A","N/A","N/A","SAP-8012142-3","Forma de pago estandar a 30 dias",146,1,0,"USD"]
[{"$f":"D3827&F3827&E3827","v":"SAP ColombiaCloud Classic SAP SolutionsSAP-8012142-4"},{"$f":"E3827&F3827","v":"SAP-8012142-4Cloud Classic SAP Solutions"},null,"SAP Colombia","SAP-8012142-4","Cloud Classic SAP Solutions",{"$f":"D3827","v":"SAP Colombia"},"USD","N/A","SAP Tax Declaration Framework Brazil Cloud, private edition",1,"Serv","Suscripcion","N/A","N/A","N/A","SAP-8012142-4","Forma de pago estandar a 30 dias",134,1,0,"USD"]
[{"$f":"D3828&F3828&E3828","v":"SAP ColombiaCloud Classic SAP SolutionsSAP-8012250-1"},{"$f":"E3828&F3828","v":"SAP-8012250-1Cloud Classic SAP Solutions"},null,"SAP Colombia","SAP-8012250-1","Cloud Classic SAP Solutions",{"$f":"D3828","v":"SAP Colombia"},"USD","N/A","SAP add-on for Polish SAF-T regulatory requirements, private cloud edition",5,"Serv","Suscripcion","N/A","N/A","N/A","SAP-8012250-1","Forma de pago estandar a 30 dias",2249,1,0,"USD"]
[{"$f":"D3829&F3829&E3829","v":"SAP ColombiaCloud Classic SAP SolutionsSAP-8012250-2"},{"$f":"E3829&F3829","v":"SAP-8012250-2Cloud Classic SAP Solutions"},null,"SAP Colombia","SAP-8012250-2","Cloud Classic SAP Solutions",{"$f":"D3829","v":"SAP Colombia"},"USD","N/A","SAP add-on for Polish SAF-T regulatory requirements, private cloud edition",5,"Serv","Suscripcion","N/A","N/A","N/A","SAP-8012250-2","Forma de pago estandar a 30 dias",1017,1,0,"USD"]
[{"$f":"D3830&F3830&E3830","v":"SAP ColombiaCloud Classic SAP SolutionsSAP-8012250-3"},{"$f":"E3830&F3830","v":"SAP-8012250-3Cloud Classic SAP Solutions"},null,"SAP Colombia","SAP-8012250-3","Cloud Classic SAP Solutions",{"$f":"D3830","v":"SAP Colombia"},"USD","N/A","SAP add-on for Polish SAF-T regulatory requirements, private cloud edition",5,"Serv","Suscripcion","N/A","N/A","N/A","SAP-8012250-3","Forma de pago estandar a 30 dias",598,1,0,"USD"]
[{"$f":"D3831&F3831&E3831","v":"SAP ColombiaCloud Classic SAP SolutionsSAP-8012570"},{"$f":"E3831&F3831","v":"SAP-8012570Cloud Classic SAP Solutions"},null,"SAP Colombia","SAP-8012570","Cloud Classic SAP Solutions",{"$f":"D3831","v":"SAP Colombia"},"USD","N/A","SAP S/4HANA Cloud for advanced financial closing, test tenant",1,"Serv","Suscripcion","N/A","N/A","N/A","SAP-8012570","Forma de pago estandar a 30 dias",585,1,0,"USD"]
[{"$f":"D3832&F3832&E3832","v":"SAP ColombiaCloud Classic SAP SolutionsSAP-8012647"},{"$f":"E3832&F3832","v":"SAP-8012647Cloud Classic SAP Solutions"},null,"SAP Colombia","SAP-8012647","Cloud Classic SAP Solutions",{"$f":"D3832","v":"SAP Colombia"},"USD","N/A","SAP S/4HANA Cloud, Finance localization extension for the Republic of Belarus by EPAM, private edition",1,"Serv","Suscripcion","N/A","N/A","N/A","SAP-8012647","Forma de pago estandar a 30 dias",11,1,0,"USD"]
[{"$f":"D3833&F3833&E3833","v":"SAP ColombiaCloud Classic SAP SolutionsSAP-8013376-1"},{"$f":"E3833&F3833","v":"SAP-8013376-1Cloud Classic SAP Solutions"},null,"SAP Colombia","SAP-8013376-1","Cloud Classic SAP Solutions",{"$f":"D3833","v":"SAP Colombia"},"USD","N/A","SAP Enterprise Threat Detection, private cloud edition",100,"Serv","Suscripcion","N/A","N/A","N/A","SAP-8013376-1","Forma de pago estandar a 30 dias",2912,1,0,"USD"]
[{"$f":"D3834&F3834&E3834","v":"SAP ColombiaCloud Classic SAP SolutionsSAP-8013376-2"},{"$f":"E3834&F3834","v":"SAP-8013376-2Cloud Classic SAP Solutions"},null,"SAP Colombia","SAP-8013376-2","Cloud Classic SAP Solutions",{"$f":"D3834","v":"SAP Colombia"},"USD","N/A","SAP Enterprise Threat Detection, private cloud edition",100,"Serv","Suscripcion","N/A","N/A","N/A","SAP-8013376-2","Forma de pago estandar a 30 dias",1904,1,0,"USD"]
[{"$f":"D3835&F3835&E3835","v":"SAP ColombiaCloud Classic SAP SolutionsSAP-8013376-3"},{"$f":"E3835&F3835","v":"SAP-8013376-3Cloud Classic SAP Solutions"},null,"SAP Colombia","SAP-8013376-3","Cloud Classic SAP Solutions",{"$f":"D3835","v":"SAP Colombia"},"USD","N/A","SAP Enterprise Threat Detection, private cloud edition",100,"Serv","Suscripcion","N/A","N/A","N/A","SAP-8013376-3","Forma de pago estandar a 30 dias",980,1,0,"USD"]
[{"$f":"D3836&F3836&E3836","v":"SAP ColombiaCloud Classic SAP SolutionsSAP-8013376-4"},{"$f":"E3836&F3836","v":"SAP-8013376-4Cloud Classic SAP Solutions"},null,"SAP Colombia","SAP-8013376-4","Cloud Classic SAP Solutions",{"$f":"D3836","v":"SAP Colombia"},"USD","N/A","SAP Enterprise Threat Detection, private cloud edition",100,"Serv","Suscripcion","N/A","N/A","N/A","SAP-8013376-4","Forma de pago estandar a 30 dias",434,1,0,"USD"]
[{"$f":"D3837&F3837&E3837","v":"SAP ColombiaCloud Classic SAP SolutionsSAP-8013376-5"},{"$f":"E3837&F3837","v":"SAP-8013376-5Cloud Classic SAP Solutions"},null,"SAP Colombia","SAP-8013376-5","Cloud Classic SAP Solutions",{"$f":"D3837","v":"SAP Colombia"},"USD","N/A","SAP Enterprise Threat Detection, private cloud edition",100,"Serv","Suscripcion","N/A","N/A","N/A","SAP-8013376-5","Forma de pago estandar a 30 dias",336,1,0,"USD"]
[{"$f":"D3838&F3838&E3838","v":"SAP ColombiaCloud Classic SAP SolutionsSAP-8005246"},{"$f":"E3838&F3838","v":"SAP-8005246Cloud Classic SAP Solutions"},null,"SAP Colombia","SAP-8005246","Cloud Classic SAP Solutions",{"$f":"D3838","v":"SAP Colombia"},"USD","N/A","SAP Rural Sourcing Management",10000,"Serv","Suscripcion","N/A","N/A","N/A","SAP-8005246","Forma de pago estandar a 30 dias",672,1,0,"USD"]
[{"$f":"D3839&F3839&E3839","v":"SAP ColombiaCloud Classic SAP SolutionsSAP-8006013-1"},{"$f":"E3839&F3839","v":"SAP-8006013-1Cloud Classic SAP Solutions"},null,"SAP Colombia","SAP-8006013-1","Cloud Classic SAP Solutions",{"$f":"D3839","v":"SAP Colombia"},"USD","N/A","SAP Conversational AI",1000,"Serv","Suscripcion","N/A","N/A","N/A","SAP-8006013-1","Forma de pago estandar a 30 dias",336,1,0,"USD"]
[{"$f":"D3840&F3840&E3840","v":"SAP ColombiaCloud Classic SAP SolutionsSAP-8006013-2"},{"$f":"E3840&F3840","v":"SAP-8006013-2Cloud Classic SAP Solutions"},null,"SAP Colombia","SAP-8006013-2","Cloud Classic SAP Solutions",{"$f":"D3840","v":"SAP Colombia"},"USD","N/A","SAP Conversational AI",1000,"Serv","Suscripcion","N/A","N/A","N/A","SAP-8006013-2","Forma de pago estandar a 30 dias",291,1,0,"USD"]
[{"$f":"D3841&F3841&E3841","v":"SAP ColombiaCloud Classic SAP SolutionsSAP-8006013-3"},{"$f":"E3841&F3841","v":"SAP-8006013-3Cloud Classic SAP Solutions"},null,"SAP Colombia","SAP-8006013-3","Cloud Classic SAP Solutions",{"$f":"D3841","v":"SAP Colombia"},"USD","N/A","SAP Conversational AI",1000,"Serv","Suscripcion","N/A","N/A","N/A","SAP-8006013-3","Forma de pago estandar a 30 dias",274,1,0,"USD"]
[{"$f":"D3842&F3842&E3842","v":"SAP ColombiaCloud Classic SAP SolutionsSAP-8006013-4"},{"$f":"E3842&F3842","v":"SAP-8006013-4Cloud Classic SAP Solutions"},null,"SAP Colombia","SAP-8006013-4","Cloud Classic SAP Solutions",{"$f":"D3842","v":"SAP Colombia"},"USD","N/A","SAP Conversational AI",1000,"Serv","Suscripcion","N/A","N/A","N/A","SAP-8006013-4","Forma de pago estandar a 30 dias",263,1,0,"USD"]
[{"$f":"D3843&F3843&E3843","v":"SAP ColombiaCloud Classic SAP SolutionsSAP-8006013-5"},{"$f":"E3843&F3843","v":"SAP-8006013-5Cloud Classic SAP Solutions"},null,"SAP Colombia","SAP-8006013-5","Cloud Classic SAP Solutions",{"$f":"D3843","v":"SAP Colombia"},"USD","N/A","SAP Conversational AI",1000,"Serv","Suscripcion","N/A","N/A","N/A","SAP-8006013-5","Forma de pago estandar a 30 dias",258,1,0,"USD"]
[{"$f":"D3844&F3844&E3844","v":"SAP ColombiaCloud Classic SAP SolutionsSAP-8008796"},{"$f":"E3844&F3844","v":"SAP-8008796Cloud Classic SAP Solutions"},null,"SAP Colombia","SAP-8008796","Cloud Classic SAP Solutions",{"$f":"D3844","v":"SAP Colombia"},"USD","N/A","SAP Internet of Things",1,"Serv","Suscripcion","N/A","N/A","N/A","SAP-8008796","Forma de pago estandar a 30 dias",1.1200000000000001,1,0,"USD"]
[{"$f":"D3845&F3845&E3845","v":"SAP ColombiaCloud Classic SAP SolutionsSAP-8002460"},{"$f":"E3845&F3845","v":"SAP-8002460Cloud Classic SAP Solutions"},null,"SAP Colombia","SAP-8002460","Cloud Classic SAP Solutions",{"$f":"D3845","v":"SAP Colombia"},"USD","N/A","SAP Ariba Procurement, supplemental site add-on",1,"Serv","Suscripcion","N/A","N/A","N/A","SAP-8002460","Forma de pago estandar a 30 dias",4167,1,0,"USD"]
[{"$f":"D3846&F3846&E3846","v":"SAP ColombiaCloud Classic SAP SolutionsSAP-8002461"},{"$f":"E3846&F3846","v":"SAP-8002461Cloud Classic SAP Solutions"},null,"SAP Colombia","SAP-8002461","Cloud Classic SAP Solutions",{"$f":"D3846","v":"SAP Colombia"},"USD","N/A","SAP Ariba Strategic Sourcing, supplemental site add-on",1,"Serv","Suscripcion","N/A","N/A","N/A","SAP-8002461","Forma de pago estandar a 30 dias",2083,1,0,"USD"]
[{"$f":"D3847&F3847&E3847","v":"SAP ColombiaCloud Classic SAP SolutionsSAP-8002471"},{"$f":"E3847&F3847","v":"SAP-8002471Cloud Classic SAP Solutions"},null,"SAP Colombia","SAP-8002471","Cloud Classic SAP Solutions",{"$f":"D3847","v":"SAP Colombia"},"USD","N/A","SAP Ariba Spend Analysis, monthly refresh add-on",1,"Serv","Suscripcion","N/A","N/A","N/A","SAP-8002471","Forma de pago estandar a 30 dias",40,1,0,"USD"]
[{"$f":"D3848&F3848&E3848","v":"SAP ColombiaCloud Classic SAP SolutionsSAP-8003795-1"},{"$f":"E3848&F3848","v":"SAP-8003795-1Cloud Classic SAP Solutions"},null,"SAP Colombia","SAP-8003795-1","Cloud Classic SAP Solutions",{"$f":"D3848","v":"SAP Colombia"},"USD","N/A","SAP Fieldglass Cont. Wrkf. Mgmt.",1,"Serv","Suscripcion","N/A","N/A","N/A","SAP-8003795-1","Forma de pago estandar a 30 dias",0.85,1,0,"USD"]
[{"$f":"D3849&F3849&E3849","v":"SAP ColombiaCloud Classic SAP SolutionsSAP-8003795-2"},{"$f":"E3849&F3849","v":"SAP-8003795-2Cloud Classic SAP Solutions"},null,"SAP Colombia","SAP-8003795-2","Cloud Classic SAP Solutions",{"$f":"D3849","v":"SAP Colombia"},"USD","N/A","SAP Fieldglass Cont. Wrkf. Mgmt.",1,"Serv","Suscripcion","N/A","N/A","N/A","SAP-8003795-2","Forma de pago estandar a 30 dias",0.83,1,0,"USD"]
[{"$f":"D3850&F3850&E3850","v":"SAP ColombiaCloud Classic SAP SolutionsSAP-8003795-3"},{"$f":"E3850&F3850","v":"SAP-8003795-3Cloud Classic SAP Solutions"},null,"SAP Colombia","SAP-8003795-3","Cloud Classic SAP Solutions",{"$f":"D3850","v":"SAP Colombia"},"USD","N/A","SAP Fieldglass Cont. Wrkf. Mgmt.",1,"Serv","Suscripcion","N/A","N/A","N/A","SAP-8003795-3","Forma de pago estandar a 30 dias",0.8,1,0,"USD"]
[{"$f":"D3851&F3851&E3851","v":"SAP ColombiaCloud Classic SAP SolutionsSAP-8003795-4"},{"$f":"E3851&F3851","v":"SAP-8003795-4Cloud Classic SAP Solutions"},null,"SAP Colombia","SAP-8003795-4","Cloud Classic SAP Solutions",{"$f":"D3851","v":"SAP Colombia"},"USD","N/A","SAP Fieldglass Cont. Wrkf. Mgmt.",1,"Serv","Suscripcion","N/A","N/A","N/A","SAP-8003795-4","Forma de pago estandar a 30 dias",0.78,1,0,"USD"]
[{"$f":"D3852&F3852&E3852","v":"SAP ColombiaCloud Classic SAP SolutionsSAP-8003795-5"},{"$f":"E3852&F3852","v":"SAP-8003795-5Cloud Classic SAP Solutions"},null,"SAP Colombia","SAP-8003795-5","Cloud Classic SAP Solutions",{"$f":"D3852","v":"SAP Colombia"},"USD","N/A","SAP Fieldglass Cont. Wrkf. Mgmt.",1,"Serv","Suscripcion","N/A","N/A","N/A","SAP-8003795-5","Forma de pago estandar a 30 dias",0.75,1,0,"USD"]
[{"$f":"D3853&F3853&E3853","v":"SAP ColombiaCloud Classic SAP SolutionsSAP-8003795-6"},{"$f":"E3853&F3853","v":"SAP-8003795-6Cloud Classic SAP Solutions"},null,"SAP Colombia","SAP-8003795-6","Cloud Classic SAP Solutions",{"$f":"D3853","v":"SAP Colombia"},"USD","N/A","SAP Fieldglass Cont. Wrkf. Mgmt.",1,"Serv","Suscripcion","N/A","N/A","N/A","SAP-8003795-6","Forma de pago estandar a 30 dias",0.73,1,0,"USD"]
[{"$f":"D3854&F3854&E3854","v":"SAP ColombiaCloud Classic SAP SolutionsSAP-8003796-1"},{"$f":"E3854&F3854","v":"SAP-8003796-1Cloud Classic SAP Solutions"},null,"SAP Colombia","SAP-8003796-1","Cloud Classic SAP Solutions",{"$f":"D3854","v":"SAP Colombia"},"USD","N/A","SAP Fieldglass Services Procurement",1,"Serv","Suscripcion","N/A","N/A","N/A","SAP-8003796-1","Forma de pago estandar a 30 dias",0.5,1,0,"USD"]
[{"$f":"D3855&F3855&E3855","v":"SAP ColombiaCloud Classic SAP SolutionsSAP-8003796-2"},{"$f":"E3855&F3855","v":"SAP-8003796-2Cloud Classic SAP Solutions"},null,"SAP Colombia","SAP-8003796-2","Cloud Classic SAP Solutions",{"$f":"D3855","v":"SAP Colombia"},"USD","N/A","SAP Fieldglass Services Procurement",1,"Serv","Suscripcion","N/A","N/A","N/A","SAP-8003796-2","Forma de pago estandar a 30 dias",0.49,1,0,"USD"]
[{"$f":"D3856&F3856&E3856","v":"SAP ColombiaCloud Classic SAP SolutionsSAP-8003796-3"},{"$f":"E3856&F3856","v":"SAP-8003796-3Cloud Classic SAP Solutions"},null,"SAP Colombia","SAP-8003796-3","Cloud Classic SAP Solutions",{"$f":"D3856","v":"SAP Colombia"},"USD","N/A","SAP Fieldglass Services Procurement",1,"Serv","Suscripcion","N/A","N/A","N/A","SAP-8003796-3","Forma de pago estandar a 30 dias",0.48,1,0,"USD"]
[{"$f":"D3857&F3857&E3857","v":"SAP ColombiaCloud Classic SAP SolutionsSAP-8003796-4"},{"$f":"E3857&F3857","v":"SAP-8003796-4Cloud Classic SAP Solutions"},null,"SAP Colombia","SAP-8003796-4","Cloud Classic SAP Solutions",{"$f":"D3857","v":"SAP Colombia"},"USD","N/A","SAP Fieldglass Services Procurement",1,"Serv","Suscripcion","N/A","N/A","N/A","SAP-8003796-4","Forma de pago estandar a 30 dias",0.47,1,0,"USD"]
[{"$f":"D3858&F3858&E3858","v":"SAP ColombiaCloud Classic SAP SolutionsSAP-8003796-5"},{"$f":"E3858&F3858","v":"SAP-8003796-5Cloud Classic SAP Solutions"},null,"SAP Colombia","SAP-8003796-5","Cloud Classic SAP Solutions",{"$f":"D3858","v":"SAP Colombia"},"USD","N/A","SAP Fieldglass Services Procurement",1,"Serv","Suscripcion","N/A","N/A","N/A","SAP-8003796-5","Forma de pago estandar a 30 dias",0.46,1,0,"USD"]
[{"$f":"D3859&F3859&E3859","v":"SAP ColombiaCloud Classic SAP SolutionsSAP-8003796-6"},{"$f":"E3859&F3859","v":"SAP-8003796-6Cloud Classic SAP Solutions"},null,"SAP Colombia","SAP-8003796-6","Cloud Classic SAP Solutions",{"$f":"D3859","v":"SAP Colombia"},"USD","N/A","SAP Fieldglass Services Procurement",1,"Serv","Suscripcion","N/A","N/A","N/A","SAP-8003796-6","Forma de pago estandar a 30 dias",0.45,1,0,"USD"]
[{"$f":"D3860&F3860&E3860","v":"SAP ColombiaCloud Classic SAP SolutionsSAP-8003797-1"},{"$f":"E3860&F3860","v":"SAP-8003797-1Cloud Classic SAP Solutions"},null,"SAP Colombia","SAP-8003797-1","Cloud Classic SAP Solutions",{"$f":"D3860","v":"SAP Colombia"},"USD","N/A","SAP Fieldglass Worker Prof.Mgmt.",1,"Serv","Suscripcion","N/A","N/A","N/A","SAP-8003797-1","Forma de pago estandar a 30 dias",3.5,1,0,"USD"]
[{"$f":"D3861&F3861&E3861","v":"SAP ColombiaCloud Classic SAP SolutionsSAP-8003797-2"},{"$f":"E3861&F3861","v":"SAP-8003797-2Cloud Classic SAP Solutions"},null,"SAP Colombia","SAP-8003797-2","Cloud Classic SAP Solutions",{"$f":"D3861","v":"SAP Colombia"},"USD","N/A","SAP Fieldglass Worker Prof.Mgmt.",1,"Serv","Suscripcion","N/A","N/A","N/A","SAP-8003797-2","Forma de pago estandar a 30 dias",3.25,1,0,"USD"]
[{"$f":"D3862&F3862&E3862","v":"SAP ColombiaCloud Classic SAP SolutionsSAP-8003797-3"},{"$f":"E3862&F3862","v":"SAP-8003797-3Cloud Classic SAP Solutions"},null,"SAP Colombia","SAP-8003797-3","Cloud Classic SAP Solutions",{"$f":"D3862","v":"SAP Colombia"},"USD","N/A","SAP Fieldglass Worker Prof.Mgmt.",1,"Serv","Suscripcion","N/A","N/A","N/A","SAP-8003797-3","Forma de pago estandar a 30 dias",3,1,0,"USD"]
[{"$f":"D3863&F3863&E3863","v":"SAP ColombiaCloud Classic SAP SolutionsSAP-8003797-4"},{"$f":"E3863&F3863","v":"SAP-8003797-4Cloud Classic SAP Solutions"},null,"SAP Colombia","SAP-8003797-4","Cloud Classic SAP Solutions",{"$f":"D3863","v":"SAP Colombia"},"USD","N/A","SAP Fieldglass Worker Prof.Mgmt.",1,"Serv","Suscripcion","N/A","N/A","N/A","SAP-8003797-4","Forma de pago estandar a 30 dias",2.75,1,0,"USD"]
[{"$f":"D3864&F3864&E3864","v":"SAP ColombiaCloud Classic SAP SolutionsSAP-8003797-5"},{"$f":"E3864&F3864","v":"SAP-8003797-5Cloud Classic SAP Solutions"},null,"SAP Colombia","SAP-8003797-5","Cloud Classic SAP Solutions",{"$f":"D3864","v":"SAP Colombia"},"USD","N/A","SAP Fieldglass Worker Prof.Mgmt.",1,"Serv","Suscripcion","N/A","N/A","N/A","SAP-8003797-5","Forma de pago estandar a 30 dias",2.5,1,0,"USD"]
[{"$f":"D3865&F3865&E3865","v":"SAP ColombiaCloud Classic SAP SolutionsSAP-8003797-6"},{"$f":"E3865&F3865","v":"SAP-8003797-6Cloud Classic SAP Solutions"},null,"SAP Colombia","SAP-8003797-6","Cloud Classic SAP Solutions",{"$f":"D3865","v":"SAP Colombia"},"USD","N/A","SAP Fieldglass Worker Prof.Mgmt.",1,"Serv","Suscripcion","N/A","N/A","N/A","SAP-8003797-6","Forma de pago estandar a 30 dias",2.25,1,0,"USD"]
[{"$f":"D3866&F3866&E3866","v":"SAP ColombiaCloud Classic SAP SolutionsSAP-8005967"},{"$f":"E3866&F3866","v":"SAP-8005967Cloud Classic SAP Solutions"},null,"SAP Colombia","SAP-8005967","Cloud Classic SAP Solutions",{"$f":"D3866","v":"SAP Colombia"},"USD","N/A","SAP Ariba Buyer Paid Supplier Fees",1,"Serv","Suscripcion","N/A","N/A","N/A","SAP-8005967","Forma de pago estandar a 30 dias",210,1,0,"USD"]
[{"$f":"D3867&F3867&E3867","v":"SAP ColombiaCloud Classic SAP SolutionsSAP-8007883-1"},{"$f":"E3867&F3867","v":"SAP-8007883-1Cloud Classic SAP Solutions"},null,"SAP Colombia","SAP-8007883-1","Cloud Classic SAP Solutions",{"$f":"D3867","v":"SAP Colombia"},"USD","N/A","SAP Ariba Sourcing",1,"Serv","Suscripcion","N/A","N/A","N/A","SAP-8007883-1","Forma de pago estandar a 30 dias",672,1,0,"USD"]
[{"$f":"D3868&F3868&E3868","v":"SAP ColombiaCloud Classic SAP SolutionsSAP-8007883-2"},{"$f":"E3868&F3868","v":"SAP-8007883-2Cloud Classic SAP Solutions"},null,"SAP Colombia","SAP-8007883-2","Cloud Classic SAP Solutions",{"$f":"D3868","v":"SAP Colombia"},"USD","N/A","SAP Ariba Sourcing",1,"Serv","Suscripcion","N/A","N/A","N/A","SAP-8007883-2","Forma de pago estandar a 30 dias",430,1,0,"USD"]
[{"$f":"D3869&F3869&E3869","v":"SAP ColombiaCloud Classic SAP SolutionsSAP-8007883-3"},{"$f":"E3869&F3869","v":"SAP-8007883-3Cloud Classic SAP Solutions"},null,"SAP Colombia","SAP-8007883-3","Cloud Classic SAP Solutions",{"$f":"D3869","v":"SAP Colombia"},"USD","N/A","SAP Ariba Sourcing",1,"Serv","Suscripcion","N/A","N/A","N/A","SAP-8007883-3","Forma de pago estandar a 30 dias",270,1,0,"USD"]
[{"$f":"D3870&F3870&E3870","v":"SAP ColombiaCloud Classic SAP SolutionsSAP-8007883-4"},{"$f":"E3870&F3870","v":"SAP-8007883-4Cloud Classic SAP Solutions"},null,"SAP Colombia","SAP-8007883-4","Cloud Classic SAP Solutions",{"$f":"D3870","v":"SAP Colombia"},"USD","N/A","SAP Ariba Sourcing",1,"Serv","Suscripcion","N/A","N/A","N/A","SAP-8007883-4","Forma de pago estandar a 30 dias",250,1,0,"USD"]
[{"$f":"D3871&F3871&E3871","v":"SAP ColombiaCloud Classic SAP SolutionsSAP-8007883-5"},{"$f":"E3871&F3871","v":"SAP-8007883-5Cloud Classic SAP Solutions"},null,"SAP Colombia","SAP-8007883-5","Cloud Classic SAP Solutions",{"$f":"D3871","v":"SAP Colombia"},"USD","N/A","SAP Ariba Sourcing",1,"Serv","Suscripcion","N/A","N/A","N/A","SAP-8007883-5","Forma de pago estandar a 30 dias",230,1,0,"USD"]
[{"$f":"D3872&F3872&E3872","v":"SAP ColombiaCloud Classic SAP SolutionsSAP-8007885-1"},{"$f":"E3872&F3872","v":"SAP-8007885-1Cloud Classic SAP Solutions"},null,"SAP Colombia","SAP-8007885-1","Cloud Classic SAP Solutions",{"$f":"D3872","v":"SAP Colombia"},"USD","N/A","SAP Ariba Contracts",1,"Serv","Suscripcion","N/A","N/A","N/A","SAP-8007885-1","Forma de pago estandar a 30 dias",550,1,0,"USD"]
[{"$f":"D3873&F3873&E3873","v":"SAP ColombiaCloud Classic SAP SolutionsSAP-8007885-2"},{"$f":"E3873&F3873","v":"SAP-8007885-2Cloud Classic SAP Solutions"},null,"SAP Colombia","SAP-8007885-2","Cloud Classic SAP Solutions",{"$f":"D3873","v":"SAP Colombia"},"USD","N/A","SAP Ariba Contracts",1,"Serv","Suscripcion","N/A","N/A","N/A","SAP-8007885-2","Forma de pago estandar a 30 dias",400,1,0,"USD"]
[{"$f":"D3874&F3874&E3874","v":"SAP ColombiaCloud Classic SAP SolutionsSAP-8007885-3"},{"$f":"E3874&F3874","v":"SAP-8007885-3Cloud Classic SAP Solutions"},null,"SAP Colombia","SAP-8007885-3","Cloud Classic SAP Solutions",{"$f":"D3874","v":"SAP Colombia"},"USD","N/A","SAP Ariba Contracts",1,"Serv","Suscripcion","N/A","N/A","N/A","SAP-8007885-3","Forma de pago estandar a 30 dias",270,1,0,"USD"]
[{"$f":"D3875&F3875&E3875","v":"SAP ColombiaCloud Classic SAP SolutionsSAP-8007885-4"},{"$f":"E3875&F3875","v":"SAP-8007885-4Cloud Classic SAP Solutions"},null,"SAP Colombia","SAP-8007885-4","Cloud Classic SAP Solutions",{"$f":"D3875","v":"SAP Colombia"},"USD","N/A","SAP Ariba Contracts",1,"Serv","Suscripcion","N/A","N/A","N/A","SAP-8007885-4","Forma de pago estandar a 30 dias",200,1,0,"USD"]
[{"$f":"D3876&F3876&E3876","v":"SAP ColombiaCloud Classic SAP SolutionsSAP-8007885-5"},{"$f":"E3876&F3876","v":"SAP-8007885-5Cloud Classic SAP Solutions"},null,"SAP Colombia","SAP-8007885-5","Cloud Classic SAP Solutions",{"$f":"D3876","v":"SAP Colombia"},"USD","N/A","SAP Ariba Contracts",1,"Serv","Suscripcion","N/A","N/A","N/A","SAP-8007885-5","Forma de pago estandar a 30 dias",170,1,0,"USD"]
[{"$f":"D3877&F3877&E3877","v":"SAP ColombiaCloud Classic SAP SolutionsSAP-8007886-1"},{"$f":"E3877&F3877","v":"SAP-8007886-1Cloud Classic SAP Solutions"},null,"SAP Colombia","SAP-8007886-1","Cloud Classic SAP Solutions",{"$f":"D3877","v":"SAP Colombia"},"USD","N/A","SAP Ariba Strategic Sourcing Suite",1,"Serv","Suscripcion","N/A","N/A","N/A","SAP-8007886-1","Forma de pago estandar a 30 dias",2288,1,0,"USD"]
[{"$f":"D3878&F3878&E3878","v":"SAP ColombiaCloud Classic SAP SolutionsSAP-8007886-2"},{"$f":"E3878&F3878","v":"SAP-8007886-2Cloud Classic SAP Solutions"},null,"SAP Colombia","SAP-8007886-2","Cloud Classic SAP Solutions",{"$f":"D3878","v":"SAP Colombia"},"USD","N/A","SAP Ariba Strategic Sourcing Suite",1,"Serv","Suscripcion","N/A","N/A","N/A","SAP-8007886-2","Forma de pago estandar a 30 dias",1575,1,0,"USD"]
[{"$f":"D3879&F3879&E3879","v":"SAP ColombiaCloud Classic SAP SolutionsSAP-8007886-3"},{"$f":"E3879&F3879","v":"SAP-8007886-3Cloud Classic SAP Solutions"},null,"SAP Colombia","SAP-8007886-3","Cloud Classic SAP Solutions",{"$f":"D3879","v":"SAP Colombia"},"USD","N/A","SAP Ariba Strategic Sourcing Suite",1,"Serv","Suscripcion","N/A","N/A","N/A","SAP-8007886-3","Forma de pago estandar a 30 dias",1013,1,0,"USD"]
[{"$f":"D3880&F3880&E3880","v":"SAP ColombiaCloud Classic SAP SolutionsSAP-8007886-4"},{"$f":"E3880&F3880","v":"SAP-8007886-4Cloud Classic SAP Solutions"},null,"SAP Colombia","SAP-8007886-4","Cloud Classic SAP Solutions",{"$f":"D3880","v":"SAP Colombia"},"USD","N/A","SAP Ariba Strategic Sourcing Suite",1,"Serv","Suscripcion","N/A","N/A","N/A","SAP-8007886-4","Forma de pago estandar a 30 dias",875,1,0,"USD"]
[{"$f":"D3881&F3881&E3881","v":"SAP ColombiaCloud Classic SAP SolutionsSAP-8007886-5"},{"$f":"E3881&F3881","v":"SAP-8007886-5Cloud Classic SAP Solutions"},null,"SAP Colombia","SAP-8007886-5","Cloud Classic SAP Solutions",{"$f":"D3881","v":"SAP Colombia"},"USD","N/A","SAP Ariba Strategic Sourcing Suite",1,"Serv","Suscripcion","N/A","N/A","N/A","SAP-8007886-5","Forma de pago estandar a 30 dias",788,1,0,"USD"]
[{"$f":"D3882&F3882&E3882","v":"SAP ColombiaCloud Classic SAP SolutionsSAP-8007887-1"},{"$f":"E3882&F3882","v":"SAP-8007887-1Cloud Classic SAP Solutions"},null,"SAP Colombia","SAP-8007887-1","Cloud Classic SAP Solutions",{"$f":"D3882","v":"SAP Colombia"},"USD","N/A","SAP Ariba Contract Invoicing",1,"Serv","Suscripcion","N/A","N/A","N/A","SAP-8007887-1","Forma de pago estandar a 30 dias",1.2,1,0,"USD"]
[{"$f":"D3883&F3883&E3883","v":"SAP ColombiaCloud Classic SAP SolutionsSAP-8007887-2"},{"$f":"E3883&F3883","v":"SAP-8007887-2Cloud Classic SAP Solutions"},null,"SAP Colombia","SAP-8007887-2","Cloud Classic SAP Solutions",{"$f":"D3883","v":"SAP Colombia"},"USD","N/A","SAP Ariba Contract Invoicing",1,"Serv","Suscripcion","N/A","N/A","N/A","SAP-8007887-2","Forma de pago estandar a 30 dias",0.95,1,0,"USD"]
[{"$f":"D3884&F3884&E3884","v":"SAP ColombiaCloud Classic SAP SolutionsSAP-8007887-3"},{"$f":"E3884&F3884","v":"SAP-8007887-3Cloud Classic SAP Solutions"},null,"SAP Colombia","SAP-8007887-3","Cloud Classic SAP Solutions",{"$f":"D3884","v":"SAP Colombia"},"USD","N/A","SAP Ariba Contract Invoicing",1,"Serv","Suscripcion","N/A","N/A","N/A","SAP-8007887-3","Forma de pago estandar a 30 dias",0.7,1,0,"USD"]
[{"$f":"D3885&F3885&E3885","v":"SAP ColombiaCloud Classic SAP SolutionsSAP-8007887-4"},{"$f":"E3885&F3885","v":"SAP-8007887-4Cloud Classic SAP Solutions"},null,"SAP Colombia","SAP-8007887-4","Cloud Classic SAP Solutions",{"$f":"D3885","v":"SAP Colombia"},"USD","N/A","SAP Ariba Contract Invoicing",1,"Serv","Suscripcion","N/A","N/A","N/A","SAP-8007887-4","Forma de pago estandar a 30 dias",0.5,1,0,"USD"]
[{"$f":"D3886&F3886&E3886","v":"SAP ColombiaCloud Classic SAP SolutionsSAP-8007888"},{"$f":"E3886&F3886","v":"SAP-8007888Cloud Classic SAP Solutions"},null,"SAP Colombia","SAP-8007888","Cloud Classic SAP Solutions",{"$f":"D3886","v":"SAP Colombia"},"USD","N/A","SAP Ariba Commerce Automation Membership",1,"Serv","Suscripcion","N/A","N/A","N/A","SAP-8007888","Forma de pago estandar a 30 dias",750000,1,0,"USD"]
[{"$f":"D3887&F3887&E3887","v":"SAP ColombiaCloud Classic SAP SolutionsSAP-8007889-1"},{"$f":"E3887&F3887","v":"SAP-8007889-1Cloud Classic SAP Solutions"},null,"SAP Colombia","SAP-8007889-1","Cloud Classic SAP Solutions",{"$f":"D3887","v":"SAP Colombia"},"USD","N/A","SAP Ariba Supplier Lifecycle and Performance",1,"Serv","Suscripcion","N/A","N/A","N/A","SAP-8007889-1","Forma de pago estandar a 30 dias",630,1,0,"USD"]
[{"$f":"D3888&F3888&E3888","v":"SAP ColombiaCloud Classic SAP SolutionsSAP-8007889-2"},{"$f":"E3888&F3888","v":"SAP-8007889-2Cloud Classic SAP Solutions"},null,"SAP Colombia","SAP-8007889-2","Cloud Classic SAP Solutions",{"$f":"D3888","v":"SAP Colombia"},"USD","N/A","SAP Ariba Supplier Lifecycle and Performance",1,"Serv","Suscripcion","N/A","N/A","N/A","SAP-8007889-2","Forma de pago estandar a 30 dias",430,1,0,"USD"]
[{"$f":"D3889&F3889&E3889","v":"SAP ColombiaCloud Classic SAP SolutionsSAP-8007889-3"},{"$f":"E3889&F3889","v":"SAP-8007889-3Cloud Classic SAP Solutions"},null,"SAP Colombia","SAP-8007889-3","Cloud Classic SAP Solutions",{"$f":"D3889","v":"SAP Colombia"},"USD","N/A","SAP Ariba Supplier Lifecycle and Performance",1,"Serv","Suscripcion","N/A","N/A","N/A","SAP-8007889-3","Forma de pago estandar a 30 dias",270,1,0,"USD"]
[{"$f":"D3890&F3890&E3890","v":"SAP ColombiaCloud Classic SAP SolutionsSAP-8007889-4"},{"$f":"E3890&F3890","v":"SAP-8007889-4Cloud Classic SAP Solutions"},null,"SAP Colombia","SAP-8007889-4","Cloud Classic SAP Solutions",{"$f":"D3890","v":"SAP Colombia"},"USD","N/A","SAP Ariba Supplier Lifecycle and Performance",1,"Serv","Suscripcion","N/A","N/A","N/A","SAP-8007889-4","Forma de pago estandar a 30 dias",250,1,0,"USD"]
[{"$f":"D3891&F3891&E3891","v":"SAP ColombiaCloud Classic SAP SolutionsSAP-8007889-5"},{"$f":"E3891&F3891","v":"SAP-8007889-5Cloud Classic SAP Solutions"},null,"SAP Colombia","SAP-8007889-5","Cloud Classic SAP Solutions",{"$f":"D3891","v":"SAP Colombia"},"USD","N/A","SAP Ariba Supplier Lifecycle and Performance",1,"Serv","Suscripcion","N/A","N/A","N/A","SAP-8007889-5","Forma de pago estandar a 30 dias",230,1,0,"USD"]
[{"$f":"D3892&F3892&E3892","v":"SAP ColombiaCloud Classic SAP SolutionsSAP-8007890-1"},{"$f":"E3892&F3892","v":"SAP-8007890-1Cloud Classic SAP Solutions"},null,"SAP Colombia","SAP-8007890-1","Cloud Classic SAP Solutions",{"$f":"D3892","v":"SAP Colombia"},"USD","N/A","SAP Ariba Supplier Risk",1,"Serv","Suscripcion","N/A","N/A","N/A","SAP-8007890-1","Forma de pago estandar a 30 dias",750,1,0,"USD"]
[{"$f":"D3893&F3893&E3893","v":"SAP ColombiaCloud Classic SAP SolutionsSAP-8007890-2"},{"$f":"E3893&F3893","v":"SAP-8007890-2Cloud Classic SAP Solutions"},null,"SAP Colombia","SAP-8007890-2","Cloud Classic SAP Solutions",{"$f":"D3893","v":"SAP Colombia"},"USD","N/A","SAP Ariba Supplier Risk",1,"Serv","Suscripcion","N/A","N/A","N/A","SAP-8007890-2","Forma de pago estandar a 30 dias",567,1,0,"USD"]
[{"$f":"D3894&F3894&E3894","v":"SAP ColombiaCloud Classic SAP SolutionsSAP-8007890-3"},{"$f":"E3894&F3894","v":"SAP-8007890-3Cloud Classic SAP Solutions"},null,"SAP Colombia","SAP-8007890-3","Cloud Classic SAP Solutions",{"$f":"D3894","v":"SAP Colombia"},"USD","N/A","SAP Ariba Supplier Risk",1,"Serv","Suscripcion","N/A","N/A","N/A","SAP-8007890-3","Forma de pago estandar a 30 dias",378,1,0,"USD"]
[{"$f":"D3895&F3895&E3895","v":"SAP ColombiaCloud Classic SAP SolutionsSAP-8007890-4"},{"$f":"E3895&F3895","v":"SAP-8007890-4Cloud Classic SAP Solutions"},null,"SAP Colombia","SAP-8007890-4","Cloud Classic SAP Solutions",{"$f":"D3895","v":"SAP Colombia"},"USD","N/A","SAP Ariba Supplier Risk",1,"Serv","Suscripcion","N/A","N/A","N/A","SAP-8007890-4","Forma de pago estandar a 30 dias",288,1,0,"USD"]
[{"$f":"D3896&F3896&E3896","v":"SAP ColombiaCloud Classic SAP SolutionsSAP-8007890-5"},{"$f":"E3896&F3896","v":"SAP-8007890-5Cloud Classic SAP Solutions"},null,"SAP Colombia","SAP-8007890-5","Cloud Classic SAP Solutions",{"$f":"D3896","v":"SAP Colombia"},"USD","N/A","SAP Ariba Supplier Risk",1,"Serv","Suscripcion","N/A","N/A","N/A","SAP-8007890-5","Forma de pago estandar a 30 dias",211,1,0,"USD"]
[{"$f":"D3897&F3897&E3897","v":"SAP ColombiaCloud Classic SAP SolutionsSAP-8007891-1"},{"$f":"E3897&F3897","v":"SAP-8007891-1Cloud Classic SAP Solutions"},null,"SAP Colombia","SAP-8007891-1","Cloud Classic SAP Solutions",{"$f":"D3897","v":"SAP Colombia"},"USD","N/A","SAP Ariba Buying",1,"Serv","Suscripcion","N/A","N/A","N/A","SAP-8007891-1","Forma de pago estandar a 30 dias",0.21,1,0,"USD"]
[{"$f":"D3898&F3898&E3898","v":"SAP ColombiaCloud Classic SAP SolutionsSAP-8007891-2"},{"$f":"E3898&F3898","v":"SAP-8007891-2Cloud Classic SAP Solutions"},null,"SAP Colombia","SAP-8007891-2","Cloud Classic SAP Solutions",{"$f":"D3898","v":"SAP Colombia"},"USD","N/A","SAP Ariba Buying",1,"Serv","Suscripcion","N/A","N/A","N/A","SAP-8007891-2","Forma de pago estandar a 30 dias",0.16,1,0,"USD"]
[{"$f":"D3899&F3899&E3899","v":"SAP ColombiaCloud Classic SAP SolutionsSAP-8007891-3"},{"$f":"E3899&F3899","v":"SAP-8007891-3Cloud Classic SAP Solutions"},null,"SAP Colombia","SAP-8007891-3","Cloud Classic SAP Solutions",{"$f":"D3899","v":"SAP Colombia"},"USD","N/A","SAP Ariba Buying",1,"Serv","Suscripcion","N/A","N/A","N/A","SAP-8007891-3","Forma de pago estandar a 30 dias",0.1,1,0,"USD"]
[{"$f":"D3900&F3900&E3900","v":"SAP ColombiaCloud Classic SAP SolutionsSAP-8007891-4"},{"$f":"E3900&F3900","v":"SAP-8007891-4Cloud Classic SAP Solutions"},null,"SAP Colombia","SAP-8007891-4","Cloud Classic SAP Solutions",{"$f":"D3900","v":"SAP Colombia"},"USD","N/A","SAP Ariba Buying",1,"Serv","Suscripcion","N/A","N/A","N/A","SAP-8007891-4","Forma de pago estandar a 30 dias",0.08,1,0,"USD"]
[{"$f":"D3901&F3901&E3901","v":"SAP ColombiaCloud Classic SAP SolutionsSAP-8007891-5"},{"$f":"E3901&F3901","v":"SAP-8007891-5Cloud Classic SAP Solutions"},null,"SAP Colombia","SAP-8007891-5","Cloud Classic SAP Solutions",{"$f":"D3901","v":"SAP Colombia"},"USD","N/A","SAP Ariba Buying",1,"Serv","Suscripcion","N/A","N/A","N/A","SAP-8007891-5","Forma de pago estandar a 30 dias",7.0000000000000007E-2,1,0,"USD"]
[{"$f":"D3902&F3902&E3902","v":"SAP ColombiaCloud Classic SAP SolutionsSAP-8007891-6"},{"$f":"E3902&F3902","v":"SAP-8007891-6Cloud Classic SAP Solutions"},null,"SAP Colombia","SAP-8007891-6","Cloud Classic SAP Solutions",{"$f":"D3902","v":"SAP Colombia"},"USD","N/A","SAP Ariba Buying",1,"Serv","Suscripcion","N/A","N/A","N/A","SAP-8007891-6","Forma de pago estandar a 30 dias",0.06,1,0,"USD"]
[{"$f":"D3903&F3903&E3903","v":"SAP ColombiaCloud Classic SAP SolutionsSAP-8007892-1"},{"$f":"E3903&F3903","v":"SAP-8007892-1Cloud Classic SAP Solutions"},null,"SAP Colombia","SAP-8007892-1","Cloud Classic SAP Solutions",{"$f":"D3903","v":"SAP Colombia"},"USD","N/A","SAP Ariba Buying and Invoicing",1,"Serv","Suscripcion","N/A","N/A","N/A","SAP-8007892-1","Forma de pago estandar a 30 dias",0.25,1,0,"USD"]
[{"$f":"D3904&F3904&E3904","v":"SAP ColombiaCloud Classic SAP SolutionsSAP-8007892-2"},{"$f":"E3904&F3904","v":"SAP-8007892-2Cloud Classic SAP Solutions"},null,"SAP Colombia","SAP-8007892-2","Cloud Classic SAP Solutions",{"$f":"D3904","v":"SAP Colombia"},"USD","N/A","SAP Ariba Buying and Invoicing",1,"Serv","Suscripcion","N/A","N/A","N/A","SAP-8007892-2","Forma de pago estandar a 30 dias",0.2,1,0,"USD"]
[{"$f":"D3905&F3905&E3905","v":"SAP ColombiaCloud Classic SAP SolutionsSAP-8007892-3"},{"$f":"E3905&F3905","v":"SAP-8007892-3Cloud Classic SAP Solutions"},null,"SAP Colombia","SAP-8007892-3","Cloud Classic SAP Solutions",{"$f":"D3905","v":"SAP Colombia"},"USD","N/A","SAP Ariba Buying and Invoicing",1,"Serv","Suscripcion","N/A","N/A","N/A","SAP-8007892-3","Forma de pago estandar a 30 dias",0.12,1,0,"USD"]
[{"$f":"D3906&F3906&E3906","v":"SAP ColombiaCloud Classic SAP SolutionsSAP-8007892-4"},{"$f":"E3906&F3906","v":"SAP-8007892-4Cloud Classic SAP Solutions"},null,"SAP Colombia","SAP-8007892-4","Cloud Classic SAP Solutions",{"$f":"D3906","v":"SAP Colombia"},"USD","N/A","SAP Ariba Buying and Invoicing",1,"Serv","Suscripcion","N/A","N/A","N/A","SAP-8007892-4","Forma de pago estandar a 30 dias",0.09,1,0,"USD"]
[{"$f":"D3907&F3907&E3907","v":"SAP ColombiaCloud Classic SAP SolutionsSAP-8007892-5"},{"$f":"E3907&F3907","v":"SAP-8007892-5Cloud Classic SAP Solutions"},null,"SAP Colombia","SAP-8007892-5","Cloud Classic SAP Solutions",{"$f":"D3907","v":"SAP Colombia"},"USD","N/A","SAP Ariba Buying and Invoicing",1,"Serv","Suscripcion","N/A","N/A","N/A","SAP-8007892-5","Forma de pago estandar a 30 dias",0.08,1,0,"USD"]
[{"$f":"D3908&F3908&E3908","v":"SAP ColombiaCloud Classic SAP SolutionsSAP-8007892-6"},{"$f":"E3908&F3908","v":"SAP-8007892-6Cloud Classic SAP Solutions"},null,"SAP Colombia","SAP-8007892-6","Cloud Classic SAP Solutions",{"$f":"D3908","v":"SAP Colombia"},"USD","N/A","SAP Ariba Buying and Invoicing",1,"Serv","Suscripcion","N/A","N/A","N/A","SAP-8007892-6","Forma de pago estandar a 30 dias",7.0000000000000007E-2,1,0,"USD"]
[{"$f":"D3909&F3909&E3909","v":"SAP ColombiaCloud Classic SAP SolutionsSAP-8007893-1"},{"$f":"E3909&F3909","v":"SAP-8007893-1Cloud Classic SAP Solutions"},null,"SAP Colombia","SAP-8007893-1","Cloud Classic SAP Solutions",{"$f":"D3909","v":"SAP Colombia"},"USD","N/A","SAP Ariba Sourcing and Procurement bundle",1,"Serv","Suscripcion","N/A","N/A","N/A","SAP-8007893-1","Forma de pago estandar a 30 dias",0.6,1,0,"USD"]
[{"$f":"D3910&F3910&E3910","v":"SAP ColombiaCloud Classic SAP SolutionsSAP-8007893-2"},{"$f":"E3910&F3910","v":"SAP-8007893-2Cloud Classic SAP Solutions"},null,"SAP Colombia","SAP-8007893-2","Cloud Classic SAP Solutions",{"$f":"D3910","v":"SAP Colombia"},"USD","N/A","SAP Ariba Sourcing and Procurement bundle",1,"Serv","Suscripcion","N/A","N/A","N/A","SAP-8007893-2","Forma de pago estandar a 30 dias",0.5,1,0,"USD"]
[{"$f":"D3911&F3911&E3911","v":"SAP ColombiaCloud Classic SAP SolutionsSAP-8007893-3"},{"$f":"E3911&F3911","v":"SAP-8007893-3Cloud Classic SAP Solutions"},null,"SAP Colombia","SAP-8007893-3","Cloud Classic SAP Solutions",{"$f":"D3911","v":"SAP Colombia"},"USD","N/A","SAP Ariba Sourcing and Procurement bundle",1,"Serv","Suscripcion","N/A","N/A","N/A","SAP-8007893-3","Forma de pago estandar a 30 dias",0.3,1,0,"USD"]
[{"$f":"D3912&F3912&E3912","v":"SAP ColombiaCloud Classic SAP SolutionsSAP-8007894-1"},{"$f":"E3912&F3912","v":"SAP-8007894-1Cloud Classic SAP Solutions"},null,"SAP Colombia","SAP-8007894-1","Cloud Classic SAP Solutions",{"$f":"D3912","v":"SAP Colombia"},"USD","N/A","SAP Ariba Catalog",1,"Serv","Suscripcion","N/A","N/A","N/A","SAP-8007894-1","Forma de pago estandar a 30 dias",0.21,1,0,"USD"]
[{"$f":"D3913&F3913&E3913","v":"SAP ColombiaCloud Classic SAP SolutionsSAP-8007894-2"},{"$f":"E3913&F3913","v":"SAP-8007894-2Cloud Classic SAP Solutions"},null,"SAP Colombia","SAP-8007894-2","Cloud Classic SAP Solutions",{"$f":"D3913","v":"SAP Colombia"},"USD","N/A","SAP Ariba Catalog",1,"Serv","Suscripcion","N/A","N/A","N/A","SAP-8007894-2","Forma de pago estandar a 30 dias",0.14000000000000001,1,0,"USD"]
[{"$f":"D3914&F3914&E3914","v":"SAP ColombiaCloud Classic SAP SolutionsSAP-8007894-3"},{"$f":"E3914&F3914","v":"SAP-8007894-3Cloud Classic SAP Solutions"},null,"SAP Colombia","SAP-8007894-3","Cloud Classic SAP Solutions",{"$f":"D3914","v":"SAP Colombia"},"USD","N/A","SAP Ariba Catalog",1,"Serv","Suscripcion","N/A","N/A","N/A","SAP-8007894-3","Forma de pago estandar a 30 dias",0.09,1,0,"USD"]
[{"$f":"D3915&F3915&E3915","v":"SAP ColombiaCloud Classic SAP SolutionsSAP-8007894-4"},{"$f":"E3915&F3915","v":"SAP-8007894-4Cloud Classic SAP Solutions"},null,"SAP Colombia","SAP-8007894-4","Cloud Classic SAP Solutions",{"$f":"D3915","v":"SAP Colombia"},"USD","N/A","SAP Ariba Catalog",1,"Serv","Suscripcion","N/A","N/A","N/A","SAP-8007894-4","Forma de pago estandar a 30 dias",0.08,1,0,"USD"]
[{"$f":"D3916&F3916&E3916","v":"SAP ColombiaCloud Classic SAP SolutionsSAP-8007894-5"},{"$f":"E3916&F3916","v":"SAP-8007894-5Cloud Classic SAP Solutions"},null,"SAP Colombia","SAP-8007894-5","Cloud Classic SAP Solutions",{"$f":"D3916","v":"SAP Colombia"},"USD","N/A","SAP Ariba Catalog",1,"Serv","Suscripcion","N/A","N/A","N/A","SAP-8007894-5","Forma de pago estandar a 30 dias",7.0000000000000007E-2,1,0,"USD"]
[{"$f":"D3917&F3917&E3917","v":"SAP ColombiaCloud Classic SAP SolutionsSAP-8007894-6"},{"$f":"E3917&F3917","v":"SAP-8007894-6Cloud Classic SAP Solutions"},null,"SAP Colombia","SAP-8007894-6","Cloud Classic SAP Solutions",{"$f":"D3917","v":"SAP Colombia"},"USD","N/A","SAP Ariba Catalog",1,"Serv","Suscripcion","N/A","N/A","N/A","SAP-8007894-6","Forma de pago estandar a 30 dias",0.06,1,0,"USD"]
[{"$f":"D3918&F3918&E3918","v":"SAP ColombiaCloud Classic SAP SolutionsSAP-8007896-1"},{"$f":"E3918&F3918","v":"SAP-8007896-1Cloud Classic SAP Solutions"},null,"SAP Colombia","SAP-8007896-1","Cloud Classic SAP Solutions",{"$f":"D3918","v":"SAP Colombia"},"USD","N/A","SAP Ariba Supply Chain Collaboration for Buyers",1,"Serv","Suscripcion","N/A","N/A","N/A","SAP-8007896-1","Forma de pago estandar a 30 dias",0.15,1,0,"USD"]
[{"$f":"D3919&F3919&E3919","v":"SAP ColombiaCloud Classic SAP SolutionsSAP-8007896-2"},{"$f":"E3919&F3919","v":"SAP-8007896-2Cloud Classic SAP Solutions"},null,"SAP Colombia","SAP-8007896-2","Cloud Classic SAP Solutions",{"$f":"D3919","v":"SAP Colombia"},"USD","N/A","SAP Ariba Supply Chain Collaboration for Buyers",1,"Serv","Suscripcion","N/A","N/A","N/A","SAP-8007896-2","Forma de pago estandar a 30 dias",0.12,1,0,"USD"]
[{"$f":"D3920&F3920&E3920","v":"SAP ColombiaCloud Classic SAP SolutionsSAP-8007896-3"},{"$f":"E3920&F3920","v":"SAP-8007896-3Cloud Classic SAP Solutions"},null,"SAP Colombia","SAP-8007896-3","Cloud Classic SAP Solutions",{"$f":"D3920","v":"SAP Colombia"},"USD","N/A","SAP Ariba Supply Chain Collaboration for Buyers",1,"Serv","Suscripcion","N/A","N/A","N/A","SAP-8007896-3","Forma de pago estandar a 30 dias",7.0000000000000007E-2,1,0,"USD"]
[{"$f":"D3921&F3921&E3921","v":"SAP ColombiaCloud Classic SAP SolutionsSAP-8007896-4"},{"$f":"E3921&F3921","v":"SAP-8007896-4Cloud Classic SAP Solutions"},null,"SAP Colombia","SAP-8007896-4","Cloud Classic SAP Solutions",{"$f":"D3921","v":"SAP Colombia"},"USD","N/A","SAP Ariba Supply Chain Collaboration for Buyers",1,"Serv","Suscripcion","N/A","N/A","N/A","SAP-8007896-4","Forma de pago estandar a 30 dias",0.06,1,0,"USD"]
[{"$f":"D3922&F3922&E3922","v":"SAP ColombiaCloud Classic SAP SolutionsSAP-8007896-5"},{"$f":"E3922&F3922","v":"SAP-8007896-5Cloud Classic SAP Solutions"},null,"SAP Colombia","SAP-8007896-5","Cloud Classic SAP Solutions",{"$f":"D3922","v":"SAP Colombia"},"USD","N/A","SAP Ariba Supply Chain Collaboration for Buyers",1,"Serv","Suscripcion","N/A","N/A","N/A","SAP-8007896-5","Forma de pago estandar a 30 dias",0.05,1,0,"USD"]
[{"$f":"D3923&F3923&E3923","v":"SAP ColombiaCloud Classic SAP SolutionsSAP-8007896-6"},{"$f":"E3923&F3923","v":"SAP-8007896-6Cloud Classic SAP Solutions"},null,"SAP Colombia","SAP-8007896-6","Cloud Classic SAP Solutions",{"$f":"D3923","v":"SAP Colombia"},"USD","N/A","SAP Ariba Supply Chain Collaboration for Buyers",1,"Serv","Suscripcion","N/A","N/A","N/A","SAP-8007896-6","Forma de pago estandar a 30 dias",0.05,1,0,"USD"]
[{"$f":"D3924&F3924&E3924","v":"SAP ColombiaCloud Classic SAP SolutionsSAP-8007898"},{"$f":"E3924&F3924","v":"SAP-8007898Cloud Classic SAP Solutions"},null,"SAP Colombia","SAP-8007898","Cloud Classic SAP Solutions",{"$f":"D3924","v":"SAP Colombia"},"USD","N/A","SAP Ariba Supply Chain Collaboration for Buyers, quality add-on",1,"Serv","Suscripcion","N/A","N/A","N/A","SAP-8007898","Forma de pago estandar a 30 dias",30,1,0,"USD"]
[{"$f":"D3925&F3925&E3925","v":"SAP ColombiaCloud Classic SAP SolutionsSAP-8007899"},{"$f":"E3925&F3925","v":"SAP-8007899Cloud Classic SAP Solutions"},null,"SAP Colombia","SAP-8007899","Cloud Classic SAP Solutions",{"$f":"D3925","v":"SAP Colombia"},"USD","N/A","SAP Ariba Supply Chain Collaboration for Buyers, inventory add-on",1,"Serv","Suscripcion","N/A","N/A","N/A","SAP-8007899","Forma de pago estandar a 30 dias",30,1,0,"USD"]
[{"$f":"D3926&F3926&E3926","v":"SAP ColombiaCloud Classic SAP SolutionsSAP-8007900-1"},{"$f":"E3926&F3926","v":"SAP-8007900-1Cloud Classic SAP Solutions"},null,"SAP Colombia","SAP-8007900-1","Cloud Classic SAP Solutions",{"$f":"D3926","v":"SAP Colombia"},"USD","N/A","SAP Ariba Invoice Management",1,"Serv","Suscripcion","N/A","N/A","N/A","SAP-8007900-1","Forma de pago estandar a 30 dias",1.5,1,0,"USD"]
[{"$f":"D3927&F3927&E3927","v":"SAP ColombiaCloud Classic SAP SolutionsSAP-8007900-2"},{"$f":"E3927&F3927","v":"SAP-8007900-2Cloud Classic SAP Solutions"},null,"SAP Colombia","SAP-8007900-2","Cloud Classic SAP Solutions",{"$f":"D3927","v":"SAP Colombia"},"USD","N/A","SAP Ariba Invoice Management",1,"Serv","Suscripcion","N/A","N/A","N/A","SAP-8007900-2","Forma de pago estandar a 30 dias",1.25,1,0,"USD"]
[{"$f":"D3928&F3928&E3928","v":"SAP ColombiaCloud Classic SAP SolutionsSAP-8007900-3"},{"$f":"E3928&F3928","v":"SAP-8007900-3Cloud Classic SAP Solutions"},null,"SAP Colombia","SAP-8007900-3","Cloud Classic SAP Solutions",{"$f":"D3928","v":"SAP Colombia"},"USD","N/A","SAP Ariba Invoice Management",1,"Serv","Suscripcion","N/A","N/A","N/A","SAP-8007900-3","Forma de pago estandar a 30 dias",1,1,0,"USD"]
[{"$f":"D3929&F3929&E3929","v":"SAP ColombiaCloud Classic SAP SolutionsSAP-8007900-4"},{"$f":"E3929&F3929","v":"SAP-8007900-4Cloud Classic SAP Solutions"},null,"SAP Colombia","SAP-8007900-4","Cloud Classic SAP Solutions",{"$f":"D3929","v":"SAP Colombia"},"USD","N/A","SAP Ariba Invoice Management",1,"Serv","Suscripcion","N/A","N/A","N/A","SAP-8007900-4","Forma de pago estandar a 30 dias",0.8,1,0,"USD"]
[{"$f":"D3930&F3930&E3930","v":"SAP ColombiaCloud Classic SAP SolutionsSAP-8007902-1"},{"$f":"E3930&F3930","v":"SAP-8007902-1Cloud Classic SAP Solutions"},null,"SAP Colombia","SAP-8007902-1","Cloud Classic SAP Solutions",{"$f":"D3930","v":"SAP Colombia"},"USD","N/A","SAP Ariba Spend Analysis",1,"Serv","Suscripcion","N/A","N/A","N/A","SAP-8007902-1","Forma de pago estandar a 30 dias",0.04,1,0,"USD"]
[{"$f":"D3931&F3931&E3931","v":"SAP ColombiaCloud Classic SAP SolutionsSAP-8007902-2"},{"$f":"E3931&F3931","v":"SAP-8007902-2Cloud Classic SAP Solutions"},null,"SAP Colombia","SAP-8007902-2","Cloud Classic SAP Solutions",{"$f":"D3931","v":"SAP Colombia"},"USD","N/A","SAP Ariba Spend Analysis",1,"Serv","Suscripcion","N/A","N/A","N/A","SAP-8007902-2","Forma de pago estandar a 30 dias",0.02,1,0,"USD"]
[{"$f":"D3932&F3932&E3932","v":"SAP ColombiaCloud Classic SAP SolutionsSAP-8007902-3"},{"$f":"E3932&F3932","v":"SAP-8007902-3Cloud Classic SAP Solutions"},null,"SAP Colombia","SAP-8007902-3","Cloud Classic SAP Solutions",{"$f":"D3932","v":"SAP Colombia"},"USD","N/A","SAP Ariba Spend Analysis",1,"Serv","Suscripcion","N/A","N/A","N/A","SAP-8007902-3","Forma de pago estandar a 30 dias",0.01,1,0,"USD"]
[{"$f":"D3933&F3933&E3933","v":"SAP ColombiaCloud Classic SAP SolutionsSAP-8007902-4"},{"$f":"E3933&F3933","v":"SAP-8007902-4Cloud Classic SAP Solutions"},null,"SAP Colombia","SAP-8007902-4","Cloud Classic SAP Solutions",{"$f":"D3933","v":"SAP Colombia"},"USD","N/A","SAP Ariba Spend Analysis",1,"Serv","Suscripcion","N/A","N/A","N/A","SAP-8007902-4","Forma de pago estandar a 30 dias",0.01,1,0,"USD"]
[{"$f":"D3934&F3934&E3934","v":"SAP ColombiaCloud Classic SAP SolutionsSAP-8007902-5"},{"$f":"E3934&F3934","v":"SAP-8007902-5Cloud Classic SAP Solutions"},null,"SAP Colombia","SAP-8007902-5","Cloud Classic SAP Solutions",{"$f":"D3934","v":"SAP Colombia"},"USD","N/A","SAP Ariba Spend Analysis",1,"Serv","Suscripcion","N/A","N/A","N/A","SAP-8007902-5","Forma de pago estandar a 30 dias",0.01,1,0,"USD"]
[{"$f":"D3935&F3935&E3935","v":"SAP ColombiaCloud Classic SAP SolutionsSAP-8007902-6"},{"$f":"E3935&F3935","v":"SAP-8007902-6Cloud Classic SAP Solutions"},null,"SAP Colombia","SAP-8007902-6","Cloud Classic SAP Solutions",{"$f":"D3935","v":"SAP Colombia"},"USD","N/A","SAP Ariba Spend Analysis",1,"Serv","Suscripcion","N/A","N/A","N/A","SAP-8007902-6","Forma de pago estandar a 30 dias",0.01,1,0,"USD"]
[{"$f":"D3936&F3936&E3936","v":"SAP ColombiaCloud Classic SAP SolutionsSAP-8007903"},{"$f":"E3936&F3936","v":"SAP-8007903Cloud Classic SAP Solutions"},null,"SAP Colombia","SAP-8007903","Cloud Classic SAP Solutions",{"$f":"D3936","v":"SAP Colombia"},"USD","N/A","SAP Ariba Procurement, additional site add-on",1,"Serv","Suscripcion","N/A","N/A","N/A","SAP-8007903","Forma de pago estandar a 30 dias",6667,1,0,"USD"]
[{"$f":"D3937&F3937&E3937","v":"SAP ColombiaCloud Classic SAP SolutionsSAP-8007929-1"},{"$f":"E3937&F3937","v":"SAP-8007929-1Cloud Classic SAP Solutions"},null,"SAP Colombia","SAP-8007929-1","Cloud Classic SAP Solutions",{"$f":"D3937","v":"SAP Colombia"},"USD","N/A","SAP Enterprise Contract Assembly",1000,"Serv","Suscripcion","N/A","N/A","N/A","SAP-8007929-1","Forma de pago estandar a 30 dias",672,1,0,"USD"]
[{"$f":"D3938&F3938&E3938","v":"SAP ColombiaCloud Classic SAP SolutionsSAP-8007929-2"},{"$f":"E3938&F3938","v":"SAP-8007929-2Cloud Classic SAP Solutions"},null,"SAP Colombia","SAP-8007929-2","Cloud Classic SAP Solutions",{"$f":"D3938","v":"SAP Colombia"},"USD","N/A","SAP Enterprise Contract Assembly",1000,"Serv","Suscripcion","N/A","N/A","N/A","SAP-8007929-2","Forma de pago estandar a 30 dias",588,1,0,"USD"]
[{"$f":"D3939&F3939&E3939","v":"SAP ColombiaCloud Classic SAP SolutionsSAP-8007929-3"},{"$f":"E3939&F3939","v":"SAP-8007929-3Cloud Classic SAP Solutions"},null,"SAP Colombia","SAP-8007929-3","Cloud Classic SAP Solutions",{"$f":"D3939","v":"SAP Colombia"},"USD","N/A","SAP Enterprise Contract Assembly",1000,"Serv","Suscripcion","N/A","N/A","N/A","SAP-8007929-3","Forma de pago estandar a 30 dias",504,1,0,"USD"]
[{"$f":"D3940&F3940&E3940","v":"SAP ColombiaCloud Classic SAP SolutionsSAP-8007929-4"},{"$f":"E3940&F3940","v":"SAP-8007929-4Cloud Classic SAP Solutions"},null,"SAP Colombia","SAP-8007929-4","Cloud Classic SAP Solutions",{"$f":"D3940","v":"SAP Colombia"},"USD","N/A","SAP Enterprise Contract Assembly",1000,"Serv","Suscripcion","N/A","N/A","N/A","SAP-8007929-4","Forma de pago estandar a 30 dias",448,1,0,"USD"]
[{"$f":"D3941&F3941&E3941","v":"SAP ColombiaCloud Classic SAP SolutionsSAP-8007929-5"},{"$f":"E3941&F3941","v":"SAP-8007929-5Cloud Classic SAP Solutions"},null,"SAP Colombia","SAP-8007929-5","Cloud Classic SAP Solutions",{"$f":"D3941","v":"SAP Colombia"},"USD","N/A","SAP Enterprise Contract Assembly",1000,"Serv","Suscripcion","N/A","N/A","N/A","SAP-8007929-5","Forma de pago estandar a 30 dias",392,1,0,"USD"]
[{"$f":"D3942&F3942&E3942","v":"SAP ColombiaCloud Classic SAP SolutionsSAP-8008113"},{"$f":"E3942&F3942","v":"SAP-8008113Cloud Classic SAP Solutions"},null,"SAP Colombia","SAP-8008113","Cloud Classic SAP Solutions",{"$f":"D3942","v":"SAP Colombia"},"USD","N/A","SAP Digital Supplier Network",200000,"Serv","Suscripcion","N/A","N/A","N/A","SAP-8008113","Forma de pago estandar a 30 dias",75000,1,0,"USD"]
[{"$f":"D3943&F3943&E3943","v":"SAP ColombiaCloud Classic SAP SolutionsSAP-8008513-1"},{"$f":"E3943&F3943","v":"SAP-8008513-1Cloud Classic SAP Solutions"},null,"SAP Colombia","SAP-8008513-1","Cloud Classic SAP Solutions",{"$f":"D3943","v":"SAP Colombia"},"USD","N/A","SAP Fieldglass Contingent Workforce Management, edition for SAP ERP",1,"Serv","Suscripcion","N/A","N/A","N/A","SAP-8008513-1","Forma de pago estandar a 30 dias",0.85,1,0,"USD"]
[{"$f":"D3944&F3944&E3944","v":"SAP ColombiaCloud Classic SAP SolutionsSAP-8008513-2"},{"$f":"E3944&F3944","v":"SAP-8008513-2Cloud Classic SAP Solutions"},null,"SAP Colombia","SAP-8008513-2","Cloud Classic SAP Solutions",{"$f":"D3944","v":"SAP Colombia"},"USD","N/A","SAP Fieldglass Contingent Workforce Management, edition for SAP ERP",1,"Serv","Suscripcion","N/A","N/A","N/A","SAP-8008513-2","Forma de pago estandar a 30 dias",0.83,1,0,"USD"]
[{"$f":"D3945&F3945&E3945","v":"SAP ColombiaCloud Classic SAP SolutionsSAP-8008513-3"},{"$f":"E3945&F3945","v":"SAP-8008513-3Cloud Classic SAP Solutions"},null,"SAP Colombia","SAP-8008513-3","Cloud Classic SAP Solutions",{"$f":"D3945","v":"SAP Colombia"},"USD","N/A","SAP Fieldglass Contingent Workforce Management, edition for SAP ERP",1,"Serv","Suscripcion","N/A","N/A","N/A","SAP-8008513-3","Forma de pago estandar a 30 dias",0.8,1,0,"USD"]
[{"$f":"D3946&F3946&E3946","v":"SAP ColombiaCloud Classic SAP SolutionsSAP-8008513-4"},{"$f":"E3946&F3946","v":"SAP-8008513-4Cloud Classic SAP Solutions"},null,"SAP Colombia","SAP-8008513-4","Cloud Classic SAP Solutions",{"$f":"D3946","v":"SAP Colombia"},"USD","N/A","SAP Fieldglass Contingent Workforce Management, edition for SAP ERP",1,"Serv","Suscripcion","N/A","N/A","N/A","SAP-8008513-4","Forma de pago estandar a 30 dias",0.78,1,0,"USD"]
[{"$f":"D3947&F3947&E3947","v":"SAP ColombiaCloud Classic SAP SolutionsSAP-8008513-5"},{"$f":"E3947&F3947","v":"SAP-8008513-5Cloud Classic SAP Solutions"},null,"SAP Colombia","SAP-8008513-5","Cloud Classic SAP Solutions",{"$f":"D3947","v":"SAP Colombia"},"USD","N/A","SAP Fieldglass Contingent Workforce Management, edition for SAP ERP",1,"Serv","Suscripcion","N/A","N/A","N/A","SAP-8008513-5","Forma de pago estandar a 30 dias",0.75,1,0,"USD"]
[{"$f":"D3948&F3948&E3948","v":"SAP ColombiaCloud Classic SAP SolutionsSAP-8008513-6"},{"$f":"E3948&F3948","v":"SAP-8008513-6Cloud Classic SAP Solutions"},null,"SAP Colombia","SAP-8008513-6","Cloud Classic SAP Solutions",{"$f":"D3948","v":"SAP Colombia"},"USD","N/A","SAP Fieldglass Contingent Workforce Management, edition for SAP ERP",1,"Serv","Suscripcion","N/A","N/A","N/A","SAP-8008513-6","Forma de pago estandar a 30 dias",0.73,1,0,"USD"]
[{"$f":"D3949&F3949&E3949","v":"SAP ColombiaCloud Classic SAP SolutionsSAP-8008514-1"},{"$f":"E3949&F3949","v":"SAP-8008514-1Cloud Classic SAP Solutions"},null,"SAP Colombia","SAP-8008514-1","Cloud Classic SAP Solutions",{"$f":"D3949","v":"SAP Colombia"},"USD","N/A","SAP Fieldglass Services Procurement, edition for SAP ERP",1,"Serv","Suscripcion","N/A","N/A","N/A","SAP-8008514-1","Forma de pago estandar a 30 dias",0.5,1,0,"USD"]
[{"$f":"D3950&F3950&E3950","v":"SAP ColombiaCloud Classic SAP SolutionsSAP-8008514-2"},{"$f":"E3950&F3950","v":"SAP-8008514-2Cloud Classic SAP Solutions"},null,"SAP Colombia","SAP-8008514-2","Cloud Classic SAP Solutions",{"$f":"D3950","v":"SAP Colombia"},"USD","N/A","SAP Fieldglass Services Procurement, edition for SAP ERP",1,"Serv","Suscripcion","N/A","N/A","N/A","SAP-8008514-2","Forma de pago estandar a 30 dias",0.49,1,0,"USD"]
[{"$f":"D3951&F3951&E3951","v":"SAP ColombiaCloud Classic SAP SolutionsSAP-8008514-3"},{"$f":"E3951&F3951","v":"SAP-8008514-3Cloud Classic SAP Solutions"},null,"SAP Colombia","SAP-8008514-3","Cloud Classic SAP Solutions",{"$f":"D3951","v":"SAP Colombia"},"USD","N/A","SAP Fieldglass Services Procurement, edition for SAP ERP",1,"Serv","Suscripcion","N/A","N/A","N/A","SAP-8008514-3","Forma de pago estandar a 30 dias",0.48,1,0,"USD"]
[{"$f":"D3952&F3952&E3952","v":"SAP ColombiaCloud Classic SAP SolutionsSAP-8008514-4"},{"$f":"E3952&F3952","v":"SAP-8008514-4Cloud Classic SAP Solutions"},null,"SAP Colombia","SAP-8008514-4","Cloud Classic SAP Solutions",{"$f":"D3952","v":"SAP Colombia"},"USD","N/A","SAP Fieldglass Services Procurement, edition for SAP ERP",1,"Serv","Suscripcion","N/A","N/A","N/A","SAP-8008514-4","Forma de pago estandar a 30 dias",0.47,1,0,"USD"]
[{"$f":"D3953&F3953&E3953","v":"SAP ColombiaCloud Classic SAP SolutionsSAP-8008514-5"},{"$f":"E3953&F3953","v":"SAP-8008514-5Cloud Classic SAP Solutions"},null,"SAP Colombia","SAP-8008514-5","Cloud Classic SAP Solutions",{"$f":"D3953","v":"SAP Colombia"},"USD","N/A","SAP Fieldglass Services Procurement, edition for SAP ERP",1,"Serv","Suscripcion","N/A","N/A","N/A","SAP-8008514-5","Forma de pago estandar a 30 dias",0.46,1,0,"USD"]
[{"$f":"D3954&F3954&E3954","v":"SAP ColombiaCloud Classic SAP SolutionsSAP-8008514-6"},{"$f":"E3954&F3954","v":"SAP-8008514-6Cloud Classic SAP Solutions"},null,"SAP Colombia","SAP-8008514-6","Cloud Classic SAP Solutions",{"$f":"D3954","v":"SAP Colombia"},"USD","N/A","SAP Fieldglass Services Procurement, edition for SAP ERP",1,"Serv","Suscripcion","N/A","N/A","N/A","SAP-8008514-6","Forma de pago estandar a 30 dias",0.45,1,0,"USD"]
[{"$f":"D3955&F3955&E3955","v":"SAP ColombiaCloud Classic SAP SolutionsSAP-8008867"},{"$f":"E3955&F3955","v":"SAP-8008867Cloud Classic SAP Solutions"},null,"SAP Colombia","SAP-8008867","Cloud Classic SAP Solutions",{"$f":"D3955","v":"SAP Colombia"},"USD","N/A","SAP Fieldglass, additional site add-on",1,"Serv","Suscripcion","N/A","N/A","N/A","SAP-8008867","Forma de pago estandar a 30 dias",6667,1,0,"USD"]
[{"$f":"D3956&F3956&E3956","v":"SAP ColombiaCloud Classic SAP SolutionsSAP-8009006-1"},{"$f":"E3956&F3956","v":"SAP-8009006-1Cloud Classic SAP Solutions"},null,"SAP Colombia","SAP-8009006-1","Cloud Classic SAP Solutions",{"$f":"D3956","v":"SAP Colombia"},"USD","N/A","SAP Fieldglass Assignment Management",1,"Serv","Suscripcion","N/A","N/A","N/A","SAP-8009006-1","Forma de pago estandar a 30 dias",0.67,1,0,"USD"]
[{"$f":"D3957&F3957&E3957","v":"SAP ColombiaCloud Classic SAP SolutionsSAP-8009006-2"},{"$f":"E3957&F3957","v":"SAP-8009006-2Cloud Classic SAP Solutions"},null,"SAP Colombia","SAP-8009006-2","Cloud Classic SAP Solutions",{"$f":"D3957","v":"SAP Colombia"},"USD","N/A","SAP Fieldglass Assignment Management",1,"Serv","Suscripcion","N/A","N/A","N/A","SAP-8009006-2","Forma de pago estandar a 30 dias",0.6,1,0,"USD"]
[{"$f":"D3958&F3958&E3958","v":"SAP ColombiaCloud Classic SAP SolutionsSAP-8009006-3"},{"$f":"E3958&F3958","v":"SAP-8009006-3Cloud Classic SAP Solutions"},null,"SAP Colombia","SAP-8009006-3","Cloud Classic SAP Solutions",{"$f":"D3958","v":"SAP Colombia"},"USD","N/A","SAP Fieldglass Assignment Management",1,"Serv","Suscripcion","N/A","N/A","N/A","SAP-8009006-3","Forma de pago estandar a 30 dias",0.49,1,0,"USD"]
[{"$f":"D3959&F3959&E3959","v":"SAP ColombiaCloud Classic SAP SolutionsSAP-8009006-4"},{"$f":"E3959&F3959","v":"SAP-8009006-4Cloud Classic SAP Solutions"},null,"SAP Colombia","SAP-8009006-4","Cloud Classic SAP Solutions",{"$f":"D3959","v":"SAP Colombia"},"USD","N/A","SAP Fieldglass Assignment Management",1,"Serv","Suscripcion","N/A","N/A","N/A","SAP-8009006-4","Forma de pago estandar a 30 dias",0.47,1,0,"USD"]
[{"$f":"D3960&F3960&E3960","v":"SAP ColombiaCloud Classic SAP SolutionsSAP-8009006-5"},{"$f":"E3960&F3960","v":"SAP-8009006-5Cloud Classic SAP Solutions"},null,"SAP Colombia","SAP-8009006-5","Cloud Classic SAP Solutions",{"$f":"D3960","v":"SAP Colombia"},"USD","N/A","SAP Fieldglass Assignment Management",1,"Serv","Suscripcion","N/A","N/A","N/A","SAP-8009006-5","Forma de pago estandar a 30 dias",0.44,1,0,"USD"]
[{"$f":"D3961&F3961&E3961","v":"SAP ColombiaCloud Classic SAP SolutionsSAP-8009006-6"},{"$f":"E3961&F3961","v":"SAP-8009006-6Cloud Classic SAP Solutions"},null,"SAP Colombia","SAP-8009006-6","Cloud Classic SAP Solutions",{"$f":"D3961","v":"SAP Colombia"},"USD","N/A","SAP Fieldglass Assignment Management",1,"Serv","Suscripcion","N/A","N/A","N/A","SAP-8009006-6","Forma de pago estandar a 30 dias",0.4,1,0,"USD"]
[{"$f":"D3962&F3962&E3962","v":"SAP ColombiaCloud Classic SAP SolutionsSAP-8009006-7"},{"$f":"E3962&F3962","v":"SAP-8009006-7Cloud Classic SAP Solutions"},null,"SAP Colombia","SAP-8009006-7","Cloud Classic SAP Solutions",{"$f":"D3962","v":"SAP Colombia"},"USD","N/A","SAP Fieldglass Assignment Management",1,"Serv","Suscripcion","N/A","N/A","N/A","SAP-8009006-7","Forma de pago estandar a 30 dias",0.3,1,0,"USD"]
[{"$f":"D3963&F3963&E3963","v":"SAP ColombiaCloud Classic SAP SolutionsSAP-8009006-8"},{"$f":"E3963&F3963","v":"SAP-8009006-8Cloud Classic SAP Solutions"},null,"SAP Colombia","SAP-8009006-8","Cloud Classic SAP Solutions",{"$f":"D3963","v":"SAP Colombia"},"USD","N/A","SAP Fieldglass Assignment Management",1,"Serv","Suscripcion","N/A","N/A","N/A","SAP-8009006-8","Forma de pago estandar a 30 dias",0.22,1,0,"USD"]
[{"$f":"D3964&F3964&E3964","v":"SAP ColombiaCloud Classic SAP SolutionsSAP-8009012-1"},{"$f":"E3964&F3964","v":"SAP-8009012-1Cloud Classic SAP Solutions"},null,"SAP Colombia","SAP-8009012-1","Cloud Classic SAP Solutions",{"$f":"D3964","v":"SAP Colombia"},"USD","N/A","SAP Fieldglass Assignment Management, edition for SAP ERP",1,"Serv","Suscripcion","N/A","N/A","N/A","SAP-8009012-1","Forma de pago estandar a 30 dias",0.67,1,0,"USD"]
[{"$f":"D3965&F3965&E3965","v":"SAP ColombiaCloud Classic SAP SolutionsSAP-8009012-2"},{"$f":"E3965&F3965","v":"SAP-8009012-2Cloud Classic SAP Solutions"},null,"SAP Colombia","SAP-8009012-2","Cloud Classic SAP Solutions",{"$f":"D3965","v":"SAP Colombia"},"USD","N/A","SAP Fieldglass Assignment Management, edition for SAP ERP",1,"Serv","Suscripcion","N/A","N/A","N/A","SAP-8009012-2","Forma de pago estandar a 30 dias",0.6,1,0,"USD"]
[{"$f":"D3966&F3966&E3966","v":"SAP ColombiaCloud Classic SAP SolutionsSAP-8009012-3"},{"$f":"E3966&F3966","v":"SAP-8009012-3Cloud Classic SAP Solutions"},null,"SAP Colombia","SAP-8009012-3","Cloud Classic SAP Solutions",{"$f":"D3966","v":"SAP Colombia"},"USD","N/A","SAP Fieldglass Assignment Management, edition for SAP ERP",1,"Serv","Suscripcion","N/A","N/A","N/A","SAP-8009012-3","Forma de pago estandar a 30 dias",0.49,1,0,"USD"]
[{"$f":"D3967&F3967&E3967","v":"SAP ColombiaCloud Classic SAP SolutionsSAP-8009012-4"},{"$f":"E3967&F3967","v":"SAP-8009012-4Cloud Classic SAP Solutions"},null,"SAP Colombia","SAP-8009012-4","Cloud Classic SAP Solutions",{"$f":"D3967","v":"SAP Colombia"},"USD","N/A","SAP Fieldglass Assignment Management, edition for SAP ERP",1,"Serv","Suscripcion","N/A","N/A","N/A","SAP-8009012-4","Forma de pago estandar a 30 dias",0.47,1,0,"USD"]
[{"$f":"D3968&F3968&E3968","v":"SAP ColombiaCloud Classic SAP SolutionsSAP-8009012-5"},{"$f":"E3968&F3968","v":"SAP-8009012-5Cloud Classic SAP Solutions"},null,"SAP Colombia","SAP-8009012-5","Cloud Classic SAP Solutions",{"$f":"D3968","v":"SAP Colombia"},"USD","N/A","SAP Fieldglass Assignment Management, edition for SAP ERP",1,"Serv","Suscripcion","N/A","N/A","N/A","SAP-8009012-5","Forma de pago estandar a 30 dias",0.44,1,0,"USD"]
[{"$f":"D3969&F3969&E3969","v":"SAP ColombiaCloud Classic SAP SolutionsSAP-8009012-6"},{"$f":"E3969&F3969","v":"SAP-8009012-6Cloud Classic SAP Solutions"},null,"SAP Colombia","SAP-8009012-6","Cloud Classic SAP Solutions",{"$f":"D3969","v":"SAP Colombia"},"USD","N/A","SAP Fieldglass Assignment Management, edition for SAP ERP",1,"Serv","Suscripcion","N/A","N/A","N/A","SAP-8009012-6","Forma de pago estandar a 30 dias",0.4,1,0,"USD"]
[{"$f":"D3970&F3970&E3970","v":"SAP ColombiaCloud Classic SAP SolutionsSAP-8009012-7"},{"$f":"E3970&F3970","v":"SAP-8009012-7Cloud Classic SAP Solutions"},null,"SAP Colombia","SAP-8009012-7","Cloud Classic SAP Solutions",{"$f":"D3970","v":"SAP Colombia"},"USD","N/A","SAP Fieldglass Assignment Management, edition for SAP ERP",1,"Serv","Suscripcion","N/A","N/A","N/A","SAP-8009012-7","Forma de pago estandar a 30 dias",0.3,1,0,"USD"]
[{"$f":"D3971&F3971&E3971","v":"SAP ColombiaCloud Classic SAP SolutionsSAP-8009012-8"},{"$f":"E3971&F3971","v":"SAP-8009012-8Cloud Classic SAP Solutions"},null,"SAP Colombia","SAP-8009012-8","Cloud Classic SAP Solutions",{"$f":"D3971","v":"SAP Colombia"},"USD","N/A","SAP Fieldglass Assignment Management, edition for SAP ERP",1,"Serv","Suscripcion","N/A","N/A","N/A","SAP-8009012-8","Forma de pago estandar a 30 dias",0.22,1,0,"USD"]
[{"$f":"D3972&F3972&E3972","v":"SAP ColombiaCloud Classic SAP SolutionsSAP-8010847-1"},{"$f":"E3972&F3972","v":"SAP-8010847-1Cloud Classic SAP Solutions"},null,"SAP Colombia","SAP-8010847-1","Cloud Classic SAP Solutions",{"$f":"D3972","v":"SAP Colombia"},"USD","N/A","experience management bundle for strategic sourcing",1,"Serv","Suscripcion","N/A","N/A","N/A","SAP-8010847-1","Forma de pago estandar a 30 dias",2528,1,0,"USD"]
[{"$f":"D3973&F3973&E3973","v":"SAP ColombiaCloud Classic SAP SolutionsSAP-8010847-2"},{"$f":"E3973&F3973","v":"SAP-8010847-2Cloud Classic SAP Solutions"},null,"SAP Colombia","SAP-8010847-2","Cloud Classic SAP Solutions",{"$f":"D3973","v":"SAP Colombia"},"USD","N/A","experience management bundle for strategic sourcing",1,"Serv","Suscripcion","N/A","N/A","N/A","SAP-8010847-2","Forma de pago estandar a 30 dias",1971,1,0,"USD"]
[{"$f":"D3974&F3974&E3974","v":"SAP ColombiaCloud Classic SAP SolutionsSAP-8010847-3"},{"$f":"E3974&F3974","v":"SAP-8010847-3Cloud Classic SAP Solutions"},null,"SAP Colombia","SAP-8010847-3","Cloud Classic SAP Solutions",{"$f":"D3974","v":"SAP Colombia"},"USD","N/A","experience management bundle for strategic sourcing",1,"Serv","Suscripcion","N/A","N/A","N/A","SAP-8010847-3","Forma de pago estandar a 30 dias",1354,1,0,"USD"]
[{"$f":"D3975&F3975&E3975","v":"SAP ColombiaCloud Classic SAP SolutionsSAP-8010847-4"},{"$f":"E3975&F3975","v":"SAP-8010847-4Cloud Classic SAP Solutions"},null,"SAP Colombia","SAP-8010847-4","Cloud Classic SAP Solutions",{"$f":"D3975","v":"SAP Colombia"},"USD","N/A","experience management bundle for strategic sourcing",1,"Serv","Suscripcion","N/A","N/A","N/A","SAP-8010847-4","Forma de pago estandar a 30 dias",1084,1,0,"USD"]
[{"$f":"D3976&F3976&E3976","v":"SAP ColombiaCloud Classic SAP SolutionsSAP-8010847-5"},{"$f":"E3976&F3976","v":"SAP-8010847-5Cloud Classic SAP Solutions"},null,"SAP Colombia","SAP-8010847-5","Cloud Classic SAP Solutions",{"$f":"D3976","v":"SAP Colombia"},"USD","N/A","experience management bundle for strategic sourcing",1,"Serv","Suscripcion","N/A","N/A","N/A","SAP-8010847-5","Forma de pago estandar a 30 dias",973,1,0,"USD"]
[{"$f":"D3977&F3977&E3977","v":"SAP ColombiaCloud Classic SAP SolutionsSAP-8010848"},{"$f":"E3977&F3977","v":"SAP-8010848Cloud Classic SAP Solutions"},null,"SAP Colombia","SAP-8010848","Cloud Classic SAP Solutions",{"$f":"D3977","v":"SAP Colombia"},"USD","N/A","experience management bundle for supplier commerce automation",1,"Serv","Suscripcion","N/A","N/A","N/A","SAP-8010848","Forma de pago estandar a 30 dias",780000,1,0,"USD"]
[{"$f":"D3978&F3978&E3978","v":"SAP ColombiaCloud Classic SAP SolutionsSAP-8010849-1"},{"$f":"E3978&F3978","v":"SAP-8010849-1Cloud Classic SAP Solutions"},null,"SAP Colombia","SAP-8010849-1","Cloud Classic SAP Solutions",{"$f":"D3978","v":"SAP Colombia"},"USD","N/A","experience management bundle for supply chain collaboration",10000000,"Serv","Suscripcion","N/A","N/A","N/A","SAP-8010849-1","Forma de pago estandar a 30 dias",16260,1,0,"USD"]
[{"$f":"D3979&F3979&E3979","v":"SAP ColombiaCloud Classic SAP SolutionsSAP-8010849-2"},{"$f":"E3979&F3979","v":"SAP-8010849-2Cloud Classic SAP Solutions"},null,"SAP Colombia","SAP-8010849-2","Cloud Classic SAP Solutions",{"$f":"D3979","v":"SAP Colombia"},"USD","N/A","experience management bundle for supply chain collaboration",10000000,"Serv","Suscripcion","N/A","N/A","N/A","SAP-8010849-2","Forma de pago estandar a 30 dias",13260,1,0,"USD"]
[{"$f":"D3980&F3980&E3980","v":"SAP ColombiaCloud Classic SAP SolutionsSAP-8010849-3"},{"$f":"E3980&F3980","v":"SAP-8010849-3Cloud Classic SAP Solutions"},null,"SAP Colombia","SAP-8010849-3","Cloud Classic SAP Solutions",{"$f":"D3980","v":"SAP Colombia"},"USD","N/A","experience management bundle for supply chain collaboration",10000000,"Serv","Suscripcion","N/A","N/A","N/A","SAP-8010849-3","Forma de pago estandar a 30 dias",7892,1,0,"USD"]
[{"$f":"D3981&F3981&E3981","v":"SAP ColombiaCloud Classic SAP SolutionsSAP-8010849-4"},{"$f":"E3981&F3981","v":"SAP-8010849-4Cloud Classic SAP Solutions"},null,"SAP Colombia","SAP-8010849-4","Cloud Classic SAP Solutions",{"$f":"D3981","v":"SAP Colombia"},"USD","N/A","experience management bundle for supply chain collaboration",10000000,"Serv","Suscripcion","N/A","N/A","N/A","SAP-8010849-4","Forma de pago estandar a 30 dias",6949,1,0,"USD"]
[{"$f":"D3982&F3982&E3982","v":"SAP ColombiaCloud Classic SAP SolutionsSAP-8010849-5"},{"$f":"E3982&F3982","v":"SAP-8010849-5Cloud Classic SAP Solutions"},null,"SAP Colombia","SAP-8010849-5","Cloud Classic SAP Solutions",{"$f":"D3982","v":"SAP Colombia"},"USD","N/A","experience management bundle for supply chain collaboration",10000000,"Serv","Suscripcion","N/A","N/A","N/A","SAP-8010849-5","Forma de pago estandar a 30 dias",6098,1,0,"USD"]
[{"$f":"D3983&F3983&E3983","v":"SAP ColombiaCloud Classic SAP SolutionsSAP-8010849-6"},{"$f":"E3983&F3983","v":"SAP-8010849-6Cloud Classic SAP Solutions"},null,"SAP Colombia","SAP-8010849-6","Cloud Classic SAP Solutions",{"$f":"D3983","v":"SAP Colombia"},"USD","N/A","experience management bundle for supply chain collaboration",10000000,"Serv","Suscripcion","N/A","N/A","N/A","SAP-8010849-6","Forma de pago estandar a 30 dias",5798,1,0,"USD"]
[{"$f":"D3984&F3984&E3984","v":"SAP ColombiaCloud Classic SAP SolutionsSAP-8011034"},{"$f":"E3984&F3984","v":"SAP-8011034Cloud Classic SAP Solutions"},null,"SAP Colombia","SAP-8011034","Cloud Classic SAP Solutions",{"$f":"D3984","v":"SAP Colombia"},"USD","N/A","SAP Fieldglass Cont. Wrkf. Mgmt. (PAYG)",1,"Serv","Suscripcion","N/A","N/A","N/A","SAP-8011034","Forma de pago estandar a 30 dias",1.05,1,0,"USD"]
[{"$f":"D3985&F3985&E3985","v":"SAP ColombiaCloud Classic SAP SolutionsSAP-8011035"},{"$f":"E3985&F3985","v":"SAP-8011035Cloud Classic SAP Solutions"},null,"SAP Colombia","SAP-8011035","Cloud Classic SAP Solutions",{"$f":"D3985","v":"SAP Colombia"},"USD","N/A","SAP Fieldglass Services Procurement (PAYG)",1,"Serv","Suscripcion","N/A","N/A","N/A","SAP-8011035","Forma de pago estandar a 30 dias",0.6,1,0,"USD"]
[{"$f":"D3986&F3986&E3986","v":"SAP ColombiaCloud Classic SAP SolutionsSAP-8011078-1"},{"$f":"E3986&F3986","v":"SAP-8011078-1Cloud Classic SAP Solutions"},null,"SAP Colombia","SAP-8011078-1","Cloud Classic SAP Solutions",{"$f":"D3986","v":"SAP Colombia"},"USD","N/A","SAP Source-to-Contract Suite",1,"Serv","Suscripcion","N/A","N/A","N/A","SAP-8011078-1","Forma de pago estandar a 30 dias",1647,1,0,"USD"]
[{"$f":"D3987&F3987&E3987","v":"SAP ColombiaCloud Classic SAP SolutionsSAP-8011078-2"},{"$f":"E3987&F3987","v":"SAP-8011078-2Cloud Classic SAP Solutions"},null,"SAP Colombia","SAP-8011078-2","Cloud Classic SAP Solutions",{"$f":"D3987","v":"SAP Colombia"},"USD","N/A","SAP Source-to-Contract Suite",1,"Serv","Suscripcion","N/A","N/A","N/A","SAP-8011078-2","Forma de pago estandar a 30 dias",1134,1,0,"USD"]
[{"$f":"D3988&F3988&E3988","v":"SAP ColombiaCloud Classic SAP SolutionsSAP-8011078-3"},{"$f":"E3988&F3988","v":"SAP-8011078-3Cloud Classic SAP Solutions"},null,"SAP Colombia","SAP-8011078-3","Cloud Classic SAP Solutions",{"$f":"D3988","v":"SAP Colombia"},"USD","N/A","SAP Source-to-Contract Suite",1,"Serv","Suscripcion","N/A","N/A","N/A","SAP-8011078-3","Forma de pago estandar a 30 dias",729,1,0,"USD"]
[{"$f":"D3989&F3989&E3989","v":"SAP ColombiaCloud Classic SAP SolutionsSAP-8011078-4"},{"$f":"E3989&F3989","v":"SAP-8011078-4Cloud Classic SAP Solutions"},null,"SAP Colombia","SAP-8011078-4","Cloud Classic SAP Solutions",{"$f":"D3989","v":"SAP Colombia"},"USD","N/A","SAP Source-to-Contract Suite",1,"Serv","Suscripcion","N/A","N/A","N/A","SAP-8011078-4","Forma de pago estandar a 30 dias",630,1,0,"USD"]
[{"$f":"D3990&F3990&E3990","v":"SAP ColombiaCloud Classic SAP SolutionsSAP-8011078-5"},{"$f":"E3990&F3990","v":"SAP-8011078-5Cloud Classic SAP Solutions"},null,"SAP Colombia","SAP-8011078-5","Cloud Classic SAP Solutions",{"$f":"D3990","v":"SAP Colombia"},"USD","N/A","SAP Source-to-Contract Suite",1,"Serv","Suscripcion","N/A","N/A","N/A","SAP-8011078-5","Forma de pago estandar a 30 dias",567,1,0,"USD"]
[{"$f":"D3991&F3991&E3991","v":"SAP ColombiaCloud Classic SAP SolutionsSAP-8011337-1"},{"$f":"E3991&F3991","v":"SAP-8011337-1Cloud Classic SAP Solutions"},null,"SAP Colombia","SAP-8011337-1","Cloud Classic SAP Solutions",{"$f":"D3991","v":"SAP Colombia"},"USD","N/A","SAP Guided Buying for SAP S/4HANA",1,"Serv","Suscripcion","N/A","N/A","N/A","SAP-8011337-1","Forma de pago estandar a 30 dias",0.62,1,0,"USD"]
[{"$f":"D3992&F3992&E3992","v":"SAP ColombiaCloud Classic SAP SolutionsSAP-8011337-2"},{"$f":"E3992&F3992","v":"SAP-8011337-2Cloud Classic SAP Solutions"},null,"SAP Colombia","SAP-8011337-2","Cloud Classic SAP Solutions",{"$f":"D3992","v":"SAP Colombia"},"USD","N/A","SAP Guided Buying for SAP S/4HANA",1,"Serv","Suscripcion","N/A","N/A","N/A","SAP-8011337-2","Forma de pago estandar a 30 dias",0.46,1,0,"USD"]
[{"$f":"D3993&F3993&E3993","v":"SAP ColombiaCloud Classic SAP SolutionsSAP-8011337-3"},{"$f":"E3993&F3993","v":"SAP-8011337-3Cloud Classic SAP Solutions"},null,"SAP Colombia","SAP-8011337-3","Cloud Classic SAP Solutions",{"$f":"D3993","v":"SAP Colombia"},"USD","N/A","SAP Guided Buying for SAP S/4HANA",1,"Serv","Suscripcion","N/A","N/A","N/A","SAP-8011337-3","Forma de pago estandar a 30 dias",0.28000000000000003,1,0,"USD"]
[{"$f":"D3994&F3994&E3994","v":"SAP ColombiaCloud Classic SAP SolutionsSAP-8011337-4"},{"$f":"E3994&F3994","v":"SAP-8011337-4Cloud Classic SAP Solutions"},null,"SAP Colombia","SAP-8011337-4","Cloud Classic SAP Solutions",{"$f":"D3994","v":"SAP Colombia"},"USD","N/A","SAP Guided Buying for SAP S/4HANA",1,"Serv","Suscripcion","N/A","N/A","N/A","SAP-8011337-4","Forma de pago estandar a 30 dias",0.23,1,0,"USD"]
[{"$f":"D3995&F3995&E3995","v":"SAP ColombiaCloud Classic SAP SolutionsSAP-8011337-5"},{"$f":"E3995&F3995","v":"SAP-8011337-5Cloud Classic SAP Solutions"},null,"SAP Colombia","SAP-8011337-5","Cloud Classic SAP Solutions",{"$f":"D3995","v":"SAP Colombia"},"USD","N/A","SAP Guided Buying for SAP S/4HANA",1,"Serv","Suscripcion","N/A","N/A","N/A","SAP-8011337-5","Forma de pago estandar a 30 dias",0.17,1,0,"USD"]
[{"$f":"D3996&F3996&E3996","v":"SAP ColombiaCloud Classic SAP SolutionsSAP-8011337-6"},{"$f":"E3996&F3996","v":"SAP-8011337-6Cloud Classic SAP Solutions"},null,"SAP Colombia","SAP-8011337-6","Cloud Classic SAP Solutions",{"$f":"D3996","v":"SAP Colombia"},"USD","N/A","SAP Guided Buying for SAP S/4HANA",1,"Serv","Suscripcion","N/A","N/A","N/A","SAP-8011337-6","Forma de pago estandar a 30 dias",0.13,1,0,"USD"]
[{"$f":"D3997&F3997&E3997","v":"SAP ColombiaCloud Classic SAP SolutionsSAP-8011337-7"},{"$f":"E3997&F3997","v":"SAP-8011337-7Cloud Classic SAP Solutions"},null,"SAP Colombia","SAP-8011337-7","Cloud Classic SAP Solutions",{"$f":"D3997","v":"SAP Colombia"},"USD","N/A","SAP Guided Buying for SAP S/4HANA",1,"Serv","Suscripcion","N/A","N/A","N/A","SAP-8011337-7","Forma de pago estandar a 30 dias",0.08,1,0,"USD"]
[{"$f":"D3998&F3998&E3998","v":"SAP ColombiaCloud Classic SAP SolutionsSAP-8011337-8"},{"$f":"E3998&F3998","v":"SAP-8011337-8Cloud Classic SAP Solutions"},null,"SAP Colombia","SAP-8011337-8","Cloud Classic SAP Solutions",{"$f":"D3998","v":"SAP Colombia"},"USD","N/A","SAP Guided Buying for SAP S/4HANA",1,"Serv","Suscripcion","N/A","N/A","N/A","SAP-8011337-8","Forma de pago estandar a 30 dias",0.06,1,0,"USD"]
[{"$f":"D3999&F3999&E3999","v":"SAP ColombiaCloud Classic SAP SolutionsSAP-8011337-9"},{"$f":"E3999&F3999","v":"SAP-8011337-9Cloud Classic SAP Solutions"},null,"SAP Colombia","SAP-8011337-9","Cloud Classic SAP Solutions",{"$f":"D3999","v":"SAP Colombia"},"USD","N/A","SAP Guided Buying for SAP S/4HANA",1,"Serv","Suscripcion","N/A","N/A","N/A","SAP-8011337-9","Forma de pago estandar a 30 dias",0.06,1,0,"USD"]
[{"$f":"D4000&F4000&E4000","v":"SAP ColombiaCloud Classic SAP SolutionsSAP-8011337-10"},{"$f":"E4000&F4000","v":"SAP-8011337-10Cloud Classic SAP Solutions"},null,"SAP Colombia","SAP-8011337-10","Cloud Classic SAP Solutions",{"$f":"D4000","v":"SAP Colombia"},"USD","N/A","SAP Guided Buying for SAP S/4HANA",1,"Serv","Suscripcion","N/A","N/A","N/A","SAP-8011337-10","Forma de pago estandar a 30 dias",0.05,1,0,"USD"]
[{"$f":"D4001&F4001&E4001","v":"SAP ColombiaCloud Classic SAP SolutionsSAP-8011338"},{"$f":"E4001&F4001","v":"SAP-8011338Cloud Classic SAP Solutions"},null,"SAP Colombia","SAP-8011338","Cloud Classic SAP Solutions",{"$f":"D4001","v":"SAP Colombia"},"USD","N/A","SAP Digital Supplier Network for Supply Chain",250000000,"Serv","Suscripcion","N/A","N/A","N/A","SAP-8011338","Forma de pago estandar a 30 dias",200000,1,0,"USD"]
[{"$f":"D4002&F4002&E4002","v":"SAP ColombiaCloud Classic SAP SolutionsSAP-8011488"},{"$f":"E4002&F4002","v":"SAP-8011488Cloud Classic SAP Solutions"},null,"SAP Colombia","SAP-8011488","Cloud Classic SAP Solutions",{"$f":"D4002","v":"SAP Colombia"},"USD","N/A","SAP Fieldglass Contingent Workforce Management, partner edition (PAYG)",1,"Serv","Suscripcion","N/A","N/A","N/A","SAP-8011488","Forma de pago estandar a 30 dias",0.85,1,0,"USD"]
[{"$f":"D4003&F4003&E4003","v":"SAP ColombiaCloud Classic SAP SolutionsSAP-8011511"},{"$f":"E4003&F4003","v":"SAP-8011511Cloud Classic SAP Solutions"},null,"SAP Colombia","SAP-8011511","Cloud Classic SAP Solutions",{"$f":"D4003","v":"SAP Colombia"},"USD","N/A","SAP Fieldglass Services Procurement, partner edition (PAYG)",1,"Serv","Suscripcion","N/A","N/A","N/A","SAP-8011511","Forma de pago estandar a 30 dias",0.6,1,0,"USD"]
[{"$f":"D4004&F4004&E4004","v":"SAP ColombiaCloud Classic SAP SolutionsSAP-8011512-1"},{"$f":"E4004&F4004","v":"SAP-8011512-1Cloud Classic SAP Solutions"},null,"SAP Colombia","SAP-8011512-1","Cloud Classic SAP Solutions",{"$f":"D4004","v":"SAP Colombia"},"USD","N/A","SAP Fieldglass Contingent Workforce Management, partner edition",1,"Serv","Suscripcion","N/A","N/A","N/A","SAP-8011512-1","Forma de pago estandar a 30 dias",0.68,1,0,"USD"]
[{"$f":"D4005&F4005&E4005","v":"SAP ColombiaCloud Classic SAP SolutionsSAP-8011512-2"},{"$f":"E4005&F4005","v":"SAP-8011512-2Cloud Classic SAP Solutions"},null,"SAP Colombia","SAP-8011512-2","Cloud Classic SAP Solutions",{"$f":"D4005","v":"SAP Colombia"},"USD","N/A","SAP Fieldglass Contingent Workforce Management, partner edition",1,"Serv","Suscripcion","N/A","N/A","N/A","SAP-8011512-2","Forma de pago estandar a 30 dias",0.66,1,0,"USD"]
[{"$f":"D4006&F4006&E4006","v":"SAP ColombiaCloud Classic SAP SolutionsSAP-8011512-3"},{"$f":"E4006&F4006","v":"SAP-8011512-3Cloud Classic SAP Solutions"},null,"SAP Colombia","SAP-8011512-3","Cloud Classic SAP Solutions",{"$f":"D4006","v":"SAP Colombia"},"USD","N/A","SAP Fieldglass Contingent Workforce Management, partner edition",1,"Serv","Suscripcion","N/A","N/A","N/A","SAP-8011512-3","Forma de pago estandar a 30 dias",0.64,1,0,"USD"]
[{"$f":"D4007&F4007&E4007","v":"SAP ColombiaCloud Classic SAP SolutionsSAP-8011512-4"},{"$f":"E4007&F4007","v":"SAP-8011512-4Cloud Classic SAP Solutions"},null,"SAP Colombia","SAP-8011512-4","Cloud Classic SAP Solutions",{"$f":"D4007","v":"SAP Colombia"},"USD","N/A","SAP Fieldglass Contingent Workforce Management, partner edition",1,"Serv","Suscripcion","N/A","N/A","N/A","SAP-8011512-4","Forma de pago estandar a 30 dias",0.62,1,0,"USD"]
[{"$f":"D4008&F4008&E4008","v":"SAP ColombiaCloud Classic SAP SolutionsSAP-8011512-5"},{"$f":"E4008&F4008","v":"SAP-8011512-5Cloud Classic SAP Solutions"},null,"SAP Colombia","SAP-8011512-5","Cloud Classic SAP Solutions",{"$f":"D4008","v":"SAP Colombia"},"USD","N/A","SAP Fieldglass Contingent Workforce Management, partner edition",1,"Serv","Suscripcion","N/A","N/A","N/A","SAP-8011512-5","Forma de pago estandar a 30 dias",0.6,1,0,"USD"]
[{"$f":"D4009&F4009&E4009","v":"SAP ColombiaCloud Classic SAP SolutionsSAP-8011512-6"},{"$f":"E4009&F4009","v":"SAP-8011512-6Cloud Classic SAP Solutions"},null,"SAP Colombia","SAP-8011512-6","Cloud Classic SAP Solutions",{"$f":"D4009","v":"SAP Colombia"},"USD","N/A","SAP Fieldglass Contingent Workforce Management, partner edition",1,"Serv","Suscripcion","N/A","N/A","N/A","SAP-8011512-6","Forma de pago estandar a 30 dias",0.57999999999999996,1,0,"USD"]
[{"$f":"D4010&F4010&E4010","v":"SAP ColombiaCloud Classic SAP SolutionsSAP-8011513-1"},{"$f":"E4010&F4010","v":"SAP-8011513-1Cloud Classic SAP Solutions"},null,"SAP Colombia","SAP-8011513-1","Cloud Classic SAP Solutions",{"$f":"D4010","v":"SAP Colombia"},"USD","N/A","SAP Fieldglass Services Procurement, partner edition",1,"Serv","Suscripcion","N/A","N/A","N/A","SAP-8011513-1","Forma de pago estandar a 30 dias",0.4,1,0,"USD"]
[{"$f":"D4011&F4011&E4011","v":"SAP ColombiaCloud Classic SAP SolutionsSAP-8011513-2"},{"$f":"E4011&F4011","v":"SAP-8011513-2Cloud Classic SAP Solutions"},null,"SAP Colombia","SAP-8011513-2","Cloud Classic SAP Solutions",{"$f":"D4011","v":"SAP Colombia"},"USD","N/A","SAP Fieldglass Services Procurement, partner edition",1,"Serv","Suscripcion","N/A","N/A","N/A","SAP-8011513-2","Forma de pago estandar a 30 dias",0.39,1,0,"USD"]
[{"$f":"D4012&F4012&E4012","v":"SAP ColombiaCloud Classic SAP SolutionsSAP-8011513-3"},{"$f":"E4012&F4012","v":"SAP-8011513-3Cloud Classic SAP Solutions"},null,"SAP Colombia","SAP-8011513-3","Cloud Classic SAP Solutions",{"$f":"D4012","v":"SAP Colombia"},"USD","N/A","SAP Fieldglass Services Procurement, partner edition",1,"Serv","Suscripcion","N/A","N/A","N/A","SAP-8011513-3","Forma de pago estandar a 30 dias",0.38,1,0,"USD"]
[{"$f":"D4013&F4013&E4013","v":"SAP ColombiaCloud Classic SAP SolutionsSAP-8011513-4"},{"$f":"E4013&F4013","v":"SAP-8011513-4Cloud Classic SAP Solutions"},null,"SAP Colombia","SAP-8011513-4","Cloud Classic SAP Solutions",{"$f":"D4013","v":"SAP Colombia"},"USD","N/A","SAP Fieldglass Services Procurement, partner edition",1,"Serv","Suscripcion","N/A","N/A","N/A","SAP-8011513-4","Forma de pago estandar a 30 dias",0.38,1,0,"USD"]
[{"$f":"D4014&F4014&E4014","v":"SAP ColombiaCloud Classic SAP SolutionsSAP-8011513-5"},{"$f":"E4014&F4014","v":"SAP-8011513-5Cloud Classic SAP Solutions"},null,"SAP Colombia","SAP-8011513-5","Cloud Classic SAP Solutions",{"$f":"D4014","v":"SAP Colombia"},"USD","N/A","SAP Fieldglass Services Procurement, partner edition",1,"Serv","Suscripcion","N/A","N/A","N/A","SAP-8011513-5","Forma de pago estandar a 30 dias",0.37,1,0,"USD"]
[{"$f":"D4015&F4015&E4015","v":"SAP ColombiaCloud Classic SAP SolutionsSAP-8011513-6"},{"$f":"E4015&F4015","v":"SAP-8011513-6Cloud Classic SAP Solutions"},null,"SAP Colombia","SAP-8011513-6","Cloud Classic SAP Solutions",{"$f":"D4015","v":"SAP Colombia"},"USD","N/A","SAP Fieldglass Services Procurement, partner edition",1,"Serv","Suscripcion","N/A","N/A","N/A","SAP-8011513-6","Forma de pago estandar a 30 dias",0.36,1,0,"USD"]
[{"$f":"D4016&F4016&E4016","v":"SAP ColombiaCloud Classic SAP SolutionsSAP-8012540"},{"$f":"E4016&F4016","v":"SAP-8012540Cloud Classic SAP Solutions"},null,"SAP Colombia","SAP-8012540","Cloud Classic SAP Solutions",{"$f":"D4016","v":"SAP Colombia"},"USD","N/A","SAP Ariba Planning Collaboration",1,"Serv","Suscripcion","N/A","N/A","N/A","SAP-8012540","Forma de pago estandar a 30 dias",340000,1,0,"USD"]
[{"$f":"D4017&F4017&E4017","v":"SAP ColombiaCloud Classic SAP SolutionsSAP-8012656-1"},{"$f":"E4017&F4017","v":"SAP-8012656-1Cloud Classic SAP Solutions"},null,"SAP Colombia","SAP-8012656-1","Cloud Classic SAP Solutions",{"$f":"D4017","v":"SAP Colombia"},"USD","N/A","SAP S/4HANA Cloud for supplier quotation and price renegotiation",1,"Serv","Suscripcion","N/A","N/A","N/A","SAP-8012656-1","Forma de pago estandar a 30 dias",898,1,0,"USD"]
[{"$f":"D4018&F4018&E4018","v":"SAP ColombiaCloud Classic SAP SolutionsSAP-8012656-2"},{"$f":"E4018&F4018","v":"SAP-8012656-2Cloud Classic SAP Solutions"},null,"SAP Colombia","SAP-8012656-2","Cloud Classic SAP Solutions",{"$f":"D4018","v":"SAP Colombia"},"USD","N/A","SAP S/4HANA Cloud for supplier quotation and price renegotiation",1,"Serv","Suscripcion","N/A","N/A","N/A","SAP-8012656-2","Forma de pago estandar a 30 dias",536,1,0,"USD"]
[{"$f":"D4019&F4019&E4019","v":"SAP ColombiaCloud Classic SAP SolutionsSAP-8012656-3"},{"$f":"E4019&F4019","v":"SAP-8012656-3Cloud Classic SAP Solutions"},null,"SAP Colombia","SAP-8012656-3","Cloud Classic SAP Solutions",{"$f":"D4019","v":"SAP Colombia"},"USD","N/A","SAP S/4HANA Cloud for supplier quotation and price renegotiation",1,"Serv","Suscripcion","N/A","N/A","N/A","SAP-8012656-3","Forma de pago estandar a 30 dias",327,1,0,"USD"]
[{"$f":"D4020&F4020&E4020","v":"SAP ColombiaCloud Classic SAP SolutionsSAP-8012656-4"},{"$f":"E4020&F4020","v":"SAP-8012656-4Cloud Classic SAP Solutions"},null,"SAP Colombia","SAP-8012656-4","Cloud Classic SAP Solutions",{"$f":"D4020","v":"SAP Colombia"},"USD","N/A","SAP S/4HANA Cloud for supplier quotation and price renegotiation",1,"Serv","Suscripcion","N/A","N/A","N/A","SAP-8012656-4","Forma de pago estandar a 30 dias",211,1,0,"USD"]
[{"$f":"D4021&F4021&E4021","v":"SAP ColombiaCloud Classic SAP SolutionsSAP-8012656-5"},{"$f":"E4021&F4021","v":"SAP-8012656-5Cloud Classic SAP Solutions"},null,"SAP Colombia","SAP-8012656-5","Cloud Classic SAP Solutions",{"$f":"D4021","v":"SAP Colombia"},"USD","N/A","SAP S/4HANA Cloud for supplier quotation and price renegotiation",1,"Serv","Suscripcion","N/A","N/A","N/A","SAP-8012656-5","Forma de pago estandar a 30 dias",144,1,0,"USD"]
[{"$f":"D4022&F4022&E4022","v":"SAP ColombiaCloud Classic SAP SolutionsSAP-8012656-6"},{"$f":"E4022&F4022","v":"SAP-8012656-6Cloud Classic SAP Solutions"},null,"SAP Colombia","SAP-8012656-6","Cloud Classic SAP Solutions",{"$f":"D4022","v":"SAP Colombia"},"USD","N/A","SAP S/4HANA Cloud for supplier quotation and price renegotiation",1,"Serv","Suscripcion","N/A","N/A","N/A","SAP-8012656-6","Forma de pago estandar a 30 dias",99,1,0,"USD"]
[{"$f":"D4023&F4023&E4023","v":"SAP ColombiaCloud Classic SAP SolutionsSAP-8012656-7"},{"$f":"E4023&F4023","v":"SAP-8012656-7Cloud Classic SAP Solutions"},null,"SAP Colombia","SAP-8012656-7","Cloud Classic SAP Solutions",{"$f":"D4023","v":"SAP Colombia"},"USD","N/A","SAP S/4HANA Cloud for supplier quotation and price renegotiation",1,"Serv","Suscripcion","N/A","N/A","N/A","SAP-8012656-7","Forma de pago estandar a 30 dias",68,1,0,"USD"]
[{"$f":"D4024&F4024&E4024","v":"SAP ColombiaCloud Classic SAP SolutionsSAP-8012656-8"},{"$f":"E4024&F4024","v":"SAP-8012656-8Cloud Classic SAP Solutions"},null,"SAP Colombia","SAP-8012656-8","Cloud Classic SAP Solutions",{"$f":"D4024","v":"SAP Colombia"},"USD","N/A","SAP S/4HANA Cloud for supplier quotation and price renegotiation",1,"Serv","Suscripcion","N/A","N/A","N/A","SAP-8012656-8","Forma de pago estandar a 30 dias",53,1,0,"USD"]
[{"$f":"D4025&F4025&E4025","v":"SAP ColombiaCloud Classic SAP SolutionsSAP-8012657-1"},{"$f":"E4025&F4025","v":"SAP-8012657-1Cloud Classic SAP Solutions"},null,"SAP Colombia","SAP-8012657-1","Cloud Classic SAP Solutions",{"$f":"D4025","v":"SAP Colombia"},"USD","N/A","SAP S/4HANA Cloud for product sourcing, private edition",1,"Serv","Suscripcion","N/A","N/A","N/A","SAP-8012657-1","Forma de pago estandar a 30 dias",1120,1,0,"USD"]
[{"$f":"D4026&F4026&E4026","v":"SAP ColombiaCloud Classic SAP SolutionsSAP-8012657-2"},{"$f":"E4026&F4026","v":"SAP-8012657-2Cloud Classic SAP Solutions"},null,"SAP Colombia","SAP-8012657-2","Cloud Classic SAP Solutions",{"$f":"D4026","v":"SAP Colombia"},"USD","N/A","SAP S/4HANA Cloud for product sourcing, private edition",1,"Serv","Suscripcion","N/A","N/A","N/A","SAP-8012657-2","Forma de pago estandar a 30 dias",793,1,0,"USD"]
[{"$f":"D4027&F4027&E4027","v":"SAP ColombiaCloud Classic SAP SolutionsSAP-8012657-3"},{"$f":"E4027&F4027","v":"SAP-8012657-3Cloud Classic SAP Solutions"},null,"SAP Colombia","SAP-8012657-3","Cloud Classic SAP Solutions",{"$f":"D4027","v":"SAP Colombia"},"USD","N/A","SAP S/4HANA Cloud for product sourcing, private edition",1,"Serv","Suscripcion","N/A","N/A","N/A","SAP-8012657-3","Forma de pago estandar a 30 dias",536,1,0,"USD"]
[{"$f":"D4028&F4028&E4028","v":"SAP ColombiaCloud Classic SAP SolutionsSAP-8012657-4"},{"$f":"E4028&F4028","v":"SAP-8012657-4Cloud Classic SAP Solutions"},null,"SAP Colombia","SAP-8012657-4","Cloud Classic SAP Solutions",{"$f":"D4028","v":"SAP Colombia"},"USD","N/A","SAP S/4HANA Cloud for product sourcing, private edition",1,"Serv","Suscripcion","N/A","N/A","N/A","SAP-8012657-4","Forma de pago estandar a 30 dias",327,1,0,"USD"]
[{"$f":"D4029&F4029&E4029","v":"SAP ColombiaCloud Classic SAP SolutionsSAP-8012657-5"},{"$f":"E4029&F4029","v":"SAP-8012657-5Cloud Classic SAP Solutions"},null,"SAP Colombia","SAP-8012657-5","Cloud Classic SAP Solutions",{"$f":"D4029","v":"SAP Colombia"},"USD","N/A","SAP S/4HANA Cloud for product sourcing, private edition",1,"Serv","Suscripcion","N/A","N/A","N/A","SAP-8012657-5","Forma de pago estandar a 30 dias",205,1,0,"USD"]
[{"$f":"D4030&F4030&E4030","v":"SAP ColombiaCloud Classic SAP SolutionsSAP-8012657-6"},{"$f":"E4030&F4030","v":"SAP-8012657-6Cloud Classic SAP Solutions"},null,"SAP Colombia","SAP-8012657-6","Cloud Classic SAP Solutions",{"$f":"D4030","v":"SAP Colombia"},"USD","N/A","SAP S/4HANA Cloud for product sourcing, private edition",1,"Serv","Suscripcion","N/A","N/A","N/A","SAP-8012657-6","Forma de pago estandar a 30 dias",131,1,0,"USD"]
[{"$f":"D4031&F4031&E4031","v":"SAP ColombiaCloud Classic SAP SolutionsSAP-8012657-7"},{"$f":"E4031&F4031","v":"SAP-8012657-7Cloud Classic SAP Solutions"},null,"SAP Colombia","SAP-8012657-7","Cloud Classic SAP Solutions",{"$f":"D4031","v":"SAP Colombia"},"USD","N/A","SAP S/4HANA Cloud for product sourcing, private edition",1,"Serv","Suscripcion","N/A","N/A","N/A","SAP-8012657-7","Forma de pago estandar a 30 dias",93,1,0,"USD"]
[{"$f":"D4032&F4032&E4032","v":"SAP ColombiaCloud Classic SAP SolutionsSAP-8012657-8"},{"$f":"E4032&F4032","v":"SAP-8012657-8Cloud Classic SAP Solutions"},null,"SAP Colombia","SAP-8012657-8","Cloud Classic SAP Solutions",{"$f":"D4032","v":"SAP Colombia"},"USD","N/A","SAP S/4HANA Cloud for product sourcing, private edition",1,"Serv","Suscripcion","N/A","N/A","N/A","SAP-8012657-8","Forma de pago estandar a 30 dias",71,1,0,"USD"]
[{"$f":"D4033&F4033&E4033","v":"SAP ColombiaCloud Classic SAP SolutionsSAP-8009294-1"},{"$f":"E4033&F4033","v":"SAP-8009294-1Cloud Classic SAP Solutions"},null,"SAP Colombia","SAP-8009294-1","Cloud Classic SAP Solutions",{"$f":"D4033","v":"SAP Colombia"},"USD","N/A","SAP ERP for vehicle sales management, private cloud edition",10000,"Serv","Suscripcion","N/A","N/A","N/A","SAP-8009294-1","Forma de pago estandar a 30 dias",1230,1,0,"USD"]
[{"$f":"D4034&F4034&E4034","v":"SAP ColombiaCloud Classic SAP SolutionsSAP-8009294-2"},{"$f":"E4034&F4034","v":"SAP-8009294-2Cloud Classic SAP Solutions"},null,"SAP Colombia","SAP-8009294-2","Cloud Classic SAP Solutions",{"$f":"D4034","v":"SAP Colombia"},"USD","N/A","SAP ERP for vehicle sales management, private cloud edition",10000,"Serv","Suscripcion","N/A","N/A","N/A","SAP-8009294-2","Forma de pago estandar a 30 dias",983,1,0,"USD"]
[{"$f":"D4035&F4035&E4035","v":"SAP ColombiaCloud Classic SAP SolutionsSAP-8009294-3"},{"$f":"E4035&F4035","v":"SAP-8009294-3Cloud Classic SAP Solutions"},null,"SAP Colombia","SAP-8009294-3","Cloud Classic SAP Solutions",{"$f":"D4035","v":"SAP Colombia"},"USD","N/A","SAP ERP for vehicle sales management, private cloud edition",10000,"Serv","Suscripcion","N/A","N/A","N/A","SAP-8009294-3","Forma de pago estandar a 30 dias",739,1,0,"USD"]
[{"$f":"D4036&F4036&E4036","v":"SAP ColombiaCloud Classic SAP SolutionsSAP-8007788-1"},{"$f":"E4036&F4036","v":"SAP-8007788-1Cloud Classic SAP Solutions"},null,"SAP Colombia","SAP-8007788-1","Cloud Classic SAP Solutions",{"$f":"D4036","v":"SAP Colombia"},"USD","N/A","SAP Multi-Bank Connectivity, Transactions (per block of 1000)",1000,"Serv","Suscripcion","N/A","N/A","N/A","SAP-8007788-1","Forma de pago estandar a 30 dias",67,1,0,"USD"]
[{"$f":"D4037&F4037&E4037","v":"SAP ColombiaCloud Classic SAP SolutionsSAP-8007788-2"},{"$f":"E4037&F4037","v":"SAP-8007788-2Cloud Classic SAP Solutions"},null,"SAP Colombia","SAP-8007788-2","Cloud Classic SAP Solutions",{"$f":"D4037","v":"SAP Colombia"},"USD","N/A","SAP Multi-Bank Connectivity, Transactions (per block of 1000)",1000,"Serv","Suscripcion","N/A","N/A","N/A","SAP-8007788-2","Forma de pago estandar a 30 dias",41,1,0,"USD"]
[{"$f":"D4038&F4038&E4038","v":"SAP ColombiaCloud Classic SAP SolutionsSAP-8007788-3"},{"$f":"E4038&F4038","v":"SAP-8007788-3Cloud Classic SAP Solutions"},null,"SAP Colombia","SAP-8007788-3","Cloud Classic SAP Solutions",{"$f":"D4038","v":"SAP Colombia"},"USD","N/A","SAP Multi-Bank Connectivity, Transactions (per block of 1000)",1000,"Serv","Suscripcion","N/A","N/A","N/A","SAP-8007788-3","Forma de pago estandar a 30 dias",32,1,0,"USD"]
[{"$f":"D4039&F4039&E4039","v":"SAP ColombiaCloud Classic SAP SolutionsSAP-8007788-4"},{"$f":"E4039&F4039","v":"SAP-8007788-4Cloud Classic SAP Solutions"},null,"SAP Colombia","SAP-8007788-4","Cloud Classic SAP Solutions",{"$f":"D4039","v":"SAP Colombia"},"USD","N/A","SAP Multi-Bank Connectivity, Transactions (per block of 1000)",1000,"Serv","Suscripcion","N/A","N/A","N/A","SAP-8007788-4","Forma de pago estandar a 30 dias",26,1,0,"USD"]
[{"$f":"D4040&F4040&E4040","v":"SAP ColombiaCloud Classic SAP SolutionsSAP-8007788-5"},{"$f":"E4040&F4040","v":"SAP-8007788-5Cloud Classic SAP Solutions"},null,"SAP Colombia","SAP-8007788-5","Cloud Classic SAP Solutions",{"$f":"D4040","v":"SAP Colombia"},"USD","N/A","SAP Multi-Bank Connectivity, Transactions (per block of 1000)",1000,"Serv","Suscripcion","N/A","N/A","N/A","SAP-8007788-5","Forma de pago estandar a 30 dias",20,1,0,"USD"]
[{"$f":"D4041&F4041&E4041","v":"SAP ColombiaCloud Classic SAP SolutionsSAP-8007788-6"},{"$f":"E4041&F4041","v":"SAP-8007788-6Cloud Classic SAP Solutions"},null,"SAP Colombia","SAP-8007788-6","Cloud Classic SAP Solutions",{"$f":"D4041","v":"SAP Colombia"},"USD","N/A","SAP Multi-Bank Connectivity, Transactions (per block of 1000)",1000,"Serv","Suscripcion","N/A","N/A","N/A","SAP-8007788-6","Forma de pago estandar a 30 dias",18,1,0,"USD"]
[{"$f":"D4042&F4042&E4042","v":"SAP ColombiaCloud Classic SAP SolutionsSAP-8009290"},{"$f":"E4042&F4042","v":"SAP-8009290Cloud Classic SAP Solutions"},null,"SAP Colombia","SAP-8009290","Cloud Classic SAP Solutions",{"$f":"D4042","v":"SAP Colombia"},"USD","N/A","SAP Multi-Bank Connectivity, Financial Services Institution Membership",1,"Serv","Suscripcion","N/A","N/A","N/A","SAP-8009290","Forma de pago estandar a 30 dias",11199,1,0,"USD"]
[{"$f":"D4043&F4043&E4043","v":"SAP ColombiaCloud Classic SAP SolutionsSAP-8012248"},{"$f":"E4043&F4043","v":"SAP-8012248Cloud Classic SAP Solutions"},null,"SAP Colombia","SAP-8012248","Cloud Classic SAP Solutions",{"$f":"D4043","v":"SAP Colombia"},"USD","N/A","SAP Multi-Bank Connectivity, Corporate Membership",1,"Serv","Suscripcion","N/A","N/A","N/A","SAP-8012248","Forma de pago estandar a 30 dias",2912,1,0,"USD"]
[{"$f":"D4044&F4044&E4044","v":"SAP ColombiaCloud Classic SAP SolutionsSAP-8009042-1"},{"$f":"E4044&F4044","v":"SAP-8009042-1Cloud Classic SAP Solutions"},null,"SAP Colombia","SAP-8009042-1","Cloud Classic SAP Solutions",{"$f":"D4044","v":"SAP Colombia"},"USD","N/A","SAP Intelligent Trade Claims Management",1000,"Serv","Suscripcion","N/A","N/A","N/A","SAP-8009042-1","Forma de pago estandar a 30 dias",7279,1,0,"USD"]
[{"$f":"D4045&F4045&E4045","v":"SAP ColombiaCloud Classic SAP SolutionsSAP-8009042-2"},{"$f":"E4045&F4045","v":"SAP-8009042-2Cloud Classic SAP Solutions"},null,"SAP Colombia","SAP-8009042-2","Cloud Classic SAP Solutions",{"$f":"D4045","v":"SAP Colombia"},"USD","N/A","SAP Intelligent Trade Claims Management",1000,"Serv","Suscripcion","N/A","N/A","N/A","SAP-8009042-2","Forma de pago estandar a 30 dias",4200,1,0,"USD"]
[{"$f":"D4046&F4046&E4046","v":"SAP ColombiaCloud Classic SAP SolutionsSAP-8009042-3"},{"$f":"E4046&F4046","v":"SAP-8009042-3Cloud Classic SAP Solutions"},null,"SAP Colombia","SAP-8009042-3","Cloud Classic SAP Solutions",{"$f":"D4046","v":"SAP Colombia"},"USD","N/A","SAP Intelligent Trade Claims Management",1000,"Serv","Suscripcion","N/A","N/A","N/A","SAP-8009042-3","Forma de pago estandar a 30 dias",1792,1,0,"USD"]
[{"$f":"D4047&F4047&E4047","v":"SAP ColombiaCloud Classic SAP SolutionsSAP-8009042-4"},{"$f":"E4047&F4047","v":"SAP-8009042-4Cloud Classic SAP Solutions"},null,"SAP Colombia","SAP-8009042-4","Cloud Classic SAP Solutions",{"$f":"D4047","v":"SAP Colombia"},"USD","N/A","SAP Intelligent Trade Claims Management",1000,"Serv","Suscripcion","N/A","N/A","N/A","SAP-8009042-4","Forma de pago estandar a 30 dias",1064,1,0,"USD"]
[{"$f":"D4048&F4048&E4048","v":"SAP ColombiaCloud Classic SAP SolutionsSAP-8009042-5"},{"$f":"E4048&F4048","v":"SAP-8009042-5Cloud Classic SAP Solutions"},null,"SAP Colombia","SAP-8009042-5","Cloud Classic SAP Solutions",{"$f":"D4048","v":"SAP Colombia"},"USD","N/A","SAP Intelligent Trade Claims Management",1000,"Serv","Suscripcion","N/A","N/A","N/A","SAP-8009042-5","Forma de pago estandar a 30 dias",952,1,0,"USD"]
[{"$f":"D4049&F4049&E4049","v":"SAP ColombiaCloud Classic SAP SolutionsSAP-8011629-1"},{"$f":"E4049&F4049","v":"SAP-8011629-1Cloud Classic SAP Solutions"},null,"SAP Colombia","SAP-8011629-1","Cloud Classic SAP Solutions",{"$f":"D4049","v":"SAP Colombia"},"USD","N/A","SAP Retail Activity Optimization",1,"Serv","Suscripcion","N/A","N/A","N/A","SAP-8011629-1","Forma de pago estandar a 30 dias",67,1,0,"USD"]
[{"$f":"D4050&F4050&E4050","v":"SAP ColombiaCloud Classic SAP SolutionsSAP-8011629-2"},{"$f":"E4050&F4050","v":"SAP-8011629-2Cloud Classic SAP Solutions"},null,"SAP Colombia","SAP-8011629-2","Cloud Classic SAP Solutions",{"$f":"D4050","v":"SAP Colombia"},"USD","N/A","SAP Retail Activity Optimization",1,"Serv","Suscripcion","N/A","N/A","N/A","SAP-8011629-2","Forma de pago estandar a 30 dias",64,1,0,"USD"]
[{"$f":"D4051&F4051&E4051","v":"SAP ColombiaCloud Classic SAP SolutionsSAP-8011629-3"},{"$f":"E4051&F4051","v":"SAP-8011629-3Cloud Classic SAP Solutions"},null,"SAP Colombia","SAP-8011629-3","Cloud Classic SAP Solutions",{"$f":"D4051","v":"SAP Colombia"},"USD","N/A","SAP Retail Activity Optimization",1,"Serv","Suscripcion","N/A","N/A","N/A","SAP-8011629-3","Forma de pago estandar a 30 dias",62,1,0,"USD"]
[{"$f":"D4052&F4052&E4052","v":"SAP ColombiaCloud Classic SAP SolutionsSAP-8011629-4"},{"$f":"E4052&F4052","v":"SAP-8011629-4Cloud Classic SAP Solutions"},null,"SAP Colombia","SAP-8011629-4","Cloud Classic SAP Solutions",{"$f":"D4052","v":"SAP Colombia"},"USD","N/A","SAP Retail Activity Optimization",1,"Serv","Suscripcion","N/A","N/A","N/A","SAP-8011629-4","Forma de pago estandar a 30 dias",59,1,0,"USD"]
[{"$f":"D4053&F4053&E4053","v":"SAP ColombiaCloud Classic SAP SolutionsSAP-8011629-5"},{"$f":"E4053&F4053","v":"SAP-8011629-5Cloud Classic SAP Solutions"},null,"SAP Colombia","SAP-8011629-5","Cloud Classic SAP Solutions",{"$f":"D4053","v":"SAP Colombia"},"USD","N/A","SAP Retail Activity Optimization",1,"Serv","Suscripcion","N/A","N/A","N/A","SAP-8011629-5","Forma de pago estandar a 30 dias",58,1,0,"USD"]
[{"$f":"D4054&F4054&E4054","v":"SAP ColombiaCloud Classic SAP SolutionsSAP-8011728-1"},{"$f":"E4054&F4054","v":"SAP-8011728-1Cloud Classic SAP Solutions"},null,"SAP Colombia","SAP-8011728-1","Cloud Classic SAP Solutions",{"$f":"D4054","v":"SAP Colombia"},"USD","N/A","SAP Agricultural Origination Portal",1000,"Serv","Suscripcion","N/A","N/A","N/A","SAP-8011728-1","Forma de pago estandar a 30 dias",34,1,0,"USD"]
[{"$f":"D4055&F4055&E4055","v":"SAP ColombiaCloud Classic SAP SolutionsSAP-8011728-2"},{"$f":"E4055&F4055","v":"SAP-8011728-2Cloud Classic SAP Solutions"},null,"SAP Colombia","SAP-8011728-2","Cloud Classic SAP Solutions",{"$f":"D4055","v":"SAP Colombia"},"USD","N/A","SAP Agricultural Origination Portal",1000,"Serv","Suscripcion","N/A","N/A","N/A","SAP-8011728-2","Forma de pago estandar a 30 dias",27,1,0,"USD"]
[{"$f":"D4056&F4056&E4056","v":"SAP ColombiaCloud Classic SAP SolutionsSAP-8011728-3"},{"$f":"E4056&F4056","v":"SAP-8011728-3Cloud Classic SAP Solutions"},null,"SAP Colombia","SAP-8011728-3","Cloud Classic SAP Solutions",{"$f":"D4056","v":"SAP Colombia"},"USD","N/A","SAP Agricultural Origination Portal",1000,"Serv","Suscripcion","N/A","N/A","N/A","SAP-8011728-3","Forma de pago estandar a 30 dias",22,1,0,"USD"]
[{"$f":"D4057&F4057&E4057","v":"SAP ColombiaCloud Classic SAP SolutionsSAP-8011728-4"},{"$f":"E4057&F4057","v":"SAP-8011728-4Cloud Classic SAP Solutions"},null,"SAP Colombia","SAP-8011728-4","Cloud Classic SAP Solutions",{"$f":"D4057","v":"SAP Colombia"},"USD","N/A","SAP Agricultural Origination Portal",1000,"Serv","Suscripcion","N/A","N/A","N/A","SAP-8011728-4","Forma de pago estandar a 30 dias",19,1,0,"USD"]
[{"$f":"D4058&F4058&E4058","v":"SAP ColombiaCloud Classic SAP SolutionsSAP-8011728-5"},{"$f":"E4058&F4058","v":"SAP-8011728-5Cloud Classic SAP Solutions"},null,"SAP Colombia","SAP-8011728-5","Cloud Classic SAP Solutions",{"$f":"D4058","v":"SAP Colombia"},"USD","N/A","SAP Agricultural Origination Portal",1000,"Serv","Suscripcion","N/A","N/A","N/A","SAP-8011728-5","Forma de pago estandar a 30 dias",16,1,0,"USD"]
[{"$f":"D4059&F4059&E4059","v":"SAP ColombiaCloud Classic SAP SolutionsSAP-8012345-1"},{"$f":"E4059&F4059","v":"SAP-8012345-1Cloud Classic SAP Solutions"},null,"SAP Colombia","SAP-8012345-1","Cloud Classic SAP Solutions",{"$f":"D4059","v":"SAP Colombia"},"USD","N/A","SAP Intelligent Agriculture",1000,"Serv","Suscripcion","N/A","N/A","N/A","SAP-8012345-1","Forma de pago estandar a 30 dias",100,1,0,"USD"]
[{"$f":"D4060&F4060&E4060","v":"SAP ColombiaCloud Classic SAP SolutionsSAP-8012345-2"},{"$f":"E4060&F4060","v":"SAP-8012345-2Cloud Classic SAP Solutions"},null,"SAP Colombia","SAP-8012345-2","Cloud Classic SAP Solutions",{"$f":"D4060","v":"SAP Colombia"},"USD","N/A","SAP Intelligent Agriculture",1000,"Serv","Suscripcion","N/A","N/A","N/A","SAP-8012345-2","Forma de pago estandar a 30 dias",69,1,0,"USD"]
[{"$f":"D4061&F4061&E4061","v":"SAP ColombiaCloud Classic SAP SolutionsSAP-8012345-3"},{"$f":"E4061&F4061","v":"SAP-8012345-3Cloud Classic SAP Solutions"},null,"SAP Colombia","SAP-8012345-3","Cloud Classic SAP Solutions",{"$f":"D4061","v":"SAP Colombia"},"USD","N/A","SAP Intelligent Agriculture",1000,"Serv","Suscripcion","N/A","N/A","N/A","SAP-8012345-3","Forma de pago estandar a 30 dias",56,1,0,"USD"]
[{"$f":"D4062&F4062&E4062","v":"SAP ColombiaCloud Classic SAP SolutionsSAP-8012345-4"},{"$f":"E4062&F4062","v":"SAP-8012345-4Cloud Classic SAP Solutions"},null,"SAP Colombia","SAP-8012345-4","Cloud Classic SAP Solutions",{"$f":"D4062","v":"SAP Colombia"},"USD","N/A","SAP Intelligent Agriculture",1000,"Serv","Suscripcion","N/A","N/A","N/A","SAP-8012345-4","Forma de pago estandar a 30 dias",47,1,0,"USD"]
[{"$f":"D4063&F4063&E4063","v":"SAP ColombiaCloud Classic SAP SolutionsSAP-8012345-5"},{"$f":"E4063&F4063","v":"SAP-8012345-5Cloud Classic SAP Solutions"},null,"SAP Colombia","SAP-8012345-5","Cloud Classic SAP Solutions",{"$f":"D4063","v":"SAP Colombia"},"USD","N/A","SAP Intelligent Agriculture",1000,"Serv","Suscripcion","N/A","N/A","N/A","SAP-8012345-5","Forma de pago estandar a 30 dias",43,1,0,"USD"]
[{"$f":"D4064&F4064&E4064","v":"SAP ColombiaCloud Classic SAP SolutionsSAP-8009295-1"},{"$f":"E4064&F4064","v":"SAP-8009295-1Cloud Classic SAP Solutions"},null,"SAP Colombia","SAP-8009295-1","Cloud Classic SAP Solutions",{"$f":"D4064","v":"SAP Colombia"},"USD","N/A","SAP ERP for Student Lifecycle Management, private cloud edition",100,"Serv","Suscripcion","N/A","N/A","N/A","SAP-8009295-1","Forma de pago estandar a 30 dias",648,1,0,"USD"]
[{"$f":"D4065&F4065&E4065","v":"SAP ColombiaCloud Classic SAP SolutionsSAP-8009295-2"},{"$f":"E4065&F4065","v":"SAP-8009295-2Cloud Classic SAP Solutions"},null,"SAP Colombia","SAP-8009295-2","Cloud Classic SAP Solutions",{"$f":"D4065","v":"SAP Colombia"},"USD","N/A","SAP ERP for Student Lifecycle Management, private cloud edition",100,"Serv","Suscripcion","N/A","N/A","N/A","SAP-8009295-2","Forma de pago estandar a 30 dias",299,1,0,"USD"]
[{"$f":"D4066&F4066&E4066","v":"SAP ColombiaCloud Classic SAP SolutionsSAP-8009295-3"},{"$f":"E4066&F4066","v":"SAP-8009295-3Cloud Classic SAP Solutions"},null,"SAP Colombia","SAP-8009295-3","Cloud Classic SAP Solutions",{"$f":"D4066","v":"SAP Colombia"},"USD","N/A","SAP ERP for Student Lifecycle Management, private cloud edition",100,"Serv","Suscripcion","N/A","N/A","N/A","SAP-8009295-3","Forma de pago estandar a 30 dias",223,1,0,"USD"]
[{"$f":"D4067&F4067&E4067","v":"SAP ColombiaCloud Classic SAP SolutionsSAP-8009295-4"},{"$f":"E4067&F4067","v":"SAP-8009295-4Cloud Classic SAP Solutions"},null,"SAP Colombia","SAP-8009295-4","Cloud Classic SAP Solutions",{"$f":"D4067","v":"SAP Colombia"},"USD","N/A","SAP ERP for Student Lifecycle Management, private cloud edition",100,"Serv","Suscripcion","N/A","N/A","N/A","SAP-8009295-4","Forma de pago estandar a 30 dias",136,1,0,"USD"]
[{"$f":"D4068&F4068&E4068","v":"SAP ColombiaCloud Classic SAP SolutionsSAP-8009379-1"},{"$f":"E4068&F4068","v":"SAP-8009379-1Cloud Classic SAP Solutions"},null,"SAP Colombia","SAP-8009379-1","Cloud Classic SAP Solutions",{"$f":"D4068","v":"SAP Colombia"},"USD","N/A","SAP ERP for Financial Asset Management, private cloud edition",1119900000,"Serv","Suscripcion","N/A","N/A","N/A","SAP-8009379-1","Forma de pago estandar a 30 dias",1624,1,0,"USD"]
[{"$f":"D4069&F4069&E4069","v":"SAP ColombiaCloud Classic SAP SolutionsSAP-8009379-2"},{"$f":"E4069&F4069","v":"SAP-8009379-2Cloud Classic SAP Solutions"},null,"SAP Colombia","SAP-8009379-2","Cloud Classic SAP Solutions",{"$f":"D4069","v":"SAP Colombia"},"USD","N/A","SAP ERP for Financial Asset Management, private cloud edition",1119900000,"Serv","Suscripcion","N/A","N/A","N/A","SAP-8009379-2","Forma de pago estandar a 30 dias",1400,1,0,"USD"]
[{"$f":"D4070&F4070&E4070","v":"SAP ColombiaCloud Classic SAP SolutionsSAP-8009379-3"},{"$f":"E4070&F4070","v":"SAP-8009379-3Cloud Classic SAP Solutions"},null,"SAP Colombia","SAP-8009379-3","Cloud Classic SAP Solutions",{"$f":"D4070","v":"SAP Colombia"},"USD","N/A","SAP ERP for Financial Asset Management, private cloud edition",1119900000,"Serv","Suscripcion","N/A","N/A","N/A","SAP-8009379-3","Forma de pago estandar a 30 dias",1176,1,0,"USD"]
[{"$f":"D4071&F4071&E4071","v":"SAP ColombiaCloud Classic SAP SolutionsSAP-8009379-4"},{"$f":"E4071&F4071","v":"SAP-8009379-4Cloud Classic SAP Solutions"},null,"SAP Colombia","SAP-8009379-4","Cloud Classic SAP Solutions",{"$f":"D4071","v":"SAP Colombia"},"USD","N/A","SAP ERP for Financial Asset Management, private cloud edition",1119900000,"Serv","Suscripcion","N/A","N/A","N/A","SAP-8009379-4","Forma de pago estandar a 30 dias",1008,1,0,"USD"]
[{"$f":"D4072&F4072&E4072","v":"SAP ColombiaCloud Classic SAP SolutionsSAP-8009379-5"},{"$f":"E4072&F4072","v":"SAP-8009379-5Cloud Classic SAP Solutions"},null,"SAP Colombia","SAP-8009379-5","Cloud Classic SAP Solutions",{"$f":"D4072","v":"SAP Colombia"},"USD","N/A","SAP ERP for Financial Asset Management, private cloud edition",1119900000,"Serv","Suscripcion","N/A","N/A","N/A","SAP-8009379-5","Forma de pago estandar a 30 dias",616,1,0,"USD"]
[{"$f":"D4073&F4073&E4073","v":"SAP ColombiaCloud Classic SAP SolutionsSAP-8009379-6"},{"$f":"E4073&F4073","v":"SAP-8009379-6Cloud Classic SAP Solutions"},null,"SAP Colombia","SAP-8009379-6","Cloud Classic SAP Solutions",{"$f":"D4073","v":"SAP Colombia"},"USD","N/A","SAP ERP for Financial Asset Management, private cloud edition",1119900000,"Serv","Suscripcion","N/A","N/A","N/A","SAP-8009379-6","Forma de pago estandar a 30 dias",392,1,0,"USD"]
[{"$f":"D4074&F4074&E4074","v":"SAP ColombiaCloud Classic SAP SolutionsSAP-8011110-1"},{"$f":"E4074&F4074","v":"SAP-8011110-1Cloud Classic SAP Solutions"},null,"SAP Colombia","SAP-8011110-1","Cloud Classic SAP Solutions",{"$f":"D4074","v":"SAP Colombia"},"USD","N/A","SAP Advanced Track and Trace for Pharmaceuticals Cloud, private edition​",10000000,"Serv","Suscripcion","N/A","N/A","N/A","SAP-8011110-1","Forma de pago estandar a 30 dias",12319,1,0,"USD"]
[{"$f":"D4075&F4075&E4075","v":"SAP ColombiaCloud Classic SAP SolutionsSAP-8011110-2"},{"$f":"E4075&F4075","v":"SAP-8011110-2Cloud Classic SAP Solutions"},null,"SAP Colombia","SAP-8011110-2","Cloud Classic SAP Solutions",{"$f":"D4075","v":"SAP Colombia"},"USD","N/A","SAP Advanced Track and Trace for Pharmaceuticals Cloud, private edition​",10000000,"Serv","Suscripcion","N/A","N/A","N/A","SAP-8011110-2","Forma de pago estandar a 30 dias",8959,1,0,"USD"]
[{"$f":"D4076&F4076&E4076","v":"SAP ColombiaCloud Classic SAP SolutionsSAP-8011110-3"},{"$f":"E4076&F4076","v":"SAP-8011110-3Cloud Classic SAP Solutions"},null,"SAP Colombia","SAP-8011110-3","Cloud Classic SAP Solutions",{"$f":"D4076","v":"SAP Colombia"},"USD","N/A","SAP Advanced Track and Trace for Pharmaceuticals Cloud, private edition​",10000000,"Serv","Suscripcion","N/A","N/A","N/A","SAP-8011110-3","Forma de pago estandar a 30 dias",7279,1,0,"USD"]
[{"$f":"D4077&F4077&E4077","v":"SAP ColombiaCloud Classic SAP SolutionsSAP-8011110-4"},{"$f":"E4077&F4077","v":"SAP-8011110-4Cloud Classic SAP Solutions"},null,"SAP Colombia","SAP-8011110-4","Cloud Classic SAP Solutions",{"$f":"D4077","v":"SAP Colombia"},"USD","N/A","SAP Advanced Track and Trace for Pharmaceuticals Cloud, private edition​",10000000,"Serv","Suscripcion","N/A","N/A","N/A","SAP-8011110-4","Forma de pago estandar a 30 dias",5767,1,0,"USD"]
[{"$f":"D4078&F4078&E4078","v":"SAP ColombiaCloud Classic SAP SolutionsSAP-8011110-5"},{"$f":"E4078&F4078","v":"SAP-8011110-5Cloud Classic SAP Solutions"},null,"SAP Colombia","SAP-8011110-5","Cloud Classic SAP Solutions",{"$f":"D4078","v":"SAP Colombia"},"USD","N/A","SAP Advanced Track and Trace for Pharmaceuticals Cloud, private edition​",10000000,"Serv","Suscripcion","N/A","N/A","N/A","SAP-8011110-5","Forma de pago estandar a 30 dias",4424,1,0,"USD"]
[{"$f":"D4079&F4079&E4079","v":"SAP ColombiaCloud Classic SAP SolutionsSAP-8011110-6"},{"$f":"E4079&F4079","v":"SAP-8011110-6Cloud Classic SAP Solutions"},null,"SAP Colombia","SAP-8011110-6","Cloud Classic SAP Solutions",{"$f":"D4079","v":"SAP Colombia"},"USD","N/A","SAP Advanced Track and Trace for Pharmaceuticals Cloud, private edition​",10000000,"Serv","Suscripcion","N/A","N/A","N/A","SAP-8011110-6","Forma de pago estandar a 30 dias",3752,1,0,"USD"]
[{"$f":"D4080&F4080&E4080","v":"SAP ColombiaCloud Classic SAP SolutionsSAP-8012522-1"},{"$f":"E4080&F4080","v":"SAP-8012522-1Cloud Classic SAP Solutions"},null,"SAP Colombia","SAP-8012522-1","Cloud Classic SAP Solutions",{"$f":"D4080","v":"SAP Colombia"},"USD","N/A","SAP Intelligent Clinical Supply Management",1,"Serv","Suscripcion","N/A","N/A","N/A","SAP-8012522-1","Forma de pago estandar a 30 dias",1176,1,0,"USD"]
[{"$f":"D4081&F4081&E4081","v":"SAP ColombiaCloud Classic SAP SolutionsSAP-8012522-2"},{"$f":"E4081&F4081","v":"SAP-8012522-2Cloud Classic SAP Solutions"},null,"SAP Colombia","SAP-8012522-2","Cloud Classic SAP Solutions",{"$f":"D4081","v":"SAP Colombia"},"USD","N/A","SAP Intelligent Clinical Supply Management",1,"Serv","Suscripcion","N/A","N/A","N/A","SAP-8012522-2","Forma de pago estandar a 30 dias",1008,1,0,"USD"]
[{"$f":"D4082&F4082&E4082","v":"SAP ColombiaCloud Classic SAP SolutionsSAP-8012522-3"},{"$f":"E4082&F4082","v":"SAP-8012522-3Cloud Classic SAP Solutions"},null,"SAP Colombia","SAP-8012522-3","Cloud Classic SAP Solutions",{"$f":"D4082","v":"SAP Colombia"},"USD","N/A","SAP Intelligent Clinical Supply Management",1,"Serv","Suscripcion","N/A","N/A","N/A","SAP-8012522-3","Forma de pago estandar a 30 dias",840,1,0,"USD"]
[{"$f":"D4083&F4083&E4083","v":"SAP ColombiaCloud Classic SAP SolutionsSAP-8012522-4"},{"$f":"E4083&F4083","v":"SAP-8012522-4Cloud Classic SAP Solutions"},null,"SAP Colombia","SAP-8012522-4","Cloud Classic SAP Solutions",{"$f":"D4083","v":"SAP Colombia"},"USD","N/A","SAP Intelligent Clinical Supply Management",1,"Serv","Suscripcion","N/A","N/A","N/A","SAP-8012522-4","Forma de pago estandar a 30 dias",795,1,0,"USD"]
[{"$f":"D4084&F4084&E4084","v":"SAP ColombiaCloud Classic SAP SolutionsSAP-8011328"},{"$f":"E4084&F4084","v":"SAP-8011328Cloud Classic SAP Solutions"},null,"SAP Colombia","SAP-8011328","Cloud Classic SAP Solutions",{"$f":"D4084","v":"SAP Colombia"},"USD","N/A","SAP Customer Activity Repository Cloud, additional non-productive tier, private edition (XXS)",1,"Serv","Suscripcion","N/A","N/A","N/A","SAP-8011328","Forma de pago estandar a 30 dias",11199,1,0,"USD"]
[{"$f":"D4085&F4085&E4085","v":"SAP ColombiaCloud Classic SAP SolutionsSAP-8011329"},{"$f":"E4085&F4085","v":"SAP-8011329Cloud Classic SAP Solutions"},null,"SAP Colombia","SAP-8011329","Cloud Classic SAP Solutions",{"$f":"D4085","v":"SAP Colombia"},"USD","N/A","SAP Customer Activity Repository Cloud, additional non-productive tier, private edition (XS)",1,"Serv","Suscripcion","N/A","N/A","N/A","SAP-8011329","Forma de pago estandar a 30 dias",14223,1,0,"USD"]
[{"$f":"D4086&F4086&E4086","v":"SAP ColombiaCloud Classic SAP SolutionsSAP-8011330"},{"$f":"E4086&F4086","v":"SAP-8011330Cloud Classic SAP Solutions"},null,"SAP Colombia","SAP-8011330","Cloud Classic SAP Solutions",{"$f":"D4086","v":"SAP Colombia"},"USD","N/A","SAP Customer Activity Repository Cloud, additional non-productive tier, private edition (S)",1,"Serv","Suscripcion","N/A","N/A","N/A","SAP-8011330","Forma de pago estandar a 30 dias",16799,1,0,"USD"]
[{"$f":"D4087&F4087&E4087","v":"SAP ColombiaCloud Classic SAP SolutionsSAP-8011331"},{"$f":"E4087&F4087","v":"SAP-8011331Cloud Classic SAP Solutions"},null,"SAP Colombia","SAP-8011331","Cloud Classic SAP Solutions",{"$f":"D4087","v":"SAP Colombia"},"USD","N/A","SAP Customer Activity Repository Cloud, additional non-productive tier, private edition (M)",1,"Serv","Suscripcion","N/A","N/A","N/A","SAP-8011331","Forma de pago estandar a 30 dias",22398,1,0,"USD"]
[{"$f":"D4088&F4088&E4088","v":"SAP ColombiaCloud Classic SAP SolutionsSAP-8011332"},{"$f":"E4088&F4088","v":"SAP-8011332Cloud Classic SAP Solutions"},null,"SAP Colombia","SAP-8011332","Cloud Classic SAP Solutions",{"$f":"D4088","v":"SAP Colombia"},"USD","N/A","SAP Customer Activity Repository Cloud, additional non-productive tier, private edition (L)",1,"Serv","Suscripcion","N/A","N/A","N/A","SAP-8011332","Forma de pago estandar a 30 dias",31357,1,0,"USD"]
[{"$f":"D4089&F4089&E4089","v":"SAP ColombiaCloud Classic SAP SolutionsSAP-8011333"},{"$f":"E4089&F4089","v":"SAP-8011333Cloud Classic SAP Solutions"},null,"SAP Colombia","SAP-8011333","Cloud Classic SAP Solutions",{"$f":"D4089","v":"SAP Colombia"},"USD","N/A","SAP Customer Activity Repository Cloud, additional non-productive tier, private edition (XL)",1,"Serv","Suscripcion","N/A","N/A","N/A","SAP-8011333","Forma de pago estandar a 30 dias",54875,1,0,"USD"]
[{"$f":"D4090&F4090&E4090","v":"SAP ColombiaCloud Classic SAP SolutionsSAP-8011342-1"},{"$f":"E4090&F4090","v":"SAP-8011342-1Cloud Classic SAP Solutions"},null,"SAP Colombia","SAP-8011342-1","Cloud Classic SAP Solutions",{"$f":"D4090","v":"SAP Colombia"},"USD","N/A","SAP Customer Activity Repository Cloud, private edition",10000,"Serv","Suscripcion","N/A","N/A","N/A","SAP-8011342-1","Forma de pago estandar a 30 dias",29,1,0,"USD"]
[{"$f":"D4091&F4091&E4091","v":"SAP ColombiaCloud Classic SAP SolutionsSAP-8011342-2"},{"$f":"E4091&F4091","v":"SAP-8011342-2Cloud Classic SAP Solutions"},null,"SAP Colombia","SAP-8011342-2","Cloud Classic SAP Solutions",{"$f":"D4091","v":"SAP Colombia"},"USD","N/A","SAP Customer Activity Repository Cloud, private edition",10000,"Serv","Suscripcion","N/A","N/A","N/A","SAP-8011342-2","Forma de pago estandar a 30 dias",17,1,0,"USD"]
[{"$f":"D4092&F4092&E4092","v":"SAP ColombiaCloud Classic SAP SolutionsSAP-8011342-3"},{"$f":"E4092&F4092","v":"SAP-8011342-3Cloud Classic SAP Solutions"},null,"SAP Colombia","SAP-8011342-3","Cloud Classic SAP Solutions",{"$f":"D4092","v":"SAP Colombia"},"USD","N/A","SAP Customer Activity Repository Cloud, private edition",10000,"Serv","Suscripcion","N/A","N/A","N/A","SAP-8011342-3","Forma de pago estandar a 30 dias",12,1,0,"USD"]
[{"$f":"D4093&F4093&E4093","v":"SAP ColombiaCloud Classic SAP SolutionsSAP-8011342-4"},{"$f":"E4093&F4093","v":"SAP-8011342-4Cloud Classic SAP Solutions"},null,"SAP Colombia","SAP-8011342-4","Cloud Classic SAP Solutions",{"$f":"D4093","v":"SAP Colombia"},"USD","N/A","SAP Customer Activity Repository Cloud, private edition",10000,"Serv","Suscripcion","N/A","N/A","N/A","SAP-8011342-4","Forma de pago estandar a 30 dias",10,1,0,"USD"]
[{"$f":"D4094&F4094&E4094","v":"SAP ColombiaCloud Classic SAP SolutionsSAP-8011342-5"},{"$f":"E4094&F4094","v":"SAP-8011342-5Cloud Classic SAP Solutions"},null,"SAP Colombia","SAP-8011342-5","Cloud Classic SAP Solutions",{"$f":"D4094","v":"SAP Colombia"},"USD","N/A","SAP Customer Activity Repository Cloud, private edition",10000,"Serv","Suscripcion","N/A","N/A","N/A","SAP-8011342-5","Forma de pago estandar a 30 dias",8.4,1,0,"USD"]
[{"$f":"D4095&F4095&E4095","v":"SAP ColombiaCloud Classic SAP SolutionsSAP-8011342-6"},{"$f":"E4095&F4095","v":"SAP-8011342-6Cloud Classic SAP Solutions"},null,"SAP Colombia","SAP-8011342-6","Cloud Classic SAP Solutions",{"$f":"D4095","v":"SAP Colombia"},"USD","N/A","SAP Customer Activity Repository Cloud, private edition",10000,"Serv","Suscripcion","N/A","N/A","N/A","SAP-8011342-6","Forma de pago estandar a 30 dias",7,1,0,"USD"]
[{"$f":"D4096&F4096&E4096","v":"SAP ColombiaCloud Classic SAP SolutionsSAP-8011379-1"},{"$f":"E4096&F4096","v":"SAP-8011379-1Cloud Classic SAP Solutions"},null,"SAP Colombia","SAP-8011379-1","Cloud Classic SAP Solutions",{"$f":"D4096","v":"SAP Colombia"},"USD","N/A","SAP Replenishment Planning for SAP Customer Activity Repository Cloud, private edition",1000,"Serv","Suscripcion","N/A","N/A","N/A","SAP-8011379-1","Forma de pago estandar a 30 dias",7.28,1,0,"USD"]
[{"$f":"D4097&F4097&E4097","v":"SAP ColombiaCloud Classic SAP SolutionsSAP-8011379-2"},{"$f":"E4097&F4097","v":"SAP-8011379-2Cloud Classic SAP Solutions"},null,"SAP Colombia","SAP-8011379-2","Cloud Classic SAP Solutions",{"$f":"D4097","v":"SAP Colombia"},"USD","N/A","SAP Replenishment Planning for SAP Customer Activity Repository Cloud, private edition",1000,"Serv","Suscripcion","N/A","N/A","N/A","SAP-8011379-2","Forma de pago estandar a 30 dias",5.88,1,0,"USD"]
[{"$f":"D4098&F4098&E4098","v":"SAP ColombiaCloud Classic SAP SolutionsSAP-8011379-3"},{"$f":"E4098&F4098","v":"SAP-8011379-3Cloud Classic SAP Solutions"},null,"SAP Colombia","SAP-8011379-3","Cloud Classic SAP Solutions",{"$f":"D4098","v":"SAP Colombia"},"USD","N/A","SAP Replenishment Planning for SAP Customer Activity Repository Cloud, private edition",1000,"Serv","Suscripcion","N/A","N/A","N/A","SAP-8011379-3","Forma de pago estandar a 30 dias",5.0999999999999996,1,0,"USD"]
[{"$f":"D4099&F4099&E4099","v":"SAP ColombiaCloud Classic SAP SolutionsSAP-8011379-4"},{"$f":"E4099&F4099","v":"SAP-8011379-4Cloud Classic SAP Solutions"},null,"SAP Colombia","SAP-8011379-4","Cloud Classic SAP Solutions",{"$f":"D4099","v":"SAP Colombia"},"USD","N/A","SAP Replenishment Planning for SAP Customer Activity Repository Cloud, private edition",1000,"Serv","Suscripcion","N/A","N/A","N/A","SAP-8011379-4","Forma de pago estandar a 30 dias",4.4800000000000004,1,0,"USD"]
[{"$f":"D4100&F4100&E4100","v":"SAP ColombiaCloud Classic SAP SolutionsSAP-8011379-5"},{"$f":"E4100&F4100","v":"SAP-8011379-5Cloud Classic SAP Solutions"},null,"SAP Colombia","SAP-8011379-5","Cloud Classic SAP Solutions",{"$f":"D4100","v":"SAP Colombia"},"USD","N/A","SAP Replenishment Planning for SAP Customer Activity Repository Cloud, private edition",1000,"Serv","Suscripcion","N/A","N/A","N/A","SAP-8011379-5","Forma de pago estandar a 30 dias",4.2,1,0,"USD"]
[{"$f":"D4101&F4101&E4101","v":"SAP ColombiaCloud Classic SAP SolutionsSAP-8011379-6"},{"$f":"E4101&F4101","v":"SAP-8011379-6Cloud Classic SAP Solutions"},null,"SAP Colombia","SAP-8011379-6","Cloud Classic SAP Solutions",{"$f":"D4101","v":"SAP Colombia"},"USD","N/A","SAP Replenishment Planning for SAP Customer Activity Repository Cloud, private edition",1000,"Serv","Suscripcion","N/A","N/A","N/A","SAP-8011379-6","Forma de pago estandar a 30 dias",3.64,1,0,"USD"]
[{"$f":"D4102&F4102&E4102","v":"SAP ColombiaCloud Classic SAP SolutionsSAP-8011399-1"},{"$f":"E4102&F4102","v":"SAP-8011399-1Cloud Classic SAP Solutions"},null,"SAP Colombia","SAP-8011399-1","Cloud Classic SAP Solutions",{"$f":"D4102","v":"SAP Colombia"},"USD","N/A","SAP Forecasting and Replenishment Cloud, private edition",1000,"Serv","Suscripcion","N/A","N/A","N/A","SAP-8011399-1","Forma de pago estandar a 30 dias",29,1,0,"USD"]
[{"$f":"D4103&F4103&E4103","v":"SAP ColombiaCloud Classic SAP SolutionsSAP-8011399-2"},{"$f":"E4103&F4103","v":"SAP-8011399-2Cloud Classic SAP Solutions"},null,"SAP Colombia","SAP-8011399-2","Cloud Classic SAP Solutions",{"$f":"D4103","v":"SAP Colombia"},"USD","N/A","SAP Forecasting and Replenishment Cloud, private edition",1000,"Serv","Suscripcion","N/A","N/A","N/A","SAP-8011399-2","Forma de pago estandar a 30 dias",21,1,0,"USD"]
[{"$f":"D4104&F4104&E4104","v":"SAP ColombiaCloud Classic SAP SolutionsSAP-8011399-3"},{"$f":"E4104&F4104","v":"SAP-8011399-3Cloud Classic SAP Solutions"},null,"SAP Colombia","SAP-8011399-3","Cloud Classic SAP Solutions",{"$f":"D4104","v":"SAP Colombia"},"USD","N/A","SAP Forecasting and Replenishment Cloud, private edition",1000,"Serv","Suscripcion","N/A","N/A","N/A","SAP-8011399-3","Forma de pago estandar a 30 dias",18,1,0,"USD"]
[{"$f":"D4105&F4105&E4105","v":"SAP ColombiaCloud Classic SAP SolutionsSAP-8011399-4"},{"$f":"E4105&F4105","v":"SAP-8011399-4Cloud Classic SAP Solutions"},null,"SAP Colombia","SAP-8011399-4","Cloud Classic SAP Solutions",{"$f":"D4105","v":"SAP Colombia"},"USD","N/A","SAP Forecasting and Replenishment Cloud, private edition",1000,"Serv","Suscripcion","N/A","N/A","N/A","SAP-8011399-4","Forma de pago estandar a 30 dias",13,1,0,"USD"]
[{"$f":"D4106&F4106&E4106","v":"SAP ColombiaCloud Classic SAP SolutionsSAP-8011399-5"},{"$f":"E4106&F4106","v":"SAP-8011399-5Cloud Classic SAP Solutions"},null,"SAP Colombia","SAP-8011399-5","Cloud Classic SAP Solutions",{"$f":"D4106","v":"SAP Colombia"},"USD","N/A","SAP Forecasting and Replenishment Cloud, private edition",1000,"Serv","Suscripcion","N/A","N/A","N/A","SAP-8011399-5","Forma de pago estandar a 30 dias",11,1,0,"USD"]
[{"$f":"D4107&F4107&E4107","v":"SAP ColombiaCloud Classic SAP SolutionsSAP-8011399-6"},{"$f":"E4107&F4107","v":"SAP-8011399-6Cloud Classic SAP Solutions"},null,"SAP Colombia","SAP-8011399-6","Cloud Classic SAP Solutions",{"$f":"D4107","v":"SAP Colombia"},"USD","N/A","SAP Forecasting and Replenishment Cloud, private edition",1000,"Serv","Suscripcion","N/A","N/A","N/A","SAP-8011399-6","Forma de pago estandar a 30 dias",10,1,0,"USD"]
[{"$f":"D4108&F4108&E4108","v":"SAP ColombiaCloud Classic SAP SolutionsSAP-8011400-1"},{"$f":"E4108&F4108","v":"SAP-8011400-1Cloud Classic SAP Solutions"},null,"SAP Colombia","SAP-8011400-1","Cloud Classic SAP Solutions",{"$f":"D4108","v":"SAP Colombia"},"USD","N/A","SAP Forecasting and Replenishment Cloud, add-on for fresh products, private edition",1000,"Serv","Suscripcion","N/A","N/A","N/A","SAP-8011400-1","Forma de pago estandar a 30 dias",24,1,0,"USD"]
[{"$f":"D4109&F4109&E4109","v":"SAP ColombiaCloud Classic SAP SolutionsSAP-8011400-2"},{"$f":"E4109&F4109","v":"SAP-8011400-2Cloud Classic SAP Solutions"},null,"SAP Colombia","SAP-8011400-2","Cloud Classic SAP Solutions",{"$f":"D4109","v":"SAP Colombia"},"USD","N/A","SAP Forecasting and Replenishment Cloud, add-on for fresh products, private edition",1000,"Serv","Suscripcion","N/A","N/A","N/A","SAP-8011400-2","Forma de pago estandar a 30 dias",17,1,0,"USD"]
[{"$f":"D4110&F4110&E4110","v":"SAP ColombiaCloud Classic SAP SolutionsSAP-8011400-3"},{"$f":"E4110&F4110","v":"SAP-8011400-3Cloud Classic SAP Solutions"},null,"SAP Colombia","SAP-8011400-3","Cloud Classic SAP Solutions",{"$f":"D4110","v":"SAP Colombia"},"USD","N/A","SAP Forecasting and Replenishment Cloud, add-on for fresh products, private edition",1000,"Serv","Suscripcion","N/A","N/A","N/A","SAP-8011400-3","Forma de pago estandar a 30 dias",13,1,0,"USD"]
[{"$f":"D4111&F4111&E4111","v":"SAP ColombiaCloud Classic SAP SolutionsSAP-8011400-4"},{"$f":"E4111&F4111","v":"SAP-8011400-4Cloud Classic SAP Solutions"},null,"SAP Colombia","SAP-8011400-4","Cloud Classic SAP Solutions",{"$f":"D4111","v":"SAP Colombia"},"USD","N/A","SAP Forecasting and Replenishment Cloud, add-on for fresh products, private edition",1000,"Serv","Suscripcion","N/A","N/A","N/A","SAP-8011400-4","Forma de pago estandar a 30 dias",11,1,0,"USD"]
[{"$f":"D4112&F4112&E4112","v":"SAP ColombiaCloud Classic SAP SolutionsSAP-8011400-5"},{"$f":"E4112&F4112","v":"SAP-8011400-5Cloud Classic SAP Solutions"},null,"SAP Colombia","SAP-8011400-5","Cloud Classic SAP Solutions",{"$f":"D4112","v":"SAP Colombia"},"USD","N/A","SAP Forecasting and Replenishment Cloud, add-on for fresh products, private edition",1000,"Serv","Suscripcion","N/A","N/A","N/A","SAP-8011400-5","Forma de pago estandar a 30 dias",9.52,1,0,"USD"]
[{"$f":"D4113&F4113&E4113","v":"SAP ColombiaCloud Classic SAP SolutionsSAP-8011400-6"},{"$f":"E4113&F4113","v":"SAP-8011400-6Cloud Classic SAP Solutions"},null,"SAP Colombia","SAP-8011400-6","Cloud Classic SAP Solutions",{"$f":"D4113","v":"SAP Colombia"},"USD","N/A","SAP Forecasting and Replenishment Cloud, add-on for fresh products, private edition",1000,"Serv","Suscripcion","N/A","N/A","N/A","SAP-8011400-6","Forma de pago estandar a 30 dias",8.4,1,0,"USD"]
[{"$f":"D4114&F4114&E4114","v":"SAP ColombiaCloud Classic SAP SolutionsSAP-8011407"},{"$f":"E4114&F4114","v":"SAP-8011407Cloud Classic SAP Solutions"},null,"SAP Colombia","SAP-8011407","Cloud Classic SAP Solutions",{"$f":"D4114","v":"SAP Colombia"},"USD","N/A","SAP Forecasting and Replenishment Cloud, additional non-productive tier, private edition (XS)",1,"Serv","Suscripcion","N/A","N/A","N/A","SAP-8011407","Forma de pago estandar a 30 dias",11199,1,0,"USD"]
[{"$f":"D4115&F4115&E4115","v":"SAP ColombiaCloud Classic SAP SolutionsSAP-8011408"},{"$f":"E4115&F4115","v":"SAP-8011408Cloud Classic SAP Solutions"},null,"SAP Colombia","SAP-8011408","Cloud Classic SAP Solutions",{"$f":"D4115","v":"SAP Colombia"},"USD","N/A","SAP Forecasting and Replenishment Cloud, additional non-productive tier, private edition (S)",1,"Serv","Suscripcion","N/A","N/A","N/A","SAP-8011408","Forma de pago estandar a 30 dias",17918,1,0,"USD"]
[{"$f":"D4116&F4116&E4116","v":"SAP ColombiaCloud Classic SAP SolutionsSAP-8011409"},{"$f":"E4116&F4116","v":"SAP-8011409Cloud Classic SAP Solutions"},null,"SAP Colombia","SAP-8011409","Cloud Classic SAP Solutions",{"$f":"D4116","v":"SAP Colombia"},"USD","N/A","SAP Forecasting and Replenishment Cloud, additional non-productive tier, private edition (M)",1,"Serv","Suscripcion","N/A","N/A","N/A","SAP-8011409","Forma de pago estandar a 30 dias",23518,1,0,"USD"]
[{"$f":"D4117&F4117&E4117","v":"SAP ColombiaCloud Classic SAP SolutionsSAP-8011410"},{"$f":"E4117&F4117","v":"SAP-8011410Cloud Classic SAP Solutions"},null,"SAP Colombia","SAP-8011410","Cloud Classic SAP Solutions",{"$f":"D4117","v":"SAP Colombia"},"USD","N/A","SAP Forecasting and Replenishment Cloud, additional non-productive tier, private edition (L)",1,"Serv","Suscripcion","N/A","N/A","N/A","SAP-8011410","Forma de pago estandar a 30 dias",36397,1,0,"USD"]
[{"$f":"D4118&F4118&E4118","v":"SAP ColombiaCloud Classic SAP SolutionsSAP-8011411"},{"$f":"E4118&F4118","v":"SAP-8011411Cloud Classic SAP Solutions"},null,"SAP Colombia","SAP-8011411","Cloud Classic SAP Solutions",{"$f":"D4118","v":"SAP Colombia"},"USD","N/A","SAP Forecasting and Replenishment Cloud, additional non-productive tier, private edition (XL)",1,"Serv","Suscripcion","N/A","N/A","N/A","SAP-8011411","Forma de pago estandar a 30 dias",48716,1,0,"USD"]
[{"$f":"D4119&F4119&E4119","v":"SAP ColombiaCloud Classic SAP SolutionsSAP-8011412"},{"$f":"E4119&F4119","v":"SAP-8011412Cloud Classic SAP Solutions"},null,"SAP Colombia","SAP-8011412","Cloud Classic SAP Solutions",{"$f":"D4119","v":"SAP Colombia"},"USD","N/A","SAP Forecasting and Replenishment Cloud, additional non-productive tier, private edition (XXL)",1,"Serv","Suscripcion","N/A","N/A","N/A","SAP-8011412","Forma de pago estandar a 30 dias",73913,1,0,"USD"]
[{"$f":"D4120&F4120&E4120","v":"SAP ColombiaCloud Classic SAP SolutionsSAP-8011431-1"},{"$f":"E4120&F4120","v":"SAP-8011431-1Cloud Classic SAP Solutions"},null,"SAP Colombia","SAP-8011431-1","Cloud Classic SAP Solutions",{"$f":"D4120","v":"SAP Colombia"},"USD","N/A","SAP Promotion Management for SAP Customer Activity Repository Cloud, private edition",1,"Serv","Suscripcion","N/A","N/A","N/A","SAP-8011431-1","Forma de pago estandar a 30 dias",1120,1,0,"USD"]
[{"$f":"D4121&F4121&E4121","v":"SAP ColombiaCloud Classic SAP SolutionsSAP-8011431-2"},{"$f":"E4121&F4121","v":"SAP-8011431-2Cloud Classic SAP Solutions"},null,"SAP Colombia","SAP-8011431-2","Cloud Classic SAP Solutions",{"$f":"D4121","v":"SAP Colombia"},"USD","N/A","SAP Promotion Management for SAP Customer Activity Repository Cloud, private edition",1,"Serv","Suscripcion","N/A","N/A","N/A","SAP-8011431-2","Forma de pago estandar a 30 dias",896,1,0,"USD"]
[{"$f":"D4122&F4122&E4122","v":"SAP ColombiaCloud Classic SAP SolutionsSAP-8011431-3"},{"$f":"E4122&F4122","v":"SAP-8011431-3Cloud Classic SAP Solutions"},null,"SAP Colombia","SAP-8011431-3","Cloud Classic SAP Solutions",{"$f":"D4122","v":"SAP Colombia"},"USD","N/A","SAP Promotion Management for SAP Customer Activity Repository Cloud, private edition",1,"Serv","Suscripcion","N/A","N/A","N/A","SAP-8011431-3","Forma de pago estandar a 30 dias",756,1,0,"USD"]
[{"$f":"D4123&F4123&E4123","v":"SAP ColombiaCloud Classic SAP SolutionsSAP-8011431-4"},{"$f":"E4123&F4123","v":"SAP-8011431-4Cloud Classic SAP Solutions"},null,"SAP Colombia","SAP-8011431-4","Cloud Classic SAP Solutions",{"$f":"D4123","v":"SAP Colombia"},"USD","N/A","SAP Promotion Management for SAP Customer Activity Repository Cloud, private edition",1,"Serv","Suscripcion","N/A","N/A","N/A","SAP-8011431-4","Forma de pago estandar a 30 dias",616,1,0,"USD"]
[{"$f":"D4124&F4124&E4124","v":"SAP ColombiaCloud Classic SAP SolutionsSAP-8011432-1"},{"$f":"E4124&F4124","v":"SAP-8011432-1Cloud Classic SAP Solutions"},null,"SAP Colombia","SAP-8011432-1","Cloud Classic SAP Solutions",{"$f":"D4124","v":"SAP Colombia"},"USD","N/A","SAP Assortment Planning for SAP Customer Activity Repository Cloud, private edition",1,"Serv","Suscripcion","N/A","N/A","N/A","SAP-8011432-1","Forma de pago estandar a 30 dias",1036,1,0,"USD"]
[{"$f":"D4125&F4125&E4125","v":"SAP ColombiaCloud Classic SAP SolutionsSAP-8011432-2"},{"$f":"E4125&F4125","v":"SAP-8011432-2Cloud Classic SAP Solutions"},null,"SAP Colombia","SAP-8011432-2","Cloud Classic SAP Solutions",{"$f":"D4125","v":"SAP Colombia"},"USD","N/A","SAP Assortment Planning for SAP Customer Activity Repository Cloud, private edition",1,"Serv","Suscripcion","N/A","N/A","N/A","SAP-8011432-2","Forma de pago estandar a 30 dias",784,1,0,"USD"]
[{"$f":"D4126&F4126&E4126","v":"SAP ColombiaCloud Classic SAP SolutionsSAP-8011432-3"},{"$f":"E4126&F4126","v":"SAP-8011432-3Cloud Classic SAP Solutions"},null,"SAP Colombia","SAP-8011432-3","Cloud Classic SAP Solutions",{"$f":"D4126","v":"SAP Colombia"},"USD","N/A","SAP Assortment Planning for SAP Customer Activity Repository Cloud, private edition",1,"Serv","Suscripcion","N/A","N/A","N/A","SAP-8011432-3","Forma de pago estandar a 30 dias",616,1,0,"USD"]
[{"$f":"D4127&F4127&E4127","v":"SAP ColombiaCloud Classic SAP SolutionsSAP-8011432-4"},{"$f":"E4127&F4127","v":"SAP-8011432-4Cloud Classic SAP Solutions"},null,"SAP Colombia","SAP-8011432-4","Cloud Classic SAP Solutions",{"$f":"D4127","v":"SAP Colombia"},"USD","N/A","SAP Assortment Planning for SAP Customer Activity Repository Cloud, private edition",1,"Serv","Suscripcion","N/A","N/A","N/A","SAP-8011432-4","Forma de pago estandar a 30 dias",470,1,0,"USD"]
[{"$f":"D4128&F4128&E4128","v":"SAP ColombiaCloud Classic SAP SolutionsSAP-8011433-1"},{"$f":"E4128&F4128","v":"SAP-8011433-1Cloud Classic SAP Solutions"},null,"SAP Colombia","SAP-8011433-1","Cloud Classic SAP Solutions",{"$f":"D4128","v":"SAP Colombia"},"USD","N/A","SAP Merchandise Planning for SAP Customer Activity Repository Cloud, private edition",1,"Serv","Suscripcion","N/A","N/A","N/A","SAP-8011433-1","Forma de pago estandar a 30 dias",728,1,0,"USD"]
[{"$f":"D4129&F4129&E4129","v":"SAP ColombiaCloud Classic SAP SolutionsSAP-8011433-2"},{"$f":"E4129&F4129","v":"SAP-8011433-2Cloud Classic SAP Solutions"},null,"SAP Colombia","SAP-8011433-2","Cloud Classic SAP Solutions",{"$f":"D4129","v":"SAP Colombia"},"USD","N/A","SAP Merchandise Planning for SAP Customer Activity Repository Cloud, private edition",1,"Serv","Suscripcion","N/A","N/A","N/A","SAP-8011433-2","Forma de pago estandar a 30 dias",448,1,0,"USD"]
[{"$f":"D4130&F4130&E4130","v":"SAP ColombiaCloud Classic SAP SolutionsSAP-8011433-3"},{"$f":"E4130&F4130","v":"SAP-8011433-3Cloud Classic SAP Solutions"},null,"SAP Colombia","SAP-8011433-3","Cloud Classic SAP Solutions",{"$f":"D4130","v":"SAP Colombia"},"USD","N/A","SAP Merchandise Planning for SAP Customer Activity Repository Cloud, private edition",1,"Serv","Suscripcion","N/A","N/A","N/A","SAP-8011433-3","Forma de pago estandar a 30 dias",392,1,0,"USD"]
[{"$f":"D4131&F4131&E4131","v":"SAP ColombiaCloud Classic SAP SolutionsSAP-8011433-4"},{"$f":"E4131&F4131","v":"SAP-8011433-4Cloud Classic SAP Solutions"},null,"SAP Colombia","SAP-8011433-4","Cloud Classic SAP Solutions",{"$f":"D4131","v":"SAP Colombia"},"USD","N/A","SAP Merchandise Planning for SAP Customer Activity Repository Cloud, private edition",1,"Serv","Suscripcion","N/A","N/A","N/A","SAP-8011433-4","Forma de pago estandar a 30 dias",308,1,0,"USD"]
[{"$f":"D4132&F4132&E4132","v":"SAP ColombiaCloud Classic SAP SolutionsSAP-8011434-1"},{"$f":"E4132&F4132","v":"SAP-8011434-1Cloud Classic SAP Solutions"},null,"SAP Colombia","SAP-8011434-1","Cloud Classic SAP Solutions",{"$f":"D4132","v":"SAP Colombia"},"USD","N/A","SAP Allocation Management for SAP Customer Activity Repository Cloud, private edition",1000,"Serv","Suscripcion","N/A","N/A","N/A","SAP-8011434-1","Forma de pago estandar a 30 dias",7.28,1,0,"USD"]
[{"$f":"D4133&F4133&E4133","v":"SAP ColombiaCloud Classic SAP SolutionsSAP-8011434-2"},{"$f":"E4133&F4133","v":"SAP-8011434-2Cloud Classic SAP Solutions"},null,"SAP Colombia","SAP-8011434-2","Cloud Classic SAP Solutions",{"$f":"D4133","v":"SAP Colombia"},"USD","N/A","SAP Allocation Management for SAP Customer Activity Repository Cloud, private edition",1000,"Serv","Suscripcion","N/A","N/A","N/A","SAP-8011434-2","Forma de pago estandar a 30 dias",5.88,1,0,"USD"]
[{"$f":"D4134&F4134&E4134","v":"SAP ColombiaCloud Classic SAP SolutionsSAP-8011434-3"},{"$f":"E4134&F4134","v":"SAP-8011434-3Cloud Classic SAP Solutions"},null,"SAP Colombia","SAP-8011434-3","Cloud Classic SAP Solutions",{"$f":"D4134","v":"SAP Colombia"},"USD","N/A","SAP Allocation Management for SAP Customer Activity Repository Cloud, private edition",1000,"Serv","Suscripcion","N/A","N/A","N/A","SAP-8011434-3","Forma de pago estandar a 30 dias",5.0999999999999996,1,0,"USD"]
[{"$f":"D4135&F4135&E4135","v":"SAP ColombiaCloud Classic SAP SolutionsSAP-8011434-4"},{"$f":"E4135&F4135","v":"SAP-8011434-4Cloud Classic SAP Solutions"},null,"SAP Colombia","SAP-8011434-4","Cloud Classic SAP Solutions",{"$f":"D4135","v":"SAP Colombia"},"USD","N/A","SAP Allocation Management for SAP Customer Activity Repository Cloud, private edition",1000,"Serv","Suscripcion","N/A","N/A","N/A","SAP-8011434-4","Forma de pago estandar a 30 dias",4.4800000000000004,1,0,"USD"]
[{"$f":"D4136&F4136&E4136","v":"SAP ColombiaCloud Classic SAP SolutionsSAP-8011434-5"},{"$f":"E4136&F4136","v":"SAP-8011434-5Cloud Classic SAP Solutions"},null,"SAP Colombia","SAP-8011434-5","Cloud Classic SAP Solutions",{"$f":"D4136","v":"SAP Colombia"},"USD","N/A","SAP Allocation Management for SAP Customer Activity Repository Cloud, private edition",1000,"Serv","Suscripcion","N/A","N/A","N/A","SAP-8011434-5","Forma de pago estandar a 30 dias",4.2,1,0,"USD"]
[{"$f":"D4137&F4137&E4137","v":"SAP ColombiaCloud Classic SAP SolutionsSAP-8011434-6"},{"$f":"E4137&F4137","v":"SAP-8011434-6Cloud Classic SAP Solutions"},null,"SAP Colombia","SAP-8011434-6","Cloud Classic SAP Solutions",{"$f":"D4137","v":"SAP Colombia"},"USD","N/A","SAP Allocation Management for SAP Customer Activity Repository Cloud, private edition",1000,"Serv","Suscripcion","N/A","N/A","N/A","SAP-8011434-6","Forma de pago estandar a 30 dias",3.64,1,0,"USD"]
[{"$f":"D4138&F4138&E4138","v":"SAP ColombiaCloud Classic SAP SolutionsSAP-8011474-1"},{"$f":"E4138&F4138","v":"SAP-8011474-1Cloud Classic SAP Solutions"},null,"SAP Colombia","SAP-8011474-1","Cloud Classic SAP Solutions",{"$f":"D4138","v":"SAP Colombia"},"USD","N/A","SAP Intelligent Returns Management",10000,"Serv","Suscripcion","N/A","N/A","N/A","SAP-8011474-1","Forma de pago estandar a 30 dias",532,1,0,"USD"]
[{"$f":"D4139&F4139&E4139","v":"SAP ColombiaCloud Classic SAP SolutionsSAP-8011474-2"},{"$f":"E4139&F4139","v":"SAP-8011474-2Cloud Classic SAP Solutions"},null,"SAP Colombia","SAP-8011474-2","Cloud Classic SAP Solutions",{"$f":"D4139","v":"SAP Colombia"},"USD","N/A","SAP Intelligent Returns Management",10000,"Serv","Suscripcion","N/A","N/A","N/A","SAP-8011474-2","Forma de pago estandar a 30 dias",504,1,0,"USD"]
[{"$f":"D4140&F4140&E4140","v":"SAP ColombiaCloud Classic SAP SolutionsSAP-8011474-3"},{"$f":"E4140&F4140","v":"SAP-8011474-3Cloud Classic SAP Solutions"},null,"SAP Colombia","SAP-8011474-3","Cloud Classic SAP Solutions",{"$f":"D4140","v":"SAP Colombia"},"USD","N/A","SAP Intelligent Returns Management",10000,"Serv","Suscripcion","N/A","N/A","N/A","SAP-8011474-3","Forma de pago estandar a 30 dias",476,1,0,"USD"]
[{"$f":"D4141&F4141&E4141","v":"SAP ColombiaCloud Classic SAP SolutionsSAP-8011474-4"},{"$f":"E4141&F4141","v":"SAP-8011474-4Cloud Classic SAP Solutions"},null,"SAP Colombia","SAP-8011474-4","Cloud Classic SAP Solutions",{"$f":"D4141","v":"SAP Colombia"},"USD","N/A","SAP Intelligent Returns Management",10000,"Serv","Suscripcion","N/A","N/A","N/A","SAP-8011474-4","Forma de pago estandar a 30 dias",448,1,0,"USD"]
[{"$f":"D4142&F4142&E4142","v":"SAP ColombiaCloud Classic SAP SolutionsSAP-8011474-5"},{"$f":"E4142&F4142","v":"SAP-8011474-5Cloud Classic SAP Solutions"},null,"SAP Colombia","SAP-8011474-5","Cloud Classic SAP Solutions",{"$f":"D4142","v":"SAP Colombia"},"USD","N/A","SAP Intelligent Returns Management",10000,"Serv","Suscripcion","N/A","N/A","N/A","SAP-8011474-5","Forma de pago estandar a 30 dias",420,1,0,"USD"]
[{"$f":"D4143&F4143&E4143","v":"SAP ColombiaCloud Classic SAP SolutionsSAP-8011474-6"},{"$f":"E4143&F4143","v":"SAP-8011474-6Cloud Classic SAP Solutions"},null,"SAP Colombia","SAP-8011474-6","Cloud Classic SAP Solutions",{"$f":"D4143","v":"SAP Colombia"},"USD","N/A","SAP Intelligent Returns Management",10000,"Serv","Suscripcion","N/A","N/A","N/A","SAP-8011474-6","Forma de pago estandar a 30 dias",392,1,0,"USD"]
[{"$f":"D4144&F4144&E4144","v":"SAP ColombiaCloud Classic SAP SolutionsSAP-8011496-1"},{"$f":"E4144&F4144","v":"SAP-8011496-1Cloud Classic SAP Solutions"},null,"SAP Colombia","SAP-8011496-1","Cloud Classic SAP Solutions",{"$f":"D4144","v":"SAP Colombia"},"USD","N/A","SAP Order Management foundation",10000,"Serv","Suscripcion","N/A","N/A","N/A","SAP-8011496-1","Forma de pago estandar a 30 dias",118,1,0,"USD"]
[{"$f":"D4145&F4145&E4145","v":"SAP ColombiaCloud Classic SAP SolutionsSAP-8011496-2"},{"$f":"E4145&F4145","v":"SAP-8011496-2Cloud Classic SAP Solutions"},null,"SAP Colombia","SAP-8011496-2","Cloud Classic SAP Solutions",{"$f":"D4145","v":"SAP Colombia"},"USD","N/A","SAP Order Management foundation",10000,"Serv","Suscripcion","N/A","N/A","N/A","SAP-8011496-2","Forma de pago estandar a 30 dias",95,1,0,"USD"]
[{"$f":"D4146&F4146&E4146","v":"SAP ColombiaCloud Classic SAP SolutionsSAP-8011496-3"},{"$f":"E4146&F4146","v":"SAP-8011496-3Cloud Classic SAP Solutions"},null,"SAP Colombia","SAP-8011496-3","Cloud Classic SAP Solutions",{"$f":"D4146","v":"SAP Colombia"},"USD","N/A","SAP Order Management foundation",10000,"Serv","Suscripcion","N/A","N/A","N/A","SAP-8011496-3","Forma de pago estandar a 30 dias",78,1,0,"USD"]
[{"$f":"D4147&F4147&E4147","v":"SAP ColombiaCloud Classic SAP SolutionsSAP-8011496-4"},{"$f":"E4147&F4147","v":"SAP-8011496-4Cloud Classic SAP Solutions"},null,"SAP Colombia","SAP-8011496-4","Cloud Classic SAP Solutions",{"$f":"D4147","v":"SAP Colombia"},"USD","N/A","SAP Order Management foundation",10000,"Serv","Suscripcion","N/A","N/A","N/A","SAP-8011496-4","Forma de pago estandar a 30 dias",67,1,0,"USD"]
[{"$f":"D4148&F4148&E4148","v":"SAP ColombiaCloud Classic SAP SolutionsSAP-8011496-5"},{"$f":"E4148&F4148","v":"SAP-8011496-5Cloud Classic SAP Solutions"},null,"SAP Colombia","SAP-8011496-5","Cloud Classic SAP Solutions",{"$f":"D4148","v":"SAP Colombia"},"USD","N/A","SAP Order Management foundation",10000,"Serv","Suscripcion","N/A","N/A","N/A","SAP-8011496-5","Forma de pago estandar a 30 dias",62,1,0,"USD"]
[{"$f":"D4149&F4149&E4149","v":"SAP ColombiaCloud Classic SAP SolutionsSAP-8011496-6"},{"$f":"E4149&F4149","v":"SAP-8011496-6Cloud Classic SAP Solutions"},null,"SAP Colombia","SAP-8011496-6","Cloud Classic SAP Solutions",{"$f":"D4149","v":"SAP Colombia"},"USD","N/A","SAP Order Management foundation",10000,"Serv","Suscripcion","N/A","N/A","N/A","SAP-8011496-6","Forma de pago estandar a 30 dias",56,1,0,"USD"]
[{"$f":"D4150&F4150&E4150","v":"SAP ColombiaCloud Classic SAP SolutionsSAP-8012189"},{"$f":"E4150&F4150","v":"SAP-8012189Cloud Classic SAP Solutions"},null,"SAP Colombia","SAP-8012189","Cloud Classic SAP Solutions",{"$f":"D4150","v":"SAP Colombia"},"USD","N/A","SAP Forecasting and Replenishment Cloud, additional productive tier, private edition (XS)",1,"Serv","Suscripcion","N/A","N/A","N/A","SAP-8012189","Forma de pago estandar a 30 dias",20942,1,0,"USD"]
[{"$f":"D4151&F4151&E4151","v":"SAP ColombiaCloud Classic SAP SolutionsSAP-8012190"},{"$f":"E4151&F4151","v":"SAP-8012190Cloud Classic SAP Solutions"},null,"SAP Colombia","SAP-8012190","Cloud Classic SAP Solutions",{"$f":"D4151","v":"SAP Colombia"},"USD","N/A","SAP Forecasting and Replenishment Cloud, additional productive tier, private edition (S)",1,"Serv","Suscripcion","N/A","N/A","N/A","SAP-8012190","Forma de pago estandar a 30 dias",34717,1,0,"USD"]
[{"$f":"D4152&F4152&E4152","v":"SAP ColombiaCloud Classic SAP SolutionsSAP-8012191"},{"$f":"E4152&F4152","v":"SAP-8012191Cloud Classic SAP Solutions"},null,"SAP Colombia","SAP-8012191","Cloud Classic SAP Solutions",{"$f":"D4152","v":"SAP Colombia"},"USD","N/A","SAP Forecasting and Replenishment Cloud, additional productive tier, private edition (M)",1,"Serv","Suscripcion","N/A","N/A","N/A","SAP-8012191","Forma de pago estandar a 30 dias",44236,1,0,"USD"]
[{"$f":"D4153&F4153&E4153","v":"SAP ColombiaCloud Classic SAP SolutionsSAP-8012192"},{"$f":"E4153&F4153","v":"SAP-8012192Cloud Classic SAP Solutions"},null,"SAP Colombia","SAP-8012192","Cloud Classic SAP Solutions",{"$f":"D4153","v":"SAP Colombia"},"USD","N/A","SAP Forecasting and Replenishment Cloud, additional productive tier, private edition (L)",1,"Serv","Suscripcion","N/A","N/A","N/A","SAP-8012192","Forma de pago estandar a 30 dias",61595,1,0,"USD"]
[{"$f":"D4154&F4154&E4154","v":"SAP ColombiaCloud Classic SAP SolutionsSAP-8012193"},{"$f":"E4154&F4154","v":"SAP-8012193Cloud Classic SAP Solutions"},null,"SAP Colombia","SAP-8012193","Cloud Classic SAP Solutions",{"$f":"D4154","v":"SAP Colombia"},"USD","N/A","SAP Forecasting and Replenishment Cloud, additional productive tier, private edition (XL)",1,"Serv","Suscripcion","N/A","N/A","N/A","SAP-8012193","Forma de pago estandar a 30 dias",80633,1,0,"USD"]
[{"$f":"D4155&F4155&E4155","v":"SAP ColombiaCloud Classic SAP SolutionsSAP-8012194"},{"$f":"E4155&F4155","v":"SAP-8012194Cloud Classic SAP Solutions"},null,"SAP Colombia","SAP-8012194","Cloud Classic SAP Solutions",{"$f":"D4155","v":"SAP Colombia"},"USD","N/A","SAP Forecasting and Replenishment Cloud, additional productive tier, private edition (XXL)",1,"Serv","Suscripcion","N/A","N/A","N/A","SAP-8012194","Forma de pago estandar a 30 dias",127669,1,0,"USD"]
[{"$f":"D4156&F4156&E4156","v":"SAP ColombiaCloud Classic SAP SolutionsSAP-8012195"},{"$f":"E4156&F4156","v":"SAP-8012195Cloud Classic SAP Solutions"},null,"SAP Colombia","SAP-8012195","Cloud Classic SAP Solutions",{"$f":"D4156","v":"SAP Colombia"},"USD","N/A","SAP Customer Activity Repository Cloud, additional productive tier, private edition (XXS)",1,"Serv","Suscripcion","N/A","N/A","N/A","SAP-8012195","Forma de pago estandar a 30 dias",20942,1,0,"USD"]
[{"$f":"D4157&F4157&E4157","v":"SAP ColombiaCloud Classic SAP SolutionsSAP-8012196"},{"$f":"E4157&F4157","v":"SAP-8012196Cloud Classic SAP Solutions"},null,"SAP Colombia","SAP-8012196","Cloud Classic SAP Solutions",{"$f":"D4157","v":"SAP Colombia"},"USD","N/A","SAP Customer Activity Repository Cloud, additional productive tier, private edition (XS)",1,"Serv","Suscripcion","N/A","N/A","N/A","SAP-8012196","Forma de pago estandar a 30 dias",29677,1,0,"USD"]
[{"$f":"D4158&F4158&E4158","v":"SAP ColombiaCloud Classic SAP SolutionsSAP-8012197"},{"$f":"E4158&F4158","v":"SAP-8012197Cloud Classic SAP Solutions"},null,"SAP Colombia","SAP-8012197","Cloud Classic SAP Solutions",{"$f":"D4158","v":"SAP Colombia"},"USD","N/A","SAP Customer Activity Repository Cloud, additional productive tier, private edition (S)",1,"Serv","Suscripcion","N/A","N/A","N/A","SAP-8012197","Forma de pago estandar a 30 dias",34717,1,0,"USD"]
[{"$f":"D4159&F4159&E4159","v":"SAP ColombiaCloud Classic SAP SolutionsSAP-8012198"},{"$f":"E4159&F4159","v":"SAP-8012198Cloud Classic SAP Solutions"},null,"SAP Colombia","SAP-8012198","Cloud Classic SAP Solutions",{"$f":"D4159","v":"SAP Colombia"},"USD","N/A","SAP Customer Activity Repository Cloud, additional productive tier, private edition (M)",1,"Serv","Suscripcion","N/A","N/A","N/A","SAP-8012198","Forma de pago estandar a 30 dias",44796,1,0,"USD"]
[{"$f":"D4160&F4160&E4160","v":"SAP ColombiaCloud Classic SAP SolutionsSAP-8012199"},{"$f":"E4160&F4160","v":"SAP-8012199Cloud Classic SAP Solutions"},null,"SAP Colombia","SAP-8012199","Cloud Classic SAP Solutions",{"$f":"D4160","v":"SAP Colombia"},"USD","N/A","SAP Customer Activity Repository Cloud, additional productive tier, private edition (L)",1,"Serv","Suscripcion","N/A","N/A","N/A","SAP-8012199","Forma de pago estandar a 30 dias",60475,1,0,"USD"]
[{"$f":"D4161&F4161&E4161","v":"SAP ColombiaCloud Classic SAP SolutionsSAP-8012200"},{"$f":"E4161&F4161","v":"SAP-8012200Cloud Classic SAP Solutions"},null,"SAP Colombia","SAP-8012200","Cloud Classic SAP Solutions",{"$f":"D4161","v":"SAP Colombia"},"USD","N/A","SAP Customer Activity Repository Cloud, additional productive tier, private edition (XL)",1,"Serv","Suscripcion","N/A","N/A","N/A","SAP-8012200","Forma de pago estandar a 30 dias",105271,1,0,"USD"]
[{"$f":"D4162&F4162&E4162","v":"SAP ColombiaCloud Classic SAP SolutionsSAP-8012209-1"},{"$f":"E4162&F4162","v":"SAP-8012209-1Cloud Classic SAP Solutions"},null,"SAP Colombia","SAP-8012209-1","Cloud Classic SAP Solutions",{"$f":"D4162","v":"SAP Colombia"},"USD","N/A","SAP Customer Activity Repository Cloud, omnichannel price and promotion service, private edition",1000,"Serv","Suscripcion","N/A","N/A","N/A","SAP-8012209-1","Forma de pago estandar a 30 dias",2520,1,0,"USD"]
[{"$f":"D4163&F4163&E4163","v":"SAP ColombiaCloud Classic SAP SolutionsSAP-8012209-2"},{"$f":"E4163&F4163","v":"SAP-8012209-2Cloud Classic SAP Solutions"},null,"SAP Colombia","SAP-8012209-2","Cloud Classic SAP Solutions",{"$f":"D4163","v":"SAP Colombia"},"USD","N/A","SAP Customer Activity Repository Cloud, omnichannel price and promotion service, private edition",1000,"Serv","Suscripcion","N/A","N/A","N/A","SAP-8012209-2","Forma de pago estandar a 30 dias",1456,1,0,"USD"]
[{"$f":"D4164&F4164&E4164","v":"SAP ColombiaCloud Classic SAP SolutionsSAP-8012209-3"},{"$f":"E4164&F4164","v":"SAP-8012209-3Cloud Classic SAP Solutions"},null,"SAP Colombia","SAP-8012209-3","Cloud Classic SAP Solutions",{"$f":"D4164","v":"SAP Colombia"},"USD","N/A","SAP Customer Activity Repository Cloud, omnichannel price and promotion service, private edition",1000,"Serv","Suscripcion","N/A","N/A","N/A","SAP-8012209-3","Forma de pago estandar a 30 dias",1103,1,0,"USD"]
[{"$f":"D4165&F4165&E4165","v":"SAP ColombiaCloud Classic SAP SolutionsSAP-8012209-4"},{"$f":"E4165&F4165","v":"SAP-8012209-4Cloud Classic SAP Solutions"},null,"SAP Colombia","SAP-8012209-4","Cloud Classic SAP Solutions",{"$f":"D4165","v":"SAP Colombia"},"USD","N/A","SAP Customer Activity Repository Cloud, omnichannel price and promotion service, private edition",1000,"Serv","Suscripcion","N/A","N/A","N/A","SAP-8012209-4","Forma de pago estandar a 30 dias",784,1,0,"USD"]
[{"$f":"D4166&F4166&E4166","v":"SAP ColombiaCloud Classic SAP SolutionsSAP-8012209-5"},{"$f":"E4166&F4166","v":"SAP-8012209-5Cloud Classic SAP Solutions"},null,"SAP Colombia","SAP-8012209-5","Cloud Classic SAP Solutions",{"$f":"D4166","v":"SAP Colombia"},"USD","N/A","SAP Customer Activity Repository Cloud, omnichannel price and promotion service, private edition",1000,"Serv","Suscripcion","N/A","N/A","N/A","SAP-8012209-5","Forma de pago estandar a 30 dias",538,1,0,"USD"]
[{"$f":"D4167&F4167&E4167","v":"SAP ColombiaCloud Classic SAP SolutionsSAP-8012209-6"},{"$f":"E4167&F4167","v":"SAP-8012209-6Cloud Classic SAP Solutions"},null,"SAP Colombia","SAP-8012209-6","Cloud Classic SAP Solutions",{"$f":"D4167","v":"SAP Colombia"},"USD","N/A","SAP Customer Activity Repository Cloud, omnichannel price and promotion service, private edition",1000,"Serv","Suscripcion","N/A","N/A","N/A","SAP-8012209-6","Forma de pago estandar a 30 dias",470,1,0,"USD"]
[{"$f":"D4168&F4168&E4168","v":"SAP ColombiaCloud Classic SAP SolutionsSAP-8012210-1"},{"$f":"E4168&F4168","v":"SAP-8012210-1Cloud Classic SAP Solutions"},null,"SAP Colombia","SAP-8012210-1","Cloud Classic SAP Solutions",{"$f":"D4168","v":"SAP Colombia"},"USD","N/A","SAP Omnichannel Sales Transfer and Audit",10000,"Serv","Suscripcion","N/A","N/A","N/A","SAP-8012210-1","Forma de pago estandar a 30 dias",4.76,1,0,"USD"]
[{"$f":"D4169&F4169&E4169","v":"SAP ColombiaCloud Classic SAP SolutionsSAP-8012210-2"},{"$f":"E4169&F4169","v":"SAP-8012210-2Cloud Classic SAP Solutions"},null,"SAP Colombia","SAP-8012210-2","Cloud Classic SAP Solutions",{"$f":"D4169","v":"SAP Colombia"},"USD","N/A","SAP Omnichannel Sales Transfer and Audit",10000,"Serv","Suscripcion","N/A","N/A","N/A","SAP-8012210-2","Forma de pago estandar a 30 dias",3.08,1,0,"USD"]
[{"$f":"D4170&F4170&E4170","v":"SAP ColombiaCloud Classic SAP SolutionsSAP-8012210-3"},{"$f":"E4170&F4170","v":"SAP-8012210-3Cloud Classic SAP Solutions"},null,"SAP Colombia","SAP-8012210-3","Cloud Classic SAP Solutions",{"$f":"D4170","v":"SAP Colombia"},"USD","N/A","SAP Omnichannel Sales Transfer and Audit",10000,"Serv","Suscripcion","N/A","N/A","N/A","SAP-8012210-3","Forma de pago estandar a 30 dias",2.52,1,0,"USD"]
[{"$f":"D4171&F4171&E4171","v":"SAP ColombiaCloud Classic SAP SolutionsSAP-8012210-4"},{"$f":"E4171&F4171","v":"SAP-8012210-4Cloud Classic SAP Solutions"},null,"SAP Colombia","SAP-8012210-4","Cloud Classic SAP Solutions",{"$f":"D4171","v":"SAP Colombia"},"USD","N/A","SAP Omnichannel Sales Transfer and Audit",10000,"Serv","Suscripcion","N/A","N/A","N/A","SAP-8012210-4","Forma de pago estandar a 30 dias",2.2400000000000002,1,0,"USD"]
[{"$f":"D4172&F4172&E4172","v":"SAP ColombiaCloud Classic SAP SolutionsSAP-8012210-5"},{"$f":"E4172&F4172","v":"SAP-8012210-5Cloud Classic SAP Solutions"},null,"SAP Colombia","SAP-8012210-5","Cloud Classic SAP Solutions",{"$f":"D4172","v":"SAP Colombia"},"USD","N/A","SAP Omnichannel Sales Transfer and Audit",10000,"Serv","Suscripcion","N/A","N/A","N/A","SAP-8012210-5","Forma de pago estandar a 30 dias",1.96,1,0,"USD"]
[{"$f":"D4173&F4173&E4173","v":"SAP ColombiaCloud Classic SAP SolutionsSAP-8012210-6"},{"$f":"E4173&F4173","v":"SAP-8012210-6Cloud Classic SAP Solutions"},null,"SAP Colombia","SAP-8012210-6","Cloud Classic SAP Solutions",{"$f":"D4173","v":"SAP Colombia"},"USD","N/A","SAP Omnichannel Sales Transfer and Audit",10000,"Serv","Suscripcion","N/A","N/A","N/A","SAP-8012210-6","Forma de pago estandar a 30 dias",1.74,1,0,"USD"]
[{"$f":"D4174&F4174&E4174","v":"SAP ColombiaCloud Classic SAP SolutionsSAP-8012634"},{"$f":"E4174&F4174","v":"SAP-8012634Cloud Classic SAP Solutions"},null,"SAP Colombia","SAP-8012634","Cloud Classic SAP Solutions",{"$f":"D4174","v":"SAP Colombia"},"USD","N/A","SAP ERP for Merchandising for Retail, private cloud edition",1,"Serv","Suscripcion","N/A","N/A","N/A","SAP-8012634","Forma de pago estandar a 30 dias",54315,1,0,"USD"]
[{"$f":"D4175&F4175&E4175","v":"SAP ColombiaCloud Classic SAP SolutionsSAP-8012635"},{"$f":"E4175&F4175","v":"SAP-8012635Cloud Classic SAP Solutions"},null,"SAP Colombia","SAP-8012635","Cloud Classic SAP Solutions",{"$f":"D4175","v":"SAP Colombia"},"USD","N/A","SAP ERP for Fashion Management Solution, private cloud edition",1,"Serv","Suscripcion","N/A","N/A","N/A","SAP-8012635","Forma de pago estandar a 30 dias",54315,1,0,"USD"]
[{"$f":"D4176&F4176&E4176","v":"SAP ColombiaCloud Classic SAP SolutionsSAP-8012636-1"},{"$f":"E4176&F4176","v":"SAP-8012636-1Cloud Classic SAP Solutions"},null,"SAP Colombia","SAP-8012636-1","Cloud Classic SAP Solutions",{"$f":"D4176","v":"SAP Colombia"},"USD","N/A","SAP ERP foundation for retail and fashion, private cloud edition",12000,"Serv","Suscripcion","N/A","N/A","N/A","SAP-8012636-1","Forma de pago estandar a 30 dias",90,1,0,"USD"]
[{"$f":"D4177&F4177&E4177","v":"SAP ColombiaCloud Classic SAP SolutionsSAP-8012636-2"},{"$f":"E4177&F4177","v":"SAP-8012636-2Cloud Classic SAP Solutions"},null,"SAP Colombia","SAP-8012636-2","Cloud Classic SAP Solutions",{"$f":"D4177","v":"SAP Colombia"},"USD","N/A","SAP ERP foundation for retail and fashion, private cloud edition",12000,"Serv","Suscripcion","N/A","N/A","N/A","SAP-8012636-2","Forma de pago estandar a 30 dias",84,1,0,"USD"]
[{"$f":"D4178&F4178&E4178","v":"SAP ColombiaCloud Classic SAP SolutionsSAP-8012636-3"},{"$f":"E4178&F4178","v":"SAP-8012636-3Cloud Classic SAP Solutions"},null,"SAP Colombia","SAP-8012636-3","Cloud Classic SAP Solutions",{"$f":"D4178","v":"SAP Colombia"},"USD","N/A","SAP ERP foundation for retail and fashion, private cloud edition",12000,"Serv","Suscripcion","N/A","N/A","N/A","SAP-8012636-3","Forma de pago estandar a 30 dias",78,1,0,"USD"]
[{"$f":"D4179&F4179&E4179","v":"SAP ColombiaCloud Classic SAP SolutionsSAP-8012636-4"},{"$f":"E4179&F4179","v":"SAP-8012636-4Cloud Classic SAP Solutions"},null,"SAP Colombia","SAP-8012636-4","Cloud Classic SAP Solutions",{"$f":"D4179","v":"SAP Colombia"},"USD","N/A","SAP ERP foundation for retail and fashion, private cloud edition",12000,"Serv","Suscripcion","N/A","N/A","N/A","SAP-8012636-4","Forma de pago estandar a 30 dias",73,1,0,"USD"]
[{"$f":"D4180&F4180&E4180","v":"SAP ColombiaCloud Classic SAP SolutionsSAP-8012636-5"},{"$f":"E4180&F4180","v":"SAP-8012636-5Cloud Classic SAP Solutions"},null,"SAP Colombia","SAP-8012636-5","Cloud Classic SAP Solutions",{"$f":"D4180","v":"SAP Colombia"},"USD","N/A","SAP ERP foundation for retail and fashion, private cloud edition",12000,"Serv","Suscripcion","N/A","N/A","N/A","SAP-8012636-5","Forma de pago estandar a 30 dias",62,1,0,"USD"]
[{"$f":"D4181&F4181&E4181","v":"SAP ColombiaCloud Classic SAP SolutionsSAP-8012636-6"},{"$f":"E4181&F4181","v":"SAP-8012636-6Cloud Classic SAP Solutions"},null,"SAP Colombia","SAP-8012636-6","Cloud Classic SAP Solutions",{"$f":"D4181","v":"SAP Colombia"},"USD","N/A","SAP ERP foundation for retail and fashion, private cloud edition",12000,"Serv","Suscripcion","N/A","N/A","N/A","SAP-8012636-6","Forma de pago estandar a 30 dias",56,1,0,"USD"]
[{"$f":"D4182&F4182&E4182","v":"SAP ColombiaCloud Classic SAP SolutionsSAP-8012655-1"},{"$f":"E4182&F4182","v":"SAP-8012655-1Cloud Classic SAP Solutions"},null,"SAP Colombia","SAP-8012655-1","Cloud Classic SAP Solutions",{"$f":"D4182","v":"SAP Colombia"},"USD","N/A","SAP Order Management for sourcing and availability",12000,"Serv","Suscripcion","N/A","N/A","N/A","SAP-8012655-1","Forma de pago estandar a 30 dias",1120,1,0,"USD"]
[{"$f":"D4183&F4183&E4183","v":"SAP ColombiaCloud Classic SAP SolutionsSAP-8012655-2"},{"$f":"E4183&F4183","v":"SAP-8012655-2Cloud Classic SAP Solutions"},null,"SAP Colombia","SAP-8012655-2","Cloud Classic SAP Solutions",{"$f":"D4183","v":"SAP Colombia"},"USD","N/A","SAP Order Management for sourcing and availability",12000,"Serv","Suscripcion","N/A","N/A","N/A","SAP-8012655-2","Forma de pago estandar a 30 dias",941,1,0,"USD"]
[{"$f":"D4184&F4184&E4184","v":"SAP ColombiaCloud Classic SAP SolutionsSAP-8012655-3"},{"$f":"E4184&F4184","v":"SAP-8012655-3Cloud Classic SAP Solutions"},null,"SAP Colombia","SAP-8012655-3","Cloud Classic SAP Solutions",{"$f":"D4184","v":"SAP Colombia"},"USD","N/A","SAP Order Management for sourcing and availability",12000,"Serv","Suscripcion","N/A","N/A","N/A","SAP-8012655-3","Forma de pago estandar a 30 dias",762,1,0,"USD"]
[{"$f":"D4185&F4185&E4185","v":"SAP ColombiaCloud Classic SAP SolutionsSAP-8012655-4"},{"$f":"E4185&F4185","v":"SAP-8012655-4Cloud Classic SAP Solutions"},null,"SAP Colombia","SAP-8012655-4","Cloud Classic SAP Solutions",{"$f":"D4185","v":"SAP Colombia"},"USD","N/A","SAP Order Management for sourcing and availability",12000,"Serv","Suscripcion","N/A","N/A","N/A","SAP-8012655-4","Forma de pago estandar a 30 dias",594,1,0,"USD"]
[{"$f":"D4186&F4186&E4186","v":"SAP ColombiaCloud Classic SAP SolutionsSAP-8012655-5"},{"$f":"E4186&F4186","v":"SAP-8012655-5Cloud Classic SAP Solutions"},null,"SAP Colombia","SAP-8012655-5","Cloud Classic SAP Solutions",{"$f":"D4186","v":"SAP Colombia"},"USD","N/A","SAP Order Management for sourcing and availability",12000,"Serv","Suscripcion","N/A","N/A","N/A","SAP-8012655-5","Forma de pago estandar a 30 dias",482,1,0,"USD"]
[{"$f":"D4187&F4187&E4187","v":"SAP ColombiaCloud Classic SAP SolutionsSAP-8012655-6"},{"$f":"E4187&F4187","v":"SAP-8012655-6Cloud Classic SAP Solutions"},null,"SAP Colombia","SAP-8012655-6","Cloud Classic SAP Solutions",{"$f":"D4187","v":"SAP Colombia"},"USD","N/A","SAP Order Management for sourcing and availability",12000,"Serv","Suscripcion","N/A","N/A","N/A","SAP-8012655-6","Forma de pago estandar a 30 dias",370,1,0,"USD"]
[{"$f":"D4188&F4188&E4188","v":"SAP ColombiaCloud Classic SAP SolutionsSAP-8006176-1"},{"$f":"E4188&F4188","v":"SAP-8006176-1Cloud Classic SAP Solutions"},null,"SAP Colombia","SAP-8006176-1","Cloud Classic SAP Solutions",{"$f":"D4188","v":"SAP Colombia"},"USD","N/A","SAP Cloud for Energy (Foundation Edition)",1000,"Serv","Suscripcion","N/A","N/A","N/A","SAP-8006176-1","Forma de pago estandar a 30 dias",106,1,0,"USD"]
[{"$f":"D4189&F4189&E4189","v":"SAP ColombiaCloud Classic SAP SolutionsSAP-8006176-2"},{"$f":"E4189&F4189","v":"SAP-8006176-2Cloud Classic SAP Solutions"},null,"SAP Colombia","SAP-8006176-2","Cloud Classic SAP Solutions",{"$f":"D4189","v":"SAP Colombia"},"USD","N/A","SAP Cloud for Energy (Foundation Edition)",1000,"Serv","Suscripcion","N/A","N/A","N/A","SAP-8006176-2","Forma de pago estandar a 30 dias",101,1,0,"USD"]
[{"$f":"D4190&F4190&E4190","v":"SAP ColombiaCloud Classic SAP SolutionsSAP-8006176-3"},{"$f":"E4190&F4190","v":"SAP-8006176-3Cloud Classic SAP Solutions"},null,"SAP Colombia","SAP-8006176-3","Cloud Classic SAP Solutions",{"$f":"D4190","v":"SAP Colombia"},"USD","N/A","SAP Cloud for Energy (Foundation Edition)",1000,"Serv","Suscripcion","N/A","N/A","N/A","SAP-8006176-3","Forma de pago estandar a 30 dias",78,1,0,"USD"]
[{"$f":"D4191&F4191&E4191","v":"SAP ColombiaCloud Classic SAP SolutionsSAP-8006176-4"},{"$f":"E4191&F4191","v":"SAP-8006176-4Cloud Classic SAP Solutions"},null,"SAP Colombia","SAP-8006176-4","Cloud Classic SAP Solutions",{"$f":"D4191","v":"SAP Colombia"},"USD","N/A","SAP Cloud for Energy (Foundation Edition)",1000,"Serv","Suscripcion","N/A","N/A","N/A","SAP-8006176-4","Forma de pago estandar a 30 dias",67,1,0,"USD"]
[{"$f":"D4192&F4192&E4192","v":"SAP ColombiaCloud Classic SAP SolutionsSAP-8007856-1"},{"$f":"E4192&F4192","v":"SAP-8007856-1Cloud Classic SAP Solutions"},null,"SAP Colombia","SAP-8007856-1","Cloud Classic SAP Solutions",{"$f":"D4192","v":"SAP Colombia"},"USD","N/A","SAP Market Communication for Utilities",500000,"Serv","Suscripcion","N/A","N/A","N/A","SAP-8007856-1","Forma de pago estandar a 30 dias",896,1,0,"USD"]
[{"$f":"D4193&F4193&E4193","v":"SAP ColombiaCloud Classic SAP SolutionsSAP-8007856-2"},{"$f":"E4193&F4193","v":"SAP-8007856-2Cloud Classic SAP Solutions"},null,"SAP Colombia","SAP-8007856-2","Cloud Classic SAP Solutions",{"$f":"D4193","v":"SAP Colombia"},"USD","N/A","SAP Market Communication for Utilities",500000,"Serv","Suscripcion","N/A","N/A","N/A","SAP-8007856-2","Forma de pago estandar a 30 dias",784,1,0,"USD"]
[{"$f":"D4194&F4194&E4194","v":"SAP ColombiaCloud Classic SAP SolutionsSAP-8007856-3"},{"$f":"E4194&F4194","v":"SAP-8007856-3Cloud Classic SAP Solutions"},null,"SAP Colombia","SAP-8007856-3","Cloud Classic SAP Solutions",{"$f":"D4194","v":"SAP Colombia"},"USD","N/A","SAP Market Communication for Utilities",500000,"Serv","Suscripcion","N/A","N/A","N/A","SAP-8007856-3","Forma de pago estandar a 30 dias",672,1,0,"USD"]
[{"$f":"D4195&F4195&E4195","v":"SAP ColombiaCloud Classic SAP SolutionsSAP-8009300-1"},{"$f":"E4195&F4195","v":"SAP-8009300-1Cloud Classic SAP Solutions"},null,"SAP Colombia","SAP-8009300-1","Cloud Classic SAP Solutions",{"$f":"D4195","v":"SAP Colombia"},"USD","N/A","SAP ERP for water utilities, private cloud edition",1000,"Serv","Suscripcion","N/A","N/A","N/A","SAP-8009300-1","Forma de pago estandar a 30 dias",44,1,0,"USD"]
[{"$f":"D4196&F4196&E4196","v":"SAP ColombiaCloud Classic SAP SolutionsSAP-8009300-2"},{"$f":"E4196&F4196","v":"SAP-8009300-2Cloud Classic SAP Solutions"},null,"SAP Colombia","SAP-8009300-2","Cloud Classic SAP Solutions",{"$f":"D4196","v":"SAP Colombia"},"USD","N/A","SAP ERP for water utilities, private cloud edition",1000,"Serv","Suscripcion","N/A","N/A","N/A","SAP-8009300-2","Forma de pago estandar a 30 dias",30,1,0,"USD"]
[{"$f":"D4197&F4197&E4197","v":"SAP ColombiaCloud Classic SAP SolutionsSAP-8009300-3"},{"$f":"E4197&F4197","v":"SAP-8009300-3Cloud Classic SAP Solutions"},null,"SAP Colombia","SAP-8009300-3","Cloud Classic SAP Solutions",{"$f":"D4197","v":"SAP Colombia"},"USD","N/A","SAP ERP for water utilities, private cloud edition",1000,"Serv","Suscripcion","N/A","N/A","N/A","SAP-8009300-3","Forma de pago estandar a 30 dias",22,1,0,"USD"]
[{"$f":"D4198&F4198&E4198","v":"SAP ColombiaCloud Classic SAP SolutionsSAP-8009301-1"},{"$f":"E4198&F4198","v":"SAP-8009301-1Cloud Classic SAP Solutions"},null,"SAP Colombia","SAP-8009301-1","Cloud Classic SAP Solutions",{"$f":"D4198","v":"SAP Colombia"},"USD","N/A","SAP ERP for energy utilities, private cloud edition",1000,"Serv","Suscripcion","N/A","N/A","N/A","SAP-8009301-1","Forma de pago estandar a 30 dias",52,1,0,"USD"]
[{"$f":"D4199&F4199&E4199","v":"SAP ColombiaCloud Classic SAP SolutionsSAP-8009301-2"},{"$f":"E4199&F4199","v":"SAP-8009301-2Cloud Classic SAP Solutions"},null,"SAP Colombia","SAP-8009301-2","Cloud Classic SAP Solutions",{"$f":"D4199","v":"SAP Colombia"},"USD","N/A","SAP ERP for energy utilities, private cloud edition",1000,"Serv","Suscripcion","N/A","N/A","N/A","SAP-8009301-2","Forma de pago estandar a 30 dias",35,1,0,"USD"]
[{"$f":"D4200&F4200&E4200","v":"SAP ColombiaCloud Classic SAP SolutionsSAP-8009301-3"},{"$f":"E4200&F4200","v":"SAP-8009301-3Cloud Classic SAP Solutions"},null,"SAP Colombia","SAP-8009301-3","Cloud Classic SAP Solutions",{"$f":"D4200","v":"SAP Colombia"},"USD","N/A","SAP ERP for energy utilities, private cloud edition",1000,"Serv","Suscripcion","N/A","N/A","N/A","SAP-8009301-3","Forma de pago estandar a 30 dias",25,1,0,"USD"]
[{"$f":"D4201&F4201&E4201","v":"SAP ColombiaCloud Classic SAP SolutionsSAP-8011265-1"},{"$f":"E4201&F4201","v":"SAP-8011265-1Cloud Classic SAP Solutions"},null,"SAP Colombia","SAP-8011265-1","Cloud Classic SAP Solutions",{"$f":"D4201","v":"SAP Colombia"},"USD","N/A","SAP Cloud for Utilities foundation",1000,"Serv","Suscripcion","N/A","N/A","N/A","SAP-8011265-1","Forma de pago estandar a 30 dias",18,1,0,"USD"]
[{"$f":"D4202&F4202&E4202","v":"SAP ColombiaCloud Classic SAP SolutionsSAP-8011265-2"},{"$f":"E4202&F4202","v":"SAP-8011265-2Cloud Classic SAP Solutions"},null,"SAP Colombia","SAP-8011265-2","Cloud Classic SAP Solutions",{"$f":"D4202","v":"SAP Colombia"},"USD","N/A","SAP Cloud for Utilities foundation",1000,"Serv","Suscripcion","N/A","N/A","N/A","SAP-8011265-2","Forma de pago estandar a 30 dias",13,1,0,"USD"]
[{"$f":"D4203&F4203&E4203","v":"SAP ColombiaCloud Classic SAP SolutionsSAP-8011265-3"},{"$f":"E4203&F4203","v":"SAP-8011265-3Cloud Classic SAP Solutions"},null,"SAP Colombia","SAP-8011265-3","Cloud Classic SAP Solutions",{"$f":"D4203","v":"SAP Colombia"},"USD","N/A","SAP Cloud for Utilities foundation",1000,"Serv","Suscripcion","N/A","N/A","N/A","SAP-8011265-3","Forma de pago estandar a 30 dias",11,1,0,"USD"]
[{"$f":"D4204&F4204&E4204","v":"SAP ColombiaCloud Classic SAP SolutionsSAP-8011265-4"},{"$f":"E4204&F4204","v":"SAP-8011265-4Cloud Classic SAP Solutions"},null,"SAP Colombia","SAP-8011265-4","Cloud Classic SAP Solutions",{"$f":"D4204","v":"SAP Colombia"},"USD","N/A","SAP Cloud for Utilities foundation",1000,"Serv","Suscripcion","N/A","N/A","N/A","SAP-8011265-4","Forma de pago estandar a 30 dias",8.4,1,0,"USD"]
[{"$f":"D4205&F4205&E4205","v":"SAP ColombiaCloud Classic SAP SolutionsSAP-8004458-1"},{"$f":"E4205&F4205","v":"SAP-8004458-1Cloud Classic SAP Solutions"},null,"SAP Colombia","SAP-8004458-1","Cloud Classic SAP Solutions",{"$f":"D4205","v":"SAP Colombia"},"USD","N/A","SAP Learning Hub, professional edition (public)",1,"Serv","Suscripcion","N/A","N/A","N/A","SAP-8004458-1","Forma de pago estandar a 30 dias",258,1,0,"USD"]
[{"$f":"D4206&F4206&E4206","v":"SAP ColombiaCloud Classic SAP SolutionsSAP-8004458-2"},{"$f":"E4206&F4206","v":"SAP-8004458-2Cloud Classic SAP Solutions"},null,"SAP Colombia","SAP-8004458-2","Cloud Classic SAP Solutions",{"$f":"D4206","v":"SAP Colombia"},"USD","N/A","SAP Learning Hub, professional edition (public)",1,"Serv","Suscripcion","N/A","N/A","N/A","SAP-8004458-2","Forma de pago estandar a 30 dias",235,1,0,"USD"]
[{"$f":"D4207&F4207&E4207","v":"SAP ColombiaCloud Classic SAP SolutionsSAP-8004458-3"},{"$f":"E4207&F4207","v":"SAP-8004458-3Cloud Classic SAP Solutions"},null,"SAP Colombia","SAP-8004458-3","Cloud Classic SAP Solutions",{"$f":"D4207","v":"SAP Colombia"},"USD","N/A","SAP Learning Hub, professional edition (public)",1,"Serv","Suscripcion","N/A","N/A","N/A","SAP-8004458-3","Forma de pago estandar a 30 dias",207,1,0,"USD"]
[{"$f":"D4208&F4208&E4208","v":"SAP ColombiaCloud Classic SAP SolutionsSAP-8004458-4"},{"$f":"E4208&F4208","v":"SAP-8004458-4Cloud Classic SAP Solutions"},null,"SAP Colombia","SAP-8004458-4","Cloud Classic SAP Solutions",{"$f":"D4208","v":"SAP Colombia"},"USD","N/A","SAP Learning Hub, professional edition (public)",1,"Serv","Suscripcion","N/A","N/A","N/A","SAP-8004458-4","Forma de pago estandar a 30 dias",179,1,0,"USD"]
[{"$f":"D4209&F4209&E4209","v":"SAP ColombiaCloud Classic SAP SolutionsSAP-8004458-5"},{"$f":"E4209&F4209","v":"SAP-8004458-5Cloud Classic SAP Solutions"},null,"SAP Colombia","SAP-8004458-5","Cloud Classic SAP Solutions",{"$f":"D4209","v":"SAP Colombia"},"USD","N/A","SAP Learning Hub, professional edition (public)",1,"Serv","Suscripcion","N/A","N/A","N/A","SAP-8004458-5","Forma de pago estandar a 30 dias",157,1,0,"USD"]
[{"$f":"D4210&F4210&E4210","v":"SAP ColombiaCloud Classic SAP SolutionsSAP-8004458-6"},{"$f":"E4210&F4210","v":"SAP-8004458-6Cloud Classic SAP Solutions"},null,"SAP Colombia","SAP-8004458-6","Cloud Classic SAP Solutions",{"$f":"D4210","v":"SAP Colombia"},"USD","N/A","SAP Learning Hub, professional edition (public)",1,"Serv","Suscripcion","N/A","N/A","N/A","SAP-8004458-6","Forma de pago estandar a 30 dias",112,1,0,"USD"]
[{"$f":"D4211&F4211&E4211","v":"SAP ColombiaCloud Classic SAP SolutionsSAP-8004458-7"},{"$f":"E4211&F4211","v":"SAP-8004458-7Cloud Classic SAP Solutions"},null,"SAP Colombia","SAP-8004458-7","Cloud Classic SAP Solutions",{"$f":"D4211","v":"SAP Colombia"},"USD","N/A","SAP Learning Hub, professional edition (public)",1,"Serv","Suscripcion","N/A","N/A","N/A","SAP-8004458-7","Forma de pago estandar a 30 dias",78,1,0,"USD"]
[{"$f":"D4212&F4212&E4212","v":"SAP ColombiaCloud Classic SAP SolutionsSAP-8004458-8"},{"$f":"E4212&F4212","v":"SAP-8004458-8Cloud Classic SAP Solutions"},null,"SAP Colombia","SAP-8004458-8","Cloud Classic SAP Solutions",{"$f":"D4212","v":"SAP Colombia"},"USD","N/A","SAP Learning Hub, professional edition (public)",1,"Serv","Suscripcion","N/A","N/A","N/A","SAP-8004458-8","Forma de pago estandar a 30 dias",56,1,0,"USD"]
[{"$f":"D4213&F4213&E4213","v":"SAP ColombiaCloud Classic SAP SolutionsSAP-8004458-9"},{"$f":"E4213&F4213","v":"SAP-8004458-9Cloud Classic SAP Solutions"},null,"SAP Colombia","SAP-8004458-9","Cloud Classic SAP Solutions",{"$f":"D4213","v":"SAP Colombia"},"USD","N/A","SAP Learning Hub, professional edition (public)",1,"Serv","Suscripcion","N/A","N/A","N/A","SAP-8004458-9","Forma de pago estandar a 30 dias",45,1,0,"USD"]
[{"$f":"D4214&F4214&E4214","v":"SAP ColombiaCloud Classic SAP SolutionsSAP-8004458-10"},{"$f":"E4214&F4214","v":"SAP-8004458-10Cloud Classic SAP Solutions"},null,"SAP Colombia","SAP-8004458-10","Cloud Classic SAP Solutions",{"$f":"D4214","v":"SAP Colombia"},"USD","N/A","SAP Learning Hub, professional edition (public)",1,"Serv","Suscripcion","N/A","N/A","N/A","SAP-8004458-10","Forma de pago estandar a 30 dias",34,1,0,"USD"]
[{"$f":"D4215&F4215&E4215","v":"SAP ColombiaCloud Classic SAP SolutionsSAP-8004458-11"},{"$f":"E4215&F4215","v":"SAP-8004458-11Cloud Classic SAP Solutions"},null,"SAP Colombia","SAP-8004458-11","Cloud Classic SAP Solutions",{"$f":"D4215","v":"SAP Colombia"},"USD","N/A","SAP Learning Hub, professional edition (public)",1,"Serv","Suscripcion","N/A","N/A","N/A","SAP-8004458-11","Forma de pago estandar a 30 dias",28,1,0,"USD"]
[{"$f":"D4216&F4216&E4216","v":"SAP ColombiaCloud Classic SAP SolutionsSAP-8004458-12"},{"$f":"E4216&F4216","v":"SAP-8004458-12Cloud Classic SAP Solutions"},null,"SAP Colombia","SAP-8004458-12","Cloud Classic SAP Solutions",{"$f":"D4216","v":"SAP Colombia"},"USD","N/A","SAP Learning Hub, professional edition (public)",1,"Serv","Suscripcion","N/A","N/A","N/A","SAP-8004458-12","Forma de pago estandar a 30 dias",17,1,0,"USD"]
[{"$f":"D4217&F4217&E4217","v":"SAP ColombiaCloud Classic SAP SolutionsSAP-8004459-1"},{"$f":"E4217&F4217","v":"SAP-8004459-1Cloud Classic SAP Solutions"},null,"SAP Colombia","SAP-8004459-1","Cloud Classic SAP Solutions",{"$f":"D4217","v":"SAP Colombia"},"USD","N/A","SAP Learning Hub, professional edition (private)",1,"Serv","Suscripcion","N/A","N/A","N/A","SAP-8004459-1","Forma de pago estandar a 30 dias",207,1,0,"USD"]
[{"$f":"D4218&F4218&E4218","v":"SAP ColombiaCloud Classic SAP SolutionsSAP-8004459-2"},{"$f":"E4218&F4218","v":"SAP-8004459-2Cloud Classic SAP Solutions"},null,"SAP Colombia","SAP-8004459-2","Cloud Classic SAP Solutions",{"$f":"D4218","v":"SAP Colombia"},"USD","N/A","SAP Learning Hub, professional edition (private)",1,"Serv","Suscripcion","N/A","N/A","N/A","SAP-8004459-2","Forma de pago estandar a 30 dias",179,1,0,"USD"]
[{"$f":"D4219&F4219&E4219","v":"SAP ColombiaCloud Classic SAP SolutionsSAP-8004459-3"},{"$f":"E4219&F4219","v":"SAP-8004459-3Cloud Classic SAP Solutions"},null,"SAP Colombia","SAP-8004459-3","Cloud Classic SAP Solutions",{"$f":"D4219","v":"SAP Colombia"},"USD","N/A","SAP Learning Hub, professional edition (private)",1,"Serv","Suscripcion","N/A","N/A","N/A","SAP-8004459-3","Forma de pago estandar a 30 dias",157,1,0,"USD"]
[{"$f":"D4220&F4220&E4220","v":"SAP ColombiaCloud Classic SAP SolutionsSAP-8004459-4"},{"$f":"E4220&F4220","v":"SAP-8004459-4Cloud Classic SAP Solutions"},null,"SAP Colombia","SAP-8004459-4","Cloud Classic SAP Solutions",{"$f":"D4220","v":"SAP Colombia"},"USD","N/A","SAP Learning Hub, professional edition (private)",1,"Serv","Suscripcion","N/A","N/A","N/A","SAP-8004459-4","Forma de pago estandar a 30 dias",112,1,0,"USD"]
[{"$f":"D4221&F4221&E4221","v":"SAP ColombiaCloud Classic SAP SolutionsSAP-8004459-5"},{"$f":"E4221&F4221","v":"SAP-8004459-5Cloud Classic SAP Solutions"},null,"SAP Colombia","SAP-8004459-5","Cloud Classic SAP Solutions",{"$f":"D4221","v":"SAP Colombia"},"USD","N/A","SAP Learning Hub, professional edition (private)",1,"Serv","Suscripcion","N/A","N/A","N/A","SAP-8004459-5","Forma de pago estandar a 30 dias",78,1,0,"USD"]
[{"$f":"D4222&F4222&E4222","v":"SAP ColombiaCloud Classic SAP SolutionsSAP-8004459-6"},{"$f":"E4222&F4222","v":"SAP-8004459-6Cloud Classic SAP Solutions"},null,"SAP Colombia","SAP-8004459-6","Cloud Classic SAP Solutions",{"$f":"D4222","v":"SAP Colombia"},"USD","N/A","SAP Learning Hub, professional edition (private)",1,"Serv","Suscripcion","N/A","N/A","N/A","SAP-8004459-6","Forma de pago estandar a 30 dias",56,1,0,"USD"]
[{"$f":"D4223&F4223&E4223","v":"SAP ColombiaCloud Classic SAP SolutionsSAP-8004459-7"},{"$f":"E4223&F4223","v":"SAP-8004459-7Cloud Classic SAP Solutions"},null,"SAP Colombia","SAP-8004459-7","Cloud Classic SAP Solutions",{"$f":"D4223","v":"SAP Colombia"},"USD","N/A","SAP Learning Hub, professional edition (private)",1,"Serv","Suscripcion","N/A","N/A","N/A","SAP-8004459-7","Forma de pago estandar a 30 dias",45,1,0,"USD"]
[{"$f":"D4224&F4224&E4224","v":"SAP ColombiaCloud Classic SAP SolutionsSAP-8004459-8"},{"$f":"E4224&F4224","v":"SAP-8004459-8Cloud Classic SAP Solutions"},null,"SAP Colombia","SAP-8004459-8","Cloud Classic SAP Solutions",{"$f":"D4224","v":"SAP Colombia"},"USD","N/A","SAP Learning Hub, professional edition (private)",1,"Serv","Suscripcion","N/A","N/A","N/A","SAP-8004459-8","Forma de pago estandar a 30 dias",34,1,0,"USD"]
[{"$f":"D4225&F4225&E4225","v":"SAP ColombiaCloud Classic SAP SolutionsSAP-8004459-9"},{"$f":"E4225&F4225","v":"SAP-8004459-9Cloud Classic SAP Solutions"},null,"SAP Colombia","SAP-8004459-9","Cloud Classic SAP Solutions",{"$f":"D4225","v":"SAP Colombia"},"USD","N/A","SAP Learning Hub, professional edition (private)",1,"Serv","Suscripcion","N/A","N/A","N/A","SAP-8004459-9","Forma de pago estandar a 30 dias",28,1,0,"USD"]
[{"$f":"D4226&F4226&E4226","v":"SAP ColombiaCloud Classic SAP SolutionsSAP-8004459-10"},{"$f":"E4226&F4226","v":"SAP-8004459-10Cloud Classic SAP Solutions"},null,"SAP Colombia","SAP-8004459-10","Cloud Classic SAP Solutions",{"$f":"D4226","v":"SAP Colombia"},"USD","N/A","SAP Learning Hub, professional edition (private)",1,"Serv","Suscripcion","N/A","N/A","N/A","SAP-8004459-10","Forma de pago estandar a 30 dias",17,1,0,"USD"]
[{"$f":"D4227&F4227&E4227","v":"SAP ColombiaCloud Classic SAP SolutionsSAP-8004460-1"},{"$f":"E4227&F4227","v":"SAP-8004460-1Cloud Classic SAP Solutions"},null,"SAP Colombia","SAP-8004460-1","Cloud Classic SAP Solutions",{"$f":"D4227","v":"SAP Colombia"},"USD","N/A","SAP Learning Hub, business edition (public)",1,"Serv","Suscripcion","N/A","N/A","N/A","SAP-8004460-1","Forma de pago estandar a 30 dias",24,1,0,"USD"]
[{"$f":"D4228&F4228&E4228","v":"SAP ColombiaCloud Classic SAP SolutionsSAP-8004460-2"},{"$f":"E4228&F4228","v":"SAP-8004460-2Cloud Classic SAP Solutions"},null,"SAP Colombia","SAP-8004460-2","Cloud Classic SAP Solutions",{"$f":"D4228","v":"SAP Colombia"},"USD","N/A","SAP Learning Hub, business edition (public)",1,"Serv","Suscripcion","N/A","N/A","N/A","SAP-8004460-2","Forma de pago estandar a 30 dias",21,1,0,"USD"]
[{"$f":"D4229&F4229&E4229","v":"SAP ColombiaCloud Classic SAP SolutionsSAP-8004460-3"},{"$f":"E4229&F4229","v":"SAP-8004460-3Cloud Classic SAP Solutions"},null,"SAP Colombia","SAP-8004460-3","Cloud Classic SAP Solutions",{"$f":"D4229","v":"SAP Colombia"},"USD","N/A","SAP Learning Hub, business edition (public)",1,"Serv","Suscripcion","N/A","N/A","N/A","SAP-8004460-3","Forma de pago estandar a 30 dias",19,1,0,"USD"]
[{"$f":"D4230&F4230&E4230","v":"SAP ColombiaCloud Classic SAP SolutionsSAP-8004460-4"},{"$f":"E4230&F4230","v":"SAP-8004460-4Cloud Classic SAP Solutions"},null,"SAP Colombia","SAP-8004460-4","Cloud Classic SAP Solutions",{"$f":"D4230","v":"SAP Colombia"},"USD","N/A","SAP Learning Hub, business edition (public)",1,"Serv","Suscripcion","N/A","N/A","N/A","SAP-8004460-4","Forma de pago estandar a 30 dias",17,1,0,"USD"]
[{"$f":"D4231&F4231&E4231","v":"SAP ColombiaCloud Classic SAP SolutionsSAP-8004460-5"},{"$f":"E4231&F4231","v":"SAP-8004460-5Cloud Classic SAP Solutions"},null,"SAP Colombia","SAP-8004460-5","Cloud Classic SAP Solutions",{"$f":"D4231","v":"SAP Colombia"},"USD","N/A","SAP Learning Hub, business edition (public)",1,"Serv","Suscripcion","N/A","N/A","N/A","SAP-8004460-5","Forma de pago estandar a 30 dias",15,1,0,"USD"]
[{"$f":"D4232&F4232&E4232","v":"SAP ColombiaCloud Classic SAP SolutionsSAP-8004460-6"},{"$f":"E4232&F4232","v":"SAP-8004460-6Cloud Classic SAP Solutions"},null,"SAP Colombia","SAP-8004460-6","Cloud Classic SAP Solutions",{"$f":"D4232","v":"SAP Colombia"},"USD","N/A","SAP Learning Hub, business edition (public)",1,"Serv","Suscripcion","N/A","N/A","N/A","SAP-8004460-6","Forma de pago estandar a 30 dias",11,1,0,"USD"]
[{"$f":"D4233&F4233&E4233","v":"SAP ColombiaCloud Classic SAP SolutionsSAP-8004460-7"},{"$f":"E4233&F4233","v":"SAP-8004460-7Cloud Classic SAP Solutions"},null,"SAP Colombia","SAP-8004460-7","Cloud Classic SAP Solutions",{"$f":"D4233","v":"SAP Colombia"},"USD","N/A","SAP Learning Hub, business edition (public)",1,"Serv","Suscripcion","N/A","N/A","N/A","SAP-8004460-7","Forma de pago estandar a 30 dias",7.84,1,0,"USD"]
[{"$f":"D4234&F4234&E4234","v":"SAP ColombiaCloud Classic SAP SolutionsSAP-8004460-8"},{"$f":"E4234&F4234","v":"SAP-8004460-8Cloud Classic SAP Solutions"},null,"SAP Colombia","SAP-8004460-8","Cloud Classic SAP Solutions",{"$f":"D4234","v":"SAP Colombia"},"USD","N/A","SAP Learning Hub, business edition (public)",1,"Serv","Suscripcion","N/A","N/A","N/A","SAP-8004460-8","Forma de pago estandar a 30 dias",5.6,1,0,"USD"]
[{"$f":"D4235&F4235&E4235","v":"SAP ColombiaCloud Classic SAP SolutionsSAP-8004460-9"},{"$f":"E4235&F4235","v":"SAP-8004460-9Cloud Classic SAP Solutions"},null,"SAP Colombia","SAP-8004460-9","Cloud Classic SAP Solutions",{"$f":"D4235","v":"SAP Colombia"},"USD","N/A","SAP Learning Hub, business edition (public)",1,"Serv","Suscripcion","N/A","N/A","N/A","SAP-8004460-9","Forma de pago estandar a 30 dias",4.2,1,0,"USD"]
[{"$f":"D4236&F4236&E4236","v":"SAP ColombiaCloud Classic SAP SolutionsSAP-8004460-10"},{"$f":"E4236&F4236","v":"SAP-8004460-10Cloud Classic SAP Solutions"},null,"SAP Colombia","SAP-8004460-10","Cloud Classic SAP Solutions",{"$f":"D4236","v":"SAP Colombia"},"USD","N/A","SAP Learning Hub, business edition (public)",1,"Serv","Suscripcion","N/A","N/A","N/A","SAP-8004460-10","Forma de pago estandar a 30 dias",3.36,1,0,"USD"]
[{"$f":"D4237&F4237&E4237","v":"SAP ColombiaCloud Classic SAP SolutionsSAP-8004460-11"},{"$f":"E4237&F4237","v":"SAP-8004460-11Cloud Classic SAP Solutions"},null,"SAP Colombia","SAP-8004460-11","Cloud Classic SAP Solutions",{"$f":"D4237","v":"SAP Colombia"},"USD","N/A","SAP Learning Hub, business edition (public)",1,"Serv","Suscripcion","N/A","N/A","N/A","SAP-8004460-11","Forma de pago estandar a 30 dias",2.52,1,0,"USD"]
[{"$f":"D4238&F4238&E4238","v":"SAP ColombiaCloud Classic SAP SolutionsSAP-8004460-12"},{"$f":"E4238&F4238","v":"SAP-8004460-12Cloud Classic SAP Solutions"},null,"SAP Colombia","SAP-8004460-12","Cloud Classic SAP Solutions",{"$f":"D4238","v":"SAP Colombia"},"USD","N/A","SAP Learning Hub, business edition (public)",1,"Serv","Suscripcion","N/A","N/A","N/A","SAP-8004460-12","Forma de pago estandar a 30 dias",1.4,1,0,"USD"]
[{"$f":"D4239&F4239&E4239","v":"SAP ColombiaCloud Classic SAP SolutionsSAP-8004460-13"},{"$f":"E4239&F4239","v":"SAP-8004460-13Cloud Classic SAP Solutions"},null,"SAP Colombia","SAP-8004460-13","Cloud Classic SAP Solutions",{"$f":"D4239","v":"SAP Colombia"},"USD","N/A","SAP Learning Hub, business edition (public)",1,"Serv","Suscripcion","N/A","N/A","N/A","SAP-8004460-13","Forma de pago estandar a 30 dias",0.84,1,0,"USD"]
[{"$f":"D4240&F4240&E4240","v":"SAP ColombiaCloud Classic SAP SolutionsSAP-8004460-14"},{"$f":"E4240&F4240","v":"SAP-8004460-14Cloud Classic SAP Solutions"},null,"SAP Colombia","SAP-8004460-14","Cloud Classic SAP Solutions",{"$f":"D4240","v":"SAP Colombia"},"USD","N/A","SAP Learning Hub, business edition (public)",1,"Serv","Suscripcion","N/A","N/A","N/A","SAP-8004460-14","Forma de pago estandar a 30 dias",0.56000000000000005,1,0,"USD"]
[{"$f":"D4241&F4241&E4241","v":"SAP ColombiaCloud Classic SAP SolutionsSAP-8004461-1"},{"$f":"E4241&F4241","v":"SAP-8004461-1Cloud Classic SAP Solutions"},null,"SAP Colombia","SAP-8004461-1","Cloud Classic SAP Solutions",{"$f":"D4241","v":"SAP Colombia"},"USD","N/A","SAP Learning Hub, business edition (private)",1,"Serv","Suscripcion","N/A","N/A","N/A","SAP-8004461-1","Forma de pago estandar a 30 dias",15,1,0,"USD"]
[{"$f":"D4242&F4242&E4242","v":"SAP ColombiaCloud Classic SAP SolutionsSAP-8004461-2"},{"$f":"E4242&F4242","v":"SAP-8004461-2Cloud Classic SAP Solutions"},null,"SAP Colombia","SAP-8004461-2","Cloud Classic SAP Solutions",{"$f":"D4242","v":"SAP Colombia"},"USD","N/A","SAP Learning Hub, business edition (private)",1,"Serv","Suscripcion","N/A","N/A","N/A","SAP-8004461-2","Forma de pago estandar a 30 dias",11,1,0,"USD"]
[{"$f":"D4243&F4243&E4243","v":"SAP ColombiaCloud Classic SAP SolutionsSAP-8004461-3"},{"$f":"E4243&F4243","v":"SAP-8004461-3Cloud Classic SAP Solutions"},null,"SAP Colombia","SAP-8004461-3","Cloud Classic SAP Solutions",{"$f":"D4243","v":"SAP Colombia"},"USD","N/A","SAP Learning Hub, business edition (private)",1,"Serv","Suscripcion","N/A","N/A","N/A","SAP-8004461-3","Forma de pago estandar a 30 dias",7.84,1,0,"USD"]
[{"$f":"D4244&F4244&E4244","v":"SAP ColombiaCloud Classic SAP SolutionsSAP-8004461-4"},{"$f":"E4244&F4244","v":"SAP-8004461-4Cloud Classic SAP Solutions"},null,"SAP Colombia","SAP-8004461-4","Cloud Classic SAP Solutions",{"$f":"D4244","v":"SAP Colombia"},"USD","N/A","SAP Learning Hub, business edition (private)",1,"Serv","Suscripcion","N/A","N/A","N/A","SAP-8004461-4","Forma de pago estandar a 30 dias",5.6,1,0,"USD"]
[{"$f":"D4245&F4245&E4245","v":"SAP ColombiaCloud Classic SAP SolutionsSAP-8004461-5"},{"$f":"E4245&F4245","v":"SAP-8004461-5Cloud Classic SAP Solutions"},null,"SAP Colombia","SAP-8004461-5","Cloud Classic SAP Solutions",{"$f":"D4245","v":"SAP Colombia"},"USD","N/A","SAP Learning Hub, business edition (private)",1,"Serv","Suscripcion","N/A","N/A","N/A","SAP-8004461-5","Forma de pago estandar a 30 dias",4.2,1,0,"USD"]
[{"$f":"D4246&F4246&E4246","v":"SAP ColombiaCloud Classic SAP SolutionsSAP-8004461-6"},{"$f":"E4246&F4246","v":"SAP-8004461-6Cloud Classic SAP Solutions"},null,"SAP Colombia","SAP-8004461-6","Cloud Classic SAP Solutions",{"$f":"D4246","v":"SAP Colombia"},"USD","N/A","SAP Learning Hub, business edition (private)",1,"Serv","Suscripcion","N/A","N/A","N/A","SAP-8004461-6","Forma de pago estandar a 30 dias",3.36,1,0,"USD"]
[{"$f":"D4247&F4247&E4247","v":"SAP ColombiaCloud Classic SAP SolutionsSAP-8004461-7"},{"$f":"E4247&F4247","v":"SAP-8004461-7Cloud Classic SAP Solutions"},null,"SAP Colombia","SAP-8004461-7","Cloud Classic SAP Solutions",{"$f":"D4247","v":"SAP Colombia"},"USD","N/A","SAP Learning Hub, business edition (private)",1,"Serv","Suscripcion","N/A","N/A","N/A","SAP-8004461-7","Forma de pago estandar a 30 dias",2.52,1,0,"USD"]
[{"$f":"D4248&F4248&E4248","v":"SAP ColombiaCloud Classic SAP SolutionsSAP-8004461-8"},{"$f":"E4248&F4248","v":"SAP-8004461-8Cloud Classic SAP Solutions"},null,"SAP Colombia","SAP-8004461-8","Cloud Classic SAP Solutions",{"$f":"D4248","v":"SAP Colombia"},"USD","N/A","SAP Learning Hub, business edition (private)",1,"Serv","Suscripcion","N/A","N/A","N/A","SAP-8004461-8","Forma de pago estandar a 30 dias",1.4,1,0,"USD"]
[{"$f":"D4249&F4249&E4249","v":"SAP ColombiaCloud Classic SAP SolutionsSAP-8004461-9"},{"$f":"E4249&F4249","v":"SAP-8004461-9Cloud Classic SAP Solutions"},null,"SAP Colombia","SAP-8004461-9","Cloud Classic SAP Solutions",{"$f":"D4249","v":"SAP Colombia"},"USD","N/A","SAP Learning Hub, business edition (private)",1,"Serv","Suscripcion","N/A","N/A","N/A","SAP-8004461-9","Forma de pago estandar a 30 dias",0.84,1,0,"USD"]
[{"$f":"D4250&F4250&E4250","v":"SAP ColombiaCloud Classic SAP SolutionsSAP-8004461-10"},{"$f":"E4250&F4250","v":"SAP-8004461-10Cloud Classic SAP Solutions"},null,"SAP Colombia","SAP-8004461-10","Cloud Classic SAP Solutions",{"$f":"D4250","v":"SAP Colombia"},"USD","N/A","SAP Learning Hub, business edition (private)",1,"Serv","Suscripcion","N/A","N/A","N/A","SAP-8004461-10","Forma de pago estandar a 30 dias",0.56000000000000005,1,0,"USD"]
[{"$f":"D4251&F4251&E4251","v":"SAP ColombiaCloud Classic SAP SolutionsSAP-8004466"},{"$f":"E4251&F4251","v":"SAP-8004466Cloud Classic SAP Solutions"},null,"SAP Colombia","SAP-8004466","Cloud Classic SAP Solutions",{"$f":"D4251","v":"SAP Colombia"},"USD","N/A","SAP Learning System Access (320)",1,"Serv","Suscripcion","N/A","N/A","N/A","SAP-8004466","Forma de pago estandar a 30 dias",39,1,0,"USD"]
[{"$f":"D4252&F4252&E4252","v":"SAP ColombiaCloud Classic SAP SolutionsSAP-8005805"},{"$f":"E4252&F4252","v":"SAP-8005805Cloud Classic SAP Solutions"},null,"SAP Colombia","SAP-8005805","Cloud Classic SAP Solutions",{"$f":"D4252","v":"SAP Colombia"},"USD","N/A","SAP Learning Hub, edition for digital platforms (public)",1,"Serv","Suscripcion","N/A","N/A","N/A","SAP-8005805","Forma de pago estandar a 30 dias",140,1,0,"USD"]
[{"$f":"D4253&F4253&E4253","v":"SAP ColombiaCloud Classic SAP SolutionsSAP-8005806"},{"$f":"E4253&F4253","v":"SAP-8005806Cloud Classic SAP Solutions"},null,"SAP Colombia","SAP-8005806","Cloud Classic SAP Solutions",{"$f":"D4253","v":"SAP Colombia"},"USD","N/A","SAP Learning Hub, edition for procurement and networks (public)",1,"Serv","Suscripcion","N/A","N/A","N/A","SAP-8005806","Forma de pago estandar a 30 dias",140,1,0,"USD"]
[{"$f":"D4254&F4254&E4254","v":"SAP ColombiaCloud Classic SAP SolutionsSAP-8005807"},{"$f":"E4254&F4254","v":"SAP-8005807Cloud Classic SAP Solutions"},null,"SAP Colombia","SAP-8005807","Cloud Classic SAP Solutions",{"$f":"D4254","v":"SAP Colombia"},"USD","N/A","SAP Learning Hub, edition for analytics (public)",1,"Serv","Suscripcion","N/A","N/A","N/A","SAP-8005807","Forma de pago estandar a 30 dias",140,1,0,"USD"]
[{"$f":"D4255&F4255&E4255","v":"SAP ColombiaCloud Classic SAP SolutionsSAP-8005808"},{"$f":"E4255&F4255","v":"SAP-8005808Cloud Classic SAP Solutions"},null,"SAP Colombia","SAP-8005808","Cloud Classic SAP Solutions",{"$f":"D4255","v":"SAP Colombia"},"USD","N/A","SAP Learning Hub, edition for customer experience (public)",1,"Serv","Suscripcion","N/A","N/A","N/A","SAP-8005808","Forma de pago estandar a 30 dias",140,1,0,"USD"]
[{"$f":"D4256&F4256&E4256","v":"SAP ColombiaCloud Classic SAP SolutionsSAP-8005809"},{"$f":"E4256&F4256","v":"SAP-8005809Cloud Classic SAP Solutions"},null,"SAP Colombia","SAP-8005809","Cloud Classic SAP Solutions",{"$f":"D4256","v":"SAP Colombia"},"USD","N/A","SAP Learning Hub, edition for IoT and digital supply chain (public)",1,"Serv","Suscripcion","N/A","N/A","N/A","SAP-8005809","Forma de pago estandar a 30 dias",140,1,0,"USD"]
[{"$f":"D4257&F4257&E4257","v":"SAP ColombiaCloud Classic SAP SolutionsSAP-8005810"},{"$f":"E4257&F4257","v":"SAP-8005810Cloud Classic SAP Solutions"},null,"SAP Colombia","SAP-8005810","Cloud Classic SAP Solutions",{"$f":"D4257","v":"SAP Colombia"},"USD","N/A","SAP Learning Hub, edition for people engagement (public)",1,"Serv","Suscripcion","N/A","N/A","N/A","SAP-8005810","Forma de pago estandar a 30 dias",140,1,0,"USD"]
[{"$f":"D4258&F4258&E4258","v":"SAP ColombiaCloud Classic SAP SolutionsSAP-8005811"},{"$f":"E4258&F4258","v":"SAP-8005811Cloud Classic SAP Solutions"},null,"SAP Colombia","SAP-8005811","Cloud Classic SAP Solutions",{"$f":"D4258","v":"SAP Colombia"},"USD","N/A","SAP Learning Hub, edition for finance (public)",1,"Serv","Suscripcion","N/A","N/A","N/A","SAP-8005811","Forma de pago estandar a 30 dias",140,1,0,"USD"]
[{"$f":"D4259&F4259&E4259","v":"SAP ColombiaCloud Classic SAP SolutionsSAP-8006100-1"},{"$f":"E4259&F4259","v":"SAP-8006100-1Cloud Classic SAP Solutions"},null,"SAP Colombia","SAP-8006100-1","Cloud Classic SAP Solutions",{"$f":"D4259","v":"SAP Colombia"},"USD","N/A","SAP Enable Now, cloud edition",1,"Serv","Suscripcion","N/A","N/A","N/A","SAP-8006100-1","Forma de pago estandar a 30 dias",10,1,0,"USD"]
[{"$f":"D4260&F4260&E4260","v":"SAP ColombiaCloud Classic SAP SolutionsSAP-8006100-2"},{"$f":"E4260&F4260","v":"SAP-8006100-2Cloud Classic SAP Solutions"},null,"SAP Colombia","SAP-8006100-2","Cloud Classic SAP Solutions",{"$f":"D4260","v":"SAP Colombia"},"USD","N/A","SAP Enable Now, cloud edition",1,"Serv","Suscripcion","N/A","N/A","N/A","SAP-8006100-2","Forma de pago estandar a 30 dias",8.31,1,0,"USD"]
[{"$f":"D4261&F4261&E4261","v":"SAP ColombiaCloud Classic SAP SolutionsSAP-8006100-3"},{"$f":"E4261&F4261","v":"SAP-8006100-3Cloud Classic SAP Solutions"},null,"SAP Colombia","SAP-8006100-3","Cloud Classic SAP Solutions",{"$f":"D4261","v":"SAP Colombia"},"USD","N/A","SAP Enable Now, cloud edition",1,"Serv","Suscripcion","N/A","N/A","N/A","SAP-8006100-3","Forma de pago estandar a 30 dias",5.51,1,0,"USD"]
[{"$f":"D4262&F4262&E4262","v":"SAP ColombiaCloud Classic SAP SolutionsSAP-8006100-4"},{"$f":"E4262&F4262","v":"SAP-8006100-4Cloud Classic SAP Solutions"},null,"SAP Colombia","SAP-8006100-4","Cloud Classic SAP Solutions",{"$f":"D4262","v":"SAP Colombia"},"USD","N/A","SAP Enable Now, cloud edition",1,"Serv","Suscripcion","N/A","N/A","N/A","SAP-8006100-4","Forma de pago estandar a 30 dias",3.64,1,0,"USD"]
[{"$f":"D4263&F4263&E4263","v":"SAP ColombiaCloud Classic SAP SolutionsSAP-8006100-5"},{"$f":"E4263&F4263","v":"SAP-8006100-5Cloud Classic SAP Solutions"},null,"SAP Colombia","SAP-8006100-5","Cloud Classic SAP Solutions",{"$f":"D4263","v":"SAP Colombia"},"USD","N/A","SAP Enable Now, cloud edition",1,"Serv","Suscripcion","N/A","N/A","N/A","SAP-8006100-5","Forma de pago estandar a 30 dias",2.99,1,0,"USD"]
[{"$f":"D4264&F4264&E4264","v":"SAP ColombiaCloud Classic SAP SolutionsSAP-8006100-6"},{"$f":"E4264&F4264","v":"SAP-8006100-6Cloud Classic SAP Solutions"},null,"SAP Colombia","SAP-8006100-6","Cloud Classic SAP Solutions",{"$f":"D4264","v":"SAP Colombia"},"USD","N/A","SAP Enable Now, cloud edition",1,"Serv","Suscripcion","N/A","N/A","N/A","SAP-8006100-6","Forma de pago estandar a 30 dias",2.4300000000000002,1,0,"USD"]
[{"$f":"D4265&F4265&E4265","v":"SAP ColombiaCloud Classic SAP SolutionsSAP-8006100-7"},{"$f":"E4265&F4265","v":"SAP-8006100-7Cloud Classic SAP Solutions"},null,"SAP Colombia","SAP-8006100-7","Cloud Classic SAP Solutions",{"$f":"D4265","v":"SAP Colombia"},"USD","N/A","SAP Enable Now, cloud edition",1,"Serv","Suscripcion","N/A","N/A","N/A","SAP-8006100-7","Forma de pago estandar a 30 dias",1.96,1,0,"USD"]
[{"$f":"D4266&F4266&E4266","v":"SAP ColombiaCloud Classic SAP SolutionsSAP-8006100-8"},{"$f":"E4266&F4266","v":"SAP-8006100-8Cloud Classic SAP Solutions"},null,"SAP Colombia","SAP-8006100-8","Cloud Classic SAP Solutions",{"$f":"D4266","v":"SAP Colombia"},"USD","N/A","SAP Enable Now, cloud edition",1,"Serv","Suscripcion","N/A","N/A","N/A","SAP-8006100-8","Forma de pago estandar a 30 dias",1.79,1,0,"USD"]
[{"$f":"D4267&F4267&E4267","v":"SAP ColombiaCloud Classic SAP SolutionsSAP-8006100-9"},{"$f":"E4267&F4267","v":"SAP-8006100-9Cloud Classic SAP Solutions"},null,"SAP Colombia","SAP-8006100-9","Cloud Classic SAP Solutions",{"$f":"D4267","v":"SAP Colombia"},"USD","N/A","SAP Enable Now, cloud edition",1,"Serv","Suscripcion","N/A","N/A","N/A","SAP-8006100-9","Forma de pago estandar a 30 dias",1.68,1,0,"USD"]
[{"$f":"D4268&F4268&E4268","v":"SAP ColombiaCloud Classic SAP SolutionsSAP-8008251-1"},{"$f":"E4268&F4268","v":"SAP-8008251-1Cloud Classic SAP Solutions"},null,"SAP Colombia","SAP-8008251-1","Cloud Classic SAP Solutions",{"$f":"D4268","v":"SAP Colombia"},"USD","N/A","SAP Learning System Access (360)",1,"Serv","Suscripcion","N/A","N/A","N/A","SAP-8008251-1","Forma de pago estandar a 30 dias",56,1,0,"USD"]
[{"$f":"D4269&F4269&E4269","v":"SAP ColombiaCloud Classic SAP SolutionsSAP-8008251-2"},{"$f":"E4269&F4269","v":"SAP-8008251-2Cloud Classic SAP Solutions"},null,"SAP Colombia","SAP-8008251-2","Cloud Classic SAP Solutions",{"$f":"D4269","v":"SAP Colombia"},"USD","N/A","SAP Learning System Access (360)",1,"Serv","Suscripcion","N/A","N/A","N/A","SAP-8008251-2","Forma de pago estandar a 30 dias",50,1,0,"USD"]
[{"$f":"D4270&F4270&E4270","v":"SAP ColombiaCloud Classic SAP SolutionsSAP-8008251-3"},{"$f":"E4270&F4270","v":"SAP-8008251-3Cloud Classic SAP Solutions"},null,"SAP Colombia","SAP-8008251-3","Cloud Classic SAP Solutions",{"$f":"D4270","v":"SAP Colombia"},"USD","N/A","SAP Learning System Access (360)",1,"Serv","Suscripcion","N/A","N/A","N/A","SAP-8008251-3","Forma de pago estandar a 30 dias",45,1,0,"USD"]
[{"$f":"D4271&F4271&E4271","v":"SAP ColombiaCloud Classic SAP SolutionsSAP-8008251-4"},{"$f":"E4271&F4271","v":"SAP-8008251-4Cloud Classic SAP Solutions"},null,"SAP Colombia","SAP-8008251-4","Cloud Classic SAP Solutions",{"$f":"D4271","v":"SAP Colombia"},"USD","N/A","SAP Learning System Access (360)",1,"Serv","Suscripcion","N/A","N/A","N/A","SAP-8008251-4","Forma de pago estandar a 30 dias",39,1,0,"USD"]
[{"$f":"D4272&F4272&E4272","v":"SAP ColombiaCloud Classic SAP SolutionsSAP-8008251-5"},{"$f":"E4272&F4272","v":"SAP-8008251-5Cloud Classic SAP Solutions"},null,"SAP Colombia","SAP-8008251-5","Cloud Classic SAP Solutions",{"$f":"D4272","v":"SAP Colombia"},"USD","N/A","SAP Learning System Access (360)",1,"Serv","Suscripcion","N/A","N/A","N/A","SAP-8008251-5","Forma de pago estandar a 30 dias",34,1,0,"USD"]
[{"$f":"D4273&F4273&E4273","v":"SAP ColombiaCloud Classic SAP SolutionsSAP-8008251-6"},{"$f":"E4273&F4273","v":"SAP-8008251-6Cloud Classic SAP Solutions"},null,"SAP Colombia","SAP-8008251-6","Cloud Classic SAP Solutions",{"$f":"D4273","v":"SAP Colombia"},"USD","N/A","SAP Learning System Access (360)",1,"Serv","Suscripcion","N/A","N/A","N/A","SAP-8008251-6","Forma de pago estandar a 30 dias",28,1,0,"USD"]
[{"$f":"D4274&F4274&E4274","v":"SAP ColombiaCloud Classic SAP SolutionsSAP-8005605"},{"$f":"E4274&F4274","v":"SAP-8005605Cloud Classic SAP Solutions"},null,"SAP Colombia","SAP-8005605","Cloud Classic SAP Solutions",{"$f":"D4274","v":"SAP Colombia"},"USD","N/A","Cloud Platform Enterprise Agreement",1,"Serv","Suscripcion","N/A","N/A","N/A","SAP-8005605","Forma de pago estandar a 30 dias",100,1,0,"USD"]
[{"$f":"D4275&F4275&E4275","v":"SAP ColombiaCloud Classic SAP SolutionsSAP-8007848"},{"$f":"E4275&F4275","v":"SAP-8007848Cloud Classic SAP Solutions"},null,"SAP Colombia","SAP-8007848","Cloud Classic SAP Solutions",{"$f":"D4275","v":"SAP Colombia"},"USD","N/A","Pay-As-You-Go for SAP Business Technology Platform",1,"Serv","Suscripcion","N/A","N/A","N/A","SAP-8007848","Forma de pago estandar a 30 dias",0,1,0,"USD"]
[{"$f":"D4276&F4276&E4276","v":"SAP ColombiaCloud Classic SAP SolutionsSAP-8008183"},{"$f":"E4276&F4276","v":"SAP-8008183Cloud Classic SAP Solutions"},null,"SAP Colombia","SAP-8008183","Cloud Classic SAP Solutions",{"$f":"D4276","v":"SAP Colombia"},"USD","N/A","SAP Business Application Studio",1,"Serv","Suscripcion","N/A","N/A","N/A","SAP-8008183","Forma de pago estandar a 30 dias",15,1,0,"USD"]
[{"$f":"D4277&F4277&E4277","v":"SAP ColombiaCloud Classic SAP SolutionsSAP-8008376"},{"$f":"E4277&F4277","v":"SAP-8008376Cloud Classic SAP Solutions"},null,"SAP Colombia","SAP-8008376","Cloud Classic SAP Solutions",{"$f":"D4277","v":"SAP Colombia"},"USD","N/A","SAP Document Management, application option",50000,"Serv","Suscripcion","N/A","N/A","N/A","SAP-8008376","Forma de pago estandar a 30 dias",25,1,0,"USD"]
[{"$f":"D4278&F4278&E4278","v":"SAP ColombiaCloud Classic SAP SolutionsSAP-8008411"},{"$f":"E4278&F4278","v":"SAP-8008411Cloud Classic SAP Solutions"},null,"SAP Colombia","SAP-8008411","Cloud Classic SAP Solutions",{"$f":"D4278","v":"SAP Colombia"},"USD","N/A","SAP Integration Suite, standard edition",1,"Serv","Suscripcion","N/A","N/A","N/A","SAP-8008411","Forma de pago estandar a 30 dias",4480,1,0,"USD"]
[{"$f":"D4279&F4279&E4279","v":"SAP ColombiaCloud Classic SAP SolutionsSAP-8008412"},{"$f":"E4279&F4279","v":"SAP-8008412Cloud Classic SAP Solutions"},null,"SAP Colombia","SAP-8008412","Cloud Classic SAP Solutions",{"$f":"D4279","v":"SAP Colombia"},"USD","N/A","SAP Integration Suite, premium edition",1,"Serv","Suscripcion","N/A","N/A","N/A","SAP-8008412","Forma de pago estandar a 30 dias",23294,1,0,"USD"]
[{"$f":"D4280&F4280&E4280","v":"SAP ColombiaCloud Classic SAP SolutionsSAP-8008413"},{"$f":"E4280&F4280","v":"SAP-8008413Cloud Classic SAP Solutions"},null,"SAP Colombia","SAP-8008413","Cloud Classic SAP Solutions",{"$f":"D4280","v":"SAP Colombia"},"USD","N/A","SAP Integration Suite, premium edition, additional instance",1,"Serv","Suscripcion","N/A","N/A","N/A","SAP-8008413","Forma de pago estandar a 30 dias",7279,1,0,"USD"]
[{"$f":"D4281&F4281&E4281","v":"SAP ColombiaCloud Classic SAP SolutionsSAP-8008414-1"},{"$f":"E4281&F4281","v":"SAP-8008414-1Cloud Classic SAP Solutions"},null,"SAP Colombia","SAP-8008414-1","Cloud Classic SAP Solutions",{"$f":"D4281","v":"SAP Colombia"},"USD","N/A","SAP Integration Suite, additional messages",10000,"Serv","Suscripcion","N/A","N/A","N/A","SAP-8008414-1","Forma de pago estandar a 30 dias",5.94,1,0,"USD"]
[{"$f":"D4282&F4282&E4282","v":"SAP ColombiaCloud Classic SAP SolutionsSAP-8008414-2"},{"$f":"E4282&F4282","v":"SAP-8008414-2Cloud Classic SAP Solutions"},null,"SAP Colombia","SAP-8008414-2","Cloud Classic SAP Solutions",{"$f":"D4282","v":"SAP Colombia"},"USD","N/A","SAP Integration Suite, additional messages",10000,"Serv","Suscripcion","N/A","N/A","N/A","SAP-8008414-2","Forma de pago estandar a 30 dias",4.42,1,0,"USD"]
[{"$f":"D4283&F4283&E4283","v":"SAP ColombiaCloud Classic SAP SolutionsSAP-8008414-3"},{"$f":"E4283&F4283","v":"SAP-8008414-3Cloud Classic SAP Solutions"},null,"SAP Colombia","SAP-8008414-3","Cloud Classic SAP Solutions",{"$f":"D4283","v":"SAP Colombia"},"USD","N/A","SAP Integration Suite, additional messages",10000,"Serv","Suscripcion","N/A","N/A","N/A","SAP-8008414-3","Forma de pago estandar a 30 dias",3.36,1,0,"USD"]
[{"$f":"D4284&F4284&E4284","v":"SAP ColombiaCloud Classic SAP SolutionsSAP-8008414-4"},{"$f":"E4284&F4284","v":"SAP-8008414-4Cloud Classic SAP Solutions"},null,"SAP Colombia","SAP-8008414-4","Cloud Classic SAP Solutions",{"$f":"D4284","v":"SAP Colombia"},"USD","N/A","SAP Integration Suite, additional messages",10000,"Serv","Suscripcion","N/A","N/A","N/A","SAP-8008414-4","Forma de pago estandar a 30 dias",2.58,1,0,"USD"]
[{"$f":"D4285&F4285&E4285","v":"SAP ColombiaCloud Classic SAP SolutionsSAP-8008414-5"},{"$f":"E4285&F4285","v":"SAP-8008414-5Cloud Classic SAP Solutions"},null,"SAP Colombia","SAP-8008414-5","Cloud Classic SAP Solutions",{"$f":"D4285","v":"SAP Colombia"},"USD","N/A","SAP Integration Suite, additional messages",10000,"Serv","Suscripcion","N/A","N/A","N/A","SAP-8008414-5","Forma de pago estandar a 30 dias",1.85,1,0,"USD"]
[{"$f":"D4286&F4286&E4286","v":"SAP ColombiaCloud Classic SAP SolutionsSAP-8008414-6"},{"$f":"E4286&F4286","v":"SAP-8008414-6Cloud Classic SAP Solutions"},null,"SAP Colombia","SAP-8008414-6","Cloud Classic SAP Solutions",{"$f":"D4286","v":"SAP Colombia"},"USD","N/A","SAP Integration Suite, additional messages",10000,"Serv","Suscripcion","N/A","N/A","N/A","SAP-8008414-6","Forma de pago estandar a 30 dias",1.4,1,0,"USD"]
[{"$f":"D4287&F4287&E4287","v":"SAP ColombiaCloud Classic SAP SolutionsSAP-8008466-1"},{"$f":"E4287&F4287","v":"SAP-8008466-1Cloud Classic SAP Solutions"},null,"SAP Colombia","SAP-8008466-1","Cloud Classic SAP Solutions",{"$f":"D4287","v":"SAP Colombia"},"USD","N/A","SAP Launchpad service",1,"Serv","Suscripcion","N/A","N/A","N/A","SAP-8008466-1","Forma de pago estandar a 30 dias",1.4,1,0,"USD"]
[{"$f":"D4288&F4288&E4288","v":"SAP ColombiaCloud Classic SAP SolutionsSAP-8008466-2"},{"$f":"E4288&F4288","v":"SAP-8008466-2Cloud Classic SAP Solutions"},null,"SAP Colombia","SAP-8008466-2","Cloud Classic SAP Solutions",{"$f":"D4288","v":"SAP Colombia"},"USD","N/A","SAP Launchpad service",1,"Serv","Suscripcion","N/A","N/A","N/A","SAP-8008466-2","Forma de pago estandar a 30 dias",1.21,1,0,"USD"]
[{"$f":"D4289&F4289&E4289","v":"SAP ColombiaCloud Classic SAP SolutionsSAP-8008466-3"},{"$f":"E4289&F4289","v":"SAP-8008466-3Cloud Classic SAP Solutions"},null,"SAP Colombia","SAP-8008466-3","Cloud Classic SAP Solutions",{"$f":"D4289","v":"SAP Colombia"},"USD","N/A","SAP Launchpad service",1,"Serv","Suscripcion","N/A","N/A","N/A","SAP-8008466-3","Forma de pago estandar a 30 dias",1.1200000000000001,1,0,"USD"]
[{"$f":"D4290&F4290&E4290","v":"SAP ColombiaCloud Classic SAP SolutionsSAP-8008466-4"},{"$f":"E4290&F4290","v":"SAP-8008466-4Cloud Classic SAP Solutions"},null,"SAP Colombia","SAP-8008466-4","Cloud Classic SAP Solutions",{"$f":"D4290","v":"SAP Colombia"},"USD","N/A","SAP Launchpad service",1,"Serv","Suscripcion","N/A","N/A","N/A","SAP-8008466-4","Forma de pago estandar a 30 dias",1.03,1,0,"USD"]
[{"$f":"D4291&F4291&E4291","v":"SAP ColombiaCloud Classic SAP SolutionsSAP-8008466-5"},{"$f":"E4291&F4291","v":"SAP-8008466-5Cloud Classic SAP Solutions"},null,"SAP Colombia","SAP-8008466-5","Cloud Classic SAP Solutions",{"$f":"D4291","v":"SAP Colombia"},"USD","N/A","SAP Launchpad service",1,"Serv","Suscripcion","N/A","N/A","N/A","SAP-8008466-5","Forma de pago estandar a 30 dias",0.93,1,0,"USD"]
[{"$f":"D4292&F4292&E4292","v":"SAP ColombiaCloud Classic SAP SolutionsSAP-8008466-6"},{"$f":"E4292&F4292","v":"SAP-8008466-6Cloud Classic SAP Solutions"},null,"SAP Colombia","SAP-8008466-6","Cloud Classic SAP Solutions",{"$f":"D4292","v":"SAP Colombia"},"USD","N/A","SAP Launchpad service",1,"Serv","Suscripcion","N/A","N/A","N/A","SAP-8008466-6","Forma de pago estandar a 30 dias",0.84,1,0,"USD"]
[{"$f":"D4293&F4293&E4293","v":"SAP ColombiaCloud Classic SAP SolutionsSAP-8008466-7"},{"$f":"E4293&F4293","v":"SAP-8008466-7Cloud Classic SAP Solutions"},null,"SAP Colombia","SAP-8008466-7","Cloud Classic SAP Solutions",{"$f":"D4293","v":"SAP Colombia"},"USD","N/A","SAP Launchpad service",1,"Serv","Suscripcion","N/A","N/A","N/A","SAP-8008466-7","Forma de pago estandar a 30 dias",0.75,1,0,"USD"]
[{"$f":"D4294&F4294&E4294","v":"SAP ColombiaCloud Classic SAP SolutionsSAP-8008471"},{"$f":"E4294&F4294","v":"SAP-8008471Cloud Classic SAP Solutions"},null,"SAP Colombia","SAP-8008471","Cloud Classic SAP Solutions",{"$f":"D4294","v":"SAP Colombia"},"USD","N/A","SAP Document Management, repository option",100,"Serv","Suscripcion","N/A","N/A","N/A","SAP-8008471","Forma de pago estandar a 30 dias",263,1,0,"USD"]
[{"$f":"D4295&F4295&E4295","v":"SAP ColombiaCloud Classic SAP SolutionsSAP-8008837"},{"$f":"E4295&F4295","v":"SAP-8008837Cloud Classic SAP Solutions"},null,"SAP Colombia","SAP-8008837","Cloud Classic SAP Solutions",{"$f":"D4295","v":"SAP Colombia"},"USD","N/A","SAP Business Technology Platform, Cloud Foundry runtime",1,"Serv","Suscripcion","N/A","N/A","N/A","SAP-8008837","Forma de pago estandar a 30 dias",78,1,0,"USD"]
[{"$f":"D4296&F4296&E4296","v":"SAP ColombiaCloud Classic SAP SolutionsSAP-8008853-1"},{"$f":"E4296&F4296","v":"SAP-8008853-1Cloud Classic SAP Solutions"},null,"SAP Colombia","SAP-8008853-1","Cloud Classic SAP Solutions",{"$f":"D4296","v":"SAP Colombia"},"USD","N/A","SAP Work Zone",1,"Serv","Suscripcion","N/A","N/A","N/A","SAP-8008853-1","Forma de pago estandar a 30 dias",4.4800000000000004,1,0,"USD"]
[{"$f":"D4297&F4297&E4297","v":"SAP ColombiaCloud Classic SAP SolutionsSAP-8008853-2"},{"$f":"E4297&F4297","v":"SAP-8008853-2Cloud Classic SAP Solutions"},null,"SAP Colombia","SAP-8008853-2","Cloud Classic SAP Solutions",{"$f":"D4297","v":"SAP Colombia"},"USD","N/A","SAP Work Zone",1,"Serv","Suscripcion","N/A","N/A","N/A","SAP-8008853-2","Forma de pago estandar a 30 dias",3.93,1,0,"USD"]
[{"$f":"D4298&F4298&E4298","v":"SAP ColombiaCloud Classic SAP SolutionsSAP-8008853-3"},{"$f":"E4298&F4298","v":"SAP-8008853-3Cloud Classic SAP Solutions"},null,"SAP Colombia","SAP-8008853-3","Cloud Classic SAP Solutions",{"$f":"D4298","v":"SAP Colombia"},"USD","N/A","SAP Work Zone",1,"Serv","Suscripcion","N/A","N/A","N/A","SAP-8008853-3","Forma de pago estandar a 30 dias",3.7,1,0,"USD"]
[{"$f":"D4299&F4299&E4299","v":"SAP ColombiaCloud Classic SAP SolutionsSAP-8008853-4"},{"$f":"E4299&F4299","v":"SAP-8008853-4Cloud Classic SAP Solutions"},null,"SAP Colombia","SAP-8008853-4","Cloud Classic SAP Solutions",{"$f":"D4299","v":"SAP Colombia"},"USD","N/A","SAP Work Zone",1,"Serv","Suscripcion","N/A","N/A","N/A","SAP-8008853-4","Forma de pago estandar a 30 dias",3.34,1,0,"USD"]
[{"$f":"D4300&F4300&E4300","v":"SAP ColombiaCloud Classic SAP SolutionsSAP-8008853-5"},{"$f":"E4300&F4300","v":"SAP-8008853-5Cloud Classic SAP Solutions"},null,"SAP Colombia","SAP-8008853-5","Cloud Classic SAP Solutions",{"$f":"D4300","v":"SAP Colombia"},"USD","N/A","SAP Work Zone",1,"Serv","Suscripcion","N/A","N/A","N/A","SAP-8008853-5","Forma de pago estandar a 30 dias",3.03,1,0,"USD"]
[{"$f":"D4301&F4301&E4301","v":"SAP ColombiaCloud Classic SAP SolutionsSAP-8008853-6"},{"$f":"E4301&F4301","v":"SAP-8008853-6Cloud Classic SAP Solutions"},null,"SAP Colombia","SAP-8008853-6","Cloud Classic SAP Solutions",{"$f":"D4301","v":"SAP Colombia"},"USD","N/A","SAP Work Zone",1,"Serv","Suscripcion","N/A","N/A","N/A","SAP-8008853-6","Forma de pago estandar a 30 dias",2.82,1,0,"USD"]
[{"$f":"D4302&F4302&E4302","v":"SAP ColombiaCloud Classic SAP SolutionsSAP-8008853-7"},{"$f":"E4302&F4302","v":"SAP-8008853-7Cloud Classic SAP Solutions"},null,"SAP Colombia","SAP-8008853-7","Cloud Classic SAP Solutions",{"$f":"D4302","v":"SAP Colombia"},"USD","N/A","SAP Work Zone",1,"Serv","Suscripcion","N/A","N/A","N/A","SAP-8008853-7","Forma de pago estandar a 30 dias",2.65,1,0,"USD"]
[{"$f":"D4303&F4303&E4303","v":"SAP ColombiaCloud Classic SAP SolutionsSAP-8009273-1"},{"$f":"E4303&F4303","v":"SAP-8009273-1Cloud Classic SAP Solutions"},null,"SAP Colombia","SAP-8009273-1","Cloud Classic SAP Solutions",{"$f":"D4303","v":"SAP Colombia"},"USD","N/A","SAP HANA, EE Cloud, upgrade, private edition",256,"Serv","Suscripcion","N/A","N/A","N/A","SAP-8009273-1","Forma de pago estandar a 30 dias",24638,1,0,"USD"]
[{"$f":"D4304&F4304&E4304","v":"SAP ColombiaCloud Classic SAP SolutionsSAP-8009273-2"},{"$f":"E4304&F4304","v":"SAP-8009273-2Cloud Classic SAP Solutions"},null,"SAP Colombia","SAP-8009273-2","Cloud Classic SAP Solutions",{"$f":"D4304","v":"SAP Colombia"},"USD","N/A","SAP HANA, EE Cloud, upgrade, private edition",256,"Serv","Suscripcion","N/A","N/A","N/A","SAP-8009273-2","Forma de pago estandar a 30 dias",17918,1,0,"USD"]
[{"$f":"D4305&F4305&E4305","v":"SAP ColombiaCloud Classic SAP SolutionsSAP-8009273-3"},{"$f":"E4305&F4305","v":"SAP-8009273-3Cloud Classic SAP Solutions"},null,"SAP Colombia","SAP-8009273-3","Cloud Classic SAP Solutions",{"$f":"D4305","v":"SAP Colombia"},"USD","N/A","SAP HANA, EE Cloud, upgrade, private edition",256,"Serv","Suscripcion","N/A","N/A","N/A","SAP-8009273-3","Forma de pago estandar a 30 dias",13439,1,0,"USD"]
[{"$f":"D4306&F4306&E4306","v":"SAP ColombiaCloud Classic SAP SolutionsSAP-8009273-4"},{"$f":"E4306&F4306","v":"SAP-8009273-4Cloud Classic SAP Solutions"},null,"SAP Colombia","SAP-8009273-4","Cloud Classic SAP Solutions",{"$f":"D4306","v":"SAP Colombia"},"USD","N/A","SAP HANA, EE Cloud, upgrade, private edition",256,"Serv","Suscripcion","N/A","N/A","N/A","SAP-8009273-4","Forma de pago estandar a 30 dias",10079,1,0,"USD"]
[{"$f":"D4307&F4307&E4307","v":"SAP ColombiaCloud Classic SAP SolutionsSAP-8009273-5"},{"$f":"E4307&F4307","v":"SAP-8009273-5Cloud Classic SAP Solutions"},null,"SAP Colombia","SAP-8009273-5","Cloud Classic SAP Solutions",{"$f":"D4307","v":"SAP Colombia"},"USD","N/A","SAP HANA, EE Cloud, upgrade, private edition",256,"Serv","Suscripcion","N/A","N/A","N/A","SAP-8009273-5","Forma de pago estandar a 30 dias",5376,1,0,"USD"]
[{"$f":"D4308&F4308&E4308","v":"SAP ColombiaCloud Classic SAP SolutionsSAP-8009455"},{"$f":"E4308&F4308","v":"SAP-8009455Cloud Classic SAP Solutions"},null,"SAP Colombia","SAP-8009455","Cloud Classic SAP Solutions",{"$f":"D4308","v":"SAP Colombia"},"USD","N/A","SAP Data Warehouse Cloud",1,"Serv","Suscripcion","N/A","N/A","N/A","SAP-8009455","Forma de pago estandar a 30 dias",1.1200000000000001,1,0,"USD"]
[{"$f":"D4309&F4309&E4309","v":"SAP ColombiaCloud Classic SAP SolutionsSAP-8010886"},{"$f":"E4309&F4309","v":"SAP-8010886Cloud Classic SAP Solutions"},null,"SAP Colombia","SAP-8010886","Cloud Classic SAP Solutions",{"$f":"D4309","v":"SAP Colombia"},"USD","N/A","SAP HANA, EE Cloud, base package, private edition",1,"Serv","Suscripcion","N/A","N/A","N/A","SAP-8010886","Forma de pago estandar a 30 dias",53755,1,0,"USD"]
[{"$f":"D4310&F4310&E4310","v":"SAP ColombiaCloud Classic SAP SolutionsSAP-8010888"},{"$f":"E4310&F4310","v":"SAP-8010888Cloud Classic SAP Solutions"},null,"SAP Colombia","SAP-8010888","Cloud Classic SAP Solutions",{"$f":"D4310","v":"SAP Colombia"},"USD","N/A","SAP HANA, EE Cloud, non-prod tier, base package, private edition",1,"Serv","Suscripcion","N/A","N/A","N/A","SAP-8010888","Forma de pago estandar a 30 dias",7509,1,0,"USD"]
[{"$f":"D4311&F4311&E4311","v":"SAP ColombiaCloud Classic SAP SolutionsSAP-8011081"},{"$f":"E4311&F4311","v":"SAP-8011081Cloud Classic SAP Solutions"},null,"SAP Colombia","SAP-8011081","Cloud Classic SAP Solutions",{"$f":"D4311","v":"SAP Colombia"},"USD","N/A","EU Access for SAP BTP",1,"Serv","Suscripcion","N/A","N/A","N/A","SAP-8011081","Forma de pago estandar a 30 dias",15,1,0,"USD"]
[{"$f":"D4312&F4312&E4312","v":"SAP ColombiaCloud Classic SAP SolutionsSAP-8011306"},{"$f":"E4312&F4312","v":"SAP-8011306Cloud Classic SAP Solutions"},null,"SAP Colombia","SAP-8011306","Cloud Classic SAP Solutions",{"$f":"D4312","v":"SAP Colombia"},"USD","N/A","SAP IQ cold store Cloud, private edition (XS, 512 GB)",1,"Serv","Suscripcion","N/A","N/A","N/A","SAP-8011306","Forma de pago estandar a 30 dias",14262,1,0,"USD"]
[{"$f":"D4313&F4313&E4313","v":"SAP ColombiaCloud Classic SAP SolutionsSAP-8011307"},{"$f":"E4313&F4313","v":"SAP-8011307Cloud Classic SAP Solutions"},null,"SAP Colombia","SAP-8011307","Cloud Classic SAP Solutions",{"$f":"D4313","v":"SAP Colombia"},"USD","N/A","SAP IQ cold store Cloud, private edition (S, 1TB)",1,"Serv","Suscripcion","N/A","N/A","N/A","SAP-8011307","Forma de pago estandar a 30 dias",22896,1,0,"USD"]
[{"$f":"D4314&F4314&E4314","v":"SAP ColombiaCloud Classic SAP SolutionsSAP-8011308"},{"$f":"E4314&F4314","v":"SAP-8011308Cloud Classic SAP Solutions"},null,"SAP Colombia","SAP-8011308","Cloud Classic SAP Solutions",{"$f":"D4314","v":"SAP Colombia"},"USD","N/A","SAP IQ cold store Cloud, private edition (M, 3 TB)",1,"Serv","Suscripcion","N/A","N/A","N/A","SAP-8011308","Forma de pago estandar a 30 dias",50160,1,0,"USD"]
[{"$f":"D4315&F4315&E4315","v":"SAP ColombiaCloud Classic SAP SolutionsSAP-8011309"},{"$f":"E4315&F4315","v":"SAP-8011309Cloud Classic SAP Solutions"},null,"SAP Colombia","SAP-8011309","Cloud Classic SAP Solutions",{"$f":"D4315","v":"SAP Colombia"},"USD","N/A","SAP IQ cold store Cloud, private edition (L, 5 TB)",1,"Serv","Suscripcion","N/A","N/A","N/A","SAP-8011309","Forma de pago estandar a 30 dias",73762,1,0,"USD"]
[{"$f":"D4316&F4316&E4316","v":"SAP ColombiaCloud Classic SAP SolutionsSAP-8011310"},{"$f":"E4316&F4316","v":"SAP-8011310Cloud Classic SAP Solutions"},null,"SAP Colombia","SAP-8011310","Cloud Classic SAP Solutions",{"$f":"D4316","v":"SAP Colombia"},"USD","N/A","SAP IQ cold store Cloud, private edition (XL, 10 TB)",1,"Serv","Suscripcion","N/A","N/A","N/A","SAP-8011310","Forma de pago estandar a 30 dias",137093,1,0,"USD"]
[{"$f":"D4317&F4317&E4317","v":"SAP ColombiaCloud Classic SAP SolutionsSAP-8011311"},{"$f":"E4317&F4317","v":"SAP-8011311Cloud Classic SAP Solutions"},null,"SAP Colombia","SAP-8011311","Cloud Classic SAP Solutions",{"$f":"D4317","v":"SAP Colombia"},"USD","N/A","SAP IQ cold store Cloud, private edition (XXL, 20 TB)",1,"Serv","Suscripcion","N/A","N/A","N/A","SAP-8011311","Forma de pago estandar a 30 dias",257532,1,0,"USD"]
[{"$f":"D4318&F4318&E4318","v":"SAP ColombiaCloud Classic SAP SolutionsSAP-8011317"},{"$f":"E4318&F4318","v":"SAP-8011317Cloud Classic SAP Solutions"},null,"SAP Colombia","SAP-8011317","Cloud Classic SAP Solutions",{"$f":"D4318","v":"SAP Colombia"},"USD","N/A","SAP Data Warehouse Cloud, test tenant",1,"Serv","Suscripcion","N/A","N/A","N/A","SAP-8011317","Forma de pago estandar a 30 dias",0.62,1,0,"USD"]
[{"$f":"D4319&F4319&E4319","v":"SAP ColombiaCloud Classic SAP SolutionsSAP-8011367"},{"$f":"E4319&F4319","v":"SAP-8011367Cloud Classic SAP Solutions"},null,"SAP Colombia","SAP-8011367","Cloud Classic SAP Solutions",{"$f":"D4319","v":"SAP Colombia"},"USD","N/A","SAP Additional Database Storage, private cloud edition",100,"Serv","Suscripcion","N/A","N/A","N/A","SAP-8011367","Forma de pago estandar a 30 dias",407,1,0,"USD"]
[{"$f":"D4320&F4320&E4320","v":"SAP ColombiaCloud Classic SAP SolutionsSAP-8011542-1"},{"$f":"E4320&F4320","v":"SAP-8011542-1Cloud Classic SAP Solutions"},null,"SAP Colombia","SAP-8011542-1","Cloud Classic SAP Solutions",{"$f":"D4320","v":"SAP Colombia"},"USD","N/A","SAP Mobile Services",1,"Serv","Suscripcion","N/A","N/A","N/A","SAP-8011542-1","Forma de pago estandar a 30 dias",3.36,1,0,"USD"]
[{"$f":"D4321&F4321&E4321","v":"SAP ColombiaCloud Classic SAP SolutionsSAP-8011542-2"},{"$f":"E4321&F4321","v":"SAP-8011542-2Cloud Classic SAP Solutions"},null,"SAP Colombia","SAP-8011542-2","Cloud Classic SAP Solutions",{"$f":"D4321","v":"SAP Colombia"},"USD","N/A","SAP Mobile Services",1,"Serv","Suscripcion","N/A","N/A","N/A","SAP-8011542-2","Forma de pago estandar a 30 dias",2.8,1,0,"USD"]
[{"$f":"D4322&F4322&E4322","v":"SAP ColombiaCloud Classic SAP SolutionsSAP-8011542-3"},{"$f":"E4322&F4322","v":"SAP-8011542-3Cloud Classic SAP Solutions"},null,"SAP Colombia","SAP-8011542-3","Cloud Classic SAP Solutions",{"$f":"D4322","v":"SAP Colombia"},"USD","N/A","SAP Mobile Services",1,"Serv","Suscripcion","N/A","N/A","N/A","SAP-8011542-3","Forma de pago estandar a 30 dias",2.6,1,0,"USD"]
[{"$f":"D4323&F4323&E4323","v":"SAP ColombiaCloud Classic SAP SolutionsSAP-8011542-4"},{"$f":"E4323&F4323","v":"SAP-8011542-4Cloud Classic SAP Solutions"},null,"SAP Colombia","SAP-8011542-4","Cloud Classic SAP Solutions",{"$f":"D4323","v":"SAP Colombia"},"USD","N/A","SAP Mobile Services",1,"Serv","Suscripcion","N/A","N/A","N/A","SAP-8011542-4","Forma de pago estandar a 30 dias",2.34,1,0,"USD"]
[{"$f":"D4324&F4324&E4324","v":"SAP ColombiaCloud Classic SAP SolutionsSAP-8011542-5"},{"$f":"E4324&F4324","v":"SAP-8011542-5Cloud Classic SAP Solutions"},null,"SAP Colombia","SAP-8011542-5","Cloud Classic SAP Solutions",{"$f":"D4324","v":"SAP Colombia"},"USD","N/A","SAP Mobile Services",1,"Serv","Suscripcion","N/A","N/A","N/A","SAP-8011542-5","Forma de pago estandar a 30 dias",2.2000000000000002,1,0,"USD"]
[{"$f":"D4325&F4325&E4325","v":"SAP ColombiaCloud Classic SAP SolutionsSAP-8011542-6"},{"$f":"E4325&F4325","v":"SAP-8011542-6Cloud Classic SAP Solutions"},null,"SAP Colombia","SAP-8011542-6","Cloud Classic SAP Solutions",{"$f":"D4325","v":"SAP Colombia"},"USD","N/A","SAP Mobile Services",1,"Serv","Suscripcion","N/A","N/A","N/A","SAP-8011542-6","Forma de pago estandar a 30 dias",1.93,1,0,"USD"]
[{"$f":"D4326&F4326&E4326","v":"SAP ColombiaCloud Classic SAP SolutionsSAP-8011542-7"},{"$f":"E4326&F4326","v":"SAP-8011542-7Cloud Classic SAP Solutions"},null,"SAP Colombia","SAP-8011542-7","Cloud Classic SAP Solutions",{"$f":"D4326","v":"SAP Colombia"},"USD","N/A","SAP Mobile Services",1,"Serv","Suscripcion","N/A","N/A","N/A","SAP-8011542-7","Forma de pago estandar a 30 dias",1.55,1,0,"USD"]
[{"$f":"D4327&F4327&E4327","v":"SAP ColombiaCloud Classic SAP SolutionsSAP-8012231"},{"$f":"E4327&F4327","v":"SAP-8012231Cloud Classic SAP Solutions"},null,"SAP Colombia","SAP-8012231","Cloud Classic SAP Solutions",{"$f":"D4327","v":"SAP Colombia"},"USD","N/A","SAP HANA Cloud",1,"Serv","Suscripcion","N/A","N/A","N/A","SAP-8012231","Forma de pago estandar a 30 dias",0.9,1,0,"USD"]
[{"$f":"D4328&F4328&E4328","v":"SAP ColombiaCloud Classic SAP SolutionsSAP-8012251-1"},{"$f":"E4328&F4328","v":"SAP-8012251-1Cloud Classic SAP Solutions"},null,"SAP Colombia","SAP-8012251-1","Cloud Classic SAP Solutions",{"$f":"D4328","v":"SAP Colombia"},"USD","N/A","SAP Process Automation, unattended automations",1,"Serv","Suscripcion","N/A","N/A","N/A","SAP-8012251-1","Forma de pago estandar a 30 dias",560,1,0,"USD"]
[{"$f":"D4329&F4329&E4329","v":"SAP ColombiaCloud Classic SAP SolutionsSAP-8012251-2"},{"$f":"E4329&F4329","v":"SAP-8012251-2Cloud Classic SAP Solutions"},null,"SAP Colombia","SAP-8012251-2","Cloud Classic SAP Solutions",{"$f":"D4329","v":"SAP Colombia"},"USD","N/A","SAP Process Automation, unattended automations",1,"Serv","Suscripcion","N/A","N/A","N/A","SAP-8012251-2","Forma de pago estandar a 30 dias",336,1,0,"USD"]
[{"$f":"D4330&F4330&E4330","v":"SAP ColombiaCloud Classic SAP SolutionsSAP-8012251-3"},{"$f":"E4330&F4330","v":"SAP-8012251-3Cloud Classic SAP Solutions"},null,"SAP Colombia","SAP-8012251-3","Cloud Classic SAP Solutions",{"$f":"D4330","v":"SAP Colombia"},"USD","N/A","SAP Process Automation, unattended automations",1,"Serv","Suscripcion","N/A","N/A","N/A","SAP-8012251-3","Forma de pago estandar a 30 dias",224,1,0,"USD"]
[{"$f":"D4331&F4331&E4331","v":"SAP ColombiaCloud Classic SAP SolutionsSAP-8012251-4"},{"$f":"E4331&F4331","v":"SAP-8012251-4Cloud Classic SAP Solutions"},null,"SAP Colombia","SAP-8012251-4","Cloud Classic SAP Solutions",{"$f":"D4331","v":"SAP Colombia"},"USD","N/A","SAP Process Automation, unattended automations",1,"Serv","Suscripcion","N/A","N/A","N/A","SAP-8012251-4","Forma de pago estandar a 30 dias",140,1,0,"USD"]
[{"$f":"D4332&F4332&E4332","v":"SAP ColombiaCloud Classic SAP SolutionsSAP-8012252-1"},{"$f":"E4332&F4332","v":"SAP-8012252-1Cloud Classic SAP Solutions"},null,"SAP Colombia","SAP-8012252-1","Cloud Classic SAP Solutions",{"$f":"D4332","v":"SAP Colombia"},"USD","N/A","SAP Process Automation, attended automations",10,"Serv","Suscripcion","N/A","N/A","N/A","SAP-8012252-1","Forma de pago estandar a 30 dias",560,1,0,"USD"]
[{"$f":"D4333&F4333&E4333","v":"SAP ColombiaCloud Classic SAP SolutionsSAP-8012252-2"},{"$f":"E4333&F4333","v":"SAP-8012252-2Cloud Classic SAP Solutions"},null,"SAP Colombia","SAP-8012252-2","Cloud Classic SAP Solutions",{"$f":"D4333","v":"SAP Colombia"},"USD","N/A","SAP Process Automation, attended automations",10,"Serv","Suscripcion","N/A","N/A","N/A","SAP-8012252-2","Forma de pago estandar a 30 dias",336,1,0,"USD"]
[{"$f":"D4334&F4334&E4334","v":"SAP ColombiaCloud Classic SAP SolutionsSAP-8012252-3"},{"$f":"E4334&F4334","v":"SAP-8012252-3Cloud Classic SAP Solutions"},null,"SAP Colombia","SAP-8012252-3","Cloud Classic SAP Solutions",{"$f":"D4334","v":"SAP Colombia"},"USD","N/A","SAP Process Automation, attended automations",10,"Serv","Suscripcion","N/A","N/A","N/A","SAP-8012252-3","Forma de pago estandar a 30 dias",224,1,0,"USD"]
[{"$f":"D4335&F4335&E4335","v":"SAP ColombiaCloud Classic SAP SolutionsSAP-8012252-4"},{"$f":"E4335&F4335","v":"SAP-8012252-4Cloud Classic SAP Solutions"},null,"SAP Colombia","SAP-8012252-4","Cloud Classic SAP Solutions",{"$f":"D4335","v":"SAP Colombia"},"USD","N/A","SAP Process Automation, attended automations",10,"Serv","Suscripcion","N/A","N/A","N/A","SAP-8012252-4","Forma de pago estandar a 30 dias",140,1,0,"USD"]
[{"$f":"D4336&F4336&E4336","v":"SAP ColombiaCloud Classic SAP SolutionsSAP-8012264-1"},{"$f":"E4336&F4336","v":"SAP-8012264-1Cloud Classic SAP Solutions"},null,"SAP Colombia","SAP-8012264-1","Cloud Classic SAP Solutions",{"$f":"D4336","v":"SAP Colombia"},"USD","N/A","SAP Process Automation, standard",1,"Serv","Suscripcion","N/A","N/A","N/A","SAP-8012264-1","Forma de pago estandar a 30 dias",1.9,1,0,"USD"]
[{"$f":"D4337&F4337&E4337","v":"SAP ColombiaCloud Classic SAP SolutionsSAP-8012264-2"},{"$f":"E4337&F4337","v":"SAP-8012264-2Cloud Classic SAP Solutions"},null,"SAP Colombia","SAP-8012264-2","Cloud Classic SAP Solutions",{"$f":"D4337","v":"SAP Colombia"},"USD","N/A","SAP Process Automation, standard",1,"Serv","Suscripcion","N/A","N/A","N/A","SAP-8012264-2","Forma de pago estandar a 30 dias",1.42,1,0,"USD"]
[{"$f":"D4338&F4338&E4338","v":"SAP ColombiaCloud Classic SAP SolutionsSAP-8012264-3"},{"$f":"E4338&F4338","v":"SAP-8012264-3Cloud Classic SAP Solutions"},null,"SAP Colombia","SAP-8012264-3","Cloud Classic SAP Solutions",{"$f":"D4338","v":"SAP Colombia"},"USD","N/A","SAP Process Automation, standard",1,"Serv","Suscripcion","N/A","N/A","N/A","SAP-8012264-3","Forma de pago estandar a 30 dias",1.24,1,0,"USD"]
[{"$f":"D4339&F4339&E4339","v":"SAP ColombiaCloud Classic SAP SolutionsSAP-8012264-4"},{"$f":"E4339&F4339","v":"SAP-8012264-4Cloud Classic SAP Solutions"},null,"SAP Colombia","SAP-8012264-4","Cloud Classic SAP Solutions",{"$f":"D4339","v":"SAP Colombia"},"USD","N/A","SAP Process Automation, standard",1,"Serv","Suscripcion","N/A","N/A","N/A","SAP-8012264-4","Forma de pago estandar a 30 dias",1,1,0,"USD"]
[{"$f":"D4340&F4340&E4340","v":"SAP ColombiaCloud Classic SAP SolutionsSAP-8012264-5"},{"$f":"E4340&F4340","v":"SAP-8012264-5Cloud Classic SAP Solutions"},null,"SAP Colombia","SAP-8012264-5","Cloud Classic SAP Solutions",{"$f":"D4340","v":"SAP Colombia"},"USD","N/A","SAP Process Automation, standard",1,"Serv","Suscripcion","N/A","N/A","N/A","SAP-8012264-5","Forma de pago estandar a 30 dias",0.81,1,0,"USD"]
[{"$f":"D4341&F4341&E4341","v":"SAP ColombiaCloud Classic SAP SolutionsSAP-8012264-6"},{"$f":"E4341&F4341","v":"SAP-8012264-6Cloud Classic SAP Solutions"},null,"SAP Colombia","SAP-8012264-6","Cloud Classic SAP Solutions",{"$f":"D4341","v":"SAP Colombia"},"USD","N/A","SAP Process Automation, standard",1,"Serv","Suscripcion","N/A","N/A","N/A","SAP-8012264-6","Forma de pago estandar a 30 dias",0.69,1,0,"USD"]
[{"$f":"D4342&F4342&E4342","v":"SAP ColombiaCloud Classic SAP SolutionsSAP-8012264-7"},{"$f":"E4342&F4342","v":"SAP-8012264-7Cloud Classic SAP Solutions"},null,"SAP Colombia","SAP-8012264-7","Cloud Classic SAP Solutions",{"$f":"D4342","v":"SAP Colombia"},"USD","N/A","SAP Process Automation, standard",1,"Serv","Suscripcion","N/A","N/A","N/A","SAP-8012264-7","Forma de pago estandar a 30 dias",0.6,1,0,"USD"]
[{"$f":"D4343&F4343&E4343","v":"SAP ColombiaCloud Classic SAP SolutionsSAP-8012265"},{"$f":"E4343&F4343","v":"SAP-8012265Cloud Classic SAP Solutions"},null,"SAP Colombia","SAP-8012265","Cloud Classic SAP Solutions",{"$f":"D4343","v":"SAP Colombia"},"USD","N/A","SAP Process Automation, advanced",1,"Serv","Suscripcion","N/A","N/A","N/A","SAP-8012265","Forma de pago estandar a 30 dias",16,1,0,"USD"]
[{"$f":"D4344&F4344&E4344","v":"SAP ColombiaCloud Classic SAP SolutionsSAP-8012266"},{"$f":"E4344&F4344","v":"SAP-8012266Cloud Classic SAP Solutions"},null,"SAP Colombia","SAP-8012266","Cloud Classic SAP Solutions",{"$f":"D4344","v":"SAP Colombia"},"USD","N/A","SAP Process Automation, additional storage",1,"Serv","Suscripcion","N/A","N/A","N/A","SAP-8012266","Forma de pago estandar a 30 dias",2.8,1,0,"USD"]
[{"$f":"D4345&F4345&E4345","v":"SAP ColombiaCloud Classic SAP SolutionsSAP-8012267"},{"$f":"E4345&F4345","v":"SAP-8012267Cloud Classic SAP Solutions"},null,"SAP Colombia","SAP-8012267","Cloud Classic SAP Solutions",{"$f":"D4345","v":"SAP Colombia"},"USD","N/A","SAP Process Automation, additional API",10000,"Serv","Suscripcion","N/A","N/A","N/A","SAP-8012267","Forma de pago estandar a 30 dias",5.6,1,0,"USD"]
[{"$f":"D4346&F4346&E4346","v":"SAP ColombiaCloud Classic SAP SolutionsSAP-8006115-1"},{"$f":"E4346&F4346","v":"SAP-8006115-1Cloud Classic SAP Solutions"},null,"SAP Colombia","SAP-8006115-1","Cloud Classic SAP Solutions",{"$f":"D4346","v":"SAP Colombia"},"USD","N/A","SAP Analytics Cloud for planning, predictive standard edition, public option",1,"Serv","Suscripcion","N/A","N/A","N/A","SAP-8006115-1","Forma de pago estandar a 30 dias",146,1,0,"USD"]
[{"$f":"D4347&F4347&E4347","v":"SAP ColombiaCloud Classic SAP SolutionsSAP-8006115-2"},{"$f":"E4347&F4347","v":"SAP-8006115-2Cloud Classic SAP Solutions"},null,"SAP Colombia","SAP-8006115-2","Cloud Classic SAP Solutions",{"$f":"D4347","v":"SAP Colombia"},"USD","N/A","SAP Analytics Cloud for planning, predictive standard edition, public option",1,"Serv","Suscripcion","N/A","N/A","N/A","SAP-8006115-2","Forma de pago estandar a 30 dias",134,1,0,"USD"]
[{"$f":"D4348&F4348&E4348","v":"SAP ColombiaCloud Classic SAP SolutionsSAP-8006115-3"},{"$f":"E4348&F4348","v":"SAP-8006115-3Cloud Classic SAP Solutions"},null,"SAP Colombia","SAP-8006115-3","Cloud Classic SAP Solutions",{"$f":"D4348","v":"SAP Colombia"},"USD","N/A","SAP Analytics Cloud for planning, predictive standard edition, public option",1,"Serv","Suscripcion","N/A","N/A","N/A","SAP-8006115-3","Forma de pago estandar a 30 dias",123,1,0,"USD"]
[{"$f":"D4349&F4349&E4349","v":"SAP ColombiaCloud Classic SAP SolutionsSAP-8006115-4"},{"$f":"E4349&F4349","v":"SAP-8006115-4Cloud Classic SAP Solutions"},null,"SAP Colombia","SAP-8006115-4","Cloud Classic SAP Solutions",{"$f":"D4349","v":"SAP Colombia"},"USD","N/A","SAP Analytics Cloud for planning, predictive standard edition, public option",1,"Serv","Suscripcion","N/A","N/A","N/A","SAP-8006115-4","Forma de pago estandar a 30 dias",112,1,0,"USD"]
[{"$f":"D4350&F4350&E4350","v":"SAP ColombiaCloud Classic SAP SolutionsSAP-8006116"},{"$f":"E4350&F4350","v":"SAP-8006116Cloud Classic SAP Solutions"},null,"SAP Colombia","SAP-8006116","Cloud Classic SAP Solutions",{"$f":"D4350","v":"SAP Colombia"},"USD","N/A","SAP Analytics Cloud for planning, predictive professional edition, public option",1,"Serv","Suscripcion","N/A","N/A","N/A","SAP-8006116","Forma de pago estandar a 30 dias",1764,1,0,"USD"]
[{"$f":"D4351&F4351&E4351","v":"SAP ColombiaCloud Classic SAP SolutionsSAP-8006118-1"},{"$f":"E4351&F4351","v":"SAP-8006118-1Cloud Classic SAP Solutions"},null,"SAP Colombia","SAP-8006118-1","Cloud Classic SAP Solutions",{"$f":"D4351","v":"SAP Colombia"},"USD","N/A","SAP Analytics Cloud for planning, predictive standard edition, private option",1,"Serv","Suscripcion","N/A","N/A","N/A","SAP-8006118-1","Forma de pago estandar a 30 dias",235,1,0,"USD"]
[{"$f":"D4352&F4352&E4352","v":"SAP ColombiaCloud Classic SAP SolutionsSAP-8006118-2"},{"$f":"E4352&F4352","v":"SAP-8006118-2Cloud Classic SAP Solutions"},null,"SAP Colombia","SAP-8006118-2","Cloud Classic SAP Solutions",{"$f":"D4352","v":"SAP Colombia"},"USD","N/A","SAP Analytics Cloud for planning, predictive standard edition, private option",1,"Serv","Suscripcion","N/A","N/A","N/A","SAP-8006118-2","Forma de pago estandar a 30 dias",213,1,0,"USD"]
[{"$f":"D4353&F4353&E4353","v":"SAP ColombiaCloud Classic SAP SolutionsSAP-8006118-3"},{"$f":"E4353&F4353","v":"SAP-8006118-3Cloud Classic SAP Solutions"},null,"SAP Colombia","SAP-8006118-3","Cloud Classic SAP Solutions",{"$f":"D4353","v":"SAP Colombia"},"USD","N/A","SAP Analytics Cloud for planning, predictive standard edition, private option",1,"Serv","Suscripcion","N/A","N/A","N/A","SAP-8006118-3","Forma de pago estandar a 30 dias",202,1,0,"USD"]
[{"$f":"D4354&F4354&E4354","v":"SAP ColombiaCloud Classic SAP SolutionsSAP-8006118-4"},{"$f":"E4354&F4354","v":"SAP-8006118-4Cloud Classic SAP Solutions"},null,"SAP Colombia","SAP-8006118-4","Cloud Classic SAP Solutions",{"$f":"D4354","v":"SAP Colombia"},"USD","N/A","SAP Analytics Cloud for planning, predictive standard edition, private option",1,"Serv","Suscripcion","N/A","N/A","N/A","SAP-8006118-4","Forma de pago estandar a 30 dias",179,1,0,"USD"]
[{"$f":"D4355&F4355&E4355","v":"SAP ColombiaCloud Classic SAP SolutionsSAP-8006119"},{"$f":"E4355&F4355","v":"SAP-8006119Cloud Classic SAP Solutions"},null,"SAP Colombia","SAP-8006119","Cloud Classic SAP Solutions",{"$f":"D4355","v":"SAP Colombia"},"USD","N/A","SAP Analytics Cloud for planning, predictive professional edition, private option",1,"Serv","Suscripcion","N/A","N/A","N/A","SAP-8006119","Forma de pago estandar a 30 dias",2240,1,0,"USD"]
[{"$f":"D4356&F4356&E4356","v":"SAP ColombiaCloud Classic SAP SolutionsSAP-8006125"},{"$f":"E4356&F4356","v":"SAP-8006125Cloud Classic SAP Solutions"},null,"SAP Colombia","SAP-8006125","Cloud Classic SAP Solutions",{"$f":"D4356","v":"SAP Colombia"},"USD","N/A","SAP Analytics Cloud, SAP HANA upgrade, predictive edition, private option (up to 256 GB)",128,"Serv","Suscripcion","N/A","N/A","N/A","SAP-8006125","Forma de pago estandar a 30 dias",1120,1,0,"USD"]
[{"$f":"D4357&F4357&E4357","v":"SAP ColombiaCloud Classic SAP SolutionsSAP-8006126"},{"$f":"E4357&F4357","v":"SAP-8006126Cloud Classic SAP Solutions"},null,"SAP Colombia","SAP-8006126","Cloud Classic SAP Solutions",{"$f":"D4357","v":"SAP Colombia"},"USD","N/A","SAP Analytics Cloud, SAP HANA upgrade, predictive edition, private option (up to 512 GB)",256,"Serv","Suscripcion","N/A","N/A","N/A","SAP-8006126","Forma de pago estandar a 30 dias",2240,1,0,"USD"]
[{"$f":"D4358&F4358&E4358","v":"SAP ColombiaCloud Classic SAP SolutionsSAP-8006127"},{"$f":"E4358&F4358","v":"SAP-8006127Cloud Classic SAP Solutions"},null,"SAP Colombia","SAP-8006127","Cloud Classic SAP Solutions",{"$f":"D4358","v":"SAP Colombia"},"USD","N/A","SAP Analytics Cloud, SAP HANA upgrade, predictive edition, private option (up to 1024 GB)",512,"Serv","Suscripcion","N/A","N/A","N/A","SAP-8006127","Forma de pago estandar a 30 dias",2800,1,0,"USD"]
[{"$f":"D4359&F4359&E4359","v":"SAP ColombiaCloud Classic SAP SolutionsSAP-8006146"},{"$f":"E4359&F4359","v":"SAP-8006146Cloud Classic SAP Solutions"},null,"SAP Colombia","SAP-8006146","Cloud Classic SAP Solutions",{"$f":"D4359","v":"SAP Colombia"},"USD","N/A","SAP Digital Boardroom, predictive edition, public option",1,"Serv","Suscripcion","N/A","N/A","N/A","SAP-8006146","Forma de pago estandar a 30 dias",4480,1,0,"USD"]
[{"$f":"D4360&F4360&E4360","v":"SAP ColombiaCloud Classic SAP SolutionsSAP-8006147"},{"$f":"E4360&F4360","v":"SAP-8006147Cloud Classic SAP Solutions"},null,"SAP Colombia","SAP-8006147","Cloud Classic SAP Solutions",{"$f":"D4360","v":"SAP Colombia"},"USD","N/A","SAP Digital Boardroom, predictive edition, private option",1,"Serv","Suscripcion","N/A","N/A","N/A","SAP-8006147","Forma de pago estandar a 30 dias",6719,1,0,"USD"]
[{"$f":"D4361&F4361&E4361","v":"SAP ColombiaCloud Classic SAP SolutionsSAP-8008395"},{"$f":"E4361&F4361","v":"SAP-8008395Cloud Classic SAP Solutions"},null,"SAP Colombia","SAP-8008395","Cloud Classic SAP Solutions",{"$f":"D4361","v":"SAP Colombia"},"USD","N/A","SAP Analytics Cloud, test tenant, predictive edition, public option",1,"Serv","Suscripcion","N/A","N/A","N/A","SAP-8008395","Forma de pago estandar a 30 dias",45,1,0,"USD"]
[{"$f":"D4362&F4362&E4362","v":"SAP ColombiaCloud Classic SAP SolutionsSAP-8008396"},{"$f":"E4362&F4362","v":"SAP-8008396Cloud Classic SAP Solutions"},null,"SAP Colombia","SAP-8008396","Cloud Classic SAP Solutions",{"$f":"D4362","v":"SAP Colombia"},"USD","N/A","SAP Analytics Cloud, test tenant, predictive edition, private option",1,"Serv","Suscripcion","N/A","N/A","N/A","SAP-8008396","Forma de pago estandar a 30 dias",67,1,0,"USD"]
[{"$f":"D4363&F4363&E4363","v":"SAP ColombiaCloud Classic SAP SolutionsSAP-8008735"},{"$f":"E4363&F4363","v":"SAP-8008735Cloud Classic SAP Solutions"},null,"SAP Colombia","SAP-8008735","Cloud Classic SAP Solutions",{"$f":"D4363","v":"SAP Colombia"},"USD","N/A","SAP BW/4HANA Cloud, base package, private edition",1,"Serv","Suscripcion","N/A","N/A","N/A","SAP-8008735","Forma de pago estandar a 30 dias",47036,1,0,"USD"]
[{"$f":"D4364&F4364&E4364","v":"SAP ColombiaCloud Classic SAP SolutionsSAP-8008836"},{"$f":"E4364&F4364","v":"SAP-8008836Cloud Classic SAP Solutions"},null,"SAP Colombia","SAP-8008836","Cloud Classic SAP Solutions",{"$f":"D4364","v":"SAP Colombia"},"USD","N/A","SAP Analytics Cloud, SAP HANA upgrade, predictive edition, private option (up to 2048 GB)",1024,"Serv","Suscripcion","N/A","N/A","N/A","SAP-8008836","Forma de pago estandar a 30 dias",4704,1,0,"USD"]
[{"$f":"D4365&F4365&E4365","v":"SAP ColombiaCloud Classic SAP SolutionsSAP-8008941-1"},{"$f":"E4365&F4365","v":"SAP-8008941-1Cloud Classic SAP Solutions"},null,"SAP Colombia","SAP-8008941-1","Cloud Classic SAP Solutions",{"$f":"D4365","v":"SAP Colombia"},"USD","N/A","SAP Analytics Cloud for bi, predictive edition, public option (user)",1,"Serv","Suscripcion","N/A","N/A","N/A","SAP-8008941-1","Forma de pago estandar a 30 dias",22,1,0,"USD"]
[{"$f":"D4366&F4366&E4366","v":"SAP ColombiaCloud Classic SAP SolutionsSAP-8008941-2"},{"$f":"E4366&F4366","v":"SAP-8008941-2Cloud Classic SAP Solutions"},null,"SAP Colombia","SAP-8008941-2","Cloud Classic SAP Solutions",{"$f":"D4366","v":"SAP Colombia"},"USD","N/A","SAP Analytics Cloud for bi, predictive edition, public option (user)",1,"Serv","Suscripcion","N/A","N/A","N/A","SAP-8008941-2","Forma de pago estandar a 30 dias",20,1,0,"USD"]
[{"$f":"D4367&F4367&E4367","v":"SAP ColombiaCloud Classic SAP SolutionsSAP-8008941-3"},{"$f":"E4367&F4367","v":"SAP-8008941-3Cloud Classic SAP Solutions"},null,"SAP Colombia","SAP-8008941-3","Cloud Classic SAP Solutions",{"$f":"D4367","v":"SAP Colombia"},"USD","N/A","SAP Analytics Cloud for bi, predictive edition, public option (user)",1,"Serv","Suscripcion","N/A","N/A","N/A","SAP-8008941-3","Forma de pago estandar a 30 dias",18,1,0,"USD"]
[{"$f":"D4368&F4368&E4368","v":"SAP ColombiaCloud Classic SAP SolutionsSAP-8008941-4"},{"$f":"E4368&F4368","v":"SAP-8008941-4Cloud Classic SAP Solutions"},null,"SAP Colombia","SAP-8008941-4","Cloud Classic SAP Solutions",{"$f":"D4368","v":"SAP Colombia"},"USD","N/A","SAP Analytics Cloud for bi, predictive edition, public option (user)",1,"Serv","Suscripcion","N/A","N/A","N/A","SAP-8008941-4","Forma de pago estandar a 30 dias",16,1,0,"USD"]
[{"$f":"D4369&F4369&E4369","v":"SAP ColombiaCloud Classic SAP SolutionsSAP-8008941-5"},{"$f":"E4369&F4369","v":"SAP-8008941-5Cloud Classic SAP Solutions"},null,"SAP Colombia","SAP-8008941-5","Cloud Classic SAP Solutions",{"$f":"D4369","v":"SAP Colombia"},"USD","N/A","SAP Analytics Cloud for bi, predictive edition, public option (user)",1,"Serv","Suscripcion","N/A","N/A","N/A","SAP-8008941-5","Forma de pago estandar a 30 dias",13,1,0,"USD"]
[{"$f":"D4370&F4370&E4370","v":"SAP ColombiaCloud Classic SAP SolutionsSAP-8008941-6"},{"$f":"E4370&F4370","v":"SAP-8008941-6Cloud Classic SAP Solutions"},null,"SAP Colombia","SAP-8008941-6","Cloud Classic SAP Solutions",{"$f":"D4370","v":"SAP Colombia"},"USD","N/A","SAP Analytics Cloud for bi, predictive edition, public option (user)",1,"Serv","Suscripcion","N/A","N/A","N/A","SAP-8008941-6","Forma de pago estandar a 30 dias",11,1,0,"USD"]
[{"$f":"D4371&F4371&E4371","v":"SAP ColombiaCloud Classic SAP SolutionsSAP-8008942-1"},{"$f":"E4371&F4371","v":"SAP-8008942-1Cloud Classic SAP Solutions"},null,"SAP Colombia","SAP-8008942-1","Cloud Classic SAP Solutions",{"$f":"D4371","v":"SAP Colombia"},"USD","N/A","SAP Analytics Cloud for bi, predictive edition, private option (user)",1,"Serv","Suscripcion","N/A","N/A","N/A","SAP-8008942-1","Forma de pago estandar a 30 dias",67,1,0,"USD"]
[{"$f":"D4372&F4372&E4372","v":"SAP ColombiaCloud Classic SAP SolutionsSAP-8008942-2"},{"$f":"E4372&F4372","v":"SAP-8008942-2Cloud Classic SAP Solutions"},null,"SAP Colombia","SAP-8008942-2","Cloud Classic SAP Solutions",{"$f":"D4372","v":"SAP Colombia"},"USD","N/A","SAP Analytics Cloud for bi, predictive edition, private option (user)",1,"Serv","Suscripcion","N/A","N/A","N/A","SAP-8008942-2","Forma de pago estandar a 30 dias",60,1,0,"USD"]
[{"$f":"D4373&F4373&E4373","v":"SAP ColombiaCloud Classic SAP SolutionsSAP-8008942-3"},{"$f":"E4373&F4373","v":"SAP-8008942-3Cloud Classic SAP Solutions"},null,"SAP Colombia","SAP-8008942-3","Cloud Classic SAP Solutions",{"$f":"D4373","v":"SAP Colombia"},"USD","N/A","SAP Analytics Cloud for bi, predictive edition, private option (user)",1,"Serv","Suscripcion","N/A","N/A","N/A","SAP-8008942-3","Forma de pago estandar a 30 dias",54,1,0,"USD"]
[{"$f":"D4374&F4374&E4374","v":"SAP ColombiaCloud Classic SAP SolutionsSAP-8008942-4"},{"$f":"E4374&F4374","v":"SAP-8008942-4Cloud Classic SAP Solutions"},null,"SAP Colombia","SAP-8008942-4","Cloud Classic SAP Solutions",{"$f":"D4374","v":"SAP Colombia"},"USD","N/A","SAP Analytics Cloud for bi, predictive edition, private option (user)",1,"Serv","Suscripcion","N/A","N/A","N/A","SAP-8008942-4","Forma de pago estandar a 30 dias",47,1,0,"USD"]
[{"$f":"D4375&F4375&E4375","v":"SAP ColombiaCloud Classic SAP SolutionsSAP-8008942-5"},{"$f":"E4375&F4375","v":"SAP-8008942-5Cloud Classic SAP Solutions"},null,"SAP Colombia","SAP-8008942-5","Cloud Classic SAP Solutions",{"$f":"D4375","v":"SAP Colombia"},"USD","N/A","SAP Analytics Cloud for bi, predictive edition, private option (user)",1,"Serv","Suscripcion","N/A","N/A","N/A","SAP-8008942-5","Forma de pago estandar a 30 dias",40,1,0,"USD"]
[{"$f":"D4376&F4376&E4376","v":"SAP ColombiaCloud Classic SAP SolutionsSAP-8008942-6"},{"$f":"E4376&F4376","v":"SAP-8008942-6Cloud Classic SAP Solutions"},null,"SAP Colombia","SAP-8008942-6","Cloud Classic SAP Solutions",{"$f":"D4376","v":"SAP Colombia"},"USD","N/A","SAP Analytics Cloud for bi, predictive edition, private option (user)",1,"Serv","Suscripcion","N/A","N/A","N/A","SAP-8008942-6","Forma de pago estandar a 30 dias",34,1,0,"USD"]
[{"$f":"D4377&F4377&E4377","v":"SAP ColombiaCloud Classic SAP SolutionsSAP-8008980"},{"$f":"E4377&F4377","v":"SAP-8008980Cloud Classic SAP Solutions"},null,"SAP Colombia","SAP-8008980","Cloud Classic SAP Solutions",{"$f":"D4377","v":"SAP Colombia"},"USD","N/A","SAP BW/4HANA Cloud, additional non-productive, base package, private edition",256,"Serv","Suscripcion","N/A","N/A","N/A","SAP-8008980","Forma de pago estandar a 30 dias",9183,1,0,"USD"]
[{"$f":"D4378&F4378&E4378","v":"SAP ColombiaCloud Classic SAP SolutionsSAP-8010762"},{"$f":"E4378&F4378","v":"SAP-8010762Cloud Classic SAP Solutions"},null,"SAP Colombia","SAP-8010762","Cloud Classic SAP Solutions",{"$f":"D4378","v":"SAP Colombia"},"USD","N/A","SAP Business Planning and Consolidation professional edition for SAP NetWeaver Cloud, private edition",1,"Serv","Suscripcion","N/A","N/A","N/A","SAP-8010762","Forma de pago estandar a 30 dias",364,1,0,"USD"]
[{"$f":"D4379&F4379&E4379","v":"SAP ColombiaCloud Classic SAP SolutionsSAP-8010763-1"},{"$f":"E4379&F4379","v":"SAP-8010763-1Cloud Classic SAP Solutions"},null,"SAP Colombia","SAP-8010763-1","Cloud Classic SAP Solutions",{"$f":"D4379","v":"SAP Colombia"},"USD","N/A","SAP Business Planning and Consolidation standard edition for SAP NetWeaver Cloud, private edition",1,"Serv","Suscripcion","N/A","N/A","N/A","SAP-8010763-1","Forma de pago estandar a 30 dias",134,1,0,"USD"]
[{"$f":"D4380&F4380&E4380","v":"SAP ColombiaCloud Classic SAP SolutionsSAP-8010763-2"},{"$f":"E4380&F4380","v":"SAP-8010763-2Cloud Classic SAP Solutions"},null,"SAP Colombia","SAP-8010763-2","Cloud Classic SAP Solutions",{"$f":"D4380","v":"SAP Colombia"},"USD","N/A","SAP Business Planning and Consolidation standard edition for SAP NetWeaver Cloud, private edition",1,"Serv","Suscripcion","N/A","N/A","N/A","SAP-8010763-2","Forma de pago estandar a 30 dias",112,1,0,"USD"]
[{"$f":"D4381&F4381&E4381","v":"SAP ColombiaCloud Classic SAP SolutionsSAP-8010763-3"},{"$f":"E4381&F4381","v":"SAP-8010763-3Cloud Classic SAP Solutions"},null,"SAP Colombia","SAP-8010763-3","Cloud Classic SAP Solutions",{"$f":"D4381","v":"SAP Colombia"},"USD","N/A","SAP Business Planning and Consolidation standard edition for SAP NetWeaver Cloud, private edition",1,"Serv","Suscripcion","N/A","N/A","N/A","SAP-8010763-3","Forma de pago estandar a 30 dias",90,1,0,"USD"]
[{"$f":"D4382&F4382&E4382","v":"SAP ColombiaCloud Classic SAP SolutionsSAP-8010763-4"},{"$f":"E4382&F4382","v":"SAP-8010763-4Cloud Classic SAP Solutions"},null,"SAP Colombia","SAP-8010763-4","Cloud Classic SAP Solutions",{"$f":"D4382","v":"SAP Colombia"},"USD","N/A","SAP Business Planning and Consolidation standard edition for SAP NetWeaver Cloud, private edition",1,"Serv","Suscripcion","N/A","N/A","N/A","SAP-8010763-4","Forma de pago estandar a 30 dias",67,1,0,"USD"]
[{"$f":"D4383&F4383&E4383","v":"SAP ColombiaCloud Classic SAP SolutionsSAP-8010764"},{"$f":"E4383&F4383","v":"SAP-8010764Cloud Classic SAP Solutions"},null,"SAP Colombia","SAP-8010764","Cloud Classic SAP Solutions",{"$f":"D4383","v":"SAP Colombia"},"USD","N/A","SAP Business Planning and Consolidation professional edition for SAP NetWeaver Cloud (planning only), private edition",1,"Serv","Suscripcion","N/A","N/A","N/A","SAP-8010764","Forma de pago estandar a 30 dias",246,1,0,"USD"]
[{"$f":"D4384&F4384&E4384","v":"SAP ColombiaCloud Classic SAP SolutionsSAP-8010765-1"},{"$f":"E4384&F4384","v":"SAP-8010765-1Cloud Classic SAP Solutions"},null,"SAP Colombia","SAP-8010765-1","Cloud Classic SAP Solutions",{"$f":"D4384","v":"SAP Colombia"},"USD","N/A","SAP Business Planning and Consolidation standard edition for SAP NetWeaver Cloud (planning only), private edition",1,"Serv","Suscripcion","N/A","N/A","N/A","SAP-8010765-1","Forma de pago estandar a 30 dias",90,1,0,"USD"]
[{"$f":"D4385&F4385&E4385","v":"SAP ColombiaCloud Classic SAP SolutionsSAP-8010765-2"},{"$f":"E4385&F4385","v":"SAP-8010765-2Cloud Classic SAP Solutions"},null,"SAP Colombia","SAP-8010765-2","Cloud Classic SAP Solutions",{"$f":"D4385","v":"SAP Colombia"},"USD","N/A","SAP Business Planning and Consolidation standard edition for SAP NetWeaver Cloud (planning only), private edition",1,"Serv","Suscripcion","N/A","N/A","N/A","SAP-8010765-2","Forma de pago estandar a 30 dias",73,1,0,"USD"]
[{"$f":"D4386&F4386&E4386","v":"SAP ColombiaCloud Classic SAP SolutionsSAP-8010765-3"},{"$f":"E4386&F4386","v":"SAP-8010765-3Cloud Classic SAP Solutions"},null,"SAP Colombia","SAP-8010765-3","Cloud Classic SAP Solutions",{"$f":"D4386","v":"SAP Colombia"},"USD","N/A","SAP Business Planning and Consolidation standard edition for SAP NetWeaver Cloud (planning only), private edition",1,"Serv","Suscripcion","N/A","N/A","N/A","SAP-8010765-3","Forma de pago estandar a 30 dias",62,1,0,"USD"]
[{"$f":"D4387&F4387&E4387","v":"SAP ColombiaCloud Classic SAP SolutionsSAP-8010765-4"},{"$f":"E4387&F4387","v":"SAP-8010765-4Cloud Classic SAP Solutions"},null,"SAP Colombia","SAP-8010765-4","Cloud Classic SAP Solutions",{"$f":"D4387","v":"SAP Colombia"},"USD","N/A","SAP Business Planning and Consolidation standard edition for SAP NetWeaver Cloud (planning only), private edition",1,"Serv","Suscripcion","N/A","N/A","N/A","SAP-8010765-4","Forma de pago estandar a 30 dias",45,1,0,"USD"]
[{"$f":"D4388&F4388&E4388","v":"SAP ColombiaCloud Classic SAP SolutionsSAP-8010936"},{"$f":"E4388&F4388","v":"SAP-8010936Cloud Classic SAP Solutions"},null,"SAP Colombia","SAP-8010936","Cloud Classic SAP Solutions",{"$f":"D4388","v":"SAP Colombia"},"USD","N/A","SAP BW NetWeaver Cloud, base package, private edition",1,"Serv","Suscripcion","N/A","N/A","N/A","SAP-8010936","Forma de pago estandar a 30 dias",47036,1,0,"USD"]
[{"$f":"D4389&F4389&E4389","v":"SAP ColombiaCloud Classic SAP SolutionsSAP-8010941"},{"$f":"E4389&F4389","v":"SAP-8010941Cloud Classic SAP Solutions"},null,"SAP Colombia","SAP-8010941","Cloud Classic SAP Solutions",{"$f":"D4389","v":"SAP Colombia"},"USD","N/A","SAP BW NetWeaver Cloud, additional non-productive, base package, private edition",256,"Serv","Suscripcion","N/A","N/A","N/A","SAP-8010941","Forma de pago estandar a 30 dias",9183,1,0,"USD"]
[{"$f":"D4390&F4390&E4390","v":"SAP ColombiaCloud Classic SAP SolutionsSAP-8011026-1"},{"$f":"E4390&F4390","v":"SAP-8011026-1Cloud Classic SAP Solutions"},null,"SAP Colombia","SAP-8011026-1","Cloud Classic SAP Solutions",{"$f":"D4390","v":"SAP Colombia"},"USD","N/A","SAP BusinessObjects Enterprise Cloud, private edition (user)",1,"Serv","Suscripcion","N/A","N/A","N/A","SAP-8011026-1","Forma de pago estandar a 30 dias",336,1,0,"USD"]
[{"$f":"D4391&F4391&E4391","v":"SAP ColombiaCloud Classic SAP SolutionsSAP-8011026-2"},{"$f":"E4391&F4391","v":"SAP-8011026-2Cloud Classic SAP Solutions"},null,"SAP Colombia","SAP-8011026-2","Cloud Classic SAP Solutions",{"$f":"D4391","v":"SAP Colombia"},"USD","N/A","SAP BusinessObjects Enterprise Cloud, private edition (user)",1,"Serv","Suscripcion","N/A","N/A","N/A","SAP-8011026-2","Forma de pago estandar a 30 dias",190,1,0,"USD"]
[{"$f":"D4392&F4392&E4392","v":"SAP ColombiaCloud Classic SAP SolutionsSAP-8011026-3"},{"$f":"E4392&F4392","v":"SAP-8011026-3Cloud Classic SAP Solutions"},null,"SAP Colombia","SAP-8011026-3","Cloud Classic SAP Solutions",{"$f":"D4392","v":"SAP Colombia"},"USD","N/A","SAP BusinessObjects Enterprise Cloud, private edition (user)",1,"Serv","Suscripcion","N/A","N/A","N/A","SAP-8011026-3","Forma de pago estandar a 30 dias",123,1,0,"USD"]
[{"$f":"D4393&F4393&E4393","v":"SAP ColombiaCloud Classic SAP SolutionsSAP-8011026-4"},{"$f":"E4393&F4393","v":"SAP-8011026-4Cloud Classic SAP Solutions"},null,"SAP Colombia","SAP-8011026-4","Cloud Classic SAP Solutions",{"$f":"D4393","v":"SAP Colombia"},"USD","N/A","SAP BusinessObjects Enterprise Cloud, private edition (user)",1,"Serv","Suscripcion","N/A","N/A","N/A","SAP-8011026-4","Forma de pago estandar a 30 dias",62,1,0,"USD"]
[{"$f":"D4394&F4394&E4394","v":"SAP ColombiaCloud Classic SAP SolutionsSAP-8011027-1"},{"$f":"E4394&F4394","v":"SAP-8011027-1Cloud Classic SAP Solutions"},null,"SAP Colombia","SAP-8011027-1","Cloud Classic SAP Solutions",{"$f":"D4394","v":"SAP Colombia"},"USD","N/A","SAP BusinessObjects Enterprise Cloud, private edition (CS)",1,"Serv","Suscripcion","N/A","N/A","N/A","SAP-8011027-1","Forma de pago estandar a 30 dias",840,1,0,"USD"]
[{"$f":"D4395&F4395&E4395","v":"SAP ColombiaCloud Classic SAP SolutionsSAP-8011027-2"},{"$f":"E4395&F4395","v":"SAP-8011027-2Cloud Classic SAP Solutions"},null,"SAP Colombia","SAP-8011027-2","Cloud Classic SAP Solutions",{"$f":"D4395","v":"SAP Colombia"},"USD","N/A","SAP BusinessObjects Enterprise Cloud, private edition (CS)",1,"Serv","Suscripcion","N/A","N/A","N/A","SAP-8011027-2","Forma de pago estandar a 30 dias",560,1,0,"USD"]
[{"$f":"D4396&F4396&E4396","v":"SAP ColombiaCloud Classic SAP SolutionsSAP-8011027-3"},{"$f":"E4396&F4396","v":"SAP-8011027-3Cloud Classic SAP Solutions"},null,"SAP Colombia","SAP-8011027-3","Cloud Classic SAP Solutions",{"$f":"D4396","v":"SAP Colombia"},"USD","N/A","SAP BusinessObjects Enterprise Cloud, private edition (CS)",1,"Serv","Suscripcion","N/A","N/A","N/A","SAP-8011027-3","Forma de pago estandar a 30 dias",336,1,0,"USD"]
[{"$f":"D4397&F4397&E4397","v":"SAP ColombiaCloud Classic SAP SolutionsSAP-8011027-4"},{"$f":"E4397&F4397","v":"SAP-8011027-4Cloud Classic SAP Solutions"},null,"SAP Colombia","SAP-8011027-4","Cloud Classic SAP Solutions",{"$f":"D4397","v":"SAP Colombia"},"USD","N/A","SAP BusinessObjects Enterprise Cloud, private edition (CS)",1,"Serv","Suscripcion","N/A","N/A","N/A","SAP-8011027-4","Forma de pago estandar a 30 dias",168,1,0,"USD"]
[{"$f":"D4398&F4398&E4398","v":"SAP ColombiaCloud Classic SAP SolutionsSAP-8011030"},{"$f":"E4398&F4398","v":"SAP-8011030Cloud Classic SAP Solutions"},null,"SAP Colombia","SAP-8011030","Cloud Classic SAP Solutions",{"$f":"D4398","v":"SAP Colombia"},"USD","N/A","SAP BusinessObjects Enterprise Cloud, additional non-productive, private edition (S)",1,"Serv","Suscripcion","N/A","N/A","N/A","SAP-8011030","Forma de pago estandar a 30 dias",8119,1,0,"USD"]
[{"$f":"D4399&F4399&E4399","v":"SAP ColombiaCloud Classic SAP SolutionsSAP-8011031"},{"$f":"E4399&F4399","v":"SAP-8011031Cloud Classic SAP Solutions"},null,"SAP Colombia","SAP-8011031","Cloud Classic SAP Solutions",{"$f":"D4399","v":"SAP Colombia"},"USD","N/A","SAP BusinessObjects Enterprise Cloud, additional non-productive, private edition (M)",1,"Serv","Suscripcion","N/A","N/A","N/A","SAP-8011031","Forma de pago estandar a 30 dias",10695,1,0,"USD"]
[{"$f":"D4400&F4400&E4400","v":"SAP ColombiaCloud Classic SAP SolutionsSAP-8011032"},{"$f":"E4400&F4400","v":"SAP-8011032Cloud Classic SAP Solutions"},null,"SAP Colombia","SAP-8011032","Cloud Classic SAP Solutions",{"$f":"D4400","v":"SAP Colombia"},"USD","N/A","SAP BusinessObjects Enterprise Cloud, additional non-productive, private edition (L)",1,"Serv","Suscripcion","N/A","N/A","N/A","SAP-8011032","Forma de pago estandar a 30 dias",13439,1,0,"USD"]
[{"$f":"D4401&F4401&E4401","v":"SAP ColombiaCloud Classic SAP SolutionsSAP-8011033"},{"$f":"E4401&F4401","v":"SAP-8011033Cloud Classic SAP Solutions"},null,"SAP Colombia","SAP-8011033","Cloud Classic SAP Solutions",{"$f":"D4401","v":"SAP Colombia"},"USD","N/A","SAP BusinessObjects Enterprise Cloud, additional non-productive, private edition (XL)",1,"Serv","Suscripcion","N/A","N/A","N/A","SAP-8011033","Forma de pago estandar a 30 dias",22118,1,0,"USD"]
[{"$f":"D4402&F4402&E4402","v":"SAP ColombiaCloud Classic SAP SolutionsSAP-8011039"},{"$f":"E4402&F4402","v":"SAP-8011039Cloud Classic SAP Solutions"},null,"SAP Colombia","SAP-8011039","Cloud Classic SAP Solutions",{"$f":"D4402","v":"SAP Colombia"},"USD","N/A","SAP NetWeaver Java Server Cloud, private edition (8 cores)",1,"Serv","Suscripcion","N/A","N/A","N/A","SAP-8011039","Forma de pago estandar a 30 dias",7839,1,0,"USD"]
[{"$f":"D4403&F4403&E4403","v":"SAP ColombiaCloud Classic SAP SolutionsSAP-8011040"},{"$f":"E4403&F4403","v":"SAP-8011040Cloud Classic SAP Solutions"},null,"SAP Colombia","SAP-8011040","Cloud Classic SAP Solutions",{"$f":"D4403","v":"SAP Colombia"},"USD","N/A","SAP NetWeaver Java Server Cloud, private edition (16 cores)",1,"Serv","Suscripcion","N/A","N/A","N/A","SAP-8011040","Forma de pago estandar a 30 dias",12879,1,0,"USD"]
[{"$f":"D4404&F4404&E4404","v":"SAP ColombiaCloud Classic SAP SolutionsSAP-8011041"},{"$f":"E4404&F4404","v":"SAP-8011041Cloud Classic SAP Solutions"},null,"SAP Colombia","SAP-8011041","Cloud Classic SAP Solutions",{"$f":"D4404","v":"SAP Colombia"},"USD","N/A","SAP NetWeaver Java Server Cloud, private edition (24 cores)",1,"Serv","Suscripcion","N/A","N/A","N/A","SAP-8011041","Forma de pago estandar a 30 dias",17918,1,0,"USD"]
[{"$f":"D4405&F4405&E4405","v":"SAP ColombiaCloud Classic SAP SolutionsSAP-8011119"},{"$f":"E4405&F4405","v":"SAP-8011119Cloud Classic SAP Solutions"},null,"SAP Colombia","SAP-8011119","Cloud Classic SAP Solutions",{"$f":"D4405","v":"SAP Colombia"},"USD","N/A","SAP Profitability and Performance Management Cloud",1,"Serv","Suscripcion","N/A","N/A","N/A","SAP-8011119","Forma de pago estandar a 30 dias",2.2400000000000002,1,0,"USD"]
[{"$f":"D4406&F4406&E4406","v":"SAP ColombiaCloud Classic SAP SolutionsSAP-8011261"},{"$f":"E4406&F4406","v":"SAP-8011261Cloud Classic SAP Solutions"},null,"SAP Colombia","SAP-8011261","Cloud Classic SAP Solutions",{"$f":"D4406","v":"SAP Colombia"},"USD","N/A","SAP NetWeaver Java Server Cloud, additional non-productive, private edition (8 cores)",32,"Serv","Suscripcion","N/A","N/A","N/A","SAP-8011261","Forma de pago estandar a 30 dias",2912,1,0,"USD"]
[{"$f":"D4407&F4407&E4407","v":"SAP ColombiaCloud Classic SAP SolutionsSAP-8011262"},{"$f":"E4407&F4407","v":"SAP-8011262Cloud Classic SAP Solutions"},null,"SAP Colombia","SAP-8011262","Cloud Classic SAP Solutions",{"$f":"D4407","v":"SAP Colombia"},"USD","N/A","SAP NetWeaver Java Server Cloud, additional non-productive, private edition (16 cores)",64,"Serv","Suscripcion","N/A","N/A","N/A","SAP-8011262","Forma de pago estandar a 30 dias",4256,1,0,"USD"]
[{"$f":"D4408&F4408&E4408","v":"SAP ColombiaCloud Classic SAP SolutionsSAP-8011263"},{"$f":"E4408&F4408","v":"SAP-8011263Cloud Classic SAP Solutions"},null,"SAP Colombia","SAP-8011263","Cloud Classic SAP Solutions",{"$f":"D4408","v":"SAP Colombia"},"USD","N/A","SAP NetWeaver Java Server Cloud, additional non-productive, private edition (24 cores)",96,"Serv","Suscripcion","N/A","N/A","N/A","SAP-8011263","Forma de pago estandar a 30 dias",5600,1,0,"USD"]
[{"$f":"D4409&F4409&E4409","v":"SAP ColombiaCloud Classic SAP SolutionsSAP-8012208"},{"$f":"E4409&F4409","v":"SAP-8012208Cloud Classic SAP Solutions"},null,"SAP Colombia","SAP-8012208","Cloud Classic SAP Solutions",{"$f":"D4409","v":"SAP Colombia"},"USD","N/A","SAP App Server Windows Cloud, private edition",64,"Serv","Suscripcion","N/A","N/A","N/A","SAP-8012208","Forma de pago estandar a 30 dias",2329,1,0,"USD"]
[{"$f":"D4410&F4410&E4410","v":"SAP ColombiaCloud Classic SAP SolutionsSAP-8005971"},{"$f":"E4410&F4410","v":"SAP-8005971Cloud Classic SAP Solutions"},null,"SAP Colombia","SAP-8005971","Cloud Classic SAP Solutions",{"$f":"D4410","v":"SAP Colombia"},"USD","N/A","SAP Extended ECM by OpenText, cloud edition, additional storage",100,"Serv","Suscripcion","N/A","N/A","N/A","SAP-8005971","Forma de pago estandar a 30 dias",112,1,0,"USD"]
[{"$f":"D4411&F4411&E4411","v":"SAP ColombiaCloud Classic SAP SolutionsSAP-8005972"},{"$f":"E4411&F4411","v":"SAP-8005972Cloud Classic SAP Solutions"},null,"SAP Colombia","SAP-8005972","Cloud Classic SAP Solutions",{"$f":"D4411","v":"SAP Colombia"},"USD","N/A","SAP Archiving and Document Access Core by OpenText, additional storage",500,"Serv","Suscripcion","N/A","N/A","N/A","SAP-8005972","Forma de pago estandar a 30 dias",560,1,0,"USD"]
[{"$f":"D4412&F4412&E4412","v":"SAP ColombiaCloud Classic SAP SolutionsSAP-8005979-1"},{"$f":"E4412&F4412","v":"SAP-8005979-1Cloud Classic SAP Solutions"},null,"SAP Colombia","SAP-8005979-1","Cloud Classic SAP Solutions",{"$f":"D4412","v":"SAP Colombia"},"USD","N/A","SAP Extended ECM by OpenText, cloud edition",50,"Serv","Suscripcion","N/A","N/A","N/A","SAP-8005979-1","Forma de pago estandar a 30 dias",6719,1,0,"USD"]
[{"$f":"D4413&F4413&E4413","v":"SAP ColombiaCloud Classic SAP SolutionsSAP-8005979-2"},{"$f":"E4413&F4413","v":"SAP-8005979-2Cloud Classic SAP Solutions"},null,"SAP Colombia","SAP-8005979-2","Cloud Classic SAP Solutions",{"$f":"D4413","v":"SAP Colombia"},"USD","N/A","SAP Extended ECM by OpenText, cloud edition",50,"Serv","Suscripcion","N/A","N/A","N/A","SAP-8005979-2","Forma de pago estandar a 30 dias",5879,1,0,"USD"]
[{"$f":"D4414&F4414&E4414","v":"SAP ColombiaCloud Classic SAP SolutionsSAP-8005979-3"},{"$f":"E4414&F4414","v":"SAP-8005979-3Cloud Classic SAP Solutions"},null,"SAP Colombia","SAP-8005979-3","Cloud Classic SAP Solutions",{"$f":"D4414","v":"SAP Colombia"},"USD","N/A","SAP Extended ECM by OpenText, cloud edition",50,"Serv","Suscripcion","N/A","N/A","N/A","SAP-8005979-3","Forma de pago estandar a 30 dias",5040,1,0,"USD"]
[{"$f":"D4415&F4415&E4415","v":"SAP ColombiaCloud Classic SAP SolutionsSAP-8005979-4"},{"$f":"E4415&F4415","v":"SAP-8005979-4Cloud Classic SAP Solutions"},null,"SAP Colombia","SAP-8005979-4","Cloud Classic SAP Solutions",{"$f":"D4415","v":"SAP Colombia"},"USD","N/A","SAP Extended ECM by OpenText, cloud edition",50,"Serv","Suscripcion","N/A","N/A","N/A","SAP-8005979-4","Forma de pago estandar a 30 dias",4200,1,0,"USD"]
[{"$f":"D4416&F4416&E4416","v":"SAP ColombiaCloud Classic SAP SolutionsSAP-8005979-5"},{"$f":"E4416&F4416","v":"SAP-8005979-5Cloud Classic SAP Solutions"},null,"SAP Colombia","SAP-8005979-5","Cloud Classic SAP Solutions",{"$f":"D4416","v":"SAP Colombia"},"USD","N/A","SAP Extended ECM by OpenText, cloud edition",50,"Serv","Suscripcion","N/A","N/A","N/A","SAP-8005979-5","Forma de pago estandar a 30 dias",3360,1,0,"USD"]
[{"$f":"D4417&F4417&E4417","v":"SAP ColombiaCloud Classic SAP SolutionsSAP-8005980-1"},{"$f":"E4417&F4417","v":"SAP-8005980-1Cloud Classic SAP Solutions"},null,"SAP Colombia","SAP-8005980-1","Cloud Classic SAP Solutions",{"$f":"D4417","v":"SAP Colombia"},"USD","N/A","SAP Extended ECM by OpenText, cloud edition limited access",50,"Serv","Suscripcion","N/A","N/A","N/A","SAP-8005980-1","Forma de pago estandar a 30 dias",2240,1,0,"USD"]
[{"$f":"D4418&F4418&E4418","v":"SAP ColombiaCloud Classic SAP SolutionsSAP-8005980-2"},{"$f":"E4418&F4418","v":"SAP-8005980-2Cloud Classic SAP Solutions"},null,"SAP Colombia","SAP-8005980-2","Cloud Classic SAP Solutions",{"$f":"D4418","v":"SAP Colombia"},"USD","N/A","SAP Extended ECM by OpenText, cloud edition limited access",50,"Serv","Suscripcion","N/A","N/A","N/A","SAP-8005980-2","Forma de pago estandar a 30 dias",1960,1,0,"USD"]
[{"$f":"D4419&F4419&E4419","v":"SAP ColombiaCloud Classic SAP SolutionsSAP-8005980-3"},{"$f":"E4419&F4419","v":"SAP-8005980-3Cloud Classic SAP Solutions"},null,"SAP Colombia","SAP-8005980-3","Cloud Classic SAP Solutions",{"$f":"D4419","v":"SAP Colombia"},"USD","N/A","SAP Extended ECM by OpenText, cloud edition limited access",50,"Serv","Suscripcion","N/A","N/A","N/A","SAP-8005980-3","Forma de pago estandar a 30 dias",1680,1,0,"USD"]
[{"$f":"D4420&F4420&E4420","v":"SAP ColombiaCloud Classic SAP SolutionsSAP-8005980-4"},{"$f":"E4420&F4420","v":"SAP-8005980-4Cloud Classic SAP Solutions"},null,"SAP Colombia","SAP-8005980-4","Cloud Classic SAP Solutions",{"$f":"D4420","v":"SAP Colombia"},"USD","N/A","SAP Extended ECM by OpenText, cloud edition limited access",50,"Serv","Suscripcion","N/A","N/A","N/A","SAP-8005980-4","Forma de pago estandar a 30 dias",1400,1,0,"USD"]
[{"$f":"D4421&F4421&E4421","v":"SAP ColombiaCloud Classic SAP SolutionsSAP-8005980-5"},{"$f":"E4421&F4421","v":"SAP-8005980-5Cloud Classic SAP Solutions"},null,"SAP Colombia","SAP-8005980-5","Cloud Classic SAP Solutions",{"$f":"D4421","v":"SAP Colombia"},"USD","N/A","SAP Extended ECM by OpenText, cloud edition limited access",50,"Serv","Suscripcion","N/A","N/A","N/A","SAP-8005980-5","Forma de pago estandar a 30 dias",1120,1,0,"USD"]
[{"$f":"D4422&F4422&E4422","v":"SAP ColombiaCloud Classic SAP SolutionsSAP-8007695-1"},{"$f":"E4422&F4422","v":"SAP-8007695-1Cloud Classic SAP Solutions"},null,"SAP Colombia","SAP-8007695-1","Cloud Classic SAP Solutions",{"$f":"D4422","v":"SAP Colombia"},"USD","N/A","SAP Extended ECM by OpenText, add-on for Microsoft Office 365",50,"Serv","Suscripcion","N/A","N/A","N/A","SAP-8007695-1","Forma de pago estandar a 30 dias",1680,1,0,"USD"]
[{"$f":"D4423&F4423&E4423","v":"SAP ColombiaCloud Classic SAP SolutionsSAP-8007695-2"},{"$f":"E4423&F4423","v":"SAP-8007695-2Cloud Classic SAP Solutions"},null,"SAP Colombia","SAP-8007695-2","Cloud Classic SAP Solutions",{"$f":"D4423","v":"SAP Colombia"},"USD","N/A","SAP Extended ECM by OpenText, add-on for Microsoft Office 365",50,"Serv","Suscripcion","N/A","N/A","N/A","SAP-8007695-2","Forma de pago estandar a 30 dias",1473,1,0,"USD"]
[{"$f":"D4424&F4424&E4424","v":"SAP ColombiaCloud Classic SAP SolutionsSAP-8007695-3"},{"$f":"E4424&F4424","v":"SAP-8007695-3Cloud Classic SAP Solutions"},null,"SAP Colombia","SAP-8007695-3","Cloud Classic SAP Solutions",{"$f":"D4424","v":"SAP Colombia"},"USD","N/A","SAP Extended ECM by OpenText, add-on for Microsoft Office 365",50,"Serv","Suscripcion","N/A","N/A","N/A","SAP-8007695-3","Forma de pago estandar a 30 dias",1260,1,0,"USD"]
[{"$f":"D4425&F4425&E4425","v":"SAP ColombiaCloud Classic SAP SolutionsSAP-8007695-4"},{"$f":"E4425&F4425","v":"SAP-8007695-4Cloud Classic SAP Solutions"},null,"SAP Colombia","SAP-8007695-4","Cloud Classic SAP Solutions",{"$f":"D4425","v":"SAP Colombia"},"USD","N/A","SAP Extended ECM by OpenText, add-on for Microsoft Office 365",50,"Serv","Suscripcion","N/A","N/A","N/A","SAP-8007695-4","Forma de pago estandar a 30 dias",1053,1,0,"USD"]
[{"$f":"D4426&F4426&E4426","v":"SAP ColombiaCloud Classic SAP SolutionsSAP-8007695-5"},{"$f":"E4426&F4426","v":"SAP-8007695-5Cloud Classic SAP Solutions"},null,"SAP Colombia","SAP-8007695-5","Cloud Classic SAP Solutions",{"$f":"D4426","v":"SAP Colombia"},"USD","N/A","SAP Extended ECM by OpenText, add-on for Microsoft Office 365",50,"Serv","Suscripcion","N/A","N/A","N/A","SAP-8007695-5","Forma de pago estandar a 30 dias",840,1,0,"USD"]
[{"$f":"D4427&F4427&E4427","v":"SAP ColombiaCloud Classic SAP SolutionsSAP-8007812-1"},{"$f":"E4427&F4427","v":"SAP-8007812-1Cloud Classic SAP Solutions"},null,"SAP Colombia","SAP-8007812-1","Cloud Classic SAP Solutions",{"$f":"D4427","v":"SAP Colombia"},"USD","N/A","SAP Extended Enterprise Content Management by OpenText, cloud add-on for capital projects and operations",50,"Serv","Suscripcion","N/A","N/A","N/A","SAP-8007812-1","Forma de pago estandar a 30 dias",4816,1,0,"USD"]
[{"$f":"D4428&F4428&E4428","v":"SAP ColombiaCloud Classic SAP SolutionsSAP-8007812-2"},{"$f":"E4428&F4428","v":"SAP-8007812-2Cloud Classic SAP Solutions"},null,"SAP Colombia","SAP-8007812-2","Cloud Classic SAP Solutions",{"$f":"D4428","v":"SAP Colombia"},"USD","N/A","SAP Extended Enterprise Content Management by OpenText, cloud add-on for capital projects and operations",50,"Serv","Suscripcion","N/A","N/A","N/A","SAP-8007812-2","Forma de pago estandar a 30 dias",3472,1,0,"USD"]
[{"$f":"D4429&F4429&E4429","v":"SAP ColombiaCloud Classic SAP SolutionsSAP-8007812-3"},{"$f":"E4429&F4429","v":"SAP-8007812-3Cloud Classic SAP Solutions"},null,"SAP Colombia","SAP-8007812-3","Cloud Classic SAP Solutions",{"$f":"D4429","v":"SAP Colombia"},"USD","N/A","SAP Extended Enterprise Content Management by OpenText, cloud add-on for capital projects and operations",50,"Serv","Suscripcion","N/A","N/A","N/A","SAP-8007812-3","Forma de pago estandar a 30 dias",2576,1,0,"USD"]
[{"$f":"D4430&F4430&E4430","v":"SAP ColombiaCloud Classic SAP SolutionsSAP-8007812-4"},{"$f":"E4430&F4430","v":"SAP-8007812-4Cloud Classic SAP Solutions"},null,"SAP Colombia","SAP-8007812-4","Cloud Classic SAP Solutions",{"$f":"D4430","v":"SAP Colombia"},"USD","N/A","SAP Extended Enterprise Content Management by OpenText, cloud add-on for capital projects and operations",50,"Serv","Suscripcion","N/A","N/A","N/A","SAP-8007812-4","Forma de pago estandar a 30 dias",2128,1,0,"USD"]
[{"$f":"D4431&F4431&E4431","v":"SAP ColombiaCloud Classic SAP SolutionsSAP-8007812-5"},{"$f":"E4431&F4431","v":"SAP-8007812-5Cloud Classic SAP Solutions"},null,"SAP Colombia","SAP-8007812-5","Cloud Classic SAP Solutions",{"$f":"D4431","v":"SAP Colombia"},"USD","N/A","SAP Extended Enterprise Content Management by OpenText, cloud add-on for capital projects and operations",50,"Serv","Suscripcion","N/A","N/A","N/A","SAP-8007812-5","Forma de pago estandar a 30 dias",1680,1,0,"USD"]
[{"$f":"D4432&F4432&E4432","v":"SAP ColombiaCloud Classic SAP SolutionsSAP-8008067-1"},{"$f":"E4432&F4432","v":"SAP-8008067-1Cloud Classic SAP Solutions"},null,"SAP Colombia","SAP-8008067-1","Cloud Classic SAP Solutions",{"$f":"D4432","v":"SAP Colombia"},"USD","N/A","SAP Advanced Data Migration by Syniti, cloud edition",250,"Serv","Suscripcion","N/A","N/A","N/A","SAP-8008067-1","Forma de pago estandar a 30 dias",3472,1,0,"USD"]
[{"$f":"D4433&F4433&E4433","v":"SAP ColombiaCloud Classic SAP SolutionsSAP-8008067-2"},{"$f":"E4433&F4433","v":"SAP-8008067-2Cloud Classic SAP Solutions"},null,"SAP Colombia","SAP-8008067-2","Cloud Classic SAP Solutions",{"$f":"D4433","v":"SAP Colombia"},"USD","N/A","SAP Advanced Data Migration by Syniti, cloud edition",250,"Serv","Suscripcion","N/A","N/A","N/A","SAP-8008067-2","Forma de pago estandar a 30 dias",2604,1,0,"USD"]
[{"$f":"D4434&F4434&E4434","v":"SAP ColombiaCloud Classic SAP SolutionsSAP-8008067-3"},{"$f":"E4434&F4434","v":"SAP-8008067-3Cloud Classic SAP Solutions"},null,"SAP Colombia","SAP-8008067-3","Cloud Classic SAP Solutions",{"$f":"D4434","v":"SAP Colombia"},"USD","N/A","SAP Advanced Data Migration by Syniti, cloud edition",250,"Serv","Suscripcion","N/A","N/A","N/A","SAP-8008067-3","Forma de pago estandar a 30 dias",2257,1,0,"USD"]
[{"$f":"D4435&F4435&E4435","v":"SAP ColombiaCloud Classic SAP SolutionsSAP-8008266-1"},{"$f":"E4435&F4435","v":"SAP-8008266-1Cloud Classic SAP Solutions"},null,"SAP Colombia","SAP-8008266-1","Cloud Classic SAP Solutions",{"$f":"D4435","v":"SAP Colombia"},"USD","N/A","SAP Document Presentment by OpenText, cloud edition",100000,"Serv","Suscripcion","N/A","N/A","N/A","SAP-8008266-1","Forma de pago estandar a 30 dias",1120,1,0,"USD"]
[{"$f":"D4436&F4436&E4436","v":"SAP ColombiaCloud Classic SAP SolutionsSAP-8008266-2"},{"$f":"E4436&F4436","v":"SAP-8008266-2Cloud Classic SAP Solutions"},null,"SAP Colombia","SAP-8008266-2","Cloud Classic SAP Solutions",{"$f":"D4436","v":"SAP Colombia"},"USD","N/A","SAP Document Presentment by OpenText, cloud edition",100000,"Serv","Suscripcion","N/A","N/A","N/A","SAP-8008266-2","Forma de pago estandar a 30 dias",1027,1,0,"USD"]
[{"$f":"D4437&F4437&E4437","v":"SAP ColombiaCloud Classic SAP SolutionsSAP-8008266-3"},{"$f":"E4437&F4437","v":"SAP-8008266-3Cloud Classic SAP Solutions"},null,"SAP Colombia","SAP-8008266-3","Cloud Classic SAP Solutions",{"$f":"D4437","v":"SAP Colombia"},"USD","N/A","SAP Document Presentment by OpenText, cloud edition",100000,"Serv","Suscripcion","N/A","N/A","N/A","SAP-8008266-3","Forma de pago estandar a 30 dias",933,1,0,"USD"]
[{"$f":"D4438&F4438&E4438","v":"SAP ColombiaCloud Classic SAP SolutionsSAP-8008266-4"},{"$f":"E4438&F4438","v":"SAP-8008266-4Cloud Classic SAP Solutions"},null,"SAP Colombia","SAP-8008266-4","Cloud Classic SAP Solutions",{"$f":"D4438","v":"SAP Colombia"},"USD","N/A","SAP Document Presentment by OpenText, cloud edition",100000,"Serv","Suscripcion","N/A","N/A","N/A","SAP-8008266-4","Forma de pago estandar a 30 dias",840,1,0,"USD"]
[{"$f":"D4439&F4439&E4439","v":"SAP ColombiaCloud Classic SAP SolutionsSAP-8008266-5"},{"$f":"E4439&F4439","v":"SAP-8008266-5Cloud Classic SAP Solutions"},null,"SAP Colombia","SAP-8008266-5","Cloud Classic SAP Solutions",{"$f":"D4439","v":"SAP Colombia"},"USD","N/A","SAP Document Presentment by OpenText, cloud edition",100000,"Serv","Suscripcion","N/A","N/A","N/A","SAP-8008266-5","Forma de pago estandar a 30 dias",747,1,0,"USD"]
[{"$f":"D4440&F4440&E4440","v":"SAP ColombiaCloud Classic SAP SolutionsSAP-8008267-1"},{"$f":"E4440&F4440","v":"SAP-8008267-1Cloud Classic SAP Solutions"},null,"SAP Colombia","SAP-8008267-1","Cloud Classic SAP Solutions",{"$f":"D4440","v":"SAP Colombia"},"USD","N/A","SAP Information Capture Core by OpenText",1000,"Serv","Suscripcion","N/A","N/A","N/A","SAP-8008267-1","Forma de pago estandar a 30 dias",43,1,0,"USD"]
[{"$f":"D4441&F4441&E4441","v":"SAP ColombiaCloud Classic SAP SolutionsSAP-8008267-2"},{"$f":"E4441&F4441","v":"SAP-8008267-2Cloud Classic SAP Solutions"},null,"SAP Colombia","SAP-8008267-2","Cloud Classic SAP Solutions",{"$f":"D4441","v":"SAP Colombia"},"USD","N/A","SAP Information Capture Core by OpenText",1000,"Serv","Suscripcion","N/A","N/A","N/A","SAP-8008267-2","Forma de pago estandar a 30 dias",41,1,0,"USD"]
[{"$f":"D4442&F4442&E4442","v":"SAP ColombiaCloud Classic SAP SolutionsSAP-8008267-3"},{"$f":"E4442&F4442","v":"SAP-8008267-3Cloud Classic SAP Solutions"},null,"SAP Colombia","SAP-8008267-3","Cloud Classic SAP Solutions",{"$f":"D4442","v":"SAP Colombia"},"USD","N/A","SAP Information Capture Core by OpenText",1000,"Serv","Suscripcion","N/A","N/A","N/A","SAP-8008267-3","Forma de pago estandar a 30 dias",38,1,0,"USD"]
[{"$f":"D4443&F4443&E4443","v":"SAP ColombiaCloud Classic SAP SolutionsSAP-8008267-4"},{"$f":"E4443&F4443","v":"SAP-8008267-4Cloud Classic SAP Solutions"},null,"SAP Colombia","SAP-8008267-4","Cloud Classic SAP Solutions",{"$f":"D4443","v":"SAP Colombia"},"USD","N/A","SAP Information Capture Core by OpenText",1000,"Serv","Suscripcion","N/A","N/A","N/A","SAP-8008267-4","Forma de pago estandar a 30 dias",36,1,0,"USD"]
[{"$f":"D4444&F4444&E4444","v":"SAP ColombiaCloud Classic SAP SolutionsSAP-8008267-5"},{"$f":"E4444&F4444","v":"SAP-8008267-5Cloud Classic SAP Solutions"},null,"SAP Colombia","SAP-8008267-5","Cloud Classic SAP Solutions",{"$f":"D4444","v":"SAP Colombia"},"USD","N/A","SAP Information Capture Core by OpenText",1000,"Serv","Suscripcion","N/A","N/A","N/A","SAP-8008267-5","Forma de pago estandar a 30 dias",34,1,0,"USD"]
[{"$f":"D4445&F4445&E4445","v":"SAP ColombiaCloud Classic SAP SolutionsSAP-8008426-1"},{"$f":"E4445&F4445","v":"SAP-8008426-1Cloud Classic SAP Solutions"},null,"SAP Colombia","SAP-8008426-1","Cloud Classic SAP Solutions",{"$f":"D4445","v":"SAP Colombia"},"USD","N/A","SAP Archiving and Document Access Core by OpenText",1,"Serv","Suscripcion","N/A","N/A","N/A","SAP-8008426-1","Forma de pago estandar a 30 dias",1008,1,0,"USD"]
[{"$f":"D4446&F4446&E4446","v":"SAP ColombiaCloud Classic SAP SolutionsSAP-8008426-2"},{"$f":"E4446&F4446","v":"SAP-8008426-2Cloud Classic SAP Solutions"},null,"SAP Colombia","SAP-8008426-2","Cloud Classic SAP Solutions",{"$f":"D4446","v":"SAP Colombia"},"USD","N/A","SAP Archiving and Document Access Core by OpenText",1,"Serv","Suscripcion","N/A","N/A","N/A","SAP-8008426-2","Forma de pago estandar a 30 dias",896,1,0,"USD"]
[{"$f":"D4447&F4447&E4447","v":"SAP ColombiaCloud Classic SAP SolutionsSAP-8008426-3"},{"$f":"E4447&F4447","v":"SAP-8008426-3Cloud Classic SAP Solutions"},null,"SAP Colombia","SAP-8008426-3","Cloud Classic SAP Solutions",{"$f":"D4447","v":"SAP Colombia"},"USD","N/A","SAP Archiving and Document Access Core by OpenText",1,"Serv","Suscripcion","N/A","N/A","N/A","SAP-8008426-3","Forma de pago estandar a 30 dias",784,1,0,"USD"]
[{"$f":"D4448&F4448&E4448","v":"SAP ColombiaCloud Classic SAP SolutionsSAP-8008426-4"},{"$f":"E4448&F4448","v":"SAP-8008426-4Cloud Classic SAP Solutions"},null,"SAP Colombia","SAP-8008426-4","Cloud Classic SAP Solutions",{"$f":"D4448","v":"SAP Colombia"},"USD","N/A","SAP Archiving and Document Access Core by OpenText",1,"Serv","Suscripcion","N/A","N/A","N/A","SAP-8008426-4","Forma de pago estandar a 30 dias",672,1,0,"USD"]
[{"$f":"D4449&F4449&E4449","v":"SAP ColombiaCloud Classic SAP SolutionsSAP-8008426-5"},{"$f":"E4449&F4449","v":"SAP-8008426-5Cloud Classic SAP Solutions"},null,"SAP Colombia","SAP-8008426-5","Cloud Classic SAP Solutions",{"$f":"D4449","v":"SAP Colombia"},"USD","N/A","SAP Archiving and Document Access Core by OpenText",1,"Serv","Suscripcion","N/A","N/A","N/A","SAP-8008426-5","Forma de pago estandar a 30 dias",560,1,0,"USD"]
[{"$f":"D4450&F4450&E4450","v":"SAP ColombiaCloud Classic SAP SolutionsSAP-8011057"},{"$f":"E4450&F4450","v":"SAP-8011057Cloud Classic SAP Solutions"},null,"SAP Colombia","SAP-8011057","Cloud Classic SAP Solutions",{"$f":"D4450","v":"SAP Colombia"},"USD","N/A","SAP Data Intelligence Cloud",1,"Serv","Suscripcion","N/A","N/A","N/A","SAP-8011057","Forma de pago estandar a 30 dias",1.1200000000000001,1,0,"USD"]
[{"$f":"D4451&F4451&E4451","v":"SAP ColombiaCloud Classic SAP SolutionsSAP-8011182-1"},{"$f":"E4451&F4451","v":"SAP-8011182-1Cloud Classic SAP Solutions"},null,"SAP Colombia","SAP-8011182-1","Cloud Classic SAP Solutions",{"$f":"D4451","v":"SAP Colombia"},"USD","N/A","SAP Master Data Governance, cloud edition",5000,"Serv","Suscripcion","N/A","N/A","N/A","SAP-8011182-1","Forma de pago estandar a 30 dias",59,1,0,"USD"]
[{"$f":"D4452&F4452&E4452","v":"SAP ColombiaCloud Classic SAP SolutionsSAP-8011182-2"},{"$f":"E4452&F4452","v":"SAP-8011182-2Cloud Classic SAP Solutions"},null,"SAP Colombia","SAP-8011182-2","Cloud Classic SAP Solutions",{"$f":"D4452","v":"SAP Colombia"},"USD","N/A","SAP Master Data Governance, cloud edition",5000,"Serv","Suscripcion","N/A","N/A","N/A","SAP-8011182-2","Forma de pago estandar a 30 dias",52,1,0,"USD"]
[{"$f":"D4453&F4453&E4453","v":"SAP ColombiaCloud Classic SAP SolutionsSAP-8011182-3"},{"$f":"E4453&F4453","v":"SAP-8011182-3Cloud Classic SAP Solutions"},null,"SAP Colombia","SAP-8011182-3","Cloud Classic SAP Solutions",{"$f":"D4453","v":"SAP Colombia"},"USD","N/A","SAP Master Data Governance, cloud edition",5000,"Serv","Suscripcion","N/A","N/A","N/A","SAP-8011182-3","Forma de pago estandar a 30 dias",49,1,0,"USD"]
[{"$f":"D4454&F4454&E4454","v":"SAP ColombiaCloud Classic SAP SolutionsSAP-8011182-4"},{"$f":"E4454&F4454","v":"SAP-8011182-4Cloud Classic SAP Solutions"},null,"SAP Colombia","SAP-8011182-4","Cloud Classic SAP Solutions",{"$f":"D4454","v":"SAP Colombia"},"USD","N/A","SAP Master Data Governance, cloud edition",5000,"Serv","Suscripcion","N/A","N/A","N/A","SAP-8011182-4","Forma de pago estandar a 30 dias",47,1,0,"USD"]
[{"$f":"D4455&F4455&E4455","v":"SAP ColombiaCloud Classic SAP SolutionsSAP-8011637-1"},{"$f":"E4455&F4455","v":"SAP-8011637-1Cloud Classic SAP Solutions"},null,"SAP Colombia","SAP-8011637-1","Cloud Classic SAP Solutions",{"$f":"D4455","v":"SAP Colombia"},"USD","N/A","SAP PowerDesigner EnterpriseArchitect, private cloud edition",1,"Serv","Suscripcion","N/A","N/A","N/A","SAP-8011637-1","Forma de pago estandar a 30 dias",672,1,0,"USD"]
[{"$f":"D4456&F4456&E4456","v":"SAP ColombiaCloud Classic SAP SolutionsSAP-8011637-2"},{"$f":"E4456&F4456","v":"SAP-8011637-2Cloud Classic SAP Solutions"},null,"SAP Colombia","SAP-8011637-2","Cloud Classic SAP Solutions",{"$f":"D4456","v":"SAP Colombia"},"USD","N/A","SAP PowerDesigner EnterpriseArchitect, private cloud edition",1,"Serv","Suscripcion","N/A","N/A","N/A","SAP-8011637-2","Forma de pago estandar a 30 dias",224,1,0,"USD"]
[{"$f":"D4457&F4457&E4457","v":"SAP ColombiaCloud Classic SAP SolutionsSAP-8011637-3"},{"$f":"E4457&F4457","v":"SAP-8011637-3Cloud Classic SAP Solutions"},null,"SAP Colombia","SAP-8011637-3","Cloud Classic SAP Solutions",{"$f":"D4457","v":"SAP Colombia"},"USD","N/A","SAP PowerDesigner EnterpriseArchitect, private cloud edition",1,"Serv","Suscripcion","N/A","N/A","N/A","SAP-8011637-3","Forma de pago estandar a 30 dias",112,1,0,"USD"]
[{"$f":"D4458&F4458&E4458","v":"SAP ColombiaCloud Classic SAP SolutionsSAP-8008855-1"},{"$f":"E4458&F4458","v":"SAP-8008855-1Cloud Classic SAP Solutions"},null,"SAP Colombia","SAP-8008855-1","Cloud Classic SAP Solutions",{"$f":"D4458","v":"SAP Colombia"},"USD","N/A","SAP Enterprise Continuous Testing by Tricentis",1,"Serv","Suscripcion","N/A","N/A","N/A","SAP-8008855-1","Forma de pago estandar a 30 dias",1624,1,0,"USD"]
[{"$f":"D4459&F4459&E4459","v":"SAP ColombiaCloud Classic SAP SolutionsSAP-8008855-2"},{"$f":"E4459&F4459","v":"SAP-8008855-2Cloud Classic SAP Solutions"},null,"SAP Colombia","SAP-8008855-2","Cloud Classic SAP Solutions",{"$f":"D4459","v":"SAP Colombia"},"USD","N/A","SAP Enterprise Continuous Testing by Tricentis",1,"Serv","Suscripcion","N/A","N/A","N/A","SAP-8008855-2","Forma de pago estandar a 30 dias",1456,1,0,"USD"]
[{"$f":"D4460&F4460&E4460","v":"SAP ColombiaCloud Classic SAP SolutionsSAP-8008855-3"},{"$f":"E4460&F4460","v":"SAP-8008855-3Cloud Classic SAP Solutions"},null,"SAP Colombia","SAP-8008855-3","Cloud Classic SAP Solutions",{"$f":"D4460","v":"SAP Colombia"},"USD","N/A","SAP Enterprise Continuous Testing by Tricentis",1,"Serv","Suscripcion","N/A","N/A","N/A","SAP-8008855-3","Forma de pago estandar a 30 dias",1288,1,0,"USD"]
[{"$f":"D4461&F4461&E4461","v":"SAP ColombiaCloud Classic SAP SolutionsSAP-8008855-4"},{"$f":"E4461&F4461","v":"SAP-8008855-4Cloud Classic SAP Solutions"},null,"SAP Colombia","SAP-8008855-4","Cloud Classic SAP Solutions",{"$f":"D4461","v":"SAP Colombia"},"USD","N/A","SAP Enterprise Continuous Testing by Tricentis",1,"Serv","Suscripcion","N/A","N/A","N/A","SAP-8008855-4","Forma de pago estandar a 30 dias",1120,1,0,"USD"]
[{"$f":"D4462&F4462&E4462","v":"SAP ColombiaCloud Classic SAP SolutionsSAP-8008857-1"},{"$f":"E4462&F4462","v":"SAP-8008857-1Cloud Classic SAP Solutions"},null,"SAP Colombia","SAP-8008857-1","Cloud Classic SAP Solutions",{"$f":"D4462","v":"SAP Colombia"},"USD","N/A","SAP Change Impact Analysis by Tricentis",1,"Serv","Suscripcion","N/A","N/A","N/A","SAP-8008857-1","Forma de pago estandar a 30 dias",17,1,0,"USD"]
[{"$f":"D4463&F4463&E4463","v":"SAP ColombiaCloud Classic SAP SolutionsSAP-8008857-2"},{"$f":"E4463&F4463","v":"SAP-8008857-2Cloud Classic SAP Solutions"},null,"SAP Colombia","SAP-8008857-2","Cloud Classic SAP Solutions",{"$f":"D4463","v":"SAP Colombia"},"USD","N/A","SAP Change Impact Analysis by Tricentis",1,"Serv","Suscripcion","N/A","N/A","N/A","SAP-8008857-2","Forma de pago estandar a 30 dias",10,1,0,"USD"]
[{"$f":"D4464&F4464&E4464","v":"SAP ColombiaCloud Classic SAP SolutionsSAP-8008857-3"},{"$f":"E4464&F4464","v":"SAP-8008857-3Cloud Classic SAP Solutions"},null,"SAP Colombia","SAP-8008857-3","Cloud Classic SAP Solutions",{"$f":"D4464","v":"SAP Colombia"},"USD","N/A","SAP Change Impact Analysis by Tricentis",1,"Serv","Suscripcion","N/A","N/A","N/A","SAP-8008857-3","Forma de pago estandar a 30 dias",6.72,1,0,"USD"]
[{"$f":"D4465&F4465&E4465","v":"SAP ColombiaCloud Classic SAP SolutionsSAP-8008857-4"},{"$f":"E4465&F4465","v":"SAP-8008857-4Cloud Classic SAP Solutions"},null,"SAP Colombia","SAP-8008857-4","Cloud Classic SAP Solutions",{"$f":"D4465","v":"SAP Colombia"},"USD","N/A","SAP Change Impact Analysis by Tricentis",1,"Serv","Suscripcion","N/A","N/A","N/A","SAP-8008857-4","Forma de pago estandar a 30 dias",4.4800000000000004,1,0,"USD"]
[{"$f":"D4466&F4466&E4466","v":"SAP ColombiaCloud Classic SAP SolutionsSAP-8008857-5"},{"$f":"E4466&F4466","v":"SAP-8008857-5Cloud Classic SAP Solutions"},null,"SAP Colombia","SAP-8008857-5","Cloud Classic SAP Solutions",{"$f":"D4466","v":"SAP Colombia"},"USD","N/A","SAP Change Impact Analysis by Tricentis",1,"Serv","Suscripcion","N/A","N/A","N/A","SAP-8008857-5","Forma de pago estandar a 30 dias",3.36,1,0,"USD"]
[{"$f":"D4467&F4467&E4467","v":"SAP ColombiaCloud Classic SAP SolutionsSAP-8009283-1"},{"$f":"E4467&F4467","v":"SAP-8009283-1Cloud Classic SAP Solutions"},null,"SAP Colombia","SAP-8009283-1","Cloud Classic SAP Solutions",{"$f":"D4467","v":"SAP Colombia"},"USD","N/A","SAP Landscape Management Cloud",1,"Serv","Suscripcion","N/A","N/A","N/A","SAP-8009283-1","Forma de pago estandar a 30 dias",314,1,0,"USD"]
[{"$f":"D4468&F4468&E4468","v":"SAP ColombiaCloud Classic SAP SolutionsSAP-8009283-2"},{"$f":"E4468&F4468","v":"SAP-8009283-2Cloud Classic SAP Solutions"},null,"SAP Colombia","SAP-8009283-2","Cloud Classic SAP Solutions",{"$f":"D4468","v":"SAP Colombia"},"USD","N/A","SAP Landscape Management Cloud",1,"Serv","Suscripcion","N/A","N/A","N/A","SAP-8009283-2","Forma de pago estandar a 30 dias",291,1,0,"USD"]
[{"$f":"D4469&F4469&E4469","v":"SAP ColombiaCloud Classic SAP SolutionsSAP-8009283-3"},{"$f":"E4469&F4469","v":"SAP-8009283-3Cloud Classic SAP Solutions"},null,"SAP Colombia","SAP-8009283-3","Cloud Classic SAP Solutions",{"$f":"D4469","v":"SAP Colombia"},"USD","N/A","SAP Landscape Management Cloud",1,"Serv","Suscripcion","N/A","N/A","N/A","SAP-8009283-3","Forma de pago estandar a 30 dias",269,1,0,"USD"]
[{"$f":"D4470&F4470&E4470","v":"SAP ColombiaCloud Classic SAP SolutionsSAP-8009283-4"},{"$f":"E4470&F4470","v":"SAP-8009283-4Cloud Classic SAP Solutions"},null,"SAP Colombia","SAP-8009283-4","Cloud Classic SAP Solutions",{"$f":"D4470","v":"SAP Colombia"},"USD","N/A","SAP Landscape Management Cloud",1,"Serv","Suscripcion","N/A","N/A","N/A","SAP-8009283-4","Forma de pago estandar a 30 dias",258,1,0,"USD"]
[{"$f":"D4471&F4471&E4471","v":"SAP ColombiaCloud Classic SAP SolutionsSAP-8009283-5"},{"$f":"E4471&F4471","v":"SAP-8009283-5Cloud Classic SAP Solutions"},null,"SAP Colombia","SAP-8009283-5","Cloud Classic SAP Solutions",{"$f":"D4471","v":"SAP Colombia"},"USD","N/A","SAP Landscape Management Cloud",1,"Serv","Suscripcion","N/A","N/A","N/A","SAP-8009283-5","Forma de pago estandar a 30 dias",246,1,0,"USD"]
[{"$f":"D4472&F4472&E4472","v":"SAP ColombiaCloud Classic SAP SolutionsSAP-8011424-1"},{"$f":"E4472&F4472","v":"SAP-8011424-1Cloud Classic SAP Solutions"},null,"SAP Colombia","SAP-8011424-1","Cloud Classic SAP Solutions",{"$f":"D4472","v":"SAP Colombia"},"USD","N/A","SAP Enterprise Data Integrity Testing by Tricentis",1,"Serv","Suscripcion","N/A","N/A","N/A","SAP-8011424-1","Forma de pago estandar a 30 dias",2464,1,0,"USD"]
[{"$f":"D4473&F4473&E4473","v":"SAP ColombiaCloud Classic SAP SolutionsSAP-8011424-2"},{"$f":"E4473&F4473","v":"SAP-8011424-2Cloud Classic SAP Solutions"},null,"SAP Colombia","SAP-8011424-2","Cloud Classic SAP Solutions",{"$f":"D4473","v":"SAP Colombia"},"USD","N/A","SAP Enterprise Data Integrity Testing by Tricentis",1,"Serv","Suscripcion","N/A","N/A","N/A","SAP-8011424-2","Forma de pago estandar a 30 dias",2296,1,0,"USD"]
[{"$f":"D4474&F4474&E4474","v":"SAP ColombiaCloud Classic SAP SolutionsSAP-8011424-3"},{"$f":"E4474&F4474","v":"SAP-8011424-3Cloud Classic SAP Solutions"},null,"SAP Colombia","SAP-8011424-3","Cloud Classic SAP Solutions",{"$f":"D4474","v":"SAP Colombia"},"USD","N/A","SAP Enterprise Data Integrity Testing by Tricentis",1,"Serv","Suscripcion","N/A","N/A","N/A","SAP-8011424-3","Forma de pago estandar a 30 dias",2128,1,0,"USD"]
[{"$f":"D4475&F4475&E4475","v":"SAP ColombiaCloud Classic SAP SolutionsSAP-8011424-4"},{"$f":"E4475&F4475","v":"SAP-8011424-4Cloud Classic SAP Solutions"},null,"SAP Colombia","SAP-8011424-4","Cloud Classic SAP Solutions",{"$f":"D4475","v":"SAP Colombia"},"USD","N/A","SAP Enterprise Data Integrity Testing by Tricentis",1,"Serv","Suscripcion","N/A","N/A","N/A","SAP-8011424-4","Forma de pago estandar a 30 dias",2016,1,0,"USD"]
[{"$f":"D4476&F4476&E4476","v":"SAP ColombiaCloud Classic SAP SolutionsSAP-8011425-1"},{"$f":"E4476&F4476","v":"SAP-8011425-1Cloud Classic SAP Solutions"},null,"SAP Colombia","SAP-8011425-1","Cloud Classic SAP Solutions",{"$f":"D4476","v":"SAP Colombia"},"USD","N/A","SAP Enterprise Performance Testing by Tricentis",100,"Serv","Suscripcion","N/A","N/A","N/A","SAP-8011425-1","Forma de pago estandar a 30 dias",1344,1,0,"USD"]
[{"$f":"D4477&F4477&E4477","v":"SAP ColombiaCloud Classic SAP SolutionsSAP-8011425-2"},{"$f":"E4477&F4477","v":"SAP-8011425-2Cloud Classic SAP Solutions"},null,"SAP Colombia","SAP-8011425-2","Cloud Classic SAP Solutions",{"$f":"D4477","v":"SAP Colombia"},"USD","N/A","SAP Enterprise Performance Testing by Tricentis",100,"Serv","Suscripcion","N/A","N/A","N/A","SAP-8011425-2","Forma de pago estandar a 30 dias",1120,1,0,"USD"]
[{"$f":"D4478&F4478&E4478","v":"SAP ColombiaCloud Classic SAP SolutionsSAP-8011425-3"},{"$f":"E4478&F4478","v":"SAP-8011425-3Cloud Classic SAP Solutions"},null,"SAP Colombia","SAP-8011425-3","Cloud Classic SAP Solutions",{"$f":"D4478","v":"SAP Colombia"},"USD","N/A","SAP Enterprise Performance Testing by Tricentis",100,"Serv","Suscripcion","N/A","N/A","N/A","SAP-8011425-3","Forma de pago estandar a 30 dias",1008,1,0,"USD"]
[{"$f":"D4479&F4479&E4479","v":"SAP ColombiaCloud Classic SAP SolutionsSAP-8011425-4"},{"$f":"E4479&F4479","v":"SAP-8011425-4Cloud Classic SAP Solutions"},null,"SAP Colombia","SAP-8011425-4","Cloud Classic SAP Solutions",{"$f":"D4479","v":"SAP Colombia"},"USD","N/A","SAP Enterprise Performance Testing by Tricentis",100,"Serv","Suscripcion","N/A","N/A","N/A","SAP-8011425-4","Forma de pago estandar a 30 dias",896,1,0,"USD"]
[{"$f":"D4480&F4480&E4480","v":"SAP ColombiaCloud Classic SAP SolutionsSAP-8005457"},{"$f":"E4480&F4480","v":"SAP-8005457Cloud Classic SAP Solutions"},null,"SAP Colombia","SAP-8005457","Cloud Classic SAP Solutions",{"$f":"D4480","v":"SAP Colombia"},"USD","N/A","SAP Preferred Success for HXM solutions from SAP",1,"Serv","Suscripcion","N/A","N/A","N/A","SAP-8005457","Forma de pago estandar a 30 dias",20,1,0,"USD"]
[{"$f":"D4481&F4481&E4481","v":"SAP ColombiaCloud Classic SAP SolutionsSAP-8005650"},{"$f":"E4481&F4481","v":"SAP-8005650Cloud Classic SAP Solutions"},null,"SAP Colombia","SAP-8005650","Cloud Classic SAP Solutions",{"$f":"D4481","v":"SAP Colombia"},"USD","N/A","SAP Preferred Success for SAP Business Technology Platform",1,"Serv","Suscripcion","N/A","N/A","N/A","SAP-8005650","Forma de pago estandar a 30 dias",20,1,0,"USD"]
[{"$f":"D4482&F4482&E4482","v":"SAP ColombiaCloud Classic SAP SolutionsSAP-8005986"},{"$f":"E4482&F4482","v":"SAP-8005986Cloud Classic SAP Solutions"},null,"SAP Colombia","SAP-8005986","Cloud Classic SAP Solutions",{"$f":"D4482","v":"SAP Colombia"},"USD","N/A","SAP Preferred Success for SAP Marketing Cloud",1,"Serv","Suscripcion","N/A","N/A","N/A","SAP-8005986","Forma de pago estandar a 30 dias",20,1,0,"USD"]
[{"$f":"D4483&F4483&E4483","v":"SAP ColombiaCloud Classic SAP SolutionsSAP-8006196"},{"$f":"E4483&F4483","v":"SAP-8006196Cloud Classic SAP Solutions"},null,"SAP Colombia","SAP-8006196","Cloud Classic SAP Solutions",{"$f":"D4483","v":"SAP Colombia"},"USD","N/A","SAP Preferred Success for SAP Commerce Cloud",1,"Serv","Suscripcion","N/A","N/A","N/A","SAP-8006196","Forma de pago estandar a 30 dias",20,1,0,"USD"]
[{"$f":"D4484&F4484&E4484","v":"SAP ColombiaCloud Classic SAP SolutionsSAP-8006197"},{"$f":"E4484&F4484","v":"SAP-8006197Cloud Classic SAP Solutions"},null,"SAP Colombia","SAP-8006197","Cloud Classic SAP Solutions",{"$f":"D4484","v":"SAP Colombia"},"USD","N/A","SAP Preferred Success for SAP Customer Data Cloud",1,"Serv","Suscripcion","N/A","N/A","N/A","SAP-8006197","Forma de pago estandar a 30 dias",20,1,0,"USD"]
[{"$f":"D4485&F4485&E4485","v":"SAP ColombiaCloud Classic SAP SolutionsSAP-8006265"},{"$f":"E4485&F4485","v":"SAP-8006265Cloud Classic SAP Solutions"},null,"SAP Colombia","SAP-8006265","Cloud Classic SAP Solutions",{"$f":"D4485","v":"SAP Colombia"},"USD","N/A","SAP Preferred Success for Cloud Platform Enterprise Agreement",1,"Serv","Suscripcion","N/A","N/A","N/A","SAP-8006265","Forma de pago estandar a 30 dias",20,1,0,"USD"]
[{"$f":"D4486&F4486&E4486","v":"SAP ColombiaCloud Classic SAP SolutionsSAP-8007646"},{"$f":"E4486&F4486","v":"SAP-8007646Cloud Classic SAP Solutions"},null,"SAP Colombia","SAP-8007646","Cloud Classic SAP Solutions",{"$f":"D4486","v":"SAP Colombia"},"USD","N/A","SAP Preferred Success for SAP Fieldglass solutions",1,"Serv","Suscripcion","N/A","N/A","N/A","SAP-8007646","Forma de pago estandar a 30 dias",20,1,0,"USD"]
[{"$f":"D4487&F4487&E4487","v":"SAP ColombiaCloud Classic SAP SolutionsSAP-8007977"},{"$f":"E4487&F4487","v":"SAP-8007977Cloud Classic SAP Solutions"},null,"SAP Colombia","SAP-8007977","Cloud Classic SAP Solutions",{"$f":"D4487","v":"SAP Colombia"},"USD","N/A","SAP Preferred Success for SAP Digital Supply Chain",1,"Serv","Suscripcion","N/A","N/A","N/A","SAP-8007977","Forma de pago estandar a 30 dias",20,1,0,"USD"]
[{"$f":"D4488&F4488&E4488","v":"SAP ColombiaCloud Classic SAP SolutionsSAP-8009027"},{"$f":"E4488&F4488","v":"SAP-8009027Cloud Classic SAP Solutions"},null,"SAP Colombia","SAP-8009027","Cloud Classic SAP Solutions",{"$f":"D4488","v":"SAP Colombia"},"USD","N/A","SAP Preferred Success for Ariba solutions",1,"Serv","Suscripcion","N/A","N/A","N/A","SAP-8009027","Forma de pago estandar a 30 dias",20,1,0,"USD"]
[{"$f":"D4489&F4489&E4489","v":"SAP ColombiaCloud Classic SAP SolutionsSAP-8012489"},{"$f":"E4489&F4489","v":"SAP-8012489Cloud Classic SAP Solutions"},null,"SAP Colombia","SAP-8012489","Cloud Classic SAP Solutions",{"$f":"D4489","v":"SAP Colombia"},"USD","N/A","SAP Preferred Success for SAP Sales Cloud and SAP Service Cloud",1,"Serv","Suscripcion","N/A","N/A","N/A","SAP-8012489","Forma de pago estandar a 30 dias",20,1,0,"USD"]
[{"$f":"D4490&F4490&E4490","v":"SAP ColombiaCloud Classic SAP SolutionsSAP-8000274"},{"$f":"E4490&F4490","v":"SAP-8000274Cloud Classic SAP Solutions"},null,"SAP Colombia","SAP-8000274","Cloud Classic SAP Solutions",{"$f":"D4490","v":"SAP Colombia"},"USD","N/A","SAP Business ByDesign Enterprise Private Edition",1,"Serv","Suscripcion","N/A","N/A","N/A","SAP-8000274","Forma de pago estandar a 30 dias",16799,1,0,"USD"]
[{"$f":"D4491&F4491&E4491","v":"SAP ColombiaCloud Classic SAP SolutionsSAP-8000275"},{"$f":"E4491&F4491","v":"SAP-8000275Cloud Classic SAP Solutions"},null,"SAP Colombia","SAP-8000275","Cloud Classic SAP Solutions",{"$f":"D4491","v":"SAP Colombia"},"USD","N/A","SAP Business ByDesign Additional Productive Tenant",1,"Serv","Suscripcion","N/A","N/A","N/A","SAP-8000275","Forma de pago estandar a 30 dias",1215,1,0,"USD"]
[{"$f":"D4492&F4492&E4492","v":"SAP ColombiaCloud Classic SAP SolutionsSAP-8002712"},{"$f":"E4492&F4492","v":"SAP-8002712Cloud Classic SAP Solutions"},null,"SAP Colombia","SAP-8002712","Cloud Classic SAP Solutions",{"$f":"D4492","v":"SAP Colombia"},"USD","N/A","SAP Business ByDesign Localization Fee",1,"Serv","Suscripcion","N/A","N/A","N/A","SAP-8002712","Forma de pago estandar a 30 dias",896,1,0,"USD"]
[{"$f":"D4493&F4493&E4493","v":"SAP ColombiaCloud Classic SAP SolutionsSAP-8002713"},{"$f":"E4493&F4493","v":"SAP-8002713Cloud Classic SAP Solutions"},null,"SAP Colombia","SAP-8002713","Cloud Classic SAP Solutions",{"$f":"D4493","v":"SAP Colombia"},"USD","N/A","SAP Business ByDesign Test Tenant",1,"Serv","Suscripcion","N/A","N/A","N/A","SAP-8002713","Forma de pago estandar a 30 dias",1176,1,0,"USD"]
[{"$f":"D4494&F4494&E4494","v":"SAP ColombiaCloud Classic SAP SolutionsSAP-8007643"},{"$f":"E4494&F4494","v":"SAP-8007643Cloud Classic SAP Solutions"},null,"SAP Colombia","SAP-8007643","Cloud Classic SAP Solutions",{"$f":"D4494","v":"SAP Colombia"},"USD","N/A","SAP Business ByDesign, advanced user",1,"Serv","Suscripcion","N/A","N/A","N/A","SAP-8007643","Forma de pago estandar a 30 dias",200,1,0,"USD"]
[{"$f":"D4495&F4495&E4495","v":"SAP ColombiaCloud Classic SAP SolutionsSAP-8007644"},{"$f":"E4495&F4495","v":"SAP-8007644Cloud Classic SAP Solutions"},null,"SAP Colombia","SAP-8007644","Cloud Classic SAP Solutions",{"$f":"D4495","v":"SAP Colombia"},"USD","N/A","SAP Business ByDesign, core user",1,"Serv","Suscripcion","N/A","N/A","N/A","SAP-8007644","Forma de pago estandar a 30 dias",111,1,0,"USD"]
[{"$f":"D4496&F4496&E4496","v":"SAP ColombiaCloud Classic SAP SolutionsSAP-8007645"},{"$f":"E4496&F4496","v":"SAP-8007645Cloud Classic SAP Solutions"},null,"SAP Colombia","SAP-8007645","Cloud Classic SAP Solutions",{"$f":"D4496","v":"SAP Colombia"},"USD","N/A","SAP Business ByDesign, self-service user",1,"Serv","Suscripcion","N/A","N/A","N/A","SAP-8007645","Forma de pago estandar a 30 dias",20,1,0,"USD"]
[{"$f":"D4497&F4497&E4497","v":"SAP ColombiaCloud Classic SAP SolutionsSAP-8008018"},{"$f":"E4497&F4497","v":"SAP-8008018Cloud Classic SAP Solutions"},null,"SAP Colombia","SAP-8008018","Cloud Classic SAP Solutions",{"$f":"D4497","v":"SAP Colombia"},"USD","N/A","SAP Business ByDesign, public edition",1,"Serv","Suscripcion","N/A","N/A","N/A","SAP-8008018","Forma de pago estandar a 30 dias",1680,1,0,"USD"]
[{"$f":"D4498&F4498&E4498","v":"SAP ColombiaCloud Classic SAP SolutionsSAP-8013364-1"},{"$f":"E4498&F4498","v":"SAP-8013364-1Cloud Classic SAP Solutions"},null,"SAP Colombia","SAP-8013364-1","Cloud Classic SAP Solutions",{"$f":"D4498","v":"SAP Colombia"},"USD","N/A","SAP Product Footprint Management for Clean Operations",2500,"Serv","Suscripcion","N/A","N/A","N/A","SAP-8013364-1","Forma de pago estandar a 30 dias",45,1,0,"USD"]
[{"$f":"D4499&F4499&E4499","v":"SAP ColombiaCloud Classic SAP SolutionsSAP-8013364-2"},{"$f":"E4499&F4499","v":"SAP-8013364-2Cloud Classic SAP Solutions"},null,"SAP Colombia","SAP-8013364-2","Cloud Classic SAP Solutions",{"$f":"D4499","v":"SAP Colombia"},"USD","N/A","SAP Product Footprint Management for Clean Operations",2500,"Serv","Suscripcion","N/A","N/A","N/A","SAP-8013364-2","Forma de pago estandar a 30 dias",25,1,0,"USD"]
[{"$f":"D4500&F4500&E4500","v":"SAP ColombiaCloud Classic SAP SolutionsSAP-8013364-3"},{"$f":"E4500&F4500","v":"SAP-8013364-3Cloud Classic SAP Solutions"},null,"SAP Colombia","SAP-8013364-3","Cloud Classic SAP Solutions",{"$f":"D4500","v":"SAP Colombia"},"USD","N/A","SAP Product Footprint Management for Clean Operations",2500,"Serv","Suscripcion","N/A","N/A","N/A","SAP-8013364-3","Forma de pago estandar a 30 dias",13,1,0,"USD"]
[{"$f":"D4501&F4501&E4501","v":"SAP ColombiaCloud Classic SAP SolutionsSAP-8013364-4"},{"$f":"E4501&F4501","v":"SAP-8013364-4Cloud Classic SAP Solutions"},null,"SAP Colombia","SAP-8013364-4","Cloud Classic SAP Solutions",{"$f":"D4501","v":"SAP Colombia"},"USD","N/A","SAP Product Footprint Management for Clean Operations",2500,"Serv","Suscripcion","N/A","N/A","N/A","SAP-8013364-4","Forma de pago estandar a 30 dias",6.72,1,0,"USD"]
[{"$f":"D4502&F4502&E4502","v":"Xertica Colombia SASSoftware  Xertica Colombia SASXSK-SW-01"},{"$f":"E4502&F4502","v":"XSK-SW-01Software  Xertica Colombia SAS"},null,"Xertica Colombia SAS","XSK-SW-01","Software  Xertica Colombia SAS",{"$f":"D4502","v":"Xertica Colombia SAS"},"USD","N/A","Aplicación en la nube Smartkey  0-100  usuarios","Unidad","Und","Producto","Zona 1, 2 y 3","Remoto","Técnico ó Tecnólogo","XSK-SW-01","De contado",1200,1,0,"USD"]
[{"$f":"D4503&F4503&E4503","v":"Xertica Colombia SASSoftware  Xertica Colombia SASXSK-SW-02"},{"$f":"E4503&F4503","v":"XSK-SW-02Software  Xertica Colombia SAS"},null,"Xertica Colombia SAS","XSK-SW-02","Software  Xertica Colombia SAS",{"$f":"D4503","v":"Xertica Colombia SAS"},"USD","N/A","Aplicación en la nube Smartkey  100-300  usuarios","Unidad","Und","Producto","Zona 1, 2 y 3","Remoto","Técnico ó Tecnólogo","XSK-SW-02","De contado",2800,1,0,"USD"]
[{"$f":"D4504&F4504&E4504","v":"Xertica Colombia SASSoftware  Xertica Colombia SASXSK-SW-03"},{"$f":"E4504&F4504","v":"XSK-SW-03Software  Xertica Colombia SAS"},null,"Xertica Colombia SAS","XSK-SW-03","Software  Xertica Colombia SAS",{"$f":"D4504","v":"Xertica Colombia SAS"},"USD","N/A","Aplicación en la nube Smartkey  300-500  usuarios","Unidad","Und","Producto","Zona 1, 2 y 3","Remoto","Técnico ó Tecnólogo","XSK-SW-03","De contado",4400,1,0,"USD"]
[{"$f":"D4505&F4505&E4505","v":"Xertica Colombia SASSoftware  Xertica Colombia SASXSK-SW-04"},{"$f":"E4505&F4505","v":"XSK-SW-04Software  Xertica Colombia SAS"},null,"Xertica Colombia SAS","XSK-SW-04","Software  Xertica Colombia SAS",{"$f":"D4505","v":"Xertica Colombia SAS"},"USD","N/A","Aplicación en la nube   500-1000  usuarios","Unidad","Und","Producto","Zona 1, 2 y 3","Remoto","Técnico ó Tecnólogo","XSK-SW-04","De contado",8400,1,0,"USD"]
[{"$f":"D4506&F4506&E4506","v":"Xertica Colombia SASSoftware  Xertica Colombia SASXSK-SW-05"},{"$f":"E4506&F4506","v":"XSK-SW-05Software  Xertica Colombia SAS"},null,"Xertica Colombia SAS","XSK-SW-05","Software  Xertica Colombia SAS",{"$f":"D4506","v":"Xertica Colombia SAS"},"USD","N/A","Aplicación en la nube Smartkey  1000-2500  usuarios","Unidad","Und","Producto","Zona 1, 2 y 3","Remoto","Técnico ó Tecnólogo","XSK-SW-05","De contado",20400,1,0,"USD"]
[{"$f":"D4507&F4507&E4507","v":"Xertica Colombia SASSoftware  Xertica Colombia SASXSK-SW-06"},{"$f":"E4507&F4507","v":"XSK-SW-06Software  Xertica Colombia SAS"},null,"Xertica Colombia SAS","XSK-SW-06","Software  Xertica Colombia SAS",{"$f":"D4507","v":"Xertica Colombia SAS"},"USD","N/A","Aplicación en la nube Smartkey  2500-5000  usuarios","Unidad","Und","Producto","Zona 1, 2 y 3","Remoto","Técnico ó Tecnólogo","XSK-SW-06","De contado",40440,1,0,"USD"]
["Xertica Colombia SASSoftware  Xertica Colombia SASXSK-SW-07","XSK-SW-07Software  Xertica Colombia SAS",null,"Xertica Colombia SAS","XSK-SW-07","Software  Xertica Colombia SAS","Xertica Colombia SAS","USD","N/A","Aplicación en la nube Smartkey  de 5000 en adelante","Unidad","Und","Producto","Zona 1, 2 y 3","Remoto","Técnico ó Tecnólogo","XSK-SW-07","De contado",60400,1,0,"USD"]

{"sheet":"ProXCat","index":8,"n_rows":44,"n_cols":1,"rows_kept":44,"cut":false,"hidden":true,"merged":[]}
[]
[]
["Etiquetas de fila"]
[1]
["Controles Empresariales S.A.S."]
["The Best Experience in Technology S.A"]
["UT Soft-IG"]
["UT Soluciones Microsoft 2017"]
["Total 1"]
[2]
["Controles Empresariales S.A.S."]
["Dell Colombia INC"]
["The Best Experience in Technology S.A"]
["UT Soft-IG"]
["UT Soluciones Microsoft 2017"]
["Total 2"]
[3]
["Controles Empresariales S.A.S."]
["UT Soft-IG"]
["UT Soluciones Microsoft 2017"]
["Total 3"]
[4]
["Controles Empresariales S.A.S."]
["UT Soft-IG"]
["Total 4"]
[5]
["Controles Empresariales S.A.S."]
["UT Soft-IG"]
["Vision Software S.A.S."]
["Total 5"]
[6]
["Controles Empresariales S.A.S."]
["The Best Experience in Technology S.A"]
["UT Soft-IG"]
["UT Soluciones Microsoft 2017"]
["Total 6"]
[7]
["Controles Empresariales S.A.S."]
["The Best Experience in Technology S.A"]
["UT Soft-IG"]
["UT Soluciones Microsoft 2017"]
["Vision Software S.A.S."]
["Total 7"]
["Total general"]

{"sheet":"Cuadro Totales","index":9,"n_rows":14,"n_cols":8,"rows_kept":14,"cut":false,"hidden":true,"merged":[[12,0,12,2]]}
["Precio Unitario","Precio máximo unitario (cláusula 8)","Subtotal","IVA","Precio Total"]
[]
[null,null,null,"Valor Total",{"$f":"SUM(E2)","v":0}]
[]
[]
[null,null,null,null,null," "]
[]
["Precio Unitario","Precio máximo unitario (cláusula 8)","Descuento adicional","Precio con Descuento","Subtotal","IVA","Vr IVA","Precio Total"]
[]
[null,null,null,null,null,null,"Valor Total",{"$f":"SUM(H9)","v":0}]
[]
[]
["Servicios Azure"]
["Subtotal","IVA","Precio Total"]

{"sheet":"Listas","index":10,"n_rows":151,"n_cols":6,"rows_kept":151,"cut":false,"hidden":true,"merged":[]}
["Categoria","Zona","Marca","ProductoInicial","Producto","Proveedores"]
["Software Pensemos SA",null,null,"AZD-SW-1",null,"Analitica SAS"]
["Software IFINDIT",null,null,"AZD-SW-2"]
["Software Digital Ware SAS",null,null,"AZD-SW-3"]
["Software Servinformación",null,null,"AZD-SW-4"]
["Software Macro Proyectos SAS",null,null,"AZD-SW-5"]
["Software Analitica S.A.S",null,null,"AZD-SW-6"]
["Software Heinsohn ",null,null,"AZD-SW-7"]
["Software Integrasoft",null,null,"AZD-SW-8"]
["Software Novasoft",null,null,"AZD-SW-9"]
["Control Online Servicio",null,null,"AZD-SW-10"]
[" Control Online Producto",null,null,"AZD-SW-11"]
["Software Nexura",null,null,"AZD-SW-12"]
["Software CIE",null,null,"AZD-SW-13"]
["On prem Classic SAP Solutions",null,null,"AZD-SW-14"]
["OnpremS4&Native HANASolutions",null,null,"AZD-SW-15"]
["STEFANINI SYSMAN SAS_Administrativo",null,null,"AZD-SW-16"]
["STEFANINI SYSMAN SAS_Impuestos",null,null,"AZD-SW-17"]
["CloudS4 & Native HANA Solutions",null,null,"AZD-SW-18"]
["Cloud Classic SAP Solutions",null,null,"AZD-SW-19"]
["Software  Xertica Colombia SAS",null,null,"AZD-SW-20"]
[null,null,null,"AZD-SW-21"]
[null,null,null,"AZD-SW-22"]
[null,null,null,"AZD-SW-23"]
[null,null,null,"AZD-SW-24"]
[null,null,null,"SGP-SW-1"]
[null,null,null,"SGP-SW-2"]
[null,null,null,"SGP-SW-3"]
[null,null,null,"SGP-SW-4"]
[null,null,null,"SGP-SW-5"]
[null,null,null,"SGP-SW-6"]
[null,null,null,"AZD-SRV-1"]
[null,null,null,"AZD-SRV-2"]
[null,null,null,"AZD-SRV-3"]
[null,null,null,"AZD-SRV-4"]
[null,null,null,"AZD-SRV-5"]
[null,null,null,"AZD-SRV-6"]
[null,null,null,"AZD-SRV-7"]
[null,null,null,"AZD-SRV-8"]
[null,null,null,"AZD-SRV-9"]
[null,null,null,"AZD-SRV-10"]
[null,null,null,"AZD-SRV-11"]
[null,null,null,"AZD-SRV-12"]
[null,null,null,"AZD-SRV-13"]
[null,null,null,"AZD-SRV-14"]
[null,null,null,"AZD-SRV-15"]
[null,null,null,"AZD-SRV-16"]
[null,null,null,"AZD-SRV-17"]
[null,null,null,"AZD-SRV-18"]
[null,null,null,"AZD-SRV-19"]
[null,null,null,"AZD-SRV-20"]
[null,null,null,"AZD-SRV-21"]
[null,null,null,"AZD-SRV-22"]
[null,null,null,"AZD-SRV-23"]
[null,null,null,"AZD-SRV-24"]
[null,null,null,"AZD-SRV-25"]
[null,null,null,"AZD-SRV-26"]
[null,null,null,"AZD-SRV-27"]
[null,null,null,"AZD-SRV-28"]
[null,null,null,"AZD-SRV-29"]
[null,null,null,"AZD-SRV-30"]
[null,null,null,"AZD-SRV-31"]
[null,null,null,"AZD-SRV-32"]
[null,null,null,"AZD-SRV-33"]
[null,null,null,"AZD-SRV-34"]
[null,null,null,"AZD-SRV-35"]
[null,null,null,"AZD-SRV-36"]
[null,null,null,"AZD-SRV-37"]
[null,null,null,"AZD-SRV-38"]
[null,null,null,"AZD-SRV-39"]
[null,null,null,"AZD-SRV-40"]
[null,null,null,"AZD-SRV-41"]
[null,null,null,"AZD-SRV-42"]
[null,null,null,"AZD-SRV-43"]
[null,null,null,"AZD-SRV-44"]
[null,null,null,"AZD-SRV-45"]
[null,null,null,"AZD-SRV-46"]
[null,null,null,"AZD-SRV-47"]
[null,null,null,"AZD-SRV-48"]
[null,null,null,"AZD-SRV-49"]
[null,null,null,"AZD-SRV-50"]
[null,null,null,"AZD-SRV-51"]
[null,null,null,"AZD-SRV-52"]
[null,null,null,"AZD-SRV-53"]
[null,null,null,"AZD-SRV-54"]
[null,null,null,"AZD-SRV-55"]
[null,null,null,"AZD-SRV-56"]
[null,null,null,"AZD-SRV-57"]
[null,null,null,"SGP-SRV-1"]
[null,null,null,"SGP-SRV-2"]
[null,null,null,"SGP-SRV-3"]
[null,null,null,"SGP-SRV-4"]
[null,null,null,"SGP-SRV-5"]
[null,null,null,"SGP-SRV-6"]
[null,null,null,"SGP-SRV-7"]
[null,null,null,"SGP-SRV-8"]
[null,null,null,"SGP-SRV-9"]
[null,null,null,"SGP-SRV-10"]
[null,null,null,"SGP-SRV-11"]
[null,null,null,"SGP-SRV-12"]
[null,null,null,"SGP-SRV-13"]
[null,null,null,"SGP-SRV-14"]
[null,null,null,"SGP-SRV-15"]
[null,null,null,"SGP-SRV-16"]
[null,null,null,"SGP-SRV-17"]
[null,null,null,"SGP-SRV-18"]
[null,null,null,"SGP-SRV-19"]
[null,null,null,"SGP-SRV-20"]
[null,null,null,"SGP-SRV-21"]
[null,null,null,"SGP-SRV-22"]
[null,null,null,"SGP-SRV-23"]
[null,null,null,"SGP-SRV-24"]
[null,null,null,"SGP-SRV-25"]
[null,null,null,"SGP-SRV-26"]
[null,null,null,"SGP-SRV-27"]
[null,null,null,"SGP-SRV-28"]
[null,null,null,"SGP-SRV-29"]
[null,null,null,"SGP-SRV-30"]
[null,null,null,"SGP-SRV-31"]
[null,null,null,"SGP-SRV-32"]
[null,null,null,"SGP-SRV-33"]
[null,null,null,"SGP-SRV-34"]
[null,null,null,"SGP-SRV-35"]
[null,null,null,"SGP-SRV-36"]
[null,null,null,"SGP-SRV-37"]
[null,null,null,"SGP-SRV-38"]
[null,null,null,"SGP-SRV-39"]
[null,null,null,"SGP-SRV-40"]
[null,null,null,"SGP-SRV-41"]
[null,null,null,"SGP-SRV-42"]
[null,null,null,"SGP-SRV-43"]
[null,null,null,"SGP-SRV-44"]
[null,null,null,"SGP-SRV-45"]
[null,null,null,"SGP-SRV-46"]
[null,null,null,"SGP-SRV-47"]
[null,null,null,"SGP-SRV-48"]
[null,null,null,"SGP-SRV-49"]
[null,null,null,"SGP-SRV-50"]
[null,null,null,"SGP-SRV-51"]
[null,null,null,"SGP-SRV-52"]
[null,null,null,"SGP-SRV-53"]
[null,null,null,"SGP-SRV-54"]
[null,null,null,"SGP-SRV-55"]
[null,null,null,"SGP-SRV-56"]
[null,null,null,"SGP-SRV-57"]
[null,null,null,"AZD-SRV-58"]
[null,null,null,"AZD-SRV-59"]
[null,null,null,"AZD-SRV-60"]
[null,null,null,"SGP-SRV-58"]
[null,null,null,"SGP-SRV-59"]
[null,null,null,"SGP-SRV-60"]

{"sheet":"minimo","index":11,"n_rows":5,"n_cols":4,"rows_kept":5,"cut":false,"hidden":true,"merged":[]}
[null,null,"categoria","(Todas)"]
[]
[null,null,"Etiquetas de fila","Suma de total"]
[null,null,"Analitica SAS",159853216.92999998]
[null,null,"Total general",159853216.92999998]

{"sheet":"Hoja1","index":12,"n_rows":0,"n_cols":0,"rows_kept":0,"cut":false,"hidden":true,"merged":[]}

{"sheet":"temp","index":13,"n_rows":6,"n_cols":25,"rows_kept":6,"cut":false,"hidden":true,"merged":[]}
["LLAVE","TEMP1","TEMP2","PROVEEDOR","Código matriz Colombia Compra Eficiente","categoria","PROVEEDOR2","Moneda","Parametrización de los Servicios","Nombre Producto","Unidad de Medida","Unidad TVEC","Tipo","Zona","Asistencia","Perfil","Número de parte","Forma de Pago","Precio","Activo","IVA","cant","valor base","valor con gravamenes","total"]
["Analitica SASSoftware Analitica S.A.SSGP-SW-1","SGP-SW-1Software Analitica S.A.S",null,"Analitica SAS","SGP-SW-1","Software Analitica S.A.S","Analitica SAS","COP","N/A","SGP Licencia por usuario: BPMS Ilimitados Procedimientos (Incluye soporte por el primer año) - Mínimo 20 usuarios","Usuario","Soft","Servicio","Zonas (1,2,3)","Remoto","N/A","SGP-SW-1","Único Pago",1500000,1,1,{"$f":"SUMIF(ResumenCotizacion!$C:$C,E2,ResumenCotizacion!$P:$P)","v":20},{"$f":"S2","v":1500000},{"$f":"ROUND(W2/(1-VLOOKUP(\"Total porcentaje:\",ResumenCotizacion!$F:$H,3,0)),2)","v":1556016.6},{"$f":"V2*X2","v":31120332}]
["Analitica SASSoftware Analitica S.A.SSGP-SW-2","SGP-SW-2Software Analitica S.A.S",null,"Analitica SAS","SGP-SW-2","Software Analitica S.A.S","Analitica SAS","COP","N/A","SGP Soporte anual por usuario: BPMS (Año Adicional)","Usuario","Sop","Servicio","Zonas (1,2,3)","Remoto","N/A","SGP-SW-2","Anual",300000,1,1,{"$f":"SUMIF(ResumenCotizacion!$C:$C,E3,ResumenCotizacion!$P:$P)","v":20},{"$f":"S3","v":300000},{"$f":"ROUND(W3/(1-VLOOKUP(\"Total porcentaje:\",ResumenCotizacion!$F:$H,3,0)),2)","v":311203.32},{"$f":"V3*X3","v":6224066.4000000004}]
["Analitica SASSoftware Analitica S.A.SSGP-SRV-13","SGP-SRV-13Software Analitica S.A.S",null,"Analitica SAS","SGP-SRV-13","Software Analitica S.A.S","Analitica SAS","COP","N/A","Capacitación para usuario técnico o administrador - hasta 10 Personas SGP (BPMS)  ","Por sesión de capacitación de 4 horas para un grupo de hasta 10 personas.","Serv","Servicio","Zona 1","Remoto","Capacitador","SGP-SRV-13","Mensual por servicios efectivamente prestados",1376550,1,1,{"$f":"SUMIF(ResumenCotizacion!$C:$C,E4,ResumenCotizacion!$P:$P)","v":10},1376550,{"$f":"ROUND(W4/(1-VLOOKUP(\"Total porcentaje:\",ResumenCotizacion!$F:$H,3,0)),2)","v":1427956.43},14279564.299999999]
["Analitica SASSoftware Analitica S.A.SSGP-SRV-25","SGP-SRV-25Software Analitica S.A.S",null,"Analitica SAS","SGP-SRV-25","Software Analitica S.A.S","Analitica SAS","COP","N/A","Configuración y parametrización de los Productos  - SGP (BPMS)  ","Hora","Serv","Servicio","Zona 1","Remoto","Profesional","SGP-SRV-25","Mensual por servicios efectivamente prestados",94190,1,1,{"$f":"SUMIF(ResumenCotizacion!$C:$C,E5,ResumenCotizacion!$P:$P)","v":1000},94190,{"$f":"ROUND(W5/(1-VLOOKUP(\"Total porcentaje:\",ResumenCotizacion!$F:$H,3,0)),2)","v":97707.47},97707470]
["Analitica SASSoftware Analitica S.A.SSGP-SRV-31","SGP-SRV-31Software Analitica S.A.S",null,"Analitica SAS","SGP-SRV-31","Software Analitica S.A.S","Analitica SAS","COP","N/A","Instalación de Licencia o Suscripción Anual, o afínes - SGP (BPMS)","Unidad","Serv","Servicio","Zona 1","Remoto","Técnico/Tecnólogo ó Profesional","SGP-SRV-31","Mensual por servicios efectivamente prestados",10143000,1,1,{"$f":"SUMIF(ResumenCotizacion!$C:$C,E6,ResumenCotizacion!$P:$P)","v":1},10143000,{"$f":"ROUND(W6/(1-VLOOKUP(\"Total porcentaje:\",ResumenCotizacion!$F:$H,3,0)),2)","v":10521784.23},10521784.23]

{"sheet":"tempListas","index":14,"n_rows":21,"n_cols":1,"rows_kept":21,"cut":false,"hidden":true,"merged":[]}
["categoria"]
["Software Pensemos SA"]
["Software IFINDIT"]
["Software Digital Ware SAS"]
["Software Servinformación"]
["Software Macro Proyectos SAS"]
["Software Analitica S.A.S"]
["Software Heinsohn "]
["Software Integrasoft"]
["Software Novasoft"]
["Control Online Servicio"]
[" Control Online Producto"]
["Software Nexura"]
["Software CIE"]
["On prem Classic SAP Solutions"]
["OnpremS4&Native HANASolutions"]
["STEFANINI SYSMAN SAS_Administrativo"]
["STEFANINI SYSMAN SAS_Impuestos"]
["CloudS4 & Native HANA Solutions"]
["Cloud Classic SAP Solutions"]
["Software  Xertica Colombia SAS"]